{"text_format":"1","workbook":"xlsx","n_sheets":32,"sheets":["Startseite","Dateneingabe","S1","S2","S3","S4","S5","S6","S7","Klassennotenbogen","Klassenliste","E1","L1","M1","E2","L2","M2","E3","L3","M3","E4","L4","M4","E5","L5","M5","E6","L6","M6","E7","L7","M7"],"not_rendered":{"charts":0,"images":14,"macros":1,"external_links":0,"defined_names":1,"comments":0,"pivot_tables":0},"unopened":[],"bounds":{"document_bytes":16777216,"sheet_cells":100000,"rows_first":2000,"rows_last":500,"rows_between":2000,"halvings":0,"cell_chars":16384,"cell_head_chars":4096},"cells_cut":0,"cells_raw":0,"read":"whole","date_system":"1900"}

{"sheet":"Startseite","index":0,"n_rows":18,"n_cols":5,"rows_kept":18,"cut":false,"hidden":false,"merged":[[6,1,8,1],[9,1,12,1],[6,3,12,3],[17,1,25,3]]}
[]
[]
[null,"Notenbogen 3.3 (09/2022)"]
[null,"(Version Oberstufe)"]
[]
[null,null,"Zur Dateneingabe","Hier werden allgemeine Daten eingegeben wie z.B. Schule, Schülernamen, Lehrername, Fach, Gewichtung zwischen großen und kleinen LNW etc. eingegeben. Diese Daten werden automatisch auf allen anderen Blättern übernommen."]
[null,"Große Leistungsnachweise","Schriftliche Arbeit 1","Hier können einzelne schriftliche Leistungsnachweise ausgewertet werden. Die Ergebnisse werden automatisch\nin den Klassennotenbogen übernommen.","Etiketten S1"]
[null,null,"Schriftliche Arbeit 2",null,"Etiketten S2"]
[null,null,"Schriftliche Arbeit 3",null,"Etiketten S3"]
[null,"Kleine Leistungsnachweise","Schriftliche Arbeit 4",null,"Etiketten S4"]
[null,null,"Schriftliche Arbeit 5",null,"Etiketten S5"]
[null,null,"Schriftliche Arbeit 6",null,"Etiketten S6"]
[null,null,"Schriftliche Arbeit 7",null,"Etiketten S7"]
[null,null,"KLASSENNOTENBOGEN","Hier finden Sie eine Zusammenfassung aller Schülerleistungen. Mündliche Noten werden hier eingegeben!"]
[null,null,"Kursliste","Hier kann man eine Kursliste mit eigenen Spaltenüberschriften erstellen und ausdrucken."]
[]
[]
[null,"NUTZUNGSBEDINGUNGEN:\n     - Das Programm darf kopiert und an jeden weitergegeben werden, solange dafür kein Geld verlangt wird. \n     - Sie verwenden dieses Programm auf eigene Verantwortung!\n     - Die Verwendung dieses Programms ersetzt NICHT das eigene Denken!\n     - Melden Sie sich unter \"mail@mthiem.de\" bei mir an, falls Sie dieses Programm einsetzen. Es ist ein Anhaltspunkt für mich, dass \n       diese Tabelle noch verwendet wird und sich ein Arbeiten daran noch \"lohnt\". Eine leere Mail mit dem Betreff “Notenbogen” oder\n       “Stoffverteilung” genügt - Name  und Schule wären schön.\n     - Wünsche oder Fehler können mir jederzeit \"zugemailt\" werden.\n     - Vergessen Sie nicht, dass das Programm ohne \"Makros\" nicht funktioniert!"]

{"sheet":"Dateneingabe","index":1,"n_rows":51,"n_cols":14,"rows_kept":51,"cut":false,"hidden":false,"merged":[[0,0,4,2],[2,5,4,5],[27,8,27,13]]}
["Mustergymnasium\nMusterstraße 1\n12345 Musterstadt"]
[null,null,null,null,"Schuljahr"]
[]
[null,null,null,null,"Klasse:"]
[]
[null,null,null,null,"ABA (z.B. 12/1)"]
[null,"Dateneingabe",null,null,null,null,null,"ACHTUNG !!"]
[]
[null,"Name","Geburtsdatum",null,null,null,null,"Diese Liste darf nach der Eingabe nicht sortiert oder einzelne Schüler gelöscht werden!!!"]
[null,null,null,null,null,null,null,"Sortierung durch Excel verboten !!!"]
[1,null,null,null,null,null,null,"In allen anderen Tabellen ist das Sortieren erlaubt, ABER HIER NICHT !!!!!"]
[2,null,null,null,null,null,null,"Erweiterung nach unten möglich!!!"]
[3,null,null,null,null,null,null,"Alle gelb unterlegten Felder werden als Grundlage für andere Tabellen benötigt!"]
[4]
[5]
[6]
[7,null,null,null,null,null,null,"Verhältnis große zu kleine Leistungsnachweise:",null,null,1,"zu ",1]
[8,null,null,null,null,null,null,"(Abstufung der einzelnen Leistungen später möglich!)"]
[9]
[10,null,null,null,null,null,null,"Fach:"]
[11,null,null,null,null,null,null,"Lehrer:"]
[12,null,null,null,null,null,null,"Sprechstunde:"]
[13]
[14]
[15]
[16]
[17]
[18,null,null,null,null,null,null,"Name der Schule:"]
[19,null,null,null,null,null,null,null,"z.B. Muster-Gymnasium Musterhausen"]
[20]
[21,null,null,null,null,null,null,null,"Da der Abiturschlüssel in jedem Fach anders definiert ist,"]
[22,null,null,null,null,null,null,null,"müssen Sie hier für die korrekte Berechnung eines Noten-"]
[23,null,null,null,null,null,null,"Eigener Schlüssel","schlüssels die Verteilung für ihr Fach eingeben:"]
[24,null,null,null,null,null,null,"Linearer Schlüssel"]
[25,null,null,null,null,null,null,"Mittlerer Schlüssel","Punkte",null,"ab",null,null,"z.B. Mathematik ab 2020"]
[26,null,null,null,null,null,null,"Abiturschlüssel",1,null,null,null,null,24]
[27,null,null,null,null,null,null,"Schlüssel 50 %",2,null,null,null,null,32]
[28,null,null,null,null,null,null,"Schlüssel 55 %",3,null,null,null,null,40]
[29,null,null,null,null,null,null,"Schlüssel 60%",4,null,null,null,null,48]
[30,null,null,null,null,null,null,null,5,null,null,null,null,54]
[31,null,null,null,null,null,null,null,6,null,null,null,null,60]
[32,null,null,null,null,null,null,null,7,null,null,null,null,66]
[33,null,null,null,null,null,null,null,8,null,null,null,null,72]
[34,null,null,null,null,null,null,null,9,null,null,null,null,78]
[35,null,null,null,null,null,null,null,10,null,null,null,null,84]
[null,null,null,null,null,null,null,null,11,null,null,null,null,90]
[null,null,null,null,null,null,null,null,12,null,null,null,null,96]
[null,null,null,null,null,null,null,null,13,null,null,null,null,102]
[null,null,null,null,null,null,null,null,14,null,null,null,null,108]
[null,null,null,null,null,null,null,null,15,null,null,null,null,114]
[null,null,null,null,null,null,null,null,"maximal:",null,null,null,null,120]

{"sheet":"S1","index":2,"n_rows":62,"n_cols":32,"rows_kept":62,"cut":false,"hidden":false,"merged":[[8,2,8,11],[9,2,9,3],[0,1,4,3],[2,6,4,6],[14,2,15,11],[20,4,20,5],[10,2,10,3],[11,2,11,3],[12,2,12,3],[13,2,13,3]]}
[null,{"$f":"Dateneingabe!A1","v":"Mustergymnasium\nMusterstraße 1\n12345 Musterstadt"}]
[null,null,null,null,null,"Schuljahr:",{"$f":"Dateneingabe!F2","v":0}]
[null,null,null,null,null,null,{"$f":"Dateneingabe!F3","v":0},null,null,null,null,null,null,null,null,null,null,null,null,null,null,null,null,null,null,null,4]
[null,null,null,null,null,"Klasse:"]
[]
[]
[null,"Schriftliche Arbeit 1"]
[]
[null,"Art der Arbeit:"]
[null,"Geschrieben am:"]
[null,"Arbeitszeit:"]
[null,"Zurückgegeben am:",null,null,null,"Gesamtpunkte:",null,{"$f":"SUM(G21:Z21)","v":0},null,null,null,null,null,null,"Gewichtung der Arbeit:",null,null,null,null,{"$f":"Klassennotenbogen!D11","v":1}]
[null,"Dem Direktorat vorgelegt:"]
[null,"Notenlisteneintrag am:"]
[null,"Lehrstoff:"]
[]
[]
[null,null,null,null,null,"Kurzbezeichnung ",1,2,3]
[null,"Name","Note",null,"Nachschrift ?","Gesamtpunkte"]
[]
[null,null,null,null,"max. BE -->"]
[]
[1,{"$f":"IF(Dateneingabe!B11=0,\"\",Dateneingabe!B11)","v":""},{"$f":"IF(G23=\".\",\"-\",LOOKUP(F23,$AB$25:$AB$40,$AC$25:$AC$40))","v":"-"},null,null,{"$f":"SUM(G23:Z23)","v":0},".",null,null,null,null,null,null,null,null,null,null,null,null,null,null,null,null,null,null,null,null,"Notenschlüssel:",null,null,"Auswertung Häufigkeit"]
[2,{"$f":"IF(Dateneingabe!B12=0,\"\",Dateneingabe!B12)","v":""},{"$f":"IF(G24=\".\",\"-\",LOOKUP(F24,$AB$25:$AB$40,$AC$25:$AC$40))","v":"-"},null,null,0,".",null,null,null,null,null,null,null,null,null,null,null,null,null,null,null,null,null,null,null,null,"ab BE","Punkte",null,"Note","Anzahl"]
[3,{"$f":"IF(Dateneingabe!B13=0,\"\",Dateneingabe!B13)","v":""},"-",null,null,0,".",null,null,null,null,null,null,null,null,null,null,null,null,null,null,null,null,null,null,null,null,0,0,null,0,{"$f":"COUNTIF($C$22:$C$61,AE25)","v":0}]
[4,{"$f":"IF(Dateneingabe!B14=0,\"\",Dateneingabe!B14)","v":""},"-",null,null,0,".",null,null,null,null,null,null,null,null,null,null,null,null,null,null,null,null,null,null,null,null,0,1,null,1,0]
[5,{"$f":"IF(Dateneingabe!B15=0,\"\",Dateneingabe!B15)","v":""},"-",null,null,0,".",null,null,null,null,null,null,null,null,null,null,null,null,null,null,null,null,null,null,null,null,0,2,null,2,0]
[6,{"$f":"IF(Dateneingabe!B16=0,\"\",Dateneingabe!B16)","v":""},"-",null,null,0,".",null,null,null,null,null,null,null,null,null,null,null,null,null,null,null,null,null,null,null,null,0,3,null,3,0]
[7,{"$f":"IF(Dateneingabe!B17=0,\"\",Dateneingabe!B17)","v":""},"-",null,null,{"$f":"SUM(G29:Z29)","v":0},".",null,null,null,null,null,null,null,null,null,null,null,null,null,null,null,null,null,null,null,null,0,4,null,4,0]
[8,{"$f":"IF(Dateneingabe!B18=0,\"\",Dateneingabe!B18)","v":""},"-",null,null,0,".",null,null,null,null,null,null,null,null,null,null,null,null,null,null,null,null,null,null,null,null,0,5,null,5,0]
[9,{"$f":"IF(Dateneingabe!B19=0,\"\",Dateneingabe!B19)","v":""},"-",null,null,0,".",null,null,null,null,null,null,null,null,null,null,null,null,null,null,null,null,null,null,null,null,0,6,null,6,0]
[10,{"$f":"IF(Dateneingabe!B20=0,\"\",Dateneingabe!B20)","v":""},"-",null,null,0,".",null,null,null,null,null,null,null,null,null,null,null,null,null,null,null,null,null,null,null,null,0,7,null,7,0]
[11,{"$f":"IF(Dateneingabe!B21=0,\"\",Dateneingabe!B21)","v":""},"-",null,null,0,".",null,null,null,null,null,null,null,null,null,null,null,null,null,null,null,null,null,null,null,null,0,8,null,8,0]
[12,{"$f":"IF(Dateneingabe!B22=0,\"\",Dateneingabe!B22)","v":""},"-",null,null,0,".",null,null,null,null,null,null,null,null,null,null,null,null,null,null,null,null,null,null,null,null,0,9,null,9,0]
[13,{"$f":"IF(Dateneingabe!B23=0,\"\",Dateneingabe!B23)","v":""},"-",null,null,0,".",null,null,null,null,null,null,null,null,null,null,null,null,null,null,null,null,null,null,null,null,0,10,null,10,0]
[14,{"$f":"IF(Dateneingabe!B24=0,\"\",Dateneingabe!B24)","v":""},"-",null,null,0,".",null,null,null,null,null,null,null,null,null,null,null,null,null,null,null,null,null,null,null,null,0,11,null,11,0]
[15,{"$f":"IF(Dateneingabe!B25=0,\"\",Dateneingabe!B25)","v":""},"-",null,null,0,".",null,null,null,null,null,null,null,null,null,null,null,null,null,null,null,null,null,null,null,null,0,12,null,12,0]
[16,{"$f":"IF(Dateneingabe!B26=0,\"\",Dateneingabe!B26)","v":""},"-",null,null,0,".",null,null,null,null,null,null,null,null,null,null,null,null,null,null,null,null,null,null,null,null,0,13,null,13,0]
[17,{"$f":"IF(Dateneingabe!B27=0,\"\",Dateneingabe!B27)","v":""},"-",null,null,0,".",null,null,null,null,null,null,null,null,null,null,null,null,null,null,null,null,null,null,null,null,0,14,null,14,0]
[18,{"$f":"IF(Dateneingabe!B28=0,\"\",Dateneingabe!B28)","v":""},"-",null,null,0,".",null,null,null,null,null,null,null,null,null,null,null,null,null,null,null,null,null,null,null,null,0,15,null,15,0]
[19,{"$f":"IF(Dateneingabe!B29=0,\"\",Dateneingabe!B29)","v":""},"-",null,null,0,"."]
[20,{"$f":"IF(Dateneingabe!B30=0,\"\",Dateneingabe!B30)","v":""},"-",null,null,0,"."]
[21,{"$f":"IF(Dateneingabe!B31=0,\"\",Dateneingabe!B31)","v":""},"-",null,null,0,"."]
[22,{"$f":"IF(Dateneingabe!B32=0,\"\",Dateneingabe!B32)","v":""},"-",null,null,0,"."]
[23,{"$f":"IF(Dateneingabe!B33=0,\"\",Dateneingabe!B33)","v":""},"-",null,null,0,"."]
[24,{"$f":"IF(Dateneingabe!B34=0,\"\",Dateneingabe!B34)","v":""},"-",null,null,0,"."]
[25,{"$f":"IF(Dateneingabe!B35=0,\"\",Dateneingabe!B35)","v":""},"-",null,null,0,"."]
[26,{"$f":"IF(Dateneingabe!B36=0,\"\",Dateneingabe!B36)","v":""},"-",null,null,0,"."]
[27,{"$f":"IF(Dateneingabe!B37=0,\"\",Dateneingabe!B37)","v":""},"-",null,null,0,"."]
[28,{"$f":"IF(Dateneingabe!B38=0,\"\",Dateneingabe!B38)","v":""},"-",null,null,0,"."]
[29,{"$f":"IF(Dateneingabe!B39=0,\"\",Dateneingabe!B39)","v":""},"-",null,null,0,"."]
[30,{"$f":"IF(Dateneingabe!B40=0,\"\",Dateneingabe!B40)","v":""},"-",null,null,0,"."]
[31,{"$f":"IF(Dateneingabe!B41=0,\"\",Dateneingabe!B41)","v":""},"-",null,null,0,"."]
[32,{"$f":"IF(Dateneingabe!B42=0,\"\",Dateneingabe!B42)","v":""},"-",null,null,0,"."]
[33,{"$f":"IF(Dateneingabe!B43=0,\"\",Dateneingabe!B43)","v":""},"-",null,null,0,"."]
[34,{"$f":"IF(Dateneingabe!B44=0,\"\",Dateneingabe!B44)","v":""},"-",null,null,0,"."]
[35,{"$f":"IF(Dateneingabe!B45=0,\"\",Dateneingabe!B45)","v":""},"-",null,null,0,"."]
[]
[null,null,null,null,null,null,{"$f":"IF(G21=0,\"\",SUM(G23:G57)/(COUNTIFS(G23:G48,\">=0\")*G21))","v":""},{"$f":"IF(H21=0,\"\",SUM(H23:H57)/(COUNTIFS(H23:H48,\">=0\")*H21))","v":""},{"$f":"IF(I21=0,\"\",SUM(I23:I57)/(COUNTIFS(I23:I48,\">=0\")*I21))","v":""},"","","","","","","","","","","","","","","","",""]
[null,null,null,null,null,null,null,null,null,null,null,null,null,null,null,null,null,null,null,null,null,null,null,null,null,null,null,"Notendurchschnitt:",null,{"$f":"IF(SUM(C23:C57)=0,\"-\",TRUNC(AVERAGE(C23:C57),2))","v":"-"}]
[]
[null,null,null,null,null,null,null,null,null,null,null,null,null,null,null,null,null,null,null,null,null,null,null,null,null,null,null,"% 5er und 6er",null,{"$f":"IF(AF25+AF26+AF27+AF28=0,\"0 %\",(AF25+AF26+AF27+AF28)/SUM(AF25:AF40))","v":"0 %"}]

{"sheet":"S2","index":3,"n_rows":62,"n_cols":32,"rows_kept":62,"cut":false,"hidden":false,"merged":[[20,4,20,5],[8,2,8,11],[9,2,9,3],[0,1,4,3],[2,6,4,6],[14,2,15,11],[10,2,10,3],[11,2,11,3],[12,2,12,3],[13,2,13,3]]}
[null,{"$f":"Dateneingabe!A1","v":"Mustergymnasium\nMusterstraße 1\n12345 Musterstadt"}]
[null,null,null,null,null,"Schuljahr:",{"$f":"Dateneingabe!F2","v":0}]
[null,null,null,null,null,null,{"$f":"Dateneingabe!F3","v":0},null,null,null,null,null,null,null,null,null,null,null,null,null,null,null,null,null,null,null,1]
[null,null,null,null,null,"Klasse:"]
[]
[]
[null,"Schriftliche Arbeit 2"]
[]
[null,"Art der Arbeit:"]
[null,"Geschrieben am:"]
[null,"Arbeitszeit:"]
[null,"Zurückgegeben am:",null,null,null,"Gesamtpunkte:",null,{"$f":"SUM(G21:Z21)","v":0},null,null,null,null,null,null,"Gewichtung der Arbeit:",null,null,null,null,{"$f":"Klassennotenbogen!E11","v":1}]
[null,"Dem Direktorat vorgelegt:"]
[null,"Notenlisteneintrag am:"]
[null,"Lehrstoff:"]
[]
[]
[null,null,null,null,null,"Kurzbezeichnung ",1,2,3]
[null,"Name","Note",null,"Nachschrift ?","Gesamtpunkte"]
[]
[null,null,null,null,"max. BE -->"]
[]
[1,{"$f":"IF(Dateneingabe!B11=0,\"\",Dateneingabe!B11)","v":""},{"$f":"IF(G23=\".\",\"-\",LOOKUP(F23,$AB$25:$AB$40,$AC$25:$AC$40))","v":"-"},null,null,{"$f":"SUM(G23:Z23)","v":0},".",null,null,null,null,null,null,null,null,null,null,null,null,null,null,null,null,null,null,null,null,"Notenschlüssel:",null,null,"Auswertung Häufigkeit"]
[2,{"$f":"IF(Dateneingabe!B12=0,\"\",Dateneingabe!B12)","v":""},{"$f":"IF(G24=\".\",\"-\",LOOKUP(F24,$AB$25:$AB$40,$AC$25:$AC$40))","v":"-"},null,null,0,".",null,null,null,null,null,null,null,null,null,null,null,null,null,null,null,null,null,null,null,null,"ab BE","Punkte",null,"Note","Anzahl"]
[3,{"$f":"IF(Dateneingabe!B13=0,\"\",Dateneingabe!B13)","v":""},"-",null,null,0,".",null,null,null,null,null,null,null,null,null,null,null,null,null,null,null,null,null,null,null,null,0,0,null,0,{"$f":"COUNTIF($C$22:$C$61,AE25)","v":0}]
[4,{"$f":"IF(Dateneingabe!B14=0,\"\",Dateneingabe!B14)","v":""},"-",null,null,0,".",null,null,null,null,null,null,null,null,null,null,null,null,null,null,null,null,null,null,null,null,null,1,null,1,0]
[5,{"$f":"IF(Dateneingabe!B15=0,\"\",Dateneingabe!B15)","v":""},"-",null,null,0,".",null,null,null,null,null,null,null,null,null,null,null,null,null,null,null,null,null,null,null,null,null,2,null,2,0]
[6,{"$f":"IF(Dateneingabe!B16=0,\"\",Dateneingabe!B16)","v":""},"-",null,null,0,".",null,null,null,null,null,null,null,null,null,null,null,null,null,null,null,null,null,null,null,null,null,3,null,3,0]
[7,{"$f":"IF(Dateneingabe!B17=0,\"\",Dateneingabe!B17)","v":""},"-",null,null,0,".",null,null,null,null,null,null,null,null,null,null,null,null,null,null,null,null,null,null,null,null,null,4,null,4,0]
[8,{"$f":"IF(Dateneingabe!B18=0,\"\",Dateneingabe!B18)","v":""},"-",null,null,0,".",null,null,null,null,null,null,null,null,null,null,null,null,null,null,null,null,null,null,null,null,null,5,null,5,0]
[9,{"$f":"IF(Dateneingabe!B19=0,\"\",Dateneingabe!B19)","v":""},"-",null,null,0,".",null,null,null,null,null,null,null,null,null,null,null,null,null,null,null,null,null,null,null,null,null,6,null,6,0]
[10,{"$f":"IF(Dateneingabe!B20=0,\"\",Dateneingabe!B20)","v":""},"-",null,null,0,".",null,null,null,null,null,null,null,null,null,null,null,null,null,null,null,null,null,null,null,null,null,7,null,7,0]
[11,{"$f":"IF(Dateneingabe!B21=0,\"\",Dateneingabe!B21)","v":""},"-",null,null,0,".",null,null,null,null,null,null,null,null,null,null,null,null,null,null,null,null,null,null,null,null,null,8,null,8,0]
[12,{"$f":"IF(Dateneingabe!B22=0,\"\",Dateneingabe!B22)","v":""},"-",null,null,0,".",null,null,null,null,null,null,null,null,null,null,null,null,null,null,null,null,null,null,null,null,null,9,null,9,0]
[13,{"$f":"IF(Dateneingabe!B23=0,\"\",Dateneingabe!B23)","v":""},"-",null,null,0,".",null,null,null,null,null,null,null,null,null,null,null,null,null,null,null,null,null,null,null,null,null,10,null,10,0]
[14,{"$f":"IF(Dateneingabe!B24=0,\"\",Dateneingabe!B24)","v":""},"-",null,null,0,".",null,null,null,null,null,null,null,null,null,null,null,null,null,null,null,null,null,null,null,null,null,11,null,11,0]
[15,{"$f":"IF(Dateneingabe!B25=0,\"\",Dateneingabe!B25)","v":""},"-",null,null,0,".",null,null,null,null,null,null,null,null,null,null,null,null,null,null,null,null,null,null,null,null,null,12,null,12,0]
[16,{"$f":"IF(Dateneingabe!B26=0,\"\",Dateneingabe!B26)","v":""},"-",null,null,0,".",null,null,null,null,null,null,null,null,null,null,null,null,null,null,null,null,null,null,null,null,null,13,null,13,0]
[17,{"$f":"IF(Dateneingabe!B27=0,\"\",Dateneingabe!B27)","v":""},"-",null,null,0,".",null,null,null,null,null,null,null,null,null,null,null,null,null,null,null,null,null,null,null,null,null,14,null,14,0]
[18,{"$f":"IF(Dateneingabe!B28=0,\"\",Dateneingabe!B28)","v":""},"-",null,null,0,".",null,null,null,null,null,null,null,null,null,null,null,null,null,null,null,null,null,null,null,null,null,15,null,15,0]
[19,{"$f":"IF(Dateneingabe!B29=0,\"\",Dateneingabe!B29)","v":""},"-",null,null,0,"."]
[20,{"$f":"IF(Dateneingabe!B30=0,\"\",Dateneingabe!B30)","v":""},"-",null,null,0,"."]
[21,{"$f":"IF(Dateneingabe!B31=0,\"\",Dateneingabe!B31)","v":""},"-",null,null,0,"."]
[22,{"$f":"IF(Dateneingabe!B32=0,\"\",Dateneingabe!B32)","v":""},"-",null,null,0,"."]
[23,{"$f":"IF(Dateneingabe!B33=0,\"\",Dateneingabe!B33)","v":""},"-",null,null,0,"."]
[24,{"$f":"IF(Dateneingabe!B34=0,\"\",Dateneingabe!B34)","v":""},"-",null,null,0,"."]
[25,{"$f":"IF(Dateneingabe!B35=0,\"\",Dateneingabe!B35)","v":""},"-",null,null,0,"."]
[26,{"$f":"IF(Dateneingabe!B36=0,\"\",Dateneingabe!B36)","v":""},"-",null,null,0,"."]
[27,{"$f":"IF(Dateneingabe!B37=0,\"\",Dateneingabe!B37)","v":""},"-",null,null,0,"."]
[28,{"$f":"IF(Dateneingabe!B38=0,\"\",Dateneingabe!B38)","v":""},"-",null,null,0,"."]
[29,{"$f":"IF(Dateneingabe!B39=0,\"\",Dateneingabe!B39)","v":""},"-",null,null,0,"."]
[30,{"$f":"IF(Dateneingabe!B40=0,\"\",Dateneingabe!B40)","v":""},"-",null,null,0,"."]
[31,{"$f":"IF(Dateneingabe!B41=0,\"\",Dateneingabe!B41)","v":""},"-",null,null,0,"."]
[32,{"$f":"IF(Dateneingabe!B42=0,\"\",Dateneingabe!B42)","v":""},"-",null,null,0,"."]
[33,{"$f":"IF(Dateneingabe!B43=0,\"\",Dateneingabe!B43)","v":""},"-",null,null,0,"."]
[34,{"$f":"IF(Dateneingabe!B44=0,\"\",Dateneingabe!B44)","v":""},"-",null,null,0,"."]
[35,{"$f":"IF(Dateneingabe!B45=0,\"\",Dateneingabe!B45)","v":""},"-",null,null,0,"."]
[]
[null,null,null,null,null,null,{"$f":"IF(G21=0,\"\",SUM(G23:G57)/(COUNTIFS(G23:G48,\">=0\")*G21))","v":""},{"$f":"IF(H21=0,\"\",SUM(H23:H57)/(COUNTIFS(H23:H48,\">=0\")*H21))","v":""},{"$f":"IF(I21=0,\"\",SUM(I23:I57)/(COUNTIFS(I23:I48,\">=0\")*I21))","v":""},"","","","","","","","","","","","","","","","",""]
[null,null,null,null,null,null,null,null,null,null,null,null,null,null,null,null,null,null,null,null,null,null,null,null,null,null,null,"Notendurchschnitt:",null,{"$f":"IF(SUM(C23:C57)=0,\"-\",TRUNC(AVERAGE(C23:C57),2))","v":"-"}]
[]
[null,null,null,null,null,null,null,null,null,null,null,null,null,null,null,null,null,null,null,null,null,null,null,null,null,null,null,"% 5er und 6er",null,{"$f":"IF(AF25+AF26+AF27+AF28=0,\"0 %\",(AF25+AF26+AF27+AF28)/SUM(AF25:AF40))","v":"0 %"}]

{"sheet":"S3","index":4,"n_rows":62,"n_cols":32,"rows_kept":62,"cut":false,"hidden":false,"merged":[[20,4,20,5],[8,2,8,11],[9,2,9,3],[0,1,4,3],[2,6,4,6],[14,2,15,11],[10,2,10,3],[11,2,11,3],[12,2,12,3],[13,2,13,3]]}
[null,{"$f":"Dateneingabe!A1","v":"Mustergymnasium\nMusterstraße 1\n12345 Musterstadt"}]
[null,null,null,null,null,"Schuljahr:",{"$f":"Dateneingabe!F2","v":0}]
[null,null,null,null,null,null,{"$f":"Dateneingabe!F3","v":0},null,null,null,null,null,null,null,null,null,null,null,null,null,null,null,null,null,null,null,1]
[null,null,null,null,null,"Klasse:"]
[]
[]
[null,"Schriftliche Arbeit 3"]
[]
[null,"Art der Arbeit:"]
[null,"Geschrieben am:"]
[null,"Arbeitszeit:"]
[null,"Zurückgegeben am:",null,null,null,"Gesamtpunkte:",null,{"$f":"SUM(G21:Z21)","v":0},null,null,null,null,null,null,"Gewichtung der Arbeit:",null,null,null,null,{"$f":"Klassennotenbogen!F11","v":1}]
[null,"Dem Direktorat vorgelegt:"]
[null,"Notenlisteneintrag am:"]
[null,"Lehrstoff:"]
[]
[]
[null,null,null,null,null,"Kurzbezeichnung ",1,2,3]
[null,"Name","Note",null,"Nachschrift ?","Gesamtpunkte"]
[]
[null,null,null,null,"max. BE -->"]
[]
[1,{"$f":"IF(Dateneingabe!B11=0,\"\",Dateneingabe!B11)","v":""},{"$f":"IF(G23=\".\",\"-\",LOOKUP(F23,$AB$25:$AB$40,$AC$25:$AC$40))","v":"-"},null,null,{"$f":"SUM(G23:Z23)","v":0},".",null,null,null,null,null,null,null,null,null,null,null,null,null,null,null,null,null,null,null,null,"Notenschlüssel:",null,null,"Auswertung Häufigkeit"]
[2,{"$f":"IF(Dateneingabe!B12=0,\"\",Dateneingabe!B12)","v":""},{"$f":"IF(G24=\".\",\"-\",LOOKUP(F24,$AB$25:$AB$40,$AC$25:$AC$40))","v":"-"},null,null,0,".",null,null,null,null,null,null,null,null,null,null,null,null,null,null,null,null,null,null,null,null,"ab BE","Punkte",null,"Note","Anzahl"]
[3,{"$f":"IF(Dateneingabe!B13=0,\"\",Dateneingabe!B13)","v":""},"-",null,null,0,".",null,null,null,null,null,null,null,null,null,null,null,null,null,null,null,null,null,null,null,null,0,0,null,0,{"$f":"COUNTIF($C$22:$C$61,AE25)","v":0}]
[4,{"$f":"IF(Dateneingabe!B14=0,\"\",Dateneingabe!B14)","v":""},"-",null,null,0,".",null,null,null,null,null,null,null,null,null,null,null,null,null,null,null,null,null,null,null,null,null,1,null,1,0]
[5,{"$f":"IF(Dateneingabe!B15=0,\"\",Dateneingabe!B15)","v":""},"-",null,null,0,".",null,null,null,null,null,null,null,null,null,null,null,null,null,null,null,null,null,null,null,null,null,2,null,2,0]
[6,{"$f":"IF(Dateneingabe!B16=0,\"\",Dateneingabe!B16)","v":""},"-",null,null,0,".",null,null,null,null,null,null,null,null,null,null,null,null,null,null,null,null,null,null,null,null,null,3,null,3,0]
[7,{"$f":"IF(Dateneingabe!B17=0,\"\",Dateneingabe!B17)","v":""},"-",null,null,0,".",null,null,null,null,null,null,null,null,null,null,null,null,null,null,null,null,null,null,null,null,null,4,null,4,0]
[8,{"$f":"IF(Dateneingabe!B18=0,\"\",Dateneingabe!B18)","v":""},"-",null,null,0,".",null,null,null,null,null,null,null,null,null,null,null,null,null,null,null,null,null,null,null,null,null,5,null,5,0]
[9,{"$f":"IF(Dateneingabe!B19=0,\"\",Dateneingabe!B19)","v":""},"-",null,null,0,".",null,null,null,null,null,null,null,null,null,null,null,null,null,null,null,null,null,null,null,null,null,6,null,6,0]
[10,{"$f":"IF(Dateneingabe!B20=0,\"\",Dateneingabe!B20)","v":""},"-",null,null,0,".",null,null,null,null,null,null,null,null,null,null,null,null,null,null,null,null,null,null,null,null,null,7,null,7,0]
[11,{"$f":"IF(Dateneingabe!B21=0,\"\",Dateneingabe!B21)","v":""},"-",null,null,0,".",null,null,null,null,null,null,null,null,null,null,null,null,null,null,null,null,null,null,null,null,null,8,null,8,0]
[12,{"$f":"IF(Dateneingabe!B22=0,\"\",Dateneingabe!B22)","v":""},"-",null,null,0,".",null,null,null,null,null,null,null,null,null,null,null,null,null,null,null,null,null,null,null,null,null,9,null,9,0]
[13,{"$f":"IF(Dateneingabe!B23=0,\"\",Dateneingabe!B23)","v":""},"-",null,null,0,".",null,null,null,null,null,null,null,null,null,null,null,null,null,null,null,null,null,null,null,null,null,10,null,10,0]
[14,{"$f":"IF(Dateneingabe!B24=0,\"\",Dateneingabe!B24)","v":""},"-",null,null,0,".",null,null,null,null,null,null,null,null,null,null,null,null,null,null,null,null,null,null,null,null,null,11,null,11,0]
[15,{"$f":"IF(Dateneingabe!B25=0,\"\",Dateneingabe!B25)","v":""},"-",null,null,0,".",null,null,null,null,null,null,null,null,null,null,null,null,null,null,null,null,null,null,null,null,null,12,null,12,0]
[16,{"$f":"IF(Dateneingabe!B26=0,\"\",Dateneingabe!B26)","v":""},"-",null,null,0,".",null,null,null,null,null,null,null,null,null,null,null,null,null,null,null,null,null,null,null,null,null,13,null,13,0]
[17,{"$f":"IF(Dateneingabe!B27=0,\"\",Dateneingabe!B27)","v":""},"-",null,null,0,".",null,null,null,null,null,null,null,null,null,null,null,null,null,null,null,null,null,null,null,null,null,14,null,14,0]
[18,{"$f":"IF(Dateneingabe!B28=0,\"\",Dateneingabe!B28)","v":""},"-",null,null,0,".",null,null,null,null,null,null,null,null,null,null,null,null,null,null,null,null,null,null,null,null,null,15,null,15,0]
[19,{"$f":"IF(Dateneingabe!B29=0,\"\",Dateneingabe!B29)","v":""},"-",null,null,0,"."]
[20,{"$f":"IF(Dateneingabe!B30=0,\"\",Dateneingabe!B30)","v":""},"-",null,null,0,"."]
[21,{"$f":"IF(Dateneingabe!B31=0,\"\",Dateneingabe!B31)","v":""},"-",null,null,0,"."]
[22,{"$f":"IF(Dateneingabe!B32=0,\"\",Dateneingabe!B32)","v":""},"-",null,null,0,"."]
[23,{"$f":"IF(Dateneingabe!B33=0,\"\",Dateneingabe!B33)","v":""},"-",null,null,0,"."]
[24,{"$f":"IF(Dateneingabe!B34=0,\"\",Dateneingabe!B34)","v":""},"-",null,null,0,"."]
[25,{"$f":"IF(Dateneingabe!B35=0,\"\",Dateneingabe!B35)","v":""},"-",null,null,0,"."]
[26,{"$f":"IF(Dateneingabe!B36=0,\"\",Dateneingabe!B36)","v":""},"-",null,null,0,"."]
[27,{"$f":"IF(Dateneingabe!B37=0,\"\",Dateneingabe!B37)","v":""},"-",null,null,0,"."]
[28,{"$f":"IF(Dateneingabe!B38=0,\"\",Dateneingabe!B38)","v":""},"-",null,null,0,"."]
[29,{"$f":"IF(Dateneingabe!B39=0,\"\",Dateneingabe!B39)","v":""},"-",null,null,0,"."]
[30,{"$f":"IF(Dateneingabe!B40=0,\"\",Dateneingabe!B40)","v":""},"-",null,null,0,"."]
[31,{"$f":"IF(Dateneingabe!B41=0,\"\",Dateneingabe!B41)","v":""},"-",null,null,0,"."]
[32,{"$f":"IF(Dateneingabe!B42=0,\"\",Dateneingabe!B42)","v":""},"-",null,null,0,"."]
[33,{"$f":"IF(Dateneingabe!B43=0,\"\",Dateneingabe!B43)","v":""},"-",null,null,0,"."]
[34,{"$f":"IF(Dateneingabe!B44=0,\"\",Dateneingabe!B44)","v":""},"-",null,null,0,"."]
[35,{"$f":"IF(Dateneingabe!B45=0,\"\",Dateneingabe!B45)","v":""},"-",null,null,0,"."]
[]
[null,null,null,null,null,null,{"$f":"IF(G21=0,\"\",SUM(G23:G57)/(COUNTIFS(G23:G48,\">=0\")*G21))","v":""},{"$f":"IF(H21=0,\"\",SUM(H23:H57)/(COUNTIFS(H23:H48,\">=0\")*H21))","v":""},{"$f":"IF(I21=0,\"\",SUM(I23:I57)/(COUNTIFS(I23:I48,\">=0\")*I21))","v":""},"","","","","","","","","","","","","","","","",""]
[null,null,null,null,null,null,null,null,null,null,null,null,null,null,null,null,null,null,null,null,null,null,null,null,null,null,null,"Notendurchschnitt:",null,{"$f":"IF(SUM(C23:C57)=0,\"-\",TRUNC(AVERAGE(C23:C57),2))","v":"-"}]
[]
[null,null,null,null,null,null,null,null,null,null,null,null,null,null,null,null,null,null,null,null,null,null,null,null,null,null,null,"% 5er und 6er",null,{"$f":"IF(AF25+AF26+AF27+AF28=0,\"0 %\",(AF25+AF26+AF27+AF28)/SUM(AF25:AF40))","v":"0 %"}]

{"sheet":"S4","index":5,"n_rows":62,"n_cols":32,"rows_kept":62,"cut":false,"hidden":false,"merged":[[20,4,20,5],[8,2,8,11],[9,2,9,3],[0,1,4,3],[2,6,4,6],[14,2,15,11],[10,2,10,3],[11,2,11,3],[12,2,12,3],[13,2,13,3]]}
[null,{"$f":"Dateneingabe!A1","v":"Mustergymnasium\nMusterstraße 1\n12345 Musterstadt"}]
[null,null,null,null,null,"Schuljahr:",{"$f":"Dateneingabe!F2","v":0}]
[null,null,null,null,null,null,{"$f":"Dateneingabe!F3","v":0},null,null,null,null,null,null,null,null,null,null,null,null,null,null,null,null,null,null,null,1]
[null,null,null,null,null,"Klasse:"]
[]
[]
[null,"Schriftliche Arbeit 4"]
[]
[null,"Art der Arbeit:"]
[null,"Geschrieben am:"]
[null,"Arbeitszeit:"]
[null,"Zurückgegeben am:",null,null,null,"Gesamtpunkte:",null,{"$f":"SUM(G21:Z21)","v":0},null,null,null,null,null,null,"Gewichtung der Arbeit:",null,null,null,null,{"$f":"Klassennotenbogen!M11","v":1}]
[null,"Dem Direktorat vorgelegt:"]
[null,"Notenlisteneintrag am:"]
[null,"Lehrstoff:"]
[]
[]
[null,null,null,null,null,"Kurzbezeichnung ",1,2,3]
[null,"Name","Note",null,"Nachschrift ?","Gesamtpunkte"]
[]
[null,null,null,null,"max. BE -->"]
[]
[1,{"$f":"IF(Dateneingabe!B11=0,\"\",Dateneingabe!B11)","v":""},{"$f":"IF(G23=\".\",\"-\",LOOKUP(F23,$AB$25:$AB$40,$AC$25:$AC$40))","v":"-"},null,null,{"$f":"SUM(G23:Z23)","v":0},".",null,null,null,null,null,null,null,null,null,null,null,null,null,null,null,null,null,null,null,null,"Notenschlüssel:",null,null,"Auswertung Häufigkeit"]
[2,{"$f":"IF(Dateneingabe!B12=0,\"\",Dateneingabe!B12)","v":""},{"$f":"IF(G24=\".\",\"-\",LOOKUP(F24,$AB$25:$AB$40,$AC$25:$AC$40))","v":"-"},null,null,0,".",null,null,null,null,null,null,null,null,null,null,null,null,null,null,null,null,null,null,null,null,"ab BE","Punkte",null,"Note","Anzahl"]
[3,{"$f":"IF(Dateneingabe!B13=0,\"\",Dateneingabe!B13)","v":""},"-",null,null,0,".",null,null,null,null,null,null,null,null,null,null,null,null,null,null,null,null,null,null,null,null,0,0,null,0,{"$f":"COUNTIF($C$22:$C$61,AE25)","v":0}]
[4,{"$f":"IF(Dateneingabe!B14=0,\"\",Dateneingabe!B14)","v":""},"-",null,null,0,".",null,null,null,null,null,null,null,null,null,null,null,null,null,null,null,null,null,null,null,null,null,1,null,1,0]
[5,{"$f":"IF(Dateneingabe!B15=0,\"\",Dateneingabe!B15)","v":""},"-",null,null,0,".",null,null,null,null,null,null,null,null,null,null,null,null,null,null,null,null,null,null,null,null,null,2,null,2,0]
[6,{"$f":"IF(Dateneingabe!B16=0,\"\",Dateneingabe!B16)","v":""},"-",null,null,0,".",null,null,null,null,null,null,null,null,null,null,null,null,null,null,null,null,null,null,null,null,null,3,null,3,0]
[7,{"$f":"IF(Dateneingabe!B17=0,\"\",Dateneingabe!B17)","v":""},"-",null,null,0,".",null,null,null,null,null,null,null,null,null,null,null,null,null,null,null,null,null,null,null,null,null,4,null,4,0]
[8,{"$f":"IF(Dateneingabe!B18=0,\"\",Dateneingabe!B18)","v":""},"-",null,null,0,".",null,null,null,null,null,null,null,null,null,null,null,null,null,null,null,null,null,null,null,null,null,5,null,5,0]
[9,{"$f":"IF(Dateneingabe!B19=0,\"\",Dateneingabe!B19)","v":""},"-",null,null,0,".",null,null,null,null,null,null,null,null,null,null,null,null,null,null,null,null,null,null,null,null,null,6,null,6,0]
[10,{"$f":"IF(Dateneingabe!B20=0,\"\",Dateneingabe!B20)","v":""},"-",null,null,0,".",null,null,null,null,null,null,null,null,null,null,null,null,null,null,null,null,null,null,null,null,null,7,null,7,0]
[11,{"$f":"IF(Dateneingabe!B21=0,\"\",Dateneingabe!B21)","v":""},"-",null,null,0,".",null,null,null,null,null,null,null,null,null,null,null,null,null,null,null,null,null,null,null,null,null,8,null,8,0]
[12,{"$f":"IF(Dateneingabe!B22=0,\"\",Dateneingabe!B22)","v":""},"-",null,null,0,".",null,null,null,null,null,null,null,null,null,null,null,null,null,null,null,null,null,null,null,null,null,9,null,9,0]
[13,{"$f":"IF(Dateneingabe!B23=0,\"\",Dateneingabe!B23)","v":""},"-",null,null,0,".",null,null,null,null,null,null,null,null,null,null,null,null,null,null,null,null,null,null,null,null,null,10,null,10,0]
[14,{"$f":"IF(Dateneingabe!B24=0,\"\",Dateneingabe!B24)","v":""},"-",null,null,0,".",null,null,null,null,null,null,null,null,null,null,null,null,null,null,null,null,null,null,null,null,null,11,null,11,0]
[15,{"$f":"IF(Dateneingabe!B25=0,\"\",Dateneingabe!B25)","v":""},"-",null,null,0,".",null,null,null,null,null,null,null,null,null,null,null,null,null,null,null,null,null,null,null,null,null,12,null,12,0]
[16,{"$f":"IF(Dateneingabe!B26=0,\"\",Dateneingabe!B26)","v":""},"-",null,null,0,".",null,null,null,null,null,null,null,null,null,null,null,null,null,null,null,null,null,null,null,null,null,13,null,13,0]
[17,{"$f":"IF(Dateneingabe!B27=0,\"\",Dateneingabe!B27)","v":""},"-",null,null,0,".",null,null,null,null,null,null,null,null,null,null,null,null,null,null,null,null,null,null,null,null,null,14,null,14,0]
[18,{"$f":"IF(Dateneingabe!B28=0,\"\",Dateneingabe!B28)","v":""},"-",null,null,0,".",null,null,null,null,null,null,null,null,null,null,null,null,null,null,null,null,null,null,null,null,null,15,null,15,0]
[19,{"$f":"IF(Dateneingabe!B29=0,\"\",Dateneingabe!B29)","v":""},"-",null,null,0,"."]
[20,{"$f":"IF(Dateneingabe!B30=0,\"\",Dateneingabe!B30)","v":""},"-",null,null,0,"."]
[21,{"$f":"IF(Dateneingabe!B31=0,\"\",Dateneingabe!B31)","v":""},"-",null,null,0,"."]
[22,{"$f":"IF(Dateneingabe!B32=0,\"\",Dateneingabe!B32)","v":""},"-",null,null,0,"."]
[23,{"$f":"IF(Dateneingabe!B33=0,\"\",Dateneingabe!B33)","v":""},"-",null,null,0,"."]
[24,{"$f":"IF(Dateneingabe!B34=0,\"\",Dateneingabe!B34)","v":""},"-",null,null,0,"."]
[25,{"$f":"IF(Dateneingabe!B35=0,\"\",Dateneingabe!B35)","v":""},"-",null,null,0,"."]
[26,{"$f":"IF(Dateneingabe!B36=0,\"\",Dateneingabe!B36)","v":""},"-",null,null,0,"."]
[27,{"$f":"IF(Dateneingabe!B37=0,\"\",Dateneingabe!B37)","v":""},"-",null,null,0,"."]
[28,{"$f":"IF(Dateneingabe!B38=0,\"\",Dateneingabe!B38)","v":""},"-",null,null,0,"."]
[29,{"$f":"IF(Dateneingabe!B39=0,\"\",Dateneingabe!B39)","v":""},"-",null,null,0,"."]
[30,{"$f":"IF(Dateneingabe!B40=0,\"\",Dateneingabe!B40)","v":""},"-",null,null,0,"."]
[31,{"$f":"IF(Dateneingabe!B41=0,\"\",Dateneingabe!B41)","v":""},"-",null,null,0,"."]
[32,{"$f":"IF(Dateneingabe!B42=0,\"\",Dateneingabe!B42)","v":""},"-",null,null,0,"."]
[33,{"$f":"IF(Dateneingabe!B43=0,\"\",Dateneingabe!B43)","v":""},"-",null,null,0,"."]
[34,{"$f":"IF(Dateneingabe!B44=0,\"\",Dateneingabe!B44)","v":""},"-",null,null,0,"."]
[35,{"$f":"IF(Dateneingabe!B45=0,\"\",Dateneingabe!B45)","v":""},"-",null,null,0,"."]
[]
[null,null,null,null,null,null,{"$f":"IF(G21=0,\"\",SUM(G23:G57)/(COUNTIFS(G23:G48,\">=0\")*G21))","v":""},{"$f":"IF(H21=0,\"\",SUM(H23:H57)/(COUNTIFS(H23:H48,\">=0\")*H21))","v":""},{"$f":"IF(I21=0,\"\",SUM(I23:I57)/(COUNTIFS(I23:I48,\">=0\")*I21))","v":""},"","","","","","","","","","","","","","","","",""]
[null,null,null,null,null,null,null,null,null,null,null,null,null,null,null,null,null,null,null,null,null,null,null,null,null,null,null,"Notendurchschnitt:",null,{"$f":"IF(SUM(C23:C57)=0,\"-\",TRUNC(AVERAGE(C23:C57),2))","v":"-"}]
[]
[null,null,null,null,null,null,null,null,null,null,null,null,null,null,null,null,null,null,null,null,null,null,null,null,null,null,null,"% 5er und 6er",null,{"$f":"IF(AF25+AF26+AF27+AF28=0,\"0 %\",(AF25+AF26+AF27+AF28)/SUM(AF25:AF40))","v":"0 %"}]

{"sheet":"S5","index":6,"n_rows":62,"n_cols":32,"rows_kept":62,"cut":false,"hidden":false,"merged":[[20,4,20,5],[8,2,8,11],[9,2,9,3],[0,1,4,3],[2,6,4,6],[14,2,15,11],[10,2,10,3],[11,2,11,3],[12,2,12,3],[13,2,13,3]]}
[null,{"$f":"Dateneingabe!A1","v":"Mustergymnasium\nMusterstraße 1\n12345 Musterstadt"}]
[null,null,null,null,null,"Schuljahr:",{"$f":"Dateneingabe!F2","v":0}]
[null,null,null,null,null,null,{"$f":"Dateneingabe!F3","v":0},null,null,null,null,null,null,null,null,null,null,null,null,null,null,null,null,null,null,null,1]
[null,null,null,null,null,"Klasse:"]
[]
[]
[null,"Schriftliche Arbeit 5"]
[]
[null,"Art der Arbeit:"]
[null,"Geschrieben am:"]
[null,"Arbeitszeit:"]
[null,"Zurückgegeben am:",null,null,null,"Gesamtpunkte:",null,{"$f":"SUM(G21:Z21)","v":0},null,null,null,null,null,null,"Gewichtung der Arbeit:",null,null,null,null,{"$f":"Klassennotenbogen!N11","v":1}]
[null,"Dem Direktorat vorgelegt:"]
[null,"Notenlisteneintrag am:"]
[null,"Lehrstoff:"]
[]
[]
[null,null,null,null,null,"Kurzbezeichnung ",1,2,3]
[null,"Name","Note",null,"Nachschrift ?","Gesamtpunkte"]
[]
[null,null,null,null,"max. BE -->"]
[]
[1,{"$f":"IF(Dateneingabe!B11=0,\"\",Dateneingabe!B11)","v":""},{"$f":"IF(G23=\".\",\"-\",LOOKUP(F23,$AB$25:$AB$40,$AC$25:$AC$40))","v":"-"},null,null,{"$f":"SUM(G23:Z23)","v":0},".",null,null,null,null,null,null,null,null,null,null,null,null,null,null,null,null,null,null,null,null,"Notenschlüssel:",null,null,"Auswertung Häufigkeit"]
[2,{"$f":"IF(Dateneingabe!B12=0,\"\",Dateneingabe!B12)","v":""},{"$f":"IF(G24=\".\",\"-\",LOOKUP(F24,$AB$25:$AB$40,$AC$25:$AC$40))","v":"-"},null,null,0,".",null,null,null,null,null,null,null,null,null,null,null,null,null,null,null,null,null,null,null,null,"ab BE","Punkte",null,"Note","Anzahl"]
[3,{"$f":"IF(Dateneingabe!B13=0,\"\",Dateneingabe!B13)","v":""},"-",null,null,0,".",null,null,null,null,null,null,null,null,null,null,null,null,null,null,null,null,null,null,null,null,0,0,null,0,{"$f":"COUNTIF($C$22:$C$61,AE25)","v":0}]
[4,{"$f":"IF(Dateneingabe!B14=0,\"\",Dateneingabe!B14)","v":""},"-",null,null,0,".",null,null,null,null,null,null,null,null,null,null,null,null,null,null,null,null,null,null,null,null,null,1,null,1,0]
[5,{"$f":"IF(Dateneingabe!B15=0,\"\",Dateneingabe!B15)","v":""},"-",null,null,0,".",null,null,null,null,null,null,null,null,null,null,null,null,null,null,null,null,null,null,null,null,null,2,null,2,0]
[6,{"$f":"IF(Dateneingabe!B16=0,\"\",Dateneingabe!B16)","v":""},"-",null,null,0,".",null,null,null,null,null,null,null,null,null,null,null,null,null,null,null,null,null,null,null,null,null,3,null,3,0]
[7,{"$f":"IF(Dateneingabe!B17=0,\"\",Dateneingabe!B17)","v":""},"-",null,null,0,".",null,null,null,null,null,null,null,null,null,null,null,null,null,null,null,null,null,null,null,null,null,4,null,4,0]
[8,{"$f":"IF(Dateneingabe!B18=0,\"\",Dateneingabe!B18)","v":""},"-",null,null,0,".",null,null,null,null,null,null,null,null,null,null,null,null,null,null,null,null,null,null,null,null,null,5,null,5,0]
[9,{"$f":"IF(Dateneingabe!B19=0,\"\",Dateneingabe!B19)","v":""},"-",null,null,0,".",null,null,null,null,null,null,null,null,null,null,null,null,null,null,null,null,null,null,null,null,null,6,null,6,0]
[10,{"$f":"IF(Dateneingabe!B20=0,\"\",Dateneingabe!B20)","v":""},"-",null,null,0,".",null,null,null,null,null,null,null,null,null,null,null,null,null,null,null,null,null,null,null,null,null,7,null,7,0]
[11,{"$f":"IF(Dateneingabe!B21=0,\"\",Dateneingabe!B21)","v":""},"-",null,null,0,".",null,null,null,null,null,null,null,null,null,null,null,null,null,null,null,null,null,null,null,null,null,8,null,8,0]
[12,{"$f":"IF(Dateneingabe!B22=0,\"\",Dateneingabe!B22)","v":""},"-",null,null,0,".",null,null,null,null,null,null,null,null,null,null,null,null,null,null,null,null,null,null,null,null,null,9,null,9,0]
[13,{"$f":"IF(Dateneingabe!B23=0,\"\",Dateneingabe!B23)","v":""},"-",null,null,0,".",null,null,null,null,null,null,null,null,null,null,null,null,null,null,null,null,null,null,null,null,null,10,null,10,0]
[14,{"$f":"IF(Dateneingabe!B24=0,\"\",Dateneingabe!B24)","v":""},"-",null,null,0,".",null,null,null,null,null,null,null,null,null,null,null,null,null,null,null,null,null,null,null,null,null,11,null,11,0]
[15,{"$f":"IF(Dateneingabe!B25=0,\"\",Dateneingabe!B25)","v":""},"-",null,null,0,".",null,null,null,null,null,null,null,null,null,null,null,null,null,null,null,null,null,null,null,null,null,12,null,12,0]
[16,{"$f":"IF(Dateneingabe!B26=0,\"\",Dateneingabe!B26)","v":""},"-",null,null,0,".",null,null,null,null,null,null,null,null,null,null,null,null,null,null,null,null,null,null,null,null,null,13,null,13,0]
[17,{"$f":"IF(Dateneingabe!B27=0,\"\",Dateneingabe!B27)","v":""},"-",null,null,0,".",null,null,null,null,null,null,null,null,null,null,null,null,null,null,null,null,null,null,null,null,null,14,null,14,0]
[18,{"$f":"IF(Dateneingabe!B28=0,\"\",Dateneingabe!B28)","v":""},"-",null,null,0,".",null,null,null,null,null,null,null,null,null,null,null,null,null,null,null,null,null,null,null,null,null,15,null,15,0]
[19,{"$f":"IF(Dateneingabe!B29=0,\"\",Dateneingabe!B29)","v":""},"-",null,null,0,"."]
[20,{"$f":"IF(Dateneingabe!B30=0,\"\",Dateneingabe!B30)","v":""},"-",null,null,0,"."]
[21,{"$f":"IF(Dateneingabe!B31=0,\"\",Dateneingabe!B31)","v":""},"-",null,null,0,"."]
[22,{"$f":"IF(Dateneingabe!B32=0,\"\",Dateneingabe!B32)","v":""},"-",null,null,0,"."]
[23,{"$f":"IF(Dateneingabe!B33=0,\"\",Dateneingabe!B33)","v":""},"-",null,null,0,"."]
[24,{"$f":"IF(Dateneingabe!B34=0,\"\",Dateneingabe!B34)","v":""},"-",null,null,0,"."]
[25,{"$f":"IF(Dateneingabe!B35=0,\"\",Dateneingabe!B35)","v":""},"-",null,null,0,"."]
[26,{"$f":"IF(Dateneingabe!B36=0,\"\",Dateneingabe!B36)","v":""},"-",null,null,0,"."]
[27,{"$f":"IF(Dateneingabe!B37=0,\"\",Dateneingabe!B37)","v":""},"-",null,null,0,"."]
[28,{"$f":"IF(Dateneingabe!B38=0,\"\",Dateneingabe!B38)","v":""},"-",null,null,0,"."]
[29,{"$f":"IF(Dateneingabe!B39=0,\"\",Dateneingabe!B39)","v":""},"-",null,null,0,"."]
[30,{"$f":"IF(Dateneingabe!B40=0,\"\",Dateneingabe!B40)","v":""},"-",null,null,0,"."]
[31,{"$f":"IF(Dateneingabe!B41=0,\"\",Dateneingabe!B41)","v":""},"-",null,null,0,"."]
[32,{"$f":"IF(Dateneingabe!B42=0,\"\",Dateneingabe!B42)","v":""},"-",null,null,0,"."]
[33,{"$f":"IF(Dateneingabe!B43=0,\"\",Dateneingabe!B43)","v":""},"-",null,null,0,"."]
[34,{"$f":"IF(Dateneingabe!B44=0,\"\",Dateneingabe!B44)","v":""},"-",null,null,0,"."]
[35,{"$f":"IF(Dateneingabe!B45=0,\"\",Dateneingabe!B45)","v":""},"-",null,null,0,"."]
[]
[null,null,null,null,null,null,{"$f":"IF(G21=0,\"\",SUM(G23:G57)/(COUNTIFS(G23:G48,\">=0\")*G21))","v":""},{"$f":"IF(H21=0,\"\",SUM(H23:H57)/(COUNTIFS(H23:H48,\">=0\")*H21))","v":""},{"$f":"IF(I21=0,\"\",SUM(I23:I57)/(COUNTIFS(I23:I48,\">=0\")*I21))","v":""},"","","","","","","","","","","","","","","","",""]
[null,null,null,null,null,null,null,null,null,null,null,null,null,null,null,null,null,null,null,null,null,null,null,null,null,null,null,"Notendurchschnitt:",null,{"$f":"IF(SUM(C23:C57)=0,\"-\",TRUNC(AVERAGE(C23:C57),2))","v":"-"}]
[]
[null,null,null,null,null,null,null,null,null,null,null,null,null,null,null,null,null,null,null,null,null,null,null,null,null,null,null,"% 5er und 6er",null,{"$f":"IF(AF25+AF26+AF27+AF28=0,\"0 %\",(AF25+AF26+AF27+AF28)/SUM(AF25:AF40))","v":"0 %"}]

{"sheet":"S6","index":7,"n_rows":62,"n_cols":32,"rows_kept":62,"cut":false,"hidden":false,"merged":[[20,4,20,5],[8,2,8,11],[9,2,9,3],[0,1,4,3],[2,6,4,6],[14,2,15,11],[10,2,10,3],[11,2,11,3],[12,2,12,3],[13,2,13,3]]}
[null,{"$f":"Dateneingabe!A1","v":"Mustergymnasium\nMusterstraße 1\n12345 Musterstadt"}]
[null,null,null,null,null,"Schuljahr:",{"$f":"Dateneingabe!F2","v":0}]
[null,null,null,null,null,null,{"$f":"Dateneingabe!F3","v":0},null,null,null,null,null,null,null,null,null,null,null,null,null,null,null,null,null,null,null,1]
[null,null,null,null,null,"Klasse:"]
[]
[]
[null,"Schriftliche Arbeit 6"]
[]
[null,"Art der Arbeit:"]
[null,"Geschrieben am:"]
[null,"Arbeitszeit:"]
[null,"Zurückgegeben am:",null,null,null,"Gesamtpunkte:",null,{"$f":"SUM(G21:Z21)","v":0},null,null,null,null,null,null,"Gewichtung der Arbeit:",null,null,null,null,{"$f":"Klassennotenbogen!O11","v":1}]
[null,"Dem Direktorat vorgelegt:"]
[null,"Notenlisteneintrag am:"]
[null,"Lehrstoff:"]
[]
[]
[null,null,null,null,null,"Kurzbezeichnung ",1,2,3]
[null,"Name","Note",null,"Nachschrift ?","Gesamtpunkte"]
[]
[null,null,null,null,"max. BE -->"]
[]
[1,{"$f":"IF(Dateneingabe!B11=0,\"\",Dateneingabe!B11)","v":""},{"$f":"IF(G23=\".\",\"-\",LOOKUP(F23,$AB$25:$AB$40,$AC$25:$AC$40))","v":"-"},null,null,{"$f":"SUM(G23:Z23)","v":0},".",null,null,null,null,null,null,null,null,null,null,null,null,null,null,null,null,null,null,null,null,"Notenschlüssel:",null,null,"Auswertung Häufigkeit"]
[2,{"$f":"IF(Dateneingabe!B12=0,\"\",Dateneingabe!B12)","v":""},{"$f":"IF(G24=\".\",\"-\",LOOKUP(F24,$AB$25:$AB$40,$AC$25:$AC$40))","v":"-"},null,null,0,".",null,null,null,null,null,null,null,null,null,null,null,null,null,null,null,null,null,null,null,null,"ab BE","Punkte",null,"Note","Anzahl"]
[3,{"$f":"IF(Dateneingabe!B13=0,\"\",Dateneingabe!B13)","v":""},"-",null,null,0,".",null,null,null,null,null,null,null,null,null,null,null,null,null,null,null,null,null,null,null,null,0,0,null,0,{"$f":"COUNTIF($C$22:$C$61,AE25)","v":0}]
[4,{"$f":"IF(Dateneingabe!B14=0,\"\",Dateneingabe!B14)","v":""},"-",null,null,0,".",null,null,null,null,null,null,null,null,null,null,null,null,null,null,null,null,null,null,null,null,null,1,null,1,0]
[5,{"$f":"IF(Dateneingabe!B15=0,\"\",Dateneingabe!B15)","v":""},"-",null,null,0,".",null,null,null,null,null,null,null,null,null,null,null,null,null,null,null,null,null,null,null,null,null,2,null,2,0]
[6,{"$f":"IF(Dateneingabe!B16=0,\"\",Dateneingabe!B16)","v":""},"-",null,null,0,".",null,null,null,null,null,null,null,null,null,null,null,null,null,null,null,null,null,null,null,null,null,3,null,3,0]
[7,{"$f":"IF(Dateneingabe!B17=0,\"\",Dateneingabe!B17)","v":""},"-",null,null,0,".",null,null,null,null,null,null,null,null,null,null,null,null,null,null,null,null,null,null,null,null,null,4,null,4,0]
[8,{"$f":"IF(Dateneingabe!B18=0,\"\",Dateneingabe!B18)","v":""},"-",null,null,0,".",null,null,null,null,null,null,null,null,null,null,null,null,null,null,null,null,null,null,null,null,null,5,null,5,0]
[9,{"$f":"IF(Dateneingabe!B19=0,\"\",Dateneingabe!B19)","v":""},"-",null,null,0,".",null,null,null,null,null,null,null,null,null,null,null,null,null,null,null,null,null,null,null,null,null,6,null,6,0]
[10,{"$f":"IF(Dateneingabe!B20=0,\"\",Dateneingabe!B20)","v":""},"-",null,null,0,".",null,null,null,null,null,null,null,null,null,null,null,null,null,null,null,null,null,null,null,null,null,7,null,7,0]
[11,{"$f":"IF(Dateneingabe!B21=0,\"\",Dateneingabe!B21)","v":""},"-",null,null,0,".",null,null,null,null,null,null,null,null,null,null,null,null,null,null,null,null,null,null,null,null,null,8,null,8,0]
[12,{"$f":"IF(Dateneingabe!B22=0,\"\",Dateneingabe!B22)","v":""},"-",null,null,0,".",null,null,null,null,null,null,null,null,null,null,null,null,null,null,null,null,null,null,null,null,null,9,null,9,0]
[13,{"$f":"IF(Dateneingabe!B23=0,\"\",Dateneingabe!B23)","v":""},"-",null,null,0,".",null,null,null,null,null,null,null,null,null,null,null,null,null,null,null,null,null,null,null,null,null,10,null,10,0]
[14,{"$f":"IF(Dateneingabe!B24=0,\"\",Dateneingabe!B24)","v":""},"-",null,null,0,".",null,null,null,null,null,null,null,null,null,null,null,null,null,null,null,null,null,null,null,null,null,11,null,11,0]
[15,{"$f":"IF(Dateneingabe!B25=0,\"\",Dateneingabe!B25)","v":""},"-",null,null,0,".",null,null,null,null,null,null,null,null,null,null,null,null,null,null,null,null,null,null,null,null,null,12,null,12,0]
[16,{"$f":"IF(Dateneingabe!B26=0,\"\",Dateneingabe!B26)","v":""},"-",null,null,0,".",null,null,null,null,null,null,null,null,null,null,null,null,null,null,null,null,null,null,null,null,null,13,null,13,0]
[17,{"$f":"IF(Dateneingabe!B27=0,\"\",Dateneingabe!B27)","v":""},"-",null,null,0,".",null,null,null,null,null,null,null,null,null,null,null,null,null,null,null,null,null,null,null,null,null,14,null,14,0]
[18,{"$f":"IF(Dateneingabe!B28=0,\"\",Dateneingabe!B28)","v":""},"-",null,null,0,".",null,null,null,null,null,null,null,null,null,null,null,null,null,null,null,null,null,null,null,null,null,15,null,15,0]
[19,{"$f":"IF(Dateneingabe!B29=0,\"\",Dateneingabe!B29)","v":""},"-",null,null,0,"."]
[20,{"$f":"IF(Dateneingabe!B30=0,\"\",Dateneingabe!B30)","v":""},"-",null,null,0,"."]
[21,{"$f":"IF(Dateneingabe!B31=0,\"\",Dateneingabe!B31)","v":""},"-",null,null,0,"."]
[22,{"$f":"IF(Dateneingabe!B32=0,\"\",Dateneingabe!B32)","v":""},"-",null,null,0,"."]
[23,{"$f":"IF(Dateneingabe!B33=0,\"\",Dateneingabe!B33)","v":""},"-",null,null,0,"."]
[24,{"$f":"IF(Dateneingabe!B34=0,\"\",Dateneingabe!B34)","v":""},"-",null,null,0,"."]
[25,{"$f":"IF(Dateneingabe!B35=0,\"\",Dateneingabe!B35)","v":""},"-",null,null,0,"."]
[26,{"$f":"IF(Dateneingabe!B36=0,\"\",Dateneingabe!B36)","v":""},"-",null,null,0,"."]
[27,{"$f":"IF(Dateneingabe!B37=0,\"\",Dateneingabe!B37)","v":""},"-",null,null,0,"."]
[28,{"$f":"IF(Dateneingabe!B38=0,\"\",Dateneingabe!B38)","v":""},"-",null,null,0,"."]
[29,{"$f":"IF(Dateneingabe!B39=0,\"\",Dateneingabe!B39)","v":""},"-",null,null,0,"."]
[30,{"$f":"IF(Dateneingabe!B40=0,\"\",Dateneingabe!B40)","v":""},"-",null,null,0,"."]
[31,{"$f":"IF(Dateneingabe!B41=0,\"\",Dateneingabe!B41)","v":""},"-",null,null,0,"."]
[32,{"$f":"IF(Dateneingabe!B42=0,\"\",Dateneingabe!B42)","v":""},"-",null,null,0,"."]
[33,{"$f":"IF(Dateneingabe!B43=0,\"\",Dateneingabe!B43)","v":""},"-",null,null,0,"."]
[34,{"$f":"IF(Dateneingabe!B44=0,\"\",Dateneingabe!B44)","v":""},"-",null,null,0,"."]
[35,{"$f":"IF(Dateneingabe!B45=0,\"\",Dateneingabe!B45)","v":""},"-",null,null,0,"."]
[]
[null,null,null,null,null,null,{"$f":"IF(G21=0,\"\",SUM(G23:G57)/(COUNTIFS(G23:G48,\">=0\")*G21))","v":""},{"$f":"IF(H21=0,\"\",SUM(H23:H57)/(COUNTIFS(H23:H48,\">=0\")*H21))","v":""},{"$f":"IF(I21=0,\"\",SUM(I23:I57)/(COUNTIFS(I23:I48,\">=0\")*I21))","v":""},"","","","","","","","","","","","","","","","",""]
[null,null,null,null,null,null,null,null,null,null,null,null,null,null,null,null,null,null,null,null,null,null,null,null,null,null,null,"Notendurchschnitt:",null,{"$f":"IF(SUM(C23:C57)=0,\"-\",TRUNC(AVERAGE(C23:C57),2))","v":"-"}]
[]
[null,null,null,null,null,null,null,null,null,null,null,null,null,null,null,null,null,null,null,null,null,null,null,null,null,null,null,"% 5er und 6er",null,{"$f":"IF(AF25+AF26+AF27+AF28=0,\"0 %\",(AF25+AF26+AF27+AF28)/SUM(AF25:AF40))","v":"0 %"}]

{"sheet":"S7","index":8,"n_rows":62,"n_cols":32,"rows_kept":62,"cut":false,"hidden":false,"merged":[[20,4,20,5],[8,2,8,11],[9,2,9,3],[0,1,4,3],[2,6,4,6],[14,2,15,11],[10,2,10,3],[11,2,11,3],[12,2,12,3],[13,2,13,3]]}
[null,{"$f":"Dateneingabe!A1","v":"Mustergymnasium\nMusterstraße 1\n12345 Musterstadt"}]
[null,null,null,null,null,"Schuljahr:",{"$f":"Dateneingabe!F2","v":0}]
[null,null,null,null,null,null,{"$f":"Dateneingabe!F3","v":0},null,null,null,null,null,null,null,null,null,null,null,null,null,null,null,null,null,null,null,1]
[null,null,null,null,null,"Klasse:"]
[]
[]
[null,"Schriftliche Arbeit 7"]
[]
[null,"Art der Arbeit:"]
[null,"Geschrieben am:"]
[null,"Arbeitszeit:"]
[null,"Zurückgegeben am:",null,null,null,"Gesamtpunkte:",null,{"$f":"SUM(G21:Z21)","v":0},null,null,null,null,null,null,"Gewichtung der Arbeit:",null,null,null,null,{"$f":"Klassennotenbogen!P11","v":1}]
[null,"Dem Direktorat vorgelegt:"]
[null,"Notenlisteneintrag am:"]
[null,"Lehrstoff:"]
[]
[]
[null,null,null,null,null,"Kurzbezeichnung ",1,2,3]
[null,"Name","Note",null,"Nachschrift ?","Gesamtpunkte"]
[]
[null,null,null,null,"max. BE -->"]
[]
[1,{"$f":"IF(Dateneingabe!B11=0,\"\",Dateneingabe!B11)","v":""},{"$f":"IF(G23=\".\",\"-\",LOOKUP(F23,$AB$25:$AB$40,$AC$25:$AC$40))","v":"-"},null,null,{"$f":"SUM(G23:Z23)","v":0},".",null,null,null,null,null,null,null,null,null,null,null,null,null,null,null,null,null,null,null,null,"Notenschlüssel:",null,null,"Auswertung Häufigkeit"]
[2,{"$f":"IF(Dateneingabe!B12=0,\"\",Dateneingabe!B12)","v":""},{"$f":"IF(G24=\".\",\"-\",LOOKUP(F24,$AB$25:$AB$40,$AC$25:$AC$40))","v":"-"},null,null,0,".",null,null,null,null,null,null,null,null,null,null,null,null,null,null,null,null,null,null,null,null,"ab BE","Punkte",null,"Note","Anzahl"]
[3,{"$f":"IF(Dateneingabe!B13=0,\"\",Dateneingabe!B13)","v":""},"-",null,null,0,".",null,null,null,null,null,null,null,null,null,null,null,null,null,null,null,null,null,null,null,null,0,0,null,0,{"$f":"COUNTIF($C$22:$C$61,AE25)","v":0}]
[4,{"$f":"IF(Dateneingabe!B14=0,\"\",Dateneingabe!B14)","v":""},"-",null,null,0,".",null,null,null,null,null,null,null,null,null,null,null,null,null,null,null,null,null,null,null,null,null,1,null,1,0]
[5,{"$f":"IF(Dateneingabe!B15=0,\"\",Dateneingabe!B15)","v":""},"-",null,null,0,".",null,null,null,null,null,null,null,null,null,null,null,null,null,null,null,null,null,null,null,null,null,2,null,2,0]
[6,{"$f":"IF(Dateneingabe!B16=0,\"\",Dateneingabe!B16)","v":""},"-",null,null,0,".",null,null,null,null,null,null,null,null,null,null,null,null,null,null,null,null,null,null,null,null,null,3,null,3,0]
[7,{"$f":"IF(Dateneingabe!B17=0,\"\",Dateneingabe!B17)","v":""},"-",null,null,0,".",null,null,null,null,null,null,null,null,null,null,null,null,null,null,null,null,null,null,null,null,null,4,null,4,0]
[8,{"$f":"IF(Dateneingabe!B18=0,\"\",Dateneingabe!B18)","v":""},"-",null,null,0,".",null,null,null,null,null,null,null,null,null,null,null,null,null,null,null,null,null,null,null,null,null,5,null,5,0]
[9,{"$f":"IF(Dateneingabe!B19=0,\"\",Dateneingabe!B19)","v":""},"-",null,null,0,".",null,null,null,null,null,null,null,null,null,null,null,null,null,null,null,null,null,null,null,null,null,6,null,6,0]
[10,{"$f":"IF(Dateneingabe!B20=0,\"\",Dateneingabe!B20)","v":""},"-",null,null,0,".",null,null,null,null,null,null,null,null,null,null,null,null,null,null,null,null,null,null,null,null,null,7,null,7,0]
[11,{"$f":"IF(Dateneingabe!B21=0,\"\",Dateneingabe!B21)","v":""},"-",null,null,0,".",null,null,null,null,null,null,null,null,null,null,null,null,null,null,null,null,null,null,null,null,null,8,null,8,0]
[12,{"$f":"IF(Dateneingabe!B22=0,\"\",Dateneingabe!B22)","v":""},"-",null,null,0,".",null,null,null,null,null,null,null,null,null,null,null,null,null,null,null,null,null,null,null,null,null,9,null,9,0]
[13,{"$f":"IF(Dateneingabe!B23=0,\"\",Dateneingabe!B23)","v":""},"-",null,null,0,".",null,null,null,null,null,null,null,null,null,null,null,null,null,null,null,null,null,null,null,null,null,10,null,10,0]
[14,{"$f":"IF(Dateneingabe!B24=0,\"\",Dateneingabe!B24)","v":""},"-",null,null,0,".",null,null,null,null,null,null,null,null,null,null,null,null,null,null,null,null,null,null,null,null,null,11,null,11,0]
[15,{"$f":"IF(Dateneingabe!B25=0,\"\",Dateneingabe!B25)","v":""},"-",null,null,0,".",null,null,null,null,null,null,null,null,null,null,null,null,null,null,null,null,null,null,null,null,null,12,null,12,0]
[16,{"$f":"IF(Dateneingabe!B26=0,\"\",Dateneingabe!B26)","v":""},"-",null,null,0,".",null,null,null,null,null,null,null,null,null,null,null,null,null,null,null,null,null,null,null,null,null,13,null,13,0]
[17,{"$f":"IF(Dateneingabe!B27=0,\"\",Dateneingabe!B27)","v":""},"-",null,null,0,".",null,null,null,null,null,null,null,null,null,null,null,null,null,null,null,null,null,null,null,null,null,14,null,14,0]
[18,{"$f":"IF(Dateneingabe!B28=0,\"\",Dateneingabe!B28)","v":""},"-",null,null,0,".",null,null,null,null,null,null,null,null,null,null,null,null,null,null,null,null,null,null,null,null,null,15,null,15,0]
[19,{"$f":"IF(Dateneingabe!B29=0,\"\",Dateneingabe!B29)","v":""},"-",null,null,0,"."]
[20,{"$f":"IF(Dateneingabe!B30=0,\"\",Dateneingabe!B30)","v":""},"-",null,null,0,"."]
[21,{"$f":"IF(Dateneingabe!B31=0,\"\",Dateneingabe!B31)","v":""},"-",null,null,0,"."]
[22,{"$f":"IF(Dateneingabe!B32=0,\"\",Dateneingabe!B32)","v":""},"-",null,null,0,"."]
[23,{"$f":"IF(Dateneingabe!B33=0,\"\",Dateneingabe!B33)","v":""},"-",null,null,0,"."]
[24,{"$f":"IF(Dateneingabe!B34=0,\"\",Dateneingabe!B34)","v":""},"-",null,null,0,"."]
[25,{"$f":"IF(Dateneingabe!B35=0,\"\",Dateneingabe!B35)","v":""},"-",null,null,0,"."]
[26,{"$f":"IF(Dateneingabe!B36=0,\"\",Dateneingabe!B36)","v":""},"-",null,null,0,"."]
[27,{"$f":"IF(Dateneingabe!B37=0,\"\",Dateneingabe!B37)","v":""},"-",null,null,0,"."]
[28,{"$f":"IF(Dateneingabe!B38=0,\"\",Dateneingabe!B38)","v":""},"-",null,null,0,"."]
[29,{"$f":"IF(Dateneingabe!B39=0,\"\",Dateneingabe!B39)","v":""},"-",null,null,0,"."]
[30,{"$f":"IF(Dateneingabe!B40=0,\"\",Dateneingabe!B40)","v":""},"-",null,null,0,"."]
[31,{"$f":"IF(Dateneingabe!B41=0,\"\",Dateneingabe!B41)","v":""},"-",null,null,0,"."]
[32,{"$f":"IF(Dateneingabe!B42=0,\"\",Dateneingabe!B42)","v":""},"-",null,null,0,"."]
[33,{"$f":"IF(Dateneingabe!B43=0,\"\",Dateneingabe!B43)","v":""},"-",null,null,0,"."]
[34,{"$f":"IF(Dateneingabe!B44=0,\"\",Dateneingabe!B44)","v":""},"-",null,null,0,"."]
[35,{"$f":"IF(Dateneingabe!B45=0,\"\",Dateneingabe!B45)","v":""},"-",null,null,0,"."]
[]
[null,null,null,null,null,null,{"$f":"IF(G21=0,\"\",SUM(G23:G57)/(COUNTIFS(G23:G48,\">=0\")*G21))","v":""},{"$f":"IF(H21=0,\"\",SUM(H23:H57)/(COUNTIFS(H23:H48,\">=0\")*H21))","v":""},{"$f":"IF(I21=0,\"\",SUM(I23:I57)/(COUNTIFS(I23:I48,\">=0\")*I21))","v":""},"","","","","","","","","","","","","","","","",""]
[null,null,null,null,null,null,null,null,null,null,null,null,null,null,null,null,null,null,null,null,null,null,null,null,null,null,null,"Notendurchschnitt:",null,{"$f":"IF(SUM(C23:C57)=0,\"-\",TRUNC(AVERAGE(C23:C57),2))","v":"-"}]
[]
[null,null,null,null,null,null,null,null,null,null,null,null,null,null,null,null,null,null,null,null,null,null,null,null,null,null,null,"% 5er und 6er",null,{"$f":"IF(AF25+AF26+AF27+AF28=0,\"0 %\",(AF25+AF26+AF27+AF28)/SUM(AF25:AF40))","v":"0 %"}]

{"sheet":"Klassennotenbogen","index":9,"n_rows":50,"n_cols":19,"rows_kept":50,"cut":false,"hidden":false,"merged":[[6,3,6,18],[11,16,11,18],[0,0,4,2],[2,7,4,9],[7,16,7,18],[7,6,7,15],[7,3,7,5],[11,3,11,5],[11,6,11,15]]}
[{"$f":"Dateneingabe!A1","v":"Mustergymnasium\nMusterstraße 1\n12345 Musterstadt"}]
[null,null,null,null,"Schuljahr:",null,null,{"$f":"Dateneingabe!F2","v":0},{"$f":"Dateneingabe!F2","v":0},null,null,null,null,null,null,null,"Fach:",{"$f":"Dateneingabe!I20","v":0}]
[null,null,null,null,null,null,null,{"$f":"Dateneingabe!F3","v":0},null,null,null,null,null,null,null,null,"Lehrkraft:",{"$f":"Dateneingabe!I21","v":0}]
[null,null,null,null,"Klasse:"]
[null,null,null,null,null,null,null,null,null,null,null,null,null,{"$f":"IF(COUNTIF(D6:S6,\"X\")>0,\"ACHTUNG!!! Korrekte Berechnung gefährdert!!!!!! Die 'Striche' in den Zellen dürfen nicht gelöscht werden!!!! Bitte Spalten, die mit X markiert sind, prüfen !!!\",\" \")","v":" "}]
[" ",null,null,{"$f":"IF(COUNTIF(D14:D48,\"\")>0,\"X\",IF(COUNTIF(D14:D48,\" \")>0,\"X\",\"\"))","v":""},{"$f":"IF(COUNTIF(E14:E48,\"\")>0,\"X\",IF(COUNTIF(E14:E48,\" \")>0,\"X\",\"\"))","v":""},"",null,"",null,"",null,"","","","","","","",""]
[null,null,null,"1. Halbjahr"]
[null,null,null,"Große LNW\n(Schulaufgaben)",null,null,"Kleine LNW"]
[null,"Klassennotenspiegel","Notiz:",null,null,null,null,null,null,null,null,null,null,null,null,null,"Æ Große Leistungsnachweise","Æ Kleine Leistungsnachweise","Gesamtnote "]
[null,null,null,"S1","S2","S3","Datum, Thema ->","M1","Datum, Thema ->","M2","Datum, Thema ->","M3","S4","S5","S6","S7","Æ G","Æ K","GES."]
[null,null,"Gewichtung ->",1,1,1,null,1,null,1,null,1,1,1,1,1,{"$f":"Dateneingabe!K17","v":1},{"$f":"Dateneingabe!M17","v":1}]
[null,"Name","Bemerkung","Große LNW\n(Schulaufgaben)",null,null,"Kleine LNW"]
[null,{"$f":"IF(Dateneingabe!B10=0,\"\",Dateneingabe!B10)","v":""}]
[1,{"$f":"IF(Dateneingabe!B11=0,\"\",Dateneingabe!B11)","v":""},null,{"$f":"VLOOKUP($B14,'S1'!$B$23:$C$62,2,FALSE)","v":"-"},{"$f":"VLOOKUP($B14,'S2'!$B$22:$C$61,2,FALSE)","v":"-"},{"$f":"VLOOKUP($B14,'S3'!$B$22:$C$61,2,FALSE)","v":"-"},null,"-",null,"-",null,"-",{"$f":"VLOOKUP($B14,'S4'!$B$22:$C$61,2,FALSE)","v":"-"},{"$f":"VLOOKUP($B14,'S5'!$B$22:$C$61,2,FALSE)","v":"-"},{"$f":"VLOOKUP($B14,'S6'!$B$22:$C$61,2,FALSE)","v":"-"},{"$f":"VLOOKUP($B14,'S7'!$B$22:$C$61,2,FALSE)","v":"-"},{"$f":"IF(COUNTIF(D14:F14,\"-\")=3,\"-\",TRUNC((IF(D14=\"-\",0,D14*D$11)+IF(E14=\"-\",0,E14*E$11)+IF(F14=\"-\",0,F14*F$11))/(IF(D14=\"-\",0,D$11)+IF(E14=\"-\",0,E$11)+IF(F14=\"-\",0,F$11)),2))","v":"-"},{"$f":"IF(COUNTIF(H14:P14,\"-\")=7,\"-\",TRUNC((IF(H14=\"-\",0,H14*H$11)+IF(J14=\"-\",0,J14*J$11)+IF(L14=\"-\",0,L14*L$11)+IF(P14=\"-\",0,P14*P$11)+IF(M14=\"-\",0,M14*M$11)+IF(N14=\"-\",0,N14*N$11)+IF(O14=\"-\",0,O14*O$11))/(IF(H14=\"-\",0,H$11)+IF(J14=\"-\",0,J$11)+IF(L14=\"-\",0,L$11)+IF(M14=\"-\",0,M$11)+IF(N14=\"-\",0,N$11)+IF(O14=\"-\",0,O$11)+IF(P14=\"-\",0,P$11)),2))","v":"-"},{"$f":"IF(COUNTIF(Q14:R14,\"-\")>0,\"-\",IF((Q14*Q$11+R14*R$11)/(Q$11+R$11)<1,0,ROUND((Q14*Q$11+R14*R$11)/(Q$11+R$11),0)))","v":"-"}]
[2,{"$f":"IF(Dateneingabe!B12=0,\"\",Dateneingabe!B12)","v":""},null,{"$f":"VLOOKUP($B15,'S1'!$B$23:$C$62,2,FALSE)","v":"-"},{"$f":"VLOOKUP($B15,'S2'!$B$22:$C$61,2,FALSE)","v":"-"},{"$f":"VLOOKUP($B15,'S3'!$B$22:$C$61,2,FALSE)","v":"-"},null,"-",null,"-",null,"-",{"$f":"VLOOKUP($B15,'S4'!$B$22:$C$61,2,FALSE)","v":"-"},{"$f":"VLOOKUP($B15,'S5'!$B$22:$C$61,2,FALSE)","v":"-"},{"$f":"VLOOKUP($B15,'S6'!$B$22:$C$61,2,FALSE)","v":"-"},{"$f":"VLOOKUP($B15,'S7'!$B$22:$C$61,2,FALSE)","v":"-"},{"$f":"IF(COUNTIF(D15:F15,\"-\")=3,\"-\",TRUNC((IF(D15=\"-\",0,D15*D$11)+IF(E15=\"-\",0,E15*E$11)+IF(F15=\"-\",0,F15*F$11))/(IF(D15=\"-\",0,D$11)+IF(E15=\"-\",0,E$11)+IF(F15=\"-\",0,F$11)),2))","v":"-"},{"$f":"IF(COUNTIF(H15:P15,\"-\")=7,\"-\",TRUNC((IF(H15=\"-\",0,H15*H$11)+IF(J15=\"-\",0,J15*J$11)+IF(L15=\"-\",0,L15*L$11)+IF(P15=\"-\",0,P15*P$11)+IF(M15=\"-\",0,M15*M$11)+IF(N15=\"-\",0,N15*N$11)+IF(O15=\"-\",0,O15*O$11))/(IF(H15=\"-\",0,H$11)+IF(J15=\"-\",0,J$11)+IF(L15=\"-\",0,L$11)+IF(M15=\"-\",0,M$11)+IF(N15=\"-\",0,N$11)+IF(O15=\"-\",0,O$11)+IF(P15=\"-\",0,P$11)),2))","v":"-"},{"$f":"IF(COUNTIF(Q15:R15,\"-\")>0,\"-\",IF((Q15*Q$11+R15*R$11)/(Q$11+R$11)<1,0,ROUND((Q15*Q$11+R15*R$11)/(Q$11+R$11),0)))","v":"-"}]
[3,{"$f":"IF(Dateneingabe!B13=0,\"\",Dateneingabe!B13)","v":""},null,{"$f":"VLOOKUP($B16,'S1'!$B$23:$C$62,2,FALSE)","v":"-"},{"$f":"VLOOKUP($B16,'S2'!$B$22:$C$61,2,FALSE)","v":"-"},{"$f":"VLOOKUP($B16,'S3'!$B$22:$C$61,2,FALSE)","v":"-"},null,"-",null,"-",null,"-",{"$f":"VLOOKUP($B16,'S4'!$B$22:$C$61,2,FALSE)","v":"-"},{"$f":"VLOOKUP($B16,'S5'!$B$22:$C$61,2,FALSE)","v":"-"},{"$f":"VLOOKUP($B16,'S6'!$B$22:$C$61,2,FALSE)","v":"-"},{"$f":"VLOOKUP($B16,'S7'!$B$22:$C$61,2,FALSE)","v":"-"},"-","-","-"]
[4,{"$f":"IF(Dateneingabe!B14=0,\"\",Dateneingabe!B14)","v":""},null,{"$f":"VLOOKUP($B17,'S1'!$B$23:$C$62,2,FALSE)","v":"-"},{"$f":"VLOOKUP($B17,'S2'!$B$22:$C$61,2,FALSE)","v":"-"},{"$f":"VLOOKUP($B17,'S3'!$B$22:$C$61,2,FALSE)","v":"-"},null,"-",null,"-",null,"-",{"$f":"VLOOKUP($B17,'S4'!$B$22:$C$61,2,FALSE)","v":"-"},{"$f":"VLOOKUP($B17,'S5'!$B$22:$C$61,2,FALSE)","v":"-"},{"$f":"VLOOKUP($B17,'S6'!$B$22:$C$61,2,FALSE)","v":"-"},{"$f":"VLOOKUP($B17,'S7'!$B$22:$C$61,2,FALSE)","v":"-"},"-","-","-"]
[5,{"$f":"IF(Dateneingabe!B15=0,\"\",Dateneingabe!B15)","v":""},null,{"$f":"VLOOKUP($B18,'S1'!$B$23:$C$62,2,FALSE)","v":"-"},{"$f":"VLOOKUP($B18,'S2'!$B$22:$C$61,2,FALSE)","v":"-"},{"$f":"VLOOKUP($B18,'S3'!$B$22:$C$61,2,FALSE)","v":"-"},null,"-",null,"-",null,"-",{"$f":"VLOOKUP($B18,'S4'!$B$22:$C$61,2,FALSE)","v":"-"},{"$f":"VLOOKUP($B18,'S5'!$B$22:$C$61,2,FALSE)","v":"-"},{"$f":"VLOOKUP($B18,'S6'!$B$22:$C$61,2,FALSE)","v":"-"},{"$f":"VLOOKUP($B18,'S7'!$B$22:$C$61,2,FALSE)","v":"-"},"-","-","-"]
[6,{"$f":"IF(Dateneingabe!B16=0,\"\",Dateneingabe!B16)","v":""},null,{"$f":"VLOOKUP($B19,'S1'!$B$23:$C$62,2,FALSE)","v":"-"},{"$f":"VLOOKUP($B19,'S2'!$B$22:$C$61,2,FALSE)","v":"-"},{"$f":"VLOOKUP($B19,'S3'!$B$22:$C$61,2,FALSE)","v":"-"},null,"-",null,"-",null,"-",{"$f":"VLOOKUP($B19,'S4'!$B$22:$C$61,2,FALSE)","v":"-"},{"$f":"VLOOKUP($B19,'S5'!$B$22:$C$61,2,FALSE)","v":"-"},{"$f":"VLOOKUP($B19,'S6'!$B$22:$C$61,2,FALSE)","v":"-"},{"$f":"VLOOKUP($B19,'S7'!$B$22:$C$61,2,FALSE)","v":"-"},"-","-","-"]
[7,{"$f":"IF(Dateneingabe!B17=0,\"\",Dateneingabe!B17)","v":""},null,{"$f":"VLOOKUP($B20,'S1'!$B$23:$C$62,2,FALSE)","v":"-"},{"$f":"VLOOKUP($B20,'S2'!$B$22:$C$61,2,FALSE)","v":"-"},{"$f":"VLOOKUP($B20,'S3'!$B$22:$C$61,2,FALSE)","v":"-"},null,"-",null,"-",null,"-",{"$f":"VLOOKUP($B20,'S4'!$B$22:$C$61,2,FALSE)","v":"-"},{"$f":"VLOOKUP($B20,'S5'!$B$22:$C$61,2,FALSE)","v":"-"},{"$f":"VLOOKUP($B20,'S6'!$B$22:$C$61,2,FALSE)","v":"-"},{"$f":"VLOOKUP($B20,'S7'!$B$22:$C$61,2,FALSE)","v":"-"},"-","-","-"]
[8,{"$f":"IF(Dateneingabe!B18=0,\"\",Dateneingabe!B18)","v":""},null,{"$f":"VLOOKUP($B21,'S1'!$B$23:$C$62,2,FALSE)","v":"-"},{"$f":"VLOOKUP($B21,'S2'!$B$22:$C$61,2,FALSE)","v":"-"},{"$f":"VLOOKUP($B21,'S3'!$B$22:$C$61,2,FALSE)","v":"-"},null,"-",null,"-",null,"-",{"$f":"VLOOKUP($B21,'S4'!$B$22:$C$61,2,FALSE)","v":"-"},{"$f":"VLOOKUP($B21,'S5'!$B$22:$C$61,2,FALSE)","v":"-"},{"$f":"VLOOKUP($B21,'S6'!$B$22:$C$61,2,FALSE)","v":"-"},{"$f":"VLOOKUP($B21,'S7'!$B$22:$C$61,2,FALSE)","v":"-"},"-","-","-"]
[9,{"$f":"IF(Dateneingabe!B19=0,\"\",Dateneingabe!B19)","v":""},null,{"$f":"VLOOKUP($B22,'S1'!$B$23:$C$62,2,FALSE)","v":"-"},{"$f":"VLOOKUP($B22,'S2'!$B$22:$C$61,2,FALSE)","v":"-"},{"$f":"VLOOKUP($B22,'S3'!$B$22:$C$61,2,FALSE)","v":"-"},null,"-",null,"-",null,"-",{"$f":"VLOOKUP($B22,'S4'!$B$22:$C$61,2,FALSE)","v":"-"},{"$f":"VLOOKUP($B22,'S5'!$B$22:$C$61,2,FALSE)","v":"-"},{"$f":"VLOOKUP($B22,'S6'!$B$22:$C$61,2,FALSE)","v":"-"},{"$f":"VLOOKUP($B22,'S7'!$B$22:$C$61,2,FALSE)","v":"-"},"-","-","-"]
[10,{"$f":"IF(Dateneingabe!B20=0,\"\",Dateneingabe!B20)","v":""},null,{"$f":"VLOOKUP($B23,'S1'!$B$23:$C$62,2,FALSE)","v":"-"},{"$f":"VLOOKUP($B23,'S2'!$B$22:$C$61,2,FALSE)","v":"-"},{"$f":"VLOOKUP($B23,'S3'!$B$22:$C$61,2,FALSE)","v":"-"},null,"-",null,"-",null,"-",{"$f":"VLOOKUP($B23,'S4'!$B$22:$C$61,2,FALSE)","v":"-"},{"$f":"VLOOKUP($B23,'S5'!$B$22:$C$61,2,FALSE)","v":"-"},{"$f":"VLOOKUP($B23,'S6'!$B$22:$C$61,2,FALSE)","v":"-"},{"$f":"VLOOKUP($B23,'S7'!$B$22:$C$61,2,FALSE)","v":"-"},"-","-","-"]
[11,{"$f":"IF(Dateneingabe!B21=0,\"\",Dateneingabe!B21)","v":""},null,{"$f":"VLOOKUP($B24,'S1'!$B$23:$C$62,2,FALSE)","v":"-"},{"$f":"VLOOKUP($B24,'S2'!$B$22:$C$61,2,FALSE)","v":"-"},{"$f":"VLOOKUP($B24,'S3'!$B$22:$C$61,2,FALSE)","v":"-"},null,"-",null,"-",null,"-",{"$f":"VLOOKUP($B24,'S4'!$B$22:$C$61,2,FALSE)","v":"-"},{"$f":"VLOOKUP($B24,'S5'!$B$22:$C$61,2,FALSE)","v":"-"},{"$f":"VLOOKUP($B24,'S6'!$B$22:$C$61,2,FALSE)","v":"-"},{"$f":"VLOOKUP($B24,'S7'!$B$22:$C$61,2,FALSE)","v":"-"},"-","-","-"]
[12,{"$f":"IF(Dateneingabe!B22=0,\"\",Dateneingabe!B22)","v":""},null,{"$f":"VLOOKUP($B25,'S1'!$B$23:$C$62,2,FALSE)","v":"-"},{"$f":"VLOOKUP($B25,'S2'!$B$22:$C$61,2,FALSE)","v":"-"},{"$f":"VLOOKUP($B25,'S3'!$B$22:$C$61,2,FALSE)","v":"-"},null,"-",null,"-",null,"-",{"$f":"VLOOKUP($B25,'S4'!$B$22:$C$61,2,FALSE)","v":"-"},{"$f":"VLOOKUP($B25,'S5'!$B$22:$C$61,2,FALSE)","v":"-"},{"$f":"VLOOKUP($B25,'S6'!$B$22:$C$61,2,FALSE)","v":"-"},{"$f":"VLOOKUP($B25,'S7'!$B$22:$C$61,2,FALSE)","v":"-"},"-","-","-"]
[13,{"$f":"IF(Dateneingabe!B23=0,\"\",Dateneingabe!B23)","v":""},null,{"$f":"VLOOKUP($B26,'S1'!$B$23:$C$62,2,FALSE)","v":"-"},{"$f":"VLOOKUP($B26,'S2'!$B$22:$C$61,2,FALSE)","v":"-"},{"$f":"VLOOKUP($B26,'S3'!$B$22:$C$61,2,FALSE)","v":"-"},null,"-",null,"-",null,"-",{"$f":"VLOOKUP($B26,'S4'!$B$22:$C$61,2,FALSE)","v":"-"},{"$f":"VLOOKUP($B26,'S5'!$B$22:$C$61,2,FALSE)","v":"-"},{"$f":"VLOOKUP($B26,'S6'!$B$22:$C$61,2,FALSE)","v":"-"},{"$f":"VLOOKUP($B26,'S7'!$B$22:$C$61,2,FALSE)","v":"-"},"-","-","-"]
[14,{"$f":"IF(Dateneingabe!B24=0,\"\",Dateneingabe!B24)","v":""},null,{"$f":"VLOOKUP($B27,'S1'!$B$23:$C$62,2,FALSE)","v":"-"},{"$f":"VLOOKUP($B27,'S2'!$B$22:$C$61,2,FALSE)","v":"-"},{"$f":"VLOOKUP($B27,'S3'!$B$22:$C$61,2,FALSE)","v":"-"},null,"-",null,"-",null,"-",{"$f":"VLOOKUP($B27,'S4'!$B$22:$C$61,2,FALSE)","v":"-"},{"$f":"VLOOKUP($B27,'S5'!$B$22:$C$61,2,FALSE)","v":"-"},{"$f":"VLOOKUP($B27,'S6'!$B$22:$C$61,2,FALSE)","v":"-"},{"$f":"VLOOKUP($B27,'S7'!$B$22:$C$61,2,FALSE)","v":"-"},"-","-","-"]
[15,{"$f":"IF(Dateneingabe!B25=0,\"\",Dateneingabe!B25)","v":""},null,{"$f":"VLOOKUP($B28,'S1'!$B$23:$C$62,2,FALSE)","v":"-"},{"$f":"VLOOKUP($B28,'S2'!$B$22:$C$61,2,FALSE)","v":"-"},{"$f":"VLOOKUP($B28,'S3'!$B$22:$C$61,2,FALSE)","v":"-"},null,"-",null,"-",null,"-",{"$f":"VLOOKUP($B28,'S4'!$B$22:$C$61,2,FALSE)","v":"-"},{"$f":"VLOOKUP($B28,'S5'!$B$22:$C$61,2,FALSE)","v":"-"},{"$f":"VLOOKUP($B28,'S6'!$B$22:$C$61,2,FALSE)","v":"-"},{"$f":"VLOOKUP($B28,'S7'!$B$22:$C$61,2,FALSE)","v":"-"},"-","-","-"]
[16,{"$f":"IF(Dateneingabe!B26=0,\"\",Dateneingabe!B26)","v":""},null,{"$f":"VLOOKUP($B29,'S1'!$B$23:$C$62,2,FALSE)","v":"-"},{"$f":"VLOOKUP($B29,'S2'!$B$22:$C$61,2,FALSE)","v":"-"},{"$f":"VLOOKUP($B29,'S3'!$B$22:$C$61,2,FALSE)","v":"-"},null,"-",null,"-",null,"-",{"$f":"VLOOKUP($B29,'S4'!$B$22:$C$61,2,FALSE)","v":"-"},{"$f":"VLOOKUP($B29,'S5'!$B$22:$C$61,2,FALSE)","v":"-"},{"$f":"VLOOKUP($B29,'S6'!$B$22:$C$61,2,FALSE)","v":"-"},{"$f":"VLOOKUP($B29,'S7'!$B$22:$C$61,2,FALSE)","v":"-"},"-","-","-"]
[17,{"$f":"IF(Dateneingabe!B27=0,\"\",Dateneingabe!B27)","v":""},null,{"$f":"VLOOKUP($B30,'S1'!$B$23:$C$62,2,FALSE)","v":"-"},{"$f":"VLOOKUP($B30,'S2'!$B$22:$C$61,2,FALSE)","v":"-"},{"$f":"VLOOKUP($B30,'S3'!$B$22:$C$61,2,FALSE)","v":"-"},null,"-",null,"-",null,"-",{"$f":"VLOOKUP($B30,'S4'!$B$22:$C$61,2,FALSE)","v":"-"},{"$f":"VLOOKUP($B30,'S5'!$B$22:$C$61,2,FALSE)","v":"-"},{"$f":"VLOOKUP($B30,'S6'!$B$22:$C$61,2,FALSE)","v":"-"},{"$f":"VLOOKUP($B30,'S7'!$B$22:$C$61,2,FALSE)","v":"-"},"-","-","-"]
[18,{"$f":"IF(Dateneingabe!B28=0,\"\",Dateneingabe!B28)","v":""},null,{"$f":"VLOOKUP($B31,'S1'!$B$23:$C$62,2,FALSE)","v":"-"},{"$f":"VLOOKUP($B31,'S2'!$B$22:$C$61,2,FALSE)","v":"-"},{"$f":"VLOOKUP($B31,'S3'!$B$22:$C$61,2,FALSE)","v":"-"},null,"-",null,"-",null,"-",{"$f":"VLOOKUP($B31,'S4'!$B$22:$C$61,2,FALSE)","v":"-"},{"$f":"VLOOKUP($B31,'S5'!$B$22:$C$61,2,FALSE)","v":"-"},{"$f":"VLOOKUP($B31,'S6'!$B$22:$C$61,2,FALSE)","v":"-"},{"$f":"VLOOKUP($B31,'S7'!$B$22:$C$61,2,FALSE)","v":"-"},"-","-","-"]
[19,{"$f":"IF(Dateneingabe!B29=0,\"\",Dateneingabe!B29)","v":""},null,{"$f":"VLOOKUP($B32,'S1'!$B$23:$C$62,2,FALSE)","v":"-"},{"$f":"VLOOKUP($B32,'S2'!$B$22:$C$61,2,FALSE)","v":"-"},{"$f":"VLOOKUP($B32,'S3'!$B$22:$C$61,2,FALSE)","v":"-"},null,"-",null,"-",null,"-",{"$f":"VLOOKUP($B32,'S4'!$B$22:$C$61,2,FALSE)","v":"-"},{"$f":"VLOOKUP($B32,'S5'!$B$22:$C$61,2,FALSE)","v":"-"},{"$f":"VLOOKUP($B32,'S6'!$B$22:$C$61,2,FALSE)","v":"-"},{"$f":"VLOOKUP($B32,'S7'!$B$22:$C$61,2,FALSE)","v":"-"},"-","-","-"]
[20,{"$f":"IF(Dateneingabe!B30=0,\"\",Dateneingabe!B30)","v":""},null,{"$f":"VLOOKUP($B33,'S1'!$B$23:$C$62,2,FALSE)","v":"-"},{"$f":"VLOOKUP($B33,'S2'!$B$22:$C$61,2,FALSE)","v":"-"},{"$f":"VLOOKUP($B33,'S3'!$B$22:$C$61,2,FALSE)","v":"-"},null,"-",null,"-",null,"-",{"$f":"VLOOKUP($B33,'S4'!$B$22:$C$61,2,FALSE)","v":"-"},{"$f":"VLOOKUP($B33,'S5'!$B$22:$C$61,2,FALSE)","v":"-"},{"$f":"VLOOKUP($B33,'S6'!$B$22:$C$61,2,FALSE)","v":"-"},{"$f":"VLOOKUP($B33,'S7'!$B$22:$C$61,2,FALSE)","v":"-"},"-","-","-"]
[21,{"$f":"IF(Dateneingabe!B31=0,\"\",Dateneingabe!B31)","v":""},null,{"$f":"VLOOKUP($B34,'S1'!$B$23:$C$62,2,FALSE)","v":"-"},{"$f":"VLOOKUP($B34,'S2'!$B$22:$C$61,2,FALSE)","v":"-"},{"$f":"VLOOKUP($B34,'S3'!$B$22:$C$61,2,FALSE)","v":"-"},null,"-",null,"-",null,"-",{"$f":"VLOOKUP($B34,'S4'!$B$22:$C$61,2,FALSE)","v":"-"},{"$f":"VLOOKUP($B34,'S5'!$B$22:$C$61,2,FALSE)","v":"-"},{"$f":"VLOOKUP($B34,'S6'!$B$22:$C$61,2,FALSE)","v":"-"},{"$f":"VLOOKUP($B34,'S7'!$B$22:$C$61,2,FALSE)","v":"-"},"-","-","-"]
[22,{"$f":"IF(Dateneingabe!B32=0,\"\",Dateneingabe!B32)","v":""},null,{"$f":"VLOOKUP($B35,'S1'!$B$23:$C$62,2,FALSE)","v":"-"},{"$f":"VLOOKUP($B35,'S2'!$B$22:$C$61,2,FALSE)","v":"-"},{"$f":"VLOOKUP($B35,'S3'!$B$22:$C$61,2,FALSE)","v":"-"},null,"-",null,"-",null,"-",{"$f":"VLOOKUP($B35,'S4'!$B$22:$C$61,2,FALSE)","v":"-"},{"$f":"VLOOKUP($B35,'S5'!$B$22:$C$61,2,FALSE)","v":"-"},{"$f":"VLOOKUP($B35,'S6'!$B$22:$C$61,2,FALSE)","v":"-"},{"$f":"VLOOKUP($B35,'S7'!$B$22:$C$61,2,FALSE)","v":"-"},"-","-","-"]
[23,{"$f":"IF(Dateneingabe!B33=0,\"\",Dateneingabe!B33)","v":""},null,{"$f":"VLOOKUP($B36,'S1'!$B$23:$C$62,2,FALSE)","v":"-"},{"$f":"VLOOKUP($B36,'S2'!$B$22:$C$61,2,FALSE)","v":"-"},{"$f":"VLOOKUP($B36,'S3'!$B$22:$C$61,2,FALSE)","v":"-"},null,"-",null,"-",null,"-",{"$f":"VLOOKUP($B36,'S4'!$B$22:$C$61,2,FALSE)","v":"-"},{"$f":"VLOOKUP($B36,'S5'!$B$22:$C$61,2,FALSE)","v":"-"},{"$f":"VLOOKUP($B36,'S6'!$B$22:$C$61,2,FALSE)","v":"-"},{"$f":"VLOOKUP($B36,'S7'!$B$22:$C$61,2,FALSE)","v":"-"},"-","-","-"]
[24,{"$f":"IF(Dateneingabe!B34=0,\"\",Dateneingabe!B34)","v":""},null,{"$f":"VLOOKUP($B37,'S1'!$B$23:$C$62,2,FALSE)","v":"-"},{"$f":"VLOOKUP($B37,'S2'!$B$22:$C$61,2,FALSE)","v":"-"},{"$f":"VLOOKUP($B37,'S3'!$B$22:$C$61,2,FALSE)","v":"-"},null,"-",null,"-",null,"-",{"$f":"VLOOKUP($B37,'S4'!$B$22:$C$61,2,FALSE)","v":"-"},{"$f":"VLOOKUP($B37,'S5'!$B$22:$C$61,2,FALSE)","v":"-"},{"$f":"VLOOKUP($B37,'S6'!$B$22:$C$61,2,FALSE)","v":"-"},{"$f":"VLOOKUP($B37,'S7'!$B$22:$C$61,2,FALSE)","v":"-"},"-","-","-"]
[25,{"$f":"IF(Dateneingabe!B35=0,\"\",Dateneingabe!B35)","v":""},null,{"$f":"VLOOKUP($B38,'S1'!$B$23:$C$62,2,FALSE)","v":"-"},{"$f":"VLOOKUP($B38,'S2'!$B$22:$C$61,2,FALSE)","v":"-"},{"$f":"VLOOKUP($B38,'S3'!$B$22:$C$61,2,FALSE)","v":"-"},null,"-",null,"-",null,"-",{"$f":"VLOOKUP($B38,'S4'!$B$22:$C$61,2,FALSE)","v":"-"},{"$f":"VLOOKUP($B38,'S5'!$B$22:$C$61,2,FALSE)","v":"-"},{"$f":"VLOOKUP($B38,'S6'!$B$22:$C$61,2,FALSE)","v":"-"},{"$f":"VLOOKUP($B38,'S7'!$B$22:$C$61,2,FALSE)","v":"-"},"-","-","-"]
[26,{"$f":"IF(Dateneingabe!B36=0,\"\",Dateneingabe!B36)","v":""},null,{"$f":"VLOOKUP($B39,'S1'!$B$23:$C$62,2,FALSE)","v":"-"},{"$f":"VLOOKUP($B39,'S2'!$B$22:$C$61,2,FALSE)","v":"-"},{"$f":"VLOOKUP($B39,'S3'!$B$22:$C$61,2,FALSE)","v":"-"},null,"-",null,"-",null,"-",{"$f":"VLOOKUP($B39,'S4'!$B$22:$C$61,2,FALSE)","v":"-"},{"$f":"VLOOKUP($B39,'S5'!$B$22:$C$61,2,FALSE)","v":"-"},{"$f":"VLOOKUP($B39,'S6'!$B$22:$C$61,2,FALSE)","v":"-"},{"$f":"VLOOKUP($B39,'S7'!$B$22:$C$61,2,FALSE)","v":"-"},"-","-","-"]
[27,{"$f":"IF(Dateneingabe!B37=0,\"\",Dateneingabe!B37)","v":""},null,{"$f":"VLOOKUP($B40,'S1'!$B$23:$C$62,2,FALSE)","v":"-"},{"$f":"VLOOKUP($B40,'S2'!$B$22:$C$61,2,FALSE)","v":"-"},{"$f":"VLOOKUP($B40,'S3'!$B$22:$C$61,2,FALSE)","v":"-"},null,"-",null,"-",null,"-",{"$f":"VLOOKUP($B40,'S4'!$B$22:$C$61,2,FALSE)","v":"-"},{"$f":"VLOOKUP($B40,'S5'!$B$22:$C$61,2,FALSE)","v":"-"},{"$f":"VLOOKUP($B40,'S6'!$B$22:$C$61,2,FALSE)","v":"-"},{"$f":"VLOOKUP($B40,'S7'!$B$22:$C$61,2,FALSE)","v":"-"},"-","-","-"]
[28,{"$f":"IF(Dateneingabe!B38=0,\"\",Dateneingabe!B38)","v":""},null,{"$f":"VLOOKUP($B41,'S1'!$B$23:$C$62,2,FALSE)","v":"-"},{"$f":"VLOOKUP($B41,'S2'!$B$22:$C$61,2,FALSE)","v":"-"},{"$f":"VLOOKUP($B41,'S3'!$B$22:$C$61,2,FALSE)","v":"-"},null,"-",null,"-",null,"-",{"$f":"VLOOKUP($B41,'S4'!$B$22:$C$61,2,FALSE)","v":"-"},{"$f":"VLOOKUP($B41,'S5'!$B$22:$C$61,2,FALSE)","v":"-"},{"$f":"VLOOKUP($B41,'S6'!$B$22:$C$61,2,FALSE)","v":"-"},{"$f":"VLOOKUP($B41,'S7'!$B$22:$C$61,2,FALSE)","v":"-"},"-","-","-"]
[29,{"$f":"IF(Dateneingabe!B39=0,\"\",Dateneingabe!B39)","v":""},null,{"$f":"VLOOKUP($B42,'S1'!$B$23:$C$62,2,FALSE)","v":"-"},{"$f":"VLOOKUP($B42,'S2'!$B$22:$C$61,2,FALSE)","v":"-"},{"$f":"VLOOKUP($B42,'S3'!$B$22:$C$61,2,FALSE)","v":"-"},null,"-",null,"-",null,"-",{"$f":"VLOOKUP($B42,'S4'!$B$22:$C$61,2,FALSE)","v":"-"},{"$f":"VLOOKUP($B42,'S5'!$B$22:$C$61,2,FALSE)","v":"-"},{"$f":"VLOOKUP($B42,'S6'!$B$22:$C$61,2,FALSE)","v":"-"},{"$f":"VLOOKUP($B42,'S7'!$B$22:$C$61,2,FALSE)","v":"-"},"-","-","-"]
[30,{"$f":"IF(Dateneingabe!B40=0,\"\",Dateneingabe!B40)","v":""},null,{"$f":"VLOOKUP($B43,'S1'!$B$23:$C$62,2,FALSE)","v":"-"},{"$f":"VLOOKUP($B43,'S2'!$B$22:$C$61,2,FALSE)","v":"-"},{"$f":"VLOOKUP($B43,'S3'!$B$22:$C$61,2,FALSE)","v":"-"},null,"-",null,"-",null,"-",{"$f":"VLOOKUP($B43,'S4'!$B$22:$C$61,2,FALSE)","v":"-"},{"$f":"VLOOKUP($B43,'S5'!$B$22:$C$61,2,FALSE)","v":"-"},{"$f":"VLOOKUP($B43,'S6'!$B$22:$C$61,2,FALSE)","v":"-"},{"$f":"VLOOKUP($B43,'S7'!$B$22:$C$61,2,FALSE)","v":"-"},"-","-","-"]
[31,{"$f":"IF(Dateneingabe!B41=0,\"\",Dateneingabe!B41)","v":""},null,{"$f":"VLOOKUP($B44,'S1'!$B$23:$C$62,2,FALSE)","v":"-"},{"$f":"VLOOKUP($B44,'S2'!$B$22:$C$61,2,FALSE)","v":"-"},{"$f":"VLOOKUP($B44,'S3'!$B$22:$C$61,2,FALSE)","v":"-"},null,"-",null,"-",null,"-",{"$f":"VLOOKUP($B44,'S4'!$B$22:$C$61,2,FALSE)","v":"-"},{"$f":"VLOOKUP($B44,'S5'!$B$22:$C$61,2,FALSE)","v":"-"},{"$f":"VLOOKUP($B44,'S6'!$B$22:$C$61,2,FALSE)","v":"-"},{"$f":"VLOOKUP($B44,'S7'!$B$22:$C$61,2,FALSE)","v":"-"},"-","-","-"]
[32,{"$f":"IF(Dateneingabe!B42=0,\"\",Dateneingabe!B42)","v":""},null,{"$f":"VLOOKUP($B45,'S1'!$B$23:$C$62,2,FALSE)","v":"-"},{"$f":"VLOOKUP($B45,'S2'!$B$22:$C$61,2,FALSE)","v":"-"},{"$f":"VLOOKUP($B45,'S3'!$B$22:$C$61,2,FALSE)","v":"-"},null,"-",null,"-",null,"-",{"$f":"VLOOKUP($B45,'S4'!$B$22:$C$61,2,FALSE)","v":"-"},{"$f":"VLOOKUP($B45,'S5'!$B$22:$C$61,2,FALSE)","v":"-"},{"$f":"VLOOKUP($B45,'S6'!$B$22:$C$61,2,FALSE)","v":"-"},{"$f":"VLOOKUP($B45,'S7'!$B$22:$C$61,2,FALSE)","v":"-"},"-","-","-"]
[33,{"$f":"IF(Dateneingabe!B43=0,\"\",Dateneingabe!B43)","v":""},null,{"$f":"VLOOKUP($B46,'S1'!$B$23:$C$62,2,FALSE)","v":"-"},{"$f":"VLOOKUP($B46,'S2'!$B$22:$C$61,2,FALSE)","v":"-"},{"$f":"VLOOKUP($B46,'S3'!$B$22:$C$61,2,FALSE)","v":"-"},null,"-",null,"-",null,"-",{"$f":"VLOOKUP($B46,'S4'!$B$22:$C$61,2,FALSE)","v":"-"},{"$f":"VLOOKUP($B46,'S5'!$B$22:$C$61,2,FALSE)","v":"-"},{"$f":"VLOOKUP($B46,'S6'!$B$22:$C$61,2,FALSE)","v":"-"},{"$f":"VLOOKUP($B46,'S7'!$B$22:$C$61,2,FALSE)","v":"-"},"-","-","-"]
[34,{"$f":"IF(Dateneingabe!B44=0,\"\",Dateneingabe!B44)","v":""},null,{"$f":"VLOOKUP($B47,'S1'!$B$23:$C$62,2,FALSE)","v":"-"},{"$f":"VLOOKUP($B47,'S2'!$B$22:$C$61,2,FALSE)","v":"-"},{"$f":"VLOOKUP($B47,'S3'!$B$22:$C$61,2,FALSE)","v":"-"},null,"-",null,"-",null,"-",{"$f":"VLOOKUP($B47,'S4'!$B$22:$C$61,2,FALSE)","v":"-"},{"$f":"VLOOKUP($B47,'S5'!$B$22:$C$61,2,FALSE)","v":"-"},{"$f":"VLOOKUP($B47,'S6'!$B$22:$C$61,2,FALSE)","v":"-"},{"$f":"VLOOKUP($B47,'S7'!$B$22:$C$61,2,FALSE)","v":"-"},"-","-","-"]
[35,{"$f":"IF(Dateneingabe!B45=0,\"\",Dateneingabe!B45)","v":""},null,{"$f":"VLOOKUP($B48,'S1'!$B$23:$C$62,2,FALSE)","v":"-"},{"$f":"VLOOKUP($B48,'S2'!$B$22:$C$61,2,FALSE)","v":"-"},{"$f":"VLOOKUP($B48,'S3'!$B$22:$C$61,2,FALSE)","v":"-"},null,"-",null,"-",null,"-",{"$f":"VLOOKUP($B48,'S4'!$B$22:$C$61,2,FALSE)","v":"-"},{"$f":"VLOOKUP($B48,'S5'!$B$22:$C$61,2,FALSE)","v":"-"},{"$f":"VLOOKUP($B48,'S6'!$B$22:$C$61,2,FALSE)","v":"-"},{"$f":"VLOOKUP($B48,'S7'!$B$22:$C$61,2,FALSE)","v":"-"},"-","-","-"]
[]
[null,"Kursdurchschnitte",null,{"$f":"IF(COUNTIF(D14:D48,\"-\")>30,\"\",TRUNC(AVERAGE(D14:D48),2))","v":""},{"$f":"IF(COUNTIF(E14:E48,\"-\")>30,\"\",TRUNC(AVERAGE(E14:E48),2))","v":""},"",null,"",null,"",null,"","","","","","","",""]

{"sheet":"Klassenliste","index":10,"n_rows":43,"n_cols":9,"rows_kept":43,"cut":false,"hidden":false,"merged":[[1,8,1,9],[42,0,53,0]]}
[null,"Klassenliste",{"$f":"Dateneingabe!F3","v":0}]
[null,null,null,null,null,null,null,null,{"$f":"Dateneingabe!F2","v":0}]
[]
[null,"Name"]
[]
[1,{"$f":"Dateneingabe!B11","v":0}]
[2,{"$f":"Dateneingabe!B12","v":0}]
[3,{"$f":"Dateneingabe!B13","v":0}]
[4,{"$f":"Dateneingabe!B14","v":0}]
[5,{"$f":"Dateneingabe!B15","v":0}]
[6,{"$f":"Dateneingabe!B16","v":0}]
[7,{"$f":"Dateneingabe!B17","v":0}]
[8,{"$f":"Dateneingabe!B18","v":0}]
[9,{"$f":"Dateneingabe!B19","v":0}]
[10,{"$f":"Dateneingabe!B20","v":0}]
[11,{"$f":"Dateneingabe!B21","v":0}]
[12,{"$f":"Dateneingabe!B22","v":0}]
[13,{"$f":"Dateneingabe!B23","v":0}]
[14,{"$f":"Dateneingabe!B24","v":0}]
[15,{"$f":"Dateneingabe!B25","v":0}]
[16,{"$f":"Dateneingabe!B26","v":0}]
[17,{"$f":"Dateneingabe!B27","v":0}]
[18,{"$f":"Dateneingabe!B28","v":0}]
[19,{"$f":"Dateneingabe!B29","v":0}]
[20,{"$f":"Dateneingabe!B30","v":0}]
[21,{"$f":"Dateneingabe!B31","v":0}]
[22,{"$f":"Dateneingabe!B32","v":0}]
[23,{"$f":"Dateneingabe!B33","v":0}]
[24,{"$f":"Dateneingabe!B34","v":0}]
[25,{"$f":"Dateneingabe!B35","v":0}]
[26,{"$f":"Dateneingabe!B36","v":0}]
[27,{"$f":"Dateneingabe!B37","v":0}]
[28,{"$f":"Dateneingabe!B38","v":0}]
[29,{"$f":"Dateneingabe!B39","v":0}]
[30,{"$f":"Dateneingabe!B40","v":0}]
[31,{"$f":"Dateneingabe!B41","v":0}]
[32,{"$f":"Dateneingabe!B42","v":0}]
[33,{"$f":"Dateneingabe!B43","v":0}]
[34,{"$f":"Dateneingabe!B44","v":0}]
[35,{"$f":"Dateneingabe!B45","v":0}]
[]
[]
["Bemerkungen"]

{"sheet":"E1","index":11,"n_rows":212,"n_cols":35,"rows_kept":212,"cut":false,"hidden":false,"merged":[[211,15,211,17],[211,34,211,36],[205,15,205,17],[205,34,205,36],[207,15,207,17],[207,34,207,36],[208,15,208,17],[208,34,208,36],[199,15,199,17],[199,34,199,36],[210,15,210,17],[210,34,210,36],[204,15,204,17],[204,34,204,36],[195,15,195,17],[195,34,195,36],[198,15,198,17],[198,34,198,36],[196,15,196,17],[196,34,196,36],[187,15,187,17],[187,34,187,36],[193,15,193,17],[193,34,193,36],[192,15,192,17],[192,34,192,36],[183,15,183,17],[183,34,183,36],[186,15,186,17],[186,34,186,36],[184,15,184,17],[184,34,184,36],[175,15,175,17],[175,34,175,36],[181,15,181,17],[181,34,181,36],[180,15,180,17],[180,34,180,36],[171,15,171,17],[171,34,171,36],[174,15,174,17],[174,34,174,36],[172,15,172,17],[172,34,172,36],[163,15,163,17],[163,34,163,36],[169,15,169,17],[169,34,169,36],[168,15,168,17],[168,34,168,36],[159,15,159,17],[159,34,159,36],[162,15,162,17],[162,34,162,36],[160,15,160,17],[160,34,160,36],[151,15,151,17],[151,34,151,36],[157,15,157,17],[157,34,157,36],[156,15,156,17],[156,34,156,36],[145,15,145,17],[145,34,145,36],[147,15,147,17],[147,34,147,36],[150,15,150,17],[150,34,150,36],[148,15,148,17],[148,34,148,36],[137,15,137,17],[137,34,137,36],[139,15,139,17],[139,34,139,36],[140,15,140,17],[140,34,140,36],[144,15,144,17],[144,34,144,36],[128,34,128,36],[133,15,133,17],[133,34,133,36],[134,15,134,17],[134,34,134,36],[136,15,136,17],[136,34,136,36],[128,15,128,17],[122,15,122,17],[122,34,122,36],[124,15,124,17],[124,34,124,36],[125,34,125,36],[127,15,127,17],[127,34,127,36],[125,15,125,17],[100,34,100,36],[121,15,121,17],[121,34,121,36],[116,34,116,36],[112,15,112,17],[113,15,113,17],[115,15,115,17],[116,15,116,17],[103,34,103,36],[104,34,104,36],[85,15,85,17],[85,34,85,36],[88,15,88,17],[88,34,88,36],[91,15,91,17],[91,34,91,36],[86,34,86,36],[89,34,89,36],[97,15,97,17],[97,34,97,36],[98,15,98,17],[112,34,112,36],[113,34,113,36],[115,34,115,36],[100,15,100,17],[98,34,98,36],[101,15,101,17],[101,34,101,36],[103,15,103,17],[104,15,104,17],[109,15,109,17],[109,34,109,36],[110,15,110,17],[110,34,110,36],[92,34,92,36],[86,15,86,17],[89,15,89,17],[92,15,92,17],[73,34,73,36],[74,34,74,36],[76,34,76,36],[77,34,77,36],[79,34,79,36],[80,34,80,36],[73,15,73,17],[74,15,74,17],[76,15,76,17],[77,15,77,17],[79,15,79,17],[80,15,80,17],[62,34,62,36],[63,34,63,36],[65,34,65,36],[66,34,66,36],[68,34,68,36],[69,34,69,36],[62,15,62,17],[63,15,63,17],[65,15,65,17],[66,15,66,17],[68,15,68,17],[69,15,69,17],[50,34,50,36],[51,34,51,36],[53,34,53,36],[54,34,54,36],[56,34,56,36],[57,34,57,36],[50,15,50,17],[51,15,51,17],[53,15,53,17],[54,15,54,17],[56,15,56,17],[57,15,57,17],[38,34,38,36],[39,34,39,36],[41,34,41,36],[42,34,42,36],[44,34,44,36],[45,34,45,36],[38,15,38,17],[39,15,39,17],[41,15,41,17],[42,15,42,17],[44,15,44,17],[45,15,45,17],[33,15,33,17],[26,34,26,36],[27,34,27,36],[29,34,29,36],[30,34,30,36],[32,34,32,36],[33,34,33,36],[21,34,21,36],[26,15,26,17],[27,15,27,17],[29,15,29,17],[30,15,30,17],[32,15,32,17],[9,34,9,36],[14,34,14,36],[15,34,15,36],[17,34,17,36],[18,34,18,36],[20,34,20,36],[15,15,15,17],[17,15,17,17],[18,15,18,17],[20,15,20,17],[21,15,21,17],[2,34,2,36],[3,34,3,36],[5,34,5,36],[6,34,6,36],[8,34,8,36],[3,15,3,17],[2,15,2,17],[5,15,5,17],[6,15,6,17],[8,15,8,17],[14,15,14,17],[9,15,9,17]]}
[]
[null,{"$f":"'S1'!$B$23","v":""},null,null,null,null,null,null,null,null,null,null,null,null,null,null,null,null,null,null,{"$f":"'S1'!$B$24","v":""}]
[null,null,null,null,null,null,null,null,null,null,null,null,null,null,null,"Summe",null,null,null,null,null,null,null,null,null,null,null,null,null,null,null,null,null,null,"Summe"]
[null,"Aufgabe",null,null,{"$f":"IF('S1'!$G$18=\"\",\"\",'S1'!$G$18)","v":1},{"$f":"IF('S1'!$H$18=\"\",\"\",'S1'!$H$18)","v":2},{"$f":"IF('S1'!$I$18=\"\",\"\",'S1'!$I$18)","v":3},{"$f":"IF('S1'!$J$18=\"\",\"\",'S1'!$J$18)","v":""},{"$f":"IF('S1'!$K$18=\"\",\"\",'S1'!$K$18)","v":""},{"$f":"IF('S1'!$L$18=\"\",\"\",'S1'!$L$18)","v":""},{"$f":"IF('S1'!$M$18=\"\",\"\",'S1'!$M$18)","v":""},{"$f":"IF('S1'!$N$18=\"\",\"\",'S1'!$N$18)","v":""},{"$f":"IF('S1'!$O$18=\"\",\"\",'S1'!$O$18)","v":""},{"$f":"IF('S1'!$P$18=\"\",\"\",'S1'!$P$18)","v":""},null,{"$f":"IF(VLOOKUP(B2,'S1'!$B$23:$Z$57,5,FALSE)=\"\",\"\",VLOOKUP(B2,'S1'!$B$23:$Z$57,5,FALSE))","v":0},null,null,null,null,"Aufgabe",null,null,{"$f":"IF('S1'!$G$18=\"\",\"\",'S1'!$G$18)","v":1},{"$f":"IF('S1'!$H$18=\"\",\"\",'S1'!$H$18)","v":2},{"$f":"IF('S1'!$I$18=\"\",\"\",'S1'!$I$18)","v":3},{"$f":"IF('S1'!$J$18=\"\",\"\",'S1'!$J$18)","v":""},{"$f":"IF('S1'!$K$18=\"\",\"\",'S1'!$K$18)","v":""},{"$f":"IF('S1'!$L$18=\"\",\"\",'S1'!$L$18)","v":""},{"$f":"IF('S1'!$M$18=\"\",\"\",'S1'!$M$18)","v":""},{"$f":"IF('S1'!$N$18=\"\",\"\",'S1'!$N$18)","v":""},{"$f":"IF('S1'!$O$18=\"\",\"\",'S1'!$O$18)","v":""},{"$f":"IF('S1'!$P$18=\"\",\"\",'S1'!$P$18)","v":""},null,{"$f":"IF(VLOOKUP(U2,'S1'!$B$23:$Z$57,5,FALSE)=\"\",\"\",VLOOKUP(U2,'S1'!$B$23:$Z$57,5,FALSE))","v":0}]
[null,"erreicht",null,null,{"$f":"IF(VLOOKUP(B2,'S1'!$B$23:$Z$57,6,FALSE)=\"\",\"\",VLOOKUP(B2,'S1'!$B$23:$Z$57,6,FALSE))","v":"."},{"$f":"IF(VLOOKUP(B2,'S1'!$B$23:$Z$57,7,FALSE)=\"\",\"\",VLOOKUP(B2,'S1'!$B$23:$Z$57,7,FALSE))","v":""},{"$f":"IF(VLOOKUP(B2,'S1'!$B$23:$Z$57,8,FALSE)=\"\",\"\",VLOOKUP(B2,'S1'!$B$23:$Z$57,8,FALSE))","v":""},{"$f":"IF(VLOOKUP(B2,'S1'!$B$23:$Z$57,9,FALSE)=\"\",\"\",VLOOKUP(B2,'S1'!$B$23:$Z$57,9,FALSE))","v":""},{"$f":"IF(VLOOKUP(B2,'S1'!$B$23:$Z$57,10,FALSE)=\"\",\"\",VLOOKUP(B2,'S1'!$B$23:$Z$57,10,FALSE))","v":""},{"$f":"IF(VLOOKUP(B2,'S1'!$B$23:$Z$57,11,FALSE)=\"\",\"\",VLOOKUP(B2,'S1'!$B$23:$Z$57,11,FALSE))","v":""},{"$f":"IF(VLOOKUP(B2,'S1'!$B$23:$Z$57,12,FALSE)=\"\",\"\",VLOOKUP(B2,'S1'!$B$23:$Z$57,12,FALSE))","v":""},{"$f":"IF(VLOOKUP(B2,'S1'!$B$23:$Z$57,13,FALSE)=\"\",\"\",VLOOKUP(B2,'S1'!$B$23:$Z$57,13,FALSE))","v":""},{"$f":"IF(VLOOKUP(B2,'S1'!$B$23:$Z$57,14,FALSE)=\"\",\"\",VLOOKUP(B2,'S1'!$B$23:$Z$57,14,FALSE))","v":""},{"$f":"IF(VLOOKUP(B2,'S1'!$B$23:$Z$57,15,FALSE)=\"\",\"\",VLOOKUP(B2,'S1'!$B$23:$Z$57,15,FALSE))","v":""},null,null,null,null,null,null,"erreicht",null,null,{"$f":"IF(VLOOKUP(U2,'S1'!$B$23:$Z$57,6,FALSE)=\"\",\"\",VLOOKUP(U2,'S1'!$B$23:$Z$57,6,FALSE))","v":"."},{"$f":"IF(VLOOKUP(U2,'S1'!$B$23:$Z$57,7,FALSE)=\"\",\"\",VLOOKUP(U2,'S1'!$B$23:$Z$57,7,FALSE))","v":""},{"$f":"IF(VLOOKUP(U2,'S1'!$B$23:$Z$57,8,FALSE)=\"\",\"\",VLOOKUP(U2,'S1'!$B$23:$Z$57,8,FALSE))","v":""},{"$f":"IF(VLOOKUP(U2,'S1'!$B$23:$Z$57,9,FALSE)=\"\",\"\",VLOOKUP(U2,'S1'!$B$23:$Z$57,9,FALSE))","v":""},{"$f":"IF(VLOOKUP(U2,'S1'!$B$23:$Z$57,10,FALSE)=\"\",\"\",VLOOKUP(U2,'S1'!$B$23:$Z$57,10,FALSE))","v":""},{"$f":"IF(VLOOKUP(U2,'S1'!$B$23:$Z$57,11,FALSE)=\"\",\"\",VLOOKUP(U2,'S1'!$B$23:$Z$57,11,FALSE))","v":""},{"$f":"IF(VLOOKUP(U2,'S1'!$B$23:$Z$57,12,FALSE)=\"\",\"\",VLOOKUP(U2,'S1'!$B$23:$Z$57,12,FALSE))","v":""},{"$f":"IF(VLOOKUP(U2,'S1'!$B$23:$Z$57,13,FALSE)=\"\",\"\",VLOOKUP(U2,'S1'!$B$23:$Z$57,13,FALSE))","v":""},{"$f":"IF(VLOOKUP(U2,'S1'!$B$23:$Z$57,14,FALSE)=\"\",\"\",VLOOKUP(U2,'S1'!$B$23:$Z$57,14,FALSE))","v":""},{"$f":"IF(VLOOKUP(U2,'S1'!$B$23:$Z$57,15,FALSE)=\"\",\"\",VLOOKUP(U2,'S1'!$B$23:$Z$57,15,FALSE))","v":""}]
[null,"von",null,null,{"$f":"IF('S1'!$G$21=\"\",\"\",'S1'!$G$21)","v":""},{"$f":"IF('S1'!$H$21=\"\",\"\",'S1'!$H$21)","v":""},{"$f":"IF('S1'!$I$21=\"\",\"\",'S1'!$I$21)","v":""},{"$f":"IF('S1'!$J$21=\"\",\"\",'S1'!$J$21)","v":""},{"$f":"IF('S1'!$K$21=\"\",\"\",'S1'!$K$21)","v":""},{"$f":"IF('S1'!$L$21=\"\",\"\",'S1'!$L$21)","v":""},{"$f":"IF('S1'!$M$21=\"\",\"\",'S1'!$M$21)","v":""},{"$f":"IF('S1'!$N$21=\"\",\"\",'S1'!$N$21)","v":""},{"$f":"IF('S1'!$O$21=\"\",\"\",'S1'!$O$21)","v":""},{"$f":"IF('S1'!$P$21=\"\",\"\",'S1'!$P$21)","v":""},null,"von",null,null,null,null,"von",null,null,{"$f":"IF('S1'!$G$21=\"\",\"\",'S1'!$G$21)","v":""},{"$f":"IF('S1'!$H$21=\"\",\"\",'S1'!$H$21)","v":""},{"$f":"IF('S1'!$I$21=\"\",\"\",'S1'!$I$21)","v":""},{"$f":"IF('S1'!$J$21=\"\",\"\",'S1'!$J$21)","v":""},{"$f":"IF('S1'!$K$21=\"\",\"\",'S1'!$K$21)","v":""},{"$f":"IF('S1'!$L$21=\"\",\"\",'S1'!$L$21)","v":""},{"$f":"IF('S1'!$M$21=\"\",\"\",'S1'!$M$21)","v":""},{"$f":"IF('S1'!$N$21=\"\",\"\",'S1'!$N$21)","v":""},{"$f":"IF('S1'!$O$21=\"\",\"\",'S1'!$O$21)","v":""},{"$f":"IF('S1'!$P$21=\"\",\"\",'S1'!$P$21)","v":""},null,"von"]
[null,null,null,null,null,null,null,null,null,null,null,null,null,null,null,{"$f":"'S1'!$H$12","v":0},null,null,null,null,null,null,null,null,null,null,null,null,null,null,null,null,null,null,{"$f":"'S1'!$H$12","v":0}]
[null,{"$f":"IF('S1'!$Q$18=\"\",\"\",\"Aufgabe\")","v":""},null,null,{"$f":"IF('S1'!$Q$18=\"\",\"\",'S1'!$Q$18)","v":""},{"$f":"IF('S1'!$R$18=\"\",\"\",'S1'!$R$18)","v":""},{"$f":"IF('S1'!$S$18=\"\",\"\",'S1'!$S$18)","v":""},{"$f":"IF('S1'!$T$18=\"\",\"\",'S1'!$T$18)","v":""},{"$f":"IF('S1'!$U$18=\"\",\"\",'S1'!$U$18)","v":""},{"$f":"IF('S1'!$V$18=\"\",\"\",'S1'!$V$18)","v":""},{"$f":"IF('S1'!$W$18=\"\",\"\",'S1'!$W$18)","v":""},{"$f":"IF('S1'!$X$18=\"\",\"\",'S1'!$X$18)","v":""},{"$f":"IF('S1'!$Y$18=\"\",\"\",'S1'!$Y$18)","v":""},{"$f":"IF('S1'!$Z$18=\"\",\"\",'S1'!$Z$18)","v":""},null,null,null,null,null,null,{"$f":"IF('S1'!$Q$18=\"\",\"\",\"Aufgabe\")","v":""},null,null,{"$f":"IF('S1'!$Q$18=\"\",\"\",'S1'!$Q$18)","v":""},{"$f":"IF('S1'!$R$18=\"\",\"\",'S1'!$R$18)","v":""},{"$f":"IF('S1'!$S$18=\"\",\"\",'S1'!$S$18)","v":""},{"$f":"IF('S1'!$T$18=\"\",\"\",'S1'!$T$18)","v":""},{"$f":"IF('S1'!$U$18=\"\",\"\",'S1'!$U$18)","v":""},{"$f":"IF('S1'!$V$18=\"\",\"\",'S1'!$V$18)","v":""},{"$f":"IF('S1'!$W$18=\"\",\"\",'S1'!$W$18)","v":""},{"$f":"IF('S1'!$X$18=\"\",\"\",'S1'!$X$18)","v":""},{"$f":"IF('S1'!$Y$18=\"\",\"\",'S1'!$Y$18)","v":""},{"$f":"IF('S1'!$Z$18=\"\",\"\",'S1'!$Z$18)","v":""}]
[null,{"$f":"IF('S1'!$Q$18=\"\",\"\",\"erreicht\")","v":""},null,null,{"$f":"IF(VLOOKUP(B2,'S1'!$B$23:$Z$57,16,FALSE)=\"\",\"\",VLOOKUP(B2,'S1'!$B$23:$Z$57,16,FALSE))","v":""},{"$f":"IF(VLOOKUP(B2,'S1'!$B$23:$Z$57,17,FALSE)=\"\",\"\",VLOOKUP(B2,'S1'!$B$23:$Z$57,17,FALSE))","v":""},{"$f":"IF(VLOOKUP(B2,'S1'!$B$23:$Z$57,18,FALSE)=\"\",\"\",VLOOKUP(B2,'S1'!$B$23:$Z$57,18,FALSE))","v":""},{"$f":"IF(VLOOKUP(B2,'S1'!$B$23:$Z$57,19,FALSE)=\"\",\"\",VLOOKUP(B2,'S1'!$B$23:$Z$57,19,FALSE))","v":""},{"$f":"IF(VLOOKUP(B2,'S1'!$B$23:$Z$57,20,FALSE)=\"\",\"\",VLOOKUP(B2,'S1'!$B$23:$Z$57,20,FALSE))","v":""},{"$f":"IF(VLOOKUP(B2,'S1'!$B$23:$Z$57,21,FALSE)=\"\",\"\",VLOOKUP(B2,'S1'!$B$23:$Z$57,21,FALSE))","v":""},{"$f":"IF(VLOOKUP(B2,'S1'!$B$23:$Z$57,22,FALSE)=\"\",\"\",VLOOKUP(B2,'S1'!$B$23:$Z$57,22,FALSE))","v":""},{"$f":"IF(VLOOKUP(B2,'S1'!$B$23:$Z$57,23,FALSE)=\"\",\"\",VLOOKUP(B2,'S1'!$B$23:$Z$57,23,FALSE))","v":""},{"$f":"IF(VLOOKUP(B2,'S1'!$B$23:$Z$57,24,FALSE)=\"\",\"\",VLOOKUP(B2,'S1'!$B$23:$Z$57,24,FALSE))","v":""},{"$f":"IF(VLOOKUP(B2,'S1'!$B$23:$Z$57,25,FALSE)=\"\",\"\",VLOOKUP(B2,'S1'!$B$23:$Z$57,25,FALSE))","v":""},null,"Note",null,null,null,null,{"$f":"IF('S1'!$Q$18=\"\",\"\",\"erreicht\")","v":""},null,null,{"$f":"IF(VLOOKUP(U2,'S1'!$B$23:$Z$57,16,FALSE)=\"\",\"\",VLOOKUP(U2,'S1'!$B$23:$Z$57,16,FALSE))","v":""},{"$f":"IF(VLOOKUP(U2,'S1'!$B$23:$Z$57,17,FALSE)=\"\",\"\",VLOOKUP(U2,'S1'!$B$23:$Z$57,17,FALSE))","v":""},{"$f":"IF(VLOOKUP(U2,'S1'!$B$23:$Z$57,18,FALSE)=\"\",\"\",VLOOKUP(U2,'S1'!$B$23:$Z$57,18,FALSE))","v":""},{"$f":"IF(VLOOKUP(U2,'S1'!$B$23:$Z$57,19,FALSE)=\"\",\"\",VLOOKUP(U2,'S1'!$B$23:$Z$57,19,FALSE))","v":""},{"$f":"IF(VLOOKUP(U2,'S1'!$B$23:$Z$57,20,FALSE)=\"\",\"\",VLOOKUP(U2,'S1'!$B$23:$Z$57,20,FALSE))","v":""},{"$f":"IF(VLOOKUP(U2,'S1'!$B$23:$Z$57,21,FALSE)=\"\",\"\",VLOOKUP(U2,'S1'!$B$23:$Z$57,21,FALSE))","v":""},{"$f":"IF(VLOOKUP(U2,'S1'!$B$23:$Z$57,22,FALSE)=\"\",\"\",VLOOKUP(U2,'S1'!$B$23:$Z$57,22,FALSE))","v":""},{"$f":"IF(VLOOKUP(U2,'S1'!$B$23:$Z$57,23,FALSE)=\"\",\"\",VLOOKUP(U2,'S1'!$B$23:$Z$57,23,FALSE))","v":""},{"$f":"IF(VLOOKUP(U2,'S1'!$B$23:$Z$57,24,FALSE)=\"\",\"\",VLOOKUP(U2,'S1'!$B$23:$Z$57,24,FALSE))","v":""},{"$f":"IF(VLOOKUP(U2,'S1'!$B$23:$Z$57,25,FALSE)=\"\",\"\",VLOOKUP(U2,'S1'!$B$23:$Z$57,25,FALSE))","v":""},null,"Note"]
[null,{"$f":"IF('S1'!$Q$18=\"\",\"\",\"von\")","v":""},null,null,{"$f":"IF('S1'!$Q$21=\"\",\"\",'S1'!$Q$21)","v":""},{"$f":"IF('S1'!$R$21=\"\",\"\",'S1'!$R$21)","v":""},{"$f":"IF('S1'!$S$21=\"\",\"\",'S1'!$S$21)","v":""},{"$f":"IF('S1'!$T$21=\"\",\"\",'S1'!$T$21)","v":""},{"$f":"IF('S1'!$U$21=\"\",\"\",'S1'!$U$21)","v":""},{"$f":"IF('S1'!$V$21=\"\",\"\",'S1'!$V$21)","v":""},{"$f":"IF('S1'!$W$21=\"\",\"\",'S1'!$W$21)","v":""},{"$f":"IF('S1'!$X$21=\"\",\"\",'S1'!$X$21)","v":""},{"$f":"IF('S1'!$Y$21=\"\",\"\",'S1'!$Y$21)","v":""},{"$f":"IF('S1'!$Z$21=\"\",\"\",'S1'!$Z$21)","v":""},null,{"$f":"IF(VLOOKUP(B2,'S1'!$B$23:$Z$57,2,FALSE)=\"\",\"\",CONCATENATE(VLOOKUP(B2,'S1'!$B$23:$Z$57,2,FALSE),\" \",VLOOKUP(B2,'S1'!$B$23:$Z$57,3,FALSE)))","v":"- "},null,null,null,null,{"$f":"IF('S1'!$Q$18=\"\",\"\",\"von\")","v":""},null,null,{"$f":"IF('S1'!$Q$21=\"\",\"\",'S1'!$Q$21)","v":""},{"$f":"IF('S1'!$R$21=\"\",\"\",'S1'!$R$21)","v":""},{"$f":"IF('S1'!$S$21=\"\",\"\",'S1'!$S$21)","v":""},{"$f":"IF('S1'!$T$21=\"\",\"\",'S1'!$T$21)","v":""},{"$f":"IF('S1'!$U$21=\"\",\"\",'S1'!$U$21)","v":""},{"$f":"IF('S1'!$V$21=\"\",\"\",'S1'!$V$21)","v":""},{"$f":"IF('S1'!$W$21=\"\",\"\",'S1'!$W$21)","v":""},{"$f":"IF('S1'!$X$21=\"\",\"\",'S1'!$X$21)","v":""},{"$f":"IF('S1'!$Y$21=\"\",\"\",'S1'!$Y$21)","v":""},{"$f":"IF('S1'!$Z$21=\"\",\"\",'S1'!$Z$21)","v":""},null,{"$f":"IF(VLOOKUP(U2,'S1'!$B$23:$Z$57,2,FALSE)=\"\",\"\",CONCATENATE(VLOOKUP(U2,'S1'!$B$23:$Z$57,2,FALSE),\" \",VLOOKUP(U2,'S1'!$B$23:$Z$57,3,FALSE)))","v":"- "}]
[]
[]
[]
[null,{"$f":"'S1'!$B$25","v":""},null,null,null,null,null,null,null,null,null,null,null,null,null,null,null,null,null,null,{"$f":"'S1'!$B$26","v":""}]
[null,null,null,null,null,null,null,null,null,null,null,null,null,null,null,"Summe",null,null,null,null,null,null,null,null,null,null,null,null,null,null,null,null,null,null,"Summe"]
[null,"Aufgabe",null,null,{"$f":"IF('S1'!$G$18=\"\",\"\",'S1'!$G$18)","v":1},{"$f":"IF('S1'!$H$18=\"\",\"\",'S1'!$H$18)","v":2},{"$f":"IF('S1'!$I$18=\"\",\"\",'S1'!$I$18)","v":3},{"$f":"IF('S1'!$J$18=\"\",\"\",'S1'!$J$18)","v":""},{"$f":"IF('S1'!$K$18=\"\",\"\",'S1'!$K$18)","v":""},{"$f":"IF('S1'!$L$18=\"\",\"\",'S1'!$L$18)","v":""},{"$f":"IF('S1'!$M$18=\"\",\"\",'S1'!$M$18)","v":""},{"$f":"IF('S1'!$N$18=\"\",\"\",'S1'!$N$18)","v":""},{"$f":"IF('S1'!$O$18=\"\",\"\",'S1'!$O$18)","v":""},{"$f":"IF('S1'!$P$18=\"\",\"\",'S1'!$P$18)","v":""},null,{"$f":"IF(VLOOKUP(B14,'S1'!$B$23:$Z$57,5,FALSE)=\"\",\"\",VLOOKUP(B14,'S1'!$B$23:$Z$57,5,FALSE))","v":0},null,null,null,null,"Aufgabe",null,null,{"$f":"IF('S1'!$G$18=\"\",\"\",'S1'!$G$18)","v":1},{"$f":"IF('S1'!$H$18=\"\",\"\",'S1'!$H$18)","v":2},{"$f":"IF('S1'!$I$18=\"\",\"\",'S1'!$I$18)","v":3},{"$f":"IF('S1'!$J$18=\"\",\"\",'S1'!$J$18)","v":""},{"$f":"IF('S1'!$K$18=\"\",\"\",'S1'!$K$18)","v":""},{"$f":"IF('S1'!$L$18=\"\",\"\",'S1'!$L$18)","v":""},{"$f":"IF('S1'!$M$18=\"\",\"\",'S1'!$M$18)","v":""},{"$f":"IF('S1'!$N$18=\"\",\"\",'S1'!$N$18)","v":""},{"$f":"IF('S1'!$O$18=\"\",\"\",'S1'!$O$18)","v":""},{"$f":"IF('S1'!$P$18=\"\",\"\",'S1'!$P$18)","v":""},null,{"$f":"IF(VLOOKUP(U14,'S1'!$B$23:$Z$57,5,FALSE)=\"\",\"\",VLOOKUP(U14,'S1'!$B$23:$Z$57,5,FALSE))","v":0}]
[null,"erreicht",null,null,{"$f":"IF(VLOOKUP(B14,'S1'!$B$23:$Z$57,6,FALSE)=\"\",\"\",VLOOKUP(B14,'S1'!$B$23:$Z$57,6,FALSE))","v":"."},{"$f":"IF(VLOOKUP(B14,'S1'!$B$23:$Z$57,7,FALSE)=\"\",\"\",VLOOKUP(B14,'S1'!$B$23:$Z$57,7,FALSE))","v":""},{"$f":"IF(VLOOKUP(B14,'S1'!$B$23:$Z$57,8,FALSE)=\"\",\"\",VLOOKUP(B14,'S1'!$B$23:$Z$57,8,FALSE))","v":""},{"$f":"IF(VLOOKUP(B14,'S1'!$B$23:$Z$57,9,FALSE)=\"\",\"\",VLOOKUP(B14,'S1'!$B$23:$Z$57,9,FALSE))","v":""},{"$f":"IF(VLOOKUP(B14,'S1'!$B$23:$Z$57,10,FALSE)=\"\",\"\",VLOOKUP(B14,'S1'!$B$23:$Z$57,10,FALSE))","v":""},{"$f":"IF(VLOOKUP(B14,'S1'!$B$23:$Z$57,11,FALSE)=\"\",\"\",VLOOKUP(B14,'S1'!$B$23:$Z$57,11,FALSE))","v":""},{"$f":"IF(VLOOKUP(B14,'S1'!$B$23:$Z$57,12,FALSE)=\"\",\"\",VLOOKUP(B14,'S1'!$B$23:$Z$57,12,FALSE))","v":""},{"$f":"IF(VLOOKUP(B14,'S1'!$B$23:$Z$57,13,FALSE)=\"\",\"\",VLOOKUP(B14,'S1'!$B$23:$Z$57,13,FALSE))","v":""},{"$f":"IF(VLOOKUP(B14,'S1'!$B$23:$Z$57,14,FALSE)=\"\",\"\",VLOOKUP(B14,'S1'!$B$23:$Z$57,14,FALSE))","v":""},{"$f":"IF(VLOOKUP(B14,'S1'!$B$23:$Z$57,15,FALSE)=\"\",\"\",VLOOKUP(B14,'S1'!$B$23:$Z$57,15,FALSE))","v":""},null,null,null,null,null,null,"erreicht",null,null,{"$f":"IF(VLOOKUP(U14,'S1'!$B$23:$Z$57,6,FALSE)=\"\",\"\",VLOOKUP(U14,'S1'!$B$23:$Z$57,6,FALSE))","v":"."},{"$f":"IF(VLOOKUP(U14,'S1'!$B$23:$Z$57,7,FALSE)=\"\",\"\",VLOOKUP(U14,'S1'!$B$23:$Z$57,7,FALSE))","v":""},{"$f":"IF(VLOOKUP(U14,'S1'!$B$23:$Z$57,8,FALSE)=\"\",\"\",VLOOKUP(U14,'S1'!$B$23:$Z$57,8,FALSE))","v":""},{"$f":"IF(VLOOKUP(U14,'S1'!$B$23:$Z$57,9,FALSE)=\"\",\"\",VLOOKUP(U14,'S1'!$B$23:$Z$57,9,FALSE))","v":""},{"$f":"IF(VLOOKUP(U14,'S1'!$B$23:$Z$57,10,FALSE)=\"\",\"\",VLOOKUP(U14,'S1'!$B$23:$Z$57,10,FALSE))","v":""},{"$f":"IF(VLOOKUP(U14,'S1'!$B$23:$Z$57,11,FALSE)=\"\",\"\",VLOOKUP(U14,'S1'!$B$23:$Z$57,11,FALSE))","v":""},{"$f":"IF(VLOOKUP(U14,'S1'!$B$23:$Z$57,12,FALSE)=\"\",\"\",VLOOKUP(U14,'S1'!$B$23:$Z$57,12,FALSE))","v":""},{"$f":"IF(VLOOKUP(U14,'S1'!$B$23:$Z$57,13,FALSE)=\"\",\"\",VLOOKUP(U14,'S1'!$B$23:$Z$57,13,FALSE))","v":""},{"$f":"IF(VLOOKUP(U14,'S1'!$B$23:$Z$57,14,FALSE)=\"\",\"\",VLOOKUP(U14,'S1'!$B$23:$Z$57,14,FALSE))","v":""},{"$f":"IF(VLOOKUP(U14,'S1'!$B$23:$Z$57,15,FALSE)=\"\",\"\",VLOOKUP(U14,'S1'!$B$23:$Z$57,15,FALSE))","v":""}]
[null,"von",null,null,{"$f":"IF('S1'!$G$21=\"\",\"\",'S1'!$G$21)","v":""},{"$f":"IF('S1'!$H$21=\"\",\"\",'S1'!$H$21)","v":""},{"$f":"IF('S1'!$I$21=\"\",\"\",'S1'!$I$21)","v":""},{"$f":"IF('S1'!$J$21=\"\",\"\",'S1'!$J$21)","v":""},{"$f":"IF('S1'!$K$21=\"\",\"\",'S1'!$K$21)","v":""},{"$f":"IF('S1'!$L$21=\"\",\"\",'S1'!$L$21)","v":""},{"$f":"IF('S1'!$M$21=\"\",\"\",'S1'!$M$21)","v":""},{"$f":"IF('S1'!$N$21=\"\",\"\",'S1'!$N$21)","v":""},{"$f":"IF('S1'!$O$21=\"\",\"\",'S1'!$O$21)","v":""},{"$f":"IF('S1'!$P$21=\"\",\"\",'S1'!$P$21)","v":""},null,"von",null,null,null,null,"von",null,null,{"$f":"IF('S1'!$G$21=\"\",\"\",'S1'!$G$21)","v":""},{"$f":"IF('S1'!$H$21=\"\",\"\",'S1'!$H$21)","v":""},{"$f":"IF('S1'!$I$21=\"\",\"\",'S1'!$I$21)","v":""},{"$f":"IF('S1'!$J$21=\"\",\"\",'S1'!$J$21)","v":""},{"$f":"IF('S1'!$K$21=\"\",\"\",'S1'!$K$21)","v":""},{"$f":"IF('S1'!$L$21=\"\",\"\",'S1'!$L$21)","v":""},{"$f":"IF('S1'!$M$21=\"\",\"\",'S1'!$M$21)","v":""},{"$f":"IF('S1'!$N$21=\"\",\"\",'S1'!$N$21)","v":""},{"$f":"IF('S1'!$O$21=\"\",\"\",'S1'!$O$21)","v":""},{"$f":"IF('S1'!$P$21=\"\",\"\",'S1'!$P$21)","v":""},null,"von"]
[null,null,null,null,null,null,null,null,null,null,null,null,null,null,null,{"$f":"'S1'!$H$12","v":0},null,null,null,null,null,null,null,null,null,null,null,null,null,null,null,null,null,null,{"$f":"'S1'!$H$12","v":0}]
[null,{"$f":"IF('S1'!$Q$18=\"\",\"\",\"Aufgabe\")","v":""},null,null,{"$f":"IF('S1'!$Q$18=\"\",\"\",'S1'!$Q$18)","v":""},{"$f":"IF('S1'!$R$18=\"\",\"\",'S1'!$R$18)","v":""},{"$f":"IF('S1'!$S$18=\"\",\"\",'S1'!$S$18)","v":""},{"$f":"IF('S1'!$T$18=\"\",\"\",'S1'!$T$18)","v":""},{"$f":"IF('S1'!$U$18=\"\",\"\",'S1'!$U$18)","v":""},{"$f":"IF('S1'!$V$18=\"\",\"\",'S1'!$V$18)","v":""},{"$f":"IF('S1'!$W$18=\"\",\"\",'S1'!$W$18)","v":""},{"$f":"IF('S1'!$X$18=\"\",\"\",'S1'!$X$18)","v":""},{"$f":"IF('S1'!$Y$18=\"\",\"\",'S1'!$Y$18)","v":""},{"$f":"IF('S1'!$Z$18=\"\",\"\",'S1'!$Z$18)","v":""},null,null,null,null,null,null,{"$f":"IF('S1'!$Q$18=\"\",\"\",\"Aufgabe\")","v":""},null,null,{"$f":"IF('S1'!$Q$18=\"\",\"\",'S1'!$Q$18)","v":""},{"$f":"IF('S1'!$R$18=\"\",\"\",'S1'!$R$18)","v":""},{"$f":"IF('S1'!$S$18=\"\",\"\",'S1'!$S$18)","v":""},{"$f":"IF('S1'!$T$18=\"\",\"\",'S1'!$T$18)","v":""},{"$f":"IF('S1'!$U$18=\"\",\"\",'S1'!$U$18)","v":""},{"$f":"IF('S1'!$V$18=\"\",\"\",'S1'!$V$18)","v":""},{"$f":"IF('S1'!$W$18=\"\",\"\",'S1'!$W$18)","v":""},{"$f":"IF('S1'!$X$18=\"\",\"\",'S1'!$X$18)","v":""},{"$f":"IF('S1'!$Y$18=\"\",\"\",'S1'!$Y$18)","v":""},{"$f":"IF('S1'!$Z$18=\"\",\"\",'S1'!$Z$18)","v":""}]
[null,{"$f":"IF('S1'!$Q$18=\"\",\"\",\"erreicht\")","v":""},null,null,{"$f":"IF(VLOOKUP(B14,'S1'!$B$23:$Z$57,16,FALSE)=\"\",\"\",VLOOKUP(B14,'S1'!$B$23:$Z$57,16,FALSE))","v":""},{"$f":"IF(VLOOKUP(B14,'S1'!$B$23:$Z$57,17,FALSE)=\"\",\"\",VLOOKUP(B14,'S1'!$B$23:$Z$57,17,FALSE))","v":""},{"$f":"IF(VLOOKUP(B14,'S1'!$B$23:$Z$57,18,FALSE)=\"\",\"\",VLOOKUP(B14,'S1'!$B$23:$Z$57,18,FALSE))","v":""},{"$f":"IF(VLOOKUP(B14,'S1'!$B$23:$Z$57,19,FALSE)=\"\",\"\",VLOOKUP(B14,'S1'!$B$23:$Z$57,19,FALSE))","v":""},{"$f":"IF(VLOOKUP(B14,'S1'!$B$23:$Z$57,20,FALSE)=\"\",\"\",VLOOKUP(B14,'S1'!$B$23:$Z$57,20,FALSE))","v":""},{"$f":"IF(VLOOKUP(B14,'S1'!$B$23:$Z$57,21,FALSE)=\"\",\"\",VLOOKUP(B14,'S1'!$B$23:$Z$57,21,FALSE))","v":""},{"$f":"IF(VLOOKUP(B14,'S1'!$B$23:$Z$57,22,FALSE)=\"\",\"\",VLOOKUP(B14,'S1'!$B$23:$Z$57,22,FALSE))","v":""},{"$f":"IF(VLOOKUP(B14,'S1'!$B$23:$Z$57,23,FALSE)=\"\",\"\",VLOOKUP(B14,'S1'!$B$23:$Z$57,23,FALSE))","v":""},{"$f":"IF(VLOOKUP(B14,'S1'!$B$23:$Z$57,24,FALSE)=\"\",\"\",VLOOKUP(B14,'S1'!$B$23:$Z$57,24,FALSE))","v":""},{"$f":"IF(VLOOKUP(B14,'S1'!$B$23:$Z$57,25,FALSE)=\"\",\"\",VLOOKUP(B14,'S1'!$B$23:$Z$57,25,FALSE))","v":""},null,"Note",null,null,null,null,{"$f":"IF('S1'!$Q$18=\"\",\"\",\"erreicht\")","v":""},null,null,{"$f":"IF(VLOOKUP(U14,'S1'!$B$23:$Z$57,16,FALSE)=\"\",\"\",VLOOKUP(U14,'S1'!$B$23:$Z$57,16,FALSE))","v":""},{"$f":"IF(VLOOKUP(U14,'S1'!$B$23:$Z$57,17,FALSE)=\"\",\"\",VLOOKUP(U14,'S1'!$B$23:$Z$57,17,FALSE))","v":""},{"$f":"IF(VLOOKUP(U14,'S1'!$B$23:$Z$57,18,FALSE)=\"\",\"\",VLOOKUP(U14,'S1'!$B$23:$Z$57,18,FALSE))","v":""},{"$f":"IF(VLOOKUP(U14,'S1'!$B$23:$Z$57,19,FALSE)=\"\",\"\",VLOOKUP(U14,'S1'!$B$23:$Z$57,19,FALSE))","v":""},{"$f":"IF(VLOOKUP(U14,'S1'!$B$23:$Z$57,20,FALSE)=\"\",\"\",VLOOKUP(U14,'S1'!$B$23:$Z$57,20,FALSE))","v":""},{"$f":"IF(VLOOKUP(U14,'S1'!$B$23:$Z$57,21,FALSE)=\"\",\"\",VLOOKUP(U14,'S1'!$B$23:$Z$57,21,FALSE))","v":""},{"$f":"IF(VLOOKUP(U14,'S1'!$B$23:$Z$57,22,FALSE)=\"\",\"\",VLOOKUP(U14,'S1'!$B$23:$Z$57,22,FALSE))","v":""},{"$f":"IF(VLOOKUP(U14,'S1'!$B$23:$Z$57,23,FALSE)=\"\",\"\",VLOOKUP(U14,'S1'!$B$23:$Z$57,23,FALSE))","v":""},{"$f":"IF(VLOOKUP(U14,'S1'!$B$23:$Z$57,24,FALSE)=\"\",\"\",VLOOKUP(U14,'S1'!$B$23:$Z$57,24,FALSE))","v":""},{"$f":"IF(VLOOKUP(U14,'S1'!$B$23:$Z$57,25,FALSE)=\"\",\"\",VLOOKUP(U14,'S1'!$B$23:$Z$57,25,FALSE))","v":""},null,"Note"]
[null,{"$f":"IF('S1'!$Q$18=\"\",\"\",\"von\")","v":""},null,null,{"$f":"IF('S1'!$Q$21=\"\",\"\",'S1'!$Q$21)","v":""},{"$f":"IF('S1'!$R$21=\"\",\"\",'S1'!$R$21)","v":""},{"$f":"IF('S1'!$S$21=\"\",\"\",'S1'!$S$21)","v":""},{"$f":"IF('S1'!$T$21=\"\",\"\",'S1'!$T$21)","v":""},{"$f":"IF('S1'!$U$21=\"\",\"\",'S1'!$U$21)","v":""},{"$f":"IF('S1'!$V$21=\"\",\"\",'S1'!$V$21)","v":""},{"$f":"IF('S1'!$W$21=\"\",\"\",'S1'!$W$21)","v":""},{"$f":"IF('S1'!$X$21=\"\",\"\",'S1'!$X$21)","v":""},{"$f":"IF('S1'!$Y$21=\"\",\"\",'S1'!$Y$21)","v":""},{"$f":"IF('S1'!$Z$21=\"\",\"\",'S1'!$Z$21)","v":""},null,{"$f":"IF(VLOOKUP(B14,'S1'!$B$23:$Z$57,2,FALSE)=\"\",\"\",CONCATENATE(VLOOKUP(B14,'S1'!$B$23:$Z$57,2,FALSE),\" \",VLOOKUP(B14,'S1'!$B$23:$Z$57,3,FALSE)))","v":"- "},null,null,null,null,{"$f":"IF('S1'!$Q$18=\"\",\"\",\"von\")","v":""},null,null,{"$f":"IF('S1'!$Q$21=\"\",\"\",'S1'!$Q$21)","v":""},{"$f":"IF('S1'!$R$21=\"\",\"\",'S1'!$R$21)","v":""},{"$f":"IF('S1'!$S$21=\"\",\"\",'S1'!$S$21)","v":""},{"$f":"IF('S1'!$T$21=\"\",\"\",'S1'!$T$21)","v":""},{"$f":"IF('S1'!$U$21=\"\",\"\",'S1'!$U$21)","v":""},{"$f":"IF('S1'!$V$21=\"\",\"\",'S1'!$V$21)","v":""},{"$f":"IF('S1'!$W$21=\"\",\"\",'S1'!$W$21)","v":""},{"$f":"IF('S1'!$X$21=\"\",\"\",'S1'!$X$21)","v":""},{"$f":"IF('S1'!$Y$21=\"\",\"\",'S1'!$Y$21)","v":""},{"$f":"IF('S1'!$Z$21=\"\",\"\",'S1'!$Z$21)","v":""},null,{"$f":"IF(VLOOKUP(U14,'S1'!$B$23:$Z$57,2,FALSE)=\"\",\"\",CONCATENATE(VLOOKUP(U14,'S1'!$B$23:$Z$57,2,FALSE),\" \",VLOOKUP(U14,'S1'!$B$23:$Z$57,3,FALSE)))","v":"- "}]
[]
[]
[]
[null,{"$f":"'S1'!$B$27","v":""},null,null,null,null,null,null,null,null,null,null,null,null,null,null,null,null,null,null,{"$f":"'S1'!$B$28","v":""}]
[null,null,null,null,null,null,null,null,null,null,null,null,null,null,null,"Summe",null,null,null,null,null,null,null,null,null,null,null,null,null,null,null,null,null,null,"Summe"]
[null,"Aufgabe",null,null,{"$f":"IF('S1'!$G$18=\"\",\"\",'S1'!$G$18)","v":1},{"$f":"IF('S1'!$H$18=\"\",\"\",'S1'!$H$18)","v":2},{"$f":"IF('S1'!$I$18=\"\",\"\",'S1'!$I$18)","v":3},{"$f":"IF('S1'!$J$18=\"\",\"\",'S1'!$J$18)","v":""},{"$f":"IF('S1'!$K$18=\"\",\"\",'S1'!$K$18)","v":""},{"$f":"IF('S1'!$L$18=\"\",\"\",'S1'!$L$18)","v":""},{"$f":"IF('S1'!$M$18=\"\",\"\",'S1'!$M$18)","v":""},{"$f":"IF('S1'!$N$18=\"\",\"\",'S1'!$N$18)","v":""},{"$f":"IF('S1'!$O$18=\"\",\"\",'S1'!$O$18)","v":""},{"$f":"IF('S1'!$P$18=\"\",\"\",'S1'!$P$18)","v":""},null,{"$f":"IF(VLOOKUP(B26,'S1'!$B$23:$Z$57,5,FALSE)=\"\",\"\",VLOOKUP(B26,'S1'!$B$23:$Z$57,5,FALSE))","v":0},null,null,null,null,"Aufgabe",null,null,{"$f":"IF('S1'!$G$18=\"\",\"\",'S1'!$G$18)","v":1},{"$f":"IF('S1'!$H$18=\"\",\"\",'S1'!$H$18)","v":2},{"$f":"IF('S1'!$I$18=\"\",\"\",'S1'!$I$18)","v":3},{"$f":"IF('S1'!$J$18=\"\",\"\",'S1'!$J$18)","v":""},{"$f":"IF('S1'!$K$18=\"\",\"\",'S1'!$K$18)","v":""},{"$f":"IF('S1'!$L$18=\"\",\"\",'S1'!$L$18)","v":""},{"$f":"IF('S1'!$M$18=\"\",\"\",'S1'!$M$18)","v":""},{"$f":"IF('S1'!$N$18=\"\",\"\",'S1'!$N$18)","v":""},{"$f":"IF('S1'!$O$18=\"\",\"\",'S1'!$O$18)","v":""},{"$f":"IF('S1'!$P$18=\"\",\"\",'S1'!$P$18)","v":""},null,{"$f":"IF(VLOOKUP(U26,'S1'!$B$23:$Z$57,5,FALSE)=\"\",\"\",VLOOKUP(U26,'S1'!$B$23:$Z$57,5,FALSE))","v":0}]
[null,"erreicht",null,null,{"$f":"IF(VLOOKUP(B26,'S1'!$B$23:$Z$57,6,FALSE)=\"\",\"\",VLOOKUP(B26,'S1'!$B$23:$Z$57,6,FALSE))","v":"."},{"$f":"IF(VLOOKUP(B26,'S1'!$B$23:$Z$57,7,FALSE)=\"\",\"\",VLOOKUP(B26,'S1'!$B$23:$Z$57,7,FALSE))","v":""},{"$f":"IF(VLOOKUP(B26,'S1'!$B$23:$Z$57,8,FALSE)=\"\",\"\",VLOOKUP(B26,'S1'!$B$23:$Z$57,8,FALSE))","v":""},{"$f":"IF(VLOOKUP(B26,'S1'!$B$23:$Z$57,9,FALSE)=\"\",\"\",VLOOKUP(B26,'S1'!$B$23:$Z$57,9,FALSE))","v":""},{"$f":"IF(VLOOKUP(B26,'S1'!$B$23:$Z$57,10,FALSE)=\"\",\"\",VLOOKUP(B26,'S1'!$B$23:$Z$57,10,FALSE))","v":""},{"$f":"IF(VLOOKUP(B26,'S1'!$B$23:$Z$57,11,FALSE)=\"\",\"\",VLOOKUP(B26,'S1'!$B$23:$Z$57,11,FALSE))","v":""},{"$f":"IF(VLOOKUP(B26,'S1'!$B$23:$Z$57,12,FALSE)=\"\",\"\",VLOOKUP(B26,'S1'!$B$23:$Z$57,12,FALSE))","v":""},{"$f":"IF(VLOOKUP(B26,'S1'!$B$23:$Z$57,13,FALSE)=\"\",\"\",VLOOKUP(B26,'S1'!$B$23:$Z$57,13,FALSE))","v":""},{"$f":"IF(VLOOKUP(B26,'S1'!$B$23:$Z$57,14,FALSE)=\"\",\"\",VLOOKUP(B26,'S1'!$B$23:$Z$57,14,FALSE))","v":""},{"$f":"IF(VLOOKUP(B26,'S1'!$B$23:$Z$57,15,FALSE)=\"\",\"\",VLOOKUP(B26,'S1'!$B$23:$Z$57,15,FALSE))","v":""},null,null,null,null,null,null,"erreicht",null,null,{"$f":"IF(VLOOKUP(U26,'S1'!$B$23:$Z$57,6,FALSE)=\"\",\"\",VLOOKUP(U26,'S1'!$B$23:$Z$57,6,FALSE))","v":"."},{"$f":"IF(VLOOKUP(U26,'S1'!$B$23:$Z$57,7,FALSE)=\"\",\"\",VLOOKUP(U26,'S1'!$B$23:$Z$57,7,FALSE))","v":""},{"$f":"IF(VLOOKUP(U26,'S1'!$B$23:$Z$57,8,FALSE)=\"\",\"\",VLOOKUP(U26,'S1'!$B$23:$Z$57,8,FALSE))","v":""},{"$f":"IF(VLOOKUP(U26,'S1'!$B$23:$Z$57,9,FALSE)=\"\",\"\",VLOOKUP(U26,'S1'!$B$23:$Z$57,9,FALSE))","v":""},{"$f":"IF(VLOOKUP(U26,'S1'!$B$23:$Z$57,10,FALSE)=\"\",\"\",VLOOKUP(U26,'S1'!$B$23:$Z$57,10,FALSE))","v":""},{"$f":"IF(VLOOKUP(U26,'S1'!$B$23:$Z$57,11,FALSE)=\"\",\"\",VLOOKUP(U26,'S1'!$B$23:$Z$57,11,FALSE))","v":""},{"$f":"IF(VLOOKUP(U26,'S1'!$B$23:$Z$57,12,FALSE)=\"\",\"\",VLOOKUP(U26,'S1'!$B$23:$Z$57,12,FALSE))","v":""},{"$f":"IF(VLOOKUP(U26,'S1'!$B$23:$Z$57,13,FALSE)=\"\",\"\",VLOOKUP(U26,'S1'!$B$23:$Z$57,13,FALSE))","v":""},{"$f":"IF(VLOOKUP(U26,'S1'!$B$23:$Z$57,14,FALSE)=\"\",\"\",VLOOKUP(U26,'S1'!$B$23:$Z$57,14,FALSE))","v":""},{"$f":"IF(VLOOKUP(U26,'S1'!$B$23:$Z$57,15,FALSE)=\"\",\"\",VLOOKUP(U26,'S1'!$B$23:$Z$57,15,FALSE))","v":""}]
[null,"von",null,null,{"$f":"IF('S1'!$G$21=\"\",\"\",'S1'!$G$21)","v":""},{"$f":"IF('S1'!$H$21=\"\",\"\",'S1'!$H$21)","v":""},{"$f":"IF('S1'!$I$21=\"\",\"\",'S1'!$I$21)","v":""},{"$f":"IF('S1'!$J$21=\"\",\"\",'S1'!$J$21)","v":""},{"$f":"IF('S1'!$K$21=\"\",\"\",'S1'!$K$21)","v":""},{"$f":"IF('S1'!$L$21=\"\",\"\",'S1'!$L$21)","v":""},{"$f":"IF('S1'!$M$21=\"\",\"\",'S1'!$M$21)","v":""},{"$f":"IF('S1'!$N$21=\"\",\"\",'S1'!$N$21)","v":""},{"$f":"IF('S1'!$O$21=\"\",\"\",'S1'!$O$21)","v":""},{"$f":"IF('S1'!$P$21=\"\",\"\",'S1'!$P$21)","v":""},null,"von",null,null,null,null,"von",null,null,{"$f":"IF('S1'!$G$21=\"\",\"\",'S1'!$G$21)","v":""},{"$f":"IF('S1'!$H$21=\"\",\"\",'S1'!$H$21)","v":""},{"$f":"IF('S1'!$I$21=\"\",\"\",'S1'!$I$21)","v":""},{"$f":"IF('S1'!$J$21=\"\",\"\",'S1'!$J$21)","v":""},{"$f":"IF('S1'!$K$21=\"\",\"\",'S1'!$K$21)","v":""},{"$f":"IF('S1'!$L$21=\"\",\"\",'S1'!$L$21)","v":""},{"$f":"IF('S1'!$M$21=\"\",\"\",'S1'!$M$21)","v":""},{"$f":"IF('S1'!$N$21=\"\",\"\",'S1'!$N$21)","v":""},{"$f":"IF('S1'!$O$21=\"\",\"\",'S1'!$O$21)","v":""},{"$f":"IF('S1'!$P$21=\"\",\"\",'S1'!$P$21)","v":""},null,"von"]
[null,null,null,null,null,null,null,null,null,null,null,null,null,null,null,{"$f":"'S1'!$H$12","v":0},null,null,null,null,null,null,null,null,null,null,null,null,null,null,null,null,null,null,{"$f":"'S1'!$H$12","v":0}]
[null,{"$f":"IF('S1'!$Q$18=\"\",\"\",\"Aufgabe\")","v":""},null,null,{"$f":"IF('S1'!$Q$18=\"\",\"\",'S1'!$Q$18)","v":""},{"$f":"IF('S1'!$R$18=\"\",\"\",'S1'!$R$18)","v":""},{"$f":"IF('S1'!$S$18=\"\",\"\",'S1'!$S$18)","v":""},{"$f":"IF('S1'!$T$18=\"\",\"\",'S1'!$T$18)","v":""},{"$f":"IF('S1'!$U$18=\"\",\"\",'S1'!$U$18)","v":""},{"$f":"IF('S1'!$V$18=\"\",\"\",'S1'!$V$18)","v":""},{"$f":"IF('S1'!$W$18=\"\",\"\",'S1'!$W$18)","v":""},{"$f":"IF('S1'!$X$18=\"\",\"\",'S1'!$X$18)","v":""},{"$f":"IF('S1'!$Y$18=\"\",\"\",'S1'!$Y$18)","v":""},{"$f":"IF('S1'!$Z$18=\"\",\"\",'S1'!$Z$18)","v":""},null,null,null,null,null,null,{"$f":"IF('S1'!$Q$18=\"\",\"\",\"Aufgabe\")","v":""},null,null,{"$f":"IF('S1'!$Q$18=\"\",\"\",'S1'!$Q$18)","v":""},{"$f":"IF('S1'!$R$18=\"\",\"\",'S1'!$R$18)","v":""},{"$f":"IF('S1'!$S$18=\"\",\"\",'S1'!$S$18)","v":""},{"$f":"IF('S1'!$T$18=\"\",\"\",'S1'!$T$18)","v":""},{"$f":"IF('S1'!$U$18=\"\",\"\",'S1'!$U$18)","v":""},{"$f":"IF('S1'!$V$18=\"\",\"\",'S1'!$V$18)","v":""},{"$f":"IF('S1'!$W$18=\"\",\"\",'S1'!$W$18)","v":""},{"$f":"IF('S1'!$X$18=\"\",\"\",'S1'!$X$18)","v":""},{"$f":"IF('S1'!$Y$18=\"\",\"\",'S1'!$Y$18)","v":""},{"$f":"IF('S1'!$Z$18=\"\",\"\",'S1'!$Z$18)","v":""}]
[null,{"$f":"IF('S1'!$Q$18=\"\",\"\",\"erreicht\")","v":""},null,null,{"$f":"IF(VLOOKUP(B26,'S1'!$B$23:$Z$57,16,FALSE)=\"\",\"\",VLOOKUP(B26,'S1'!$B$23:$Z$57,16,FALSE))","v":""},{"$f":"IF(VLOOKUP(B26,'S1'!$B$23:$Z$57,17,FALSE)=\"\",\"\",VLOOKUP(B26,'S1'!$B$23:$Z$57,17,FALSE))","v":""},{"$f":"IF(VLOOKUP(B26,'S1'!$B$23:$Z$57,18,FALSE)=\"\",\"\",VLOOKUP(B26,'S1'!$B$23:$Z$57,18,FALSE))","v":""},{"$f":"IF(VLOOKUP(B26,'S1'!$B$23:$Z$57,19,FALSE)=\"\",\"\",VLOOKUP(B26,'S1'!$B$23:$Z$57,19,FALSE))","v":""},{"$f":"IF(VLOOKUP(B26,'S1'!$B$23:$Z$57,20,FALSE)=\"\",\"\",VLOOKUP(B26,'S1'!$B$23:$Z$57,20,FALSE))","v":""},{"$f":"IF(VLOOKUP(B26,'S1'!$B$23:$Z$57,21,FALSE)=\"\",\"\",VLOOKUP(B26,'S1'!$B$23:$Z$57,21,FALSE))","v":""},{"$f":"IF(VLOOKUP(B26,'S1'!$B$23:$Z$57,22,FALSE)=\"\",\"\",VLOOKUP(B26,'S1'!$B$23:$Z$57,22,FALSE))","v":""},{"$f":"IF(VLOOKUP(B26,'S1'!$B$23:$Z$57,23,FALSE)=\"\",\"\",VLOOKUP(B26,'S1'!$B$23:$Z$57,23,FALSE))","v":""},{"$f":"IF(VLOOKUP(B26,'S1'!$B$23:$Z$57,24,FALSE)=\"\",\"\",VLOOKUP(B26,'S1'!$B$23:$Z$57,24,FALSE))","v":""},{"$f":"IF(VLOOKUP(B26,'S1'!$B$23:$Z$57,25,FALSE)=\"\",\"\",VLOOKUP(B26,'S1'!$B$23:$Z$57,25,FALSE))","v":""},null,"Note",null,null,null,null,{"$f":"IF('S1'!$Q$18=\"\",\"\",\"erreicht\")","v":""},null,null,{"$f":"IF(VLOOKUP(U26,'S1'!$B$23:$Z$57,16,FALSE)=\"\",\"\",VLOOKUP(U26,'S1'!$B$23:$Z$57,16,FALSE))","v":""},{"$f":"IF(VLOOKUP(U26,'S1'!$B$23:$Z$57,17,FALSE)=\"\",\"\",VLOOKUP(U26,'S1'!$B$23:$Z$57,17,FALSE))","v":""},{"$f":"IF(VLOOKUP(U26,'S1'!$B$23:$Z$57,18,FALSE)=\"\",\"\",VLOOKUP(U26,'S1'!$B$23:$Z$57,18,FALSE))","v":""},{"$f":"IF(VLOOKUP(U26,'S1'!$B$23:$Z$57,19,FALSE)=\"\",\"\",VLOOKUP(U26,'S1'!$B$23:$Z$57,19,FALSE))","v":""},{"$f":"IF(VLOOKUP(U26,'S1'!$B$23:$Z$57,20,FALSE)=\"\",\"\",VLOOKUP(U26,'S1'!$B$23:$Z$57,20,FALSE))","v":""},{"$f":"IF(VLOOKUP(U26,'S1'!$B$23:$Z$57,21,FALSE)=\"\",\"\",VLOOKUP(U26,'S1'!$B$23:$Z$57,21,FALSE))","v":""},{"$f":"IF(VLOOKUP(U26,'S1'!$B$23:$Z$57,22,FALSE)=\"\",\"\",VLOOKUP(U26,'S1'!$B$23:$Z$57,22,FALSE))","v":""},{"$f":"IF(VLOOKUP(U26,'S1'!$B$23:$Z$57,23,FALSE)=\"\",\"\",VLOOKUP(U26,'S1'!$B$23:$Z$57,23,FALSE))","v":""},{"$f":"IF(VLOOKUP(U26,'S1'!$B$23:$Z$57,24,FALSE)=\"\",\"\",VLOOKUP(U26,'S1'!$B$23:$Z$57,24,FALSE))","v":""},{"$f":"IF(VLOOKUP(U26,'S1'!$B$23:$Z$57,25,FALSE)=\"\",\"\",VLOOKUP(U26,'S1'!$B$23:$Z$57,25,FALSE))","v":""},null,"Note"]
[null,{"$f":"IF('S1'!$Q$18=\"\",\"\",\"von\")","v":""},null,null,{"$f":"IF('S1'!$Q$21=\"\",\"\",'S1'!$Q$21)","v":""},{"$f":"IF('S1'!$R$21=\"\",\"\",'S1'!$R$21)","v":""},{"$f":"IF('S1'!$S$21=\"\",\"\",'S1'!$S$21)","v":""},{"$f":"IF('S1'!$T$21=\"\",\"\",'S1'!$T$21)","v":""},{"$f":"IF('S1'!$U$21=\"\",\"\",'S1'!$U$21)","v":""},{"$f":"IF('S1'!$V$21=\"\",\"\",'S1'!$V$21)","v":""},{"$f":"IF('S1'!$W$21=\"\",\"\",'S1'!$W$21)","v":""},{"$f":"IF('S1'!$X$21=\"\",\"\",'S1'!$X$21)","v":""},{"$f":"IF('S1'!$Y$21=\"\",\"\",'S1'!$Y$21)","v":""},{"$f":"IF('S1'!$Z$21=\"\",\"\",'S1'!$Z$21)","v":""},null,{"$f":"IF(VLOOKUP(B26,'S1'!$B$23:$Z$57,2,FALSE)=\"\",\"\",CONCATENATE(VLOOKUP(B26,'S1'!$B$23:$Z$57,2,FALSE),\" \",VLOOKUP(B26,'S1'!$B$23:$Z$57,3,FALSE)))","v":"- "},null,null,null,null,{"$f":"IF('S1'!$Q$18=\"\",\"\",\"von\")","v":""},null,null,{"$f":"IF('S1'!$Q$21=\"\",\"\",'S1'!$Q$21)","v":""},{"$f":"IF('S1'!$R$21=\"\",\"\",'S1'!$R$21)","v":""},{"$f":"IF('S1'!$S$21=\"\",\"\",'S1'!$S$21)","v":""},{"$f":"IF('S1'!$T$21=\"\",\"\",'S1'!$T$21)","v":""},{"$f":"IF('S1'!$U$21=\"\",\"\",'S1'!$U$21)","v":""},{"$f":"IF('S1'!$V$21=\"\",\"\",'S1'!$V$21)","v":""},{"$f":"IF('S1'!$W$21=\"\",\"\",'S1'!$W$21)","v":""},{"$f":"IF('S1'!$X$21=\"\",\"\",'S1'!$X$21)","v":""},{"$f":"IF('S1'!$Y$21=\"\",\"\",'S1'!$Y$21)","v":""},{"$f":"IF('S1'!$Z$21=\"\",\"\",'S1'!$Z$21)","v":""},null,{"$f":"IF(VLOOKUP(U26,'S1'!$B$23:$Z$57,2,FALSE)=\"\",\"\",CONCATENATE(VLOOKUP(U26,'S1'!$B$23:$Z$57,2,FALSE),\" \",VLOOKUP(U26,'S1'!$B$23:$Z$57,3,FALSE)))","v":"- "}]
[]
[]
[]
[null,{"$f":"'S1'!$B$29","v":""},null,null,null,null,null,null,null,null,null,null,null,null,null,null,null,null,null,null,{"$f":"'S1'!$B$30","v":""}]
[null,null,null,null,null,null,null,null,null,null,null,null,null,null,null,"Summe",null,null,null,null,null,null,null,null,null,null,null,null,null,null,null,null,null,null,"Summe"]
[null,"Aufgabe",null,null,{"$f":"IF('S1'!$G$18=\"\",\"\",'S1'!$G$18)","v":1},{"$f":"IF('S1'!$H$18=\"\",\"\",'S1'!$H$18)","v":2},{"$f":"IF('S1'!$I$18=\"\",\"\",'S1'!$I$18)","v":3},{"$f":"IF('S1'!$J$18=\"\",\"\",'S1'!$J$18)","v":""},{"$f":"IF('S1'!$K$18=\"\",\"\",'S1'!$K$18)","v":""},{"$f":"IF('S1'!$L$18=\"\",\"\",'S1'!$L$18)","v":""},{"$f":"IF('S1'!$M$18=\"\",\"\",'S1'!$M$18)","v":""},{"$f":"IF('S1'!$N$18=\"\",\"\",'S1'!$N$18)","v":""},{"$f":"IF('S1'!$O$18=\"\",\"\",'S1'!$O$18)","v":""},{"$f":"IF('S1'!$P$18=\"\",\"\",'S1'!$P$18)","v":""},null,{"$f":"IF(VLOOKUP(B38,'S1'!$B$23:$Z$57,5,FALSE)=\"\",\"\",VLOOKUP(B38,'S1'!$B$23:$Z$57,5,FALSE))","v":0},null,null,null,null,"Aufgabe",null,null,{"$f":"IF('S1'!$G$18=\"\",\"\",'S1'!$G$18)","v":1},{"$f":"IF('S1'!$H$18=\"\",\"\",'S1'!$H$18)","v":2},{"$f":"IF('S1'!$I$18=\"\",\"\",'S1'!$I$18)","v":3},{"$f":"IF('S1'!$J$18=\"\",\"\",'S1'!$J$18)","v":""},{"$f":"IF('S1'!$K$18=\"\",\"\",'S1'!$K$18)","v":""},{"$f":"IF('S1'!$L$18=\"\",\"\",'S1'!$L$18)","v":""},{"$f":"IF('S1'!$M$18=\"\",\"\",'S1'!$M$18)","v":""},{"$f":"IF('S1'!$N$18=\"\",\"\",'S1'!$N$18)","v":""},{"$f":"IF('S1'!$O$18=\"\",\"\",'S1'!$O$18)","v":""},{"$f":"IF('S1'!$P$18=\"\",\"\",'S1'!$P$18)","v":""},null,{"$f":"IF(VLOOKUP(U38,'S1'!$B$23:$Z$57,5,FALSE)=\"\",\"\",VLOOKUP(U38,'S1'!$B$23:$Z$57,5,FALSE))","v":0}]
[null,"erreicht",null,null,{"$f":"IF(VLOOKUP(B38,'S1'!$B$23:$Z$57,6,FALSE)=\"\",\"\",VLOOKUP(B38,'S1'!$B$23:$Z$57,6,FALSE))","v":"."},{"$f":"IF(VLOOKUP(B38,'S1'!$B$23:$Z$57,7,FALSE)=\"\",\"\",VLOOKUP(B38,'S1'!$B$23:$Z$57,7,FALSE))","v":""},{"$f":"IF(VLOOKUP(B38,'S1'!$B$23:$Z$57,8,FALSE)=\"\",\"\",VLOOKUP(B38,'S1'!$B$23:$Z$57,8,FALSE))","v":""},{"$f":"IF(VLOOKUP(B38,'S1'!$B$23:$Z$57,9,FALSE)=\"\",\"\",VLOOKUP(B38,'S1'!$B$23:$Z$57,9,FALSE))","v":""},{"$f":"IF(VLOOKUP(B38,'S1'!$B$23:$Z$57,10,FALSE)=\"\",\"\",VLOOKUP(B38,'S1'!$B$23:$Z$57,10,FALSE))","v":""},{"$f":"IF(VLOOKUP(B38,'S1'!$B$23:$Z$57,11,FALSE)=\"\",\"\",VLOOKUP(B38,'S1'!$B$23:$Z$57,11,FALSE))","v":""},{"$f":"IF(VLOOKUP(B38,'S1'!$B$23:$Z$57,12,FALSE)=\"\",\"\",VLOOKUP(B38,'S1'!$B$23:$Z$57,12,FALSE))","v":""},{"$f":"IF(VLOOKUP(B38,'S1'!$B$23:$Z$57,13,FALSE)=\"\",\"\",VLOOKUP(B38,'S1'!$B$23:$Z$57,13,FALSE))","v":""},{"$f":"IF(VLOOKUP(B38,'S1'!$B$23:$Z$57,14,FALSE)=\"\",\"\",VLOOKUP(B38,'S1'!$B$23:$Z$57,14,FALSE))","v":""},{"$f":"IF(VLOOKUP(B38,'S1'!$B$23:$Z$57,15,FALSE)=\"\",\"\",VLOOKUP(B38,'S1'!$B$23:$Z$57,15,FALSE))","v":""},null,null,null,null,null,null,"erreicht",null,null,{"$f":"IF(VLOOKUP(U38,'S1'!$B$23:$Z$57,6,FALSE)=\"\",\"\",VLOOKUP(U38,'S1'!$B$23:$Z$57,6,FALSE))","v":"."},{"$f":"IF(VLOOKUP(U38,'S1'!$B$23:$Z$57,7,FALSE)=\"\",\"\",VLOOKUP(U38,'S1'!$B$23:$Z$57,7,FALSE))","v":""},{"$f":"IF(VLOOKUP(U38,'S1'!$B$23:$Z$57,8,FALSE)=\"\",\"\",VLOOKUP(U38,'S1'!$B$23:$Z$57,8,FALSE))","v":""},{"$f":"IF(VLOOKUP(U38,'S1'!$B$23:$Z$57,9,FALSE)=\"\",\"\",VLOOKUP(U38,'S1'!$B$23:$Z$57,9,FALSE))","v":""},{"$f":"IF(VLOOKUP(U38,'S1'!$B$23:$Z$57,10,FALSE)=\"\",\"\",VLOOKUP(U38,'S1'!$B$23:$Z$57,10,FALSE))","v":""},{"$f":"IF(VLOOKUP(U38,'S1'!$B$23:$Z$57,11,FALSE)=\"\",\"\",VLOOKUP(U38,'S1'!$B$23:$Z$57,11,FALSE))","v":""},{"$f":"IF(VLOOKUP(U38,'S1'!$B$23:$Z$57,12,FALSE)=\"\",\"\",VLOOKUP(U38,'S1'!$B$23:$Z$57,12,FALSE))","v":""},{"$f":"IF(VLOOKUP(U38,'S1'!$B$23:$Z$57,13,FALSE)=\"\",\"\",VLOOKUP(U38,'S1'!$B$23:$Z$57,13,FALSE))","v":""},{"$f":"IF(VLOOKUP(U38,'S1'!$B$23:$Z$57,14,FALSE)=\"\",\"\",VLOOKUP(U38,'S1'!$B$23:$Z$57,14,FALSE))","v":""},{"$f":"IF(VLOOKUP(U38,'S1'!$B$23:$Z$57,15,FALSE)=\"\",\"\",VLOOKUP(U38,'S1'!$B$23:$Z$57,15,FALSE))","v":""}]
[null,"von",null,null,{"$f":"IF('S1'!$G$21=\"\",\"\",'S1'!$G$21)","v":""},{"$f":"IF('S1'!$H$21=\"\",\"\",'S1'!$H$21)","v":""},{"$f":"IF('S1'!$I$21=\"\",\"\",'S1'!$I$21)","v":""},{"$f":"IF('S1'!$J$21=\"\",\"\",'S1'!$J$21)","v":""},{"$f":"IF('S1'!$K$21=\"\",\"\",'S1'!$K$21)","v":""},{"$f":"IF('S1'!$L$21=\"\",\"\",'S1'!$L$21)","v":""},{"$f":"IF('S1'!$M$21=\"\",\"\",'S1'!$M$21)","v":""},{"$f":"IF('S1'!$N$21=\"\",\"\",'S1'!$N$21)","v":""},{"$f":"IF('S1'!$O$21=\"\",\"\",'S1'!$O$21)","v":""},{"$f":"IF('S1'!$P$21=\"\",\"\",'S1'!$P$21)","v":""},null,"von",null,null,null,null,"von",null,null,{"$f":"IF('S1'!$G$21=\"\",\"\",'S1'!$G$21)","v":""},{"$f":"IF('S1'!$H$21=\"\",\"\",'S1'!$H$21)","v":""},{"$f":"IF('S1'!$I$21=\"\",\"\",'S1'!$I$21)","v":""},{"$f":"IF('S1'!$J$21=\"\",\"\",'S1'!$J$21)","v":""},{"$f":"IF('S1'!$K$21=\"\",\"\",'S1'!$K$21)","v":""},{"$f":"IF('S1'!$L$21=\"\",\"\",'S1'!$L$21)","v":""},{"$f":"IF('S1'!$M$21=\"\",\"\",'S1'!$M$21)","v":""},{"$f":"IF('S1'!$N$21=\"\",\"\",'S1'!$N$21)","v":""},{"$f":"IF('S1'!$O$21=\"\",\"\",'S1'!$O$21)","v":""},{"$f":"IF('S1'!$P$21=\"\",\"\",'S1'!$P$21)","v":""},null,"von"]
[null,null,null,null,null,null,null,null,null,null,null,null,null,null,null,{"$f":"'S1'!$H$12","v":0},null,null,null,null,null,null,null,null,null,null,null,null,null,null,null,null,null,null,{"$f":"'S1'!$H$12","v":0}]
[null,{"$f":"IF('S1'!$Q$18=\"\",\"\",\"Aufgabe\")","v":""},null,null,{"$f":"IF('S1'!$Q$18=\"\",\"\",'S1'!$Q$18)","v":""},{"$f":"IF('S1'!$R$18=\"\",\"\",'S1'!$R$18)","v":""},{"$f":"IF('S1'!$S$18=\"\",\"\",'S1'!$S$18)","v":""},{"$f":"IF('S1'!$T$18=\"\",\"\",'S1'!$T$18)","v":""},{"$f":"IF('S1'!$U$18=\"\",\"\",'S1'!$U$18)","v":""},{"$f":"IF('S1'!$V$18=\"\",\"\",'S1'!$V$18)","v":""},{"$f":"IF('S1'!$W$18=\"\",\"\",'S1'!$W$18)","v":""},{"$f":"IF('S1'!$X$18=\"\",\"\",'S1'!$X$18)","v":""},{"$f":"IF('S1'!$Y$18=\"\",\"\",'S1'!$Y$18)","v":""},{"$f":"IF('S1'!$Z$18=\"\",\"\",'S1'!$Z$18)","v":""},null,null,null,null,null,null,{"$f":"IF('S1'!$Q$18=\"\",\"\",\"Aufgabe\")","v":""},null,null,{"$f":"IF('S1'!$Q$18=\"\",\"\",'S1'!$Q$18)","v":""},{"$f":"IF('S1'!$R$18=\"\",\"\",'S1'!$R$18)","v":""},{"$f":"IF('S1'!$S$18=\"\",\"\",'S1'!$S$18)","v":""},{"$f":"IF('S1'!$T$18=\"\",\"\",'S1'!$T$18)","v":""},{"$f":"IF('S1'!$U$18=\"\",\"\",'S1'!$U$18)","v":""},{"$f":"IF('S1'!$V$18=\"\",\"\",'S1'!$V$18)","v":""},{"$f":"IF('S1'!$W$18=\"\",\"\",'S1'!$W$18)","v":""},{"$f":"IF('S1'!$X$18=\"\",\"\",'S1'!$X$18)","v":""},{"$f":"IF('S1'!$Y$18=\"\",\"\",'S1'!$Y$18)","v":""},{"$f":"IF('S1'!$Z$18=\"\",\"\",'S1'!$Z$18)","v":""}]
[null,{"$f":"IF('S1'!$Q$18=\"\",\"\",\"erreicht\")","v":""},null,null,{"$f":"IF(VLOOKUP(B38,'S1'!$B$23:$Z$57,16,FALSE)=\"\",\"\",VLOOKUP(B38,'S1'!$B$23:$Z$57,16,FALSE))","v":""},{"$f":"IF(VLOOKUP(B38,'S1'!$B$23:$Z$57,17,FALSE)=\"\",\"\",VLOOKUP(B38,'S1'!$B$23:$Z$57,17,FALSE))","v":""},{"$f":"IF(VLOOKUP(B38,'S1'!$B$23:$Z$57,18,FALSE)=\"\",\"\",VLOOKUP(B38,'S1'!$B$23:$Z$57,18,FALSE))","v":""},{"$f":"IF(VLOOKUP(B38,'S1'!$B$23:$Z$57,19,FALSE)=\"\",\"\",VLOOKUP(B38,'S1'!$B$23:$Z$57,19,FALSE))","v":""},{"$f":"IF(VLOOKUP(B38,'S1'!$B$23:$Z$57,20,FALSE)=\"\",\"\",VLOOKUP(B38,'S1'!$B$23:$Z$57,20,FALSE))","v":""},{"$f":"IF(VLOOKUP(B38,'S1'!$B$23:$Z$57,21,FALSE)=\"\",\"\",VLOOKUP(B38,'S1'!$B$23:$Z$57,21,FALSE))","v":""},{"$f":"IF(VLOOKUP(B38,'S1'!$B$23:$Z$57,22,FALSE)=\"\",\"\",VLOOKUP(B38,'S1'!$B$23:$Z$57,22,FALSE))","v":""},{"$f":"IF(VLOOKUP(B38,'S1'!$B$23:$Z$57,23,FALSE)=\"\",\"\",VLOOKUP(B38,'S1'!$B$23:$Z$57,23,FALSE))","v":""},{"$f":"IF(VLOOKUP(B38,'S1'!$B$23:$Z$57,24,FALSE)=\"\",\"\",VLOOKUP(B38,'S1'!$B$23:$Z$57,24,FALSE))","v":""},{"$f":"IF(VLOOKUP(B38,'S1'!$B$23:$Z$57,25,FALSE)=\"\",\"\",VLOOKUP(B38,'S1'!$B$23:$Z$57,25,FALSE))","v":""},null,"Note",null,null,null,null,{"$f":"IF('S1'!$Q$18=\"\",\"\",\"erreicht\")","v":""},null,null,{"$f":"IF(VLOOKUP(U38,'S1'!$B$23:$Z$57,16,FALSE)=\"\",\"\",VLOOKUP(U38,'S1'!$B$23:$Z$57,16,FALSE))","v":""},{"$f":"IF(VLOOKUP(U38,'S1'!$B$23:$Z$57,17,FALSE)=\"\",\"\",VLOOKUP(U38,'S1'!$B$23:$Z$57,17,FALSE))","v":""},{"$f":"IF(VLOOKUP(U38,'S1'!$B$23:$Z$57,18,FALSE)=\"\",\"\",VLOOKUP(U38,'S1'!$B$23:$Z$57,18,FALSE))","v":""},{"$f":"IF(VLOOKUP(U38,'S1'!$B$23:$Z$57,19,FALSE)=\"\",\"\",VLOOKUP(U38,'S1'!$B$23:$Z$57,19,FALSE))","v":""},{"$f":"IF(VLOOKUP(U38,'S1'!$B$23:$Z$57,20,FALSE)=\"\",\"\",VLOOKUP(U38,'S1'!$B$23:$Z$57,20,FALSE))","v":""},{"$f":"IF(VLOOKUP(U38,'S1'!$B$23:$Z$57,21,FALSE)=\"\",\"\",VLOOKUP(U38,'S1'!$B$23:$Z$57,21,FALSE))","v":""},{"$f":"IF(VLOOKUP(U38,'S1'!$B$23:$Z$57,22,FALSE)=\"\",\"\",VLOOKUP(U38,'S1'!$B$23:$Z$57,22,FALSE))","v":""},{"$f":"IF(VLOOKUP(U38,'S1'!$B$23:$Z$57,23,FALSE)=\"\",\"\",VLOOKUP(U38,'S1'!$B$23:$Z$57,23,FALSE))","v":""},{"$f":"IF(VLOOKUP(U38,'S1'!$B$23:$Z$57,24,FALSE)=\"\",\"\",VLOOKUP(U38,'S1'!$B$23:$Z$57,24,FALSE))","v":""},{"$f":"IF(VLOOKUP(U38,'S1'!$B$23:$Z$57,25,FALSE)=\"\",\"\",VLOOKUP(U38,'S1'!$B$23:$Z$57,25,FALSE))","v":""},null,"Note"]
[null,{"$f":"IF('S1'!$Q$18=\"\",\"\",\"von\")","v":""},null,null,{"$f":"IF('S1'!$Q$21=\"\",\"\",'S1'!$Q$21)","v":""},{"$f":"IF('S1'!$R$21=\"\",\"\",'S1'!$R$21)","v":""},{"$f":"IF('S1'!$S$21=\"\",\"\",'S1'!$S$21)","v":""},{"$f":"IF('S1'!$T$21=\"\",\"\",'S1'!$T$21)","v":""},{"$f":"IF('S1'!$U$21=\"\",\"\",'S1'!$U$21)","v":""},{"$f":"IF('S1'!$V$21=\"\",\"\",'S1'!$V$21)","v":""},{"$f":"IF('S1'!$W$21=\"\",\"\",'S1'!$W$21)","v":""},{"$f":"IF('S1'!$X$21=\"\",\"\",'S1'!$X$21)","v":""},{"$f":"IF('S1'!$Y$21=\"\",\"\",'S1'!$Y$21)","v":""},{"$f":"IF('S1'!$Z$21=\"\",\"\",'S1'!$Z$21)","v":""},null,{"$f":"IF(VLOOKUP(B38,'S1'!$B$23:$Z$57,2,FALSE)=\"\",\"\",CONCATENATE(VLOOKUP(B38,'S1'!$B$23:$Z$57,2,FALSE),\" \",VLOOKUP(B38,'S1'!$B$23:$Z$57,3,FALSE)))","v":"- "},null,null,null,null,{"$f":"IF('S1'!$Q$18=\"\",\"\",\"von\")","v":""},null,null,{"$f":"IF('S1'!$Q$21=\"\",\"\",'S1'!$Q$21)","v":""},{"$f":"IF('S1'!$R$21=\"\",\"\",'S1'!$R$21)","v":""},{"$f":"IF('S1'!$S$21=\"\",\"\",'S1'!$S$21)","v":""},{"$f":"IF('S1'!$T$21=\"\",\"\",'S1'!$T$21)","v":""},{"$f":"IF('S1'!$U$21=\"\",\"\",'S1'!$U$21)","v":""},{"$f":"IF('S1'!$V$21=\"\",\"\",'S1'!$V$21)","v":""},{"$f":"IF('S1'!$W$21=\"\",\"\",'S1'!$W$21)","v":""},{"$f":"IF('S1'!$X$21=\"\",\"\",'S1'!$X$21)","v":""},{"$f":"IF('S1'!$Y$21=\"\",\"\",'S1'!$Y$21)","v":""},{"$f":"IF('S1'!$Z$21=\"\",\"\",'S1'!$Z$21)","v":""},null,{"$f":"IF(VLOOKUP(U38,'S1'!$B$23:$Z$57,2,FALSE)=\"\",\"\",CONCATENATE(VLOOKUP(U38,'S1'!$B$23:$Z$57,2,FALSE),\" \",VLOOKUP(U38,'S1'!$B$23:$Z$57,3,FALSE)))","v":"- "}]
[]
[]
[]
[null,{"$f":"'S1'!$B$31","v":""},null,null,null,null,null,null,null,null,null,null,null,null,null,null,null,null,null,null,{"$f":"'S1'!$B$32","v":""}]
[null,null,null,null,null,null,null,null,null,null,null,null,null,null,null,"Summe",null,null,null,null,null,null,null,null,null,null,null,null,null,null,null,null,null,null,"Summe"]
[null,"Aufgabe",null,null,{"$f":"IF('S1'!$G$18=\"\",\"\",'S1'!$G$18)","v":1},{"$f":"IF('S1'!$H$18=\"\",\"\",'S1'!$H$18)","v":2},{"$f":"IF('S1'!$I$18=\"\",\"\",'S1'!$I$18)","v":3},{"$f":"IF('S1'!$J$18=\"\",\"\",'S1'!$J$18)","v":""},{"$f":"IF('S1'!$K$18=\"\",\"\",'S1'!$K$18)","v":""},{"$f":"IF('S1'!$L$18=\"\",\"\",'S1'!$L$18)","v":""},{"$f":"IF('S1'!$M$18=\"\",\"\",'S1'!$M$18)","v":""},{"$f":"IF('S1'!$N$18=\"\",\"\",'S1'!$N$18)","v":""},{"$f":"IF('S1'!$O$18=\"\",\"\",'S1'!$O$18)","v":""},{"$f":"IF('S1'!$P$18=\"\",\"\",'S1'!$P$18)","v":""},null,{"$f":"IF(VLOOKUP(B50,'S1'!$B$23:$Z$57,5,FALSE)=\"\",\"\",VLOOKUP(B50,'S1'!$B$23:$Z$57,5,FALSE))","v":0},null,null,null,null,"Aufgabe",null,null,{"$f":"IF('S1'!$G$18=\"\",\"\",'S1'!$G$18)","v":1},{"$f":"IF('S1'!$H$18=\"\",\"\",'S1'!$H$18)","v":2},{"$f":"IF('S1'!$I$18=\"\",\"\",'S1'!$I$18)","v":3},{"$f":"IF('S1'!$J$18=\"\",\"\",'S1'!$J$18)","v":""},{"$f":"IF('S1'!$K$18=\"\",\"\",'S1'!$K$18)","v":""},{"$f":"IF('S1'!$L$18=\"\",\"\",'S1'!$L$18)","v":""},{"$f":"IF('S1'!$M$18=\"\",\"\",'S1'!$M$18)","v":""},{"$f":"IF('S1'!$N$18=\"\",\"\",'S1'!$N$18)","v":""},{"$f":"IF('S1'!$O$18=\"\",\"\",'S1'!$O$18)","v":""},{"$f":"IF('S1'!$P$18=\"\",\"\",'S1'!$P$18)","v":""},null,{"$f":"IF(VLOOKUP(U50,'S1'!$B$23:$Z$57,5,FALSE)=\"\",\"\",VLOOKUP(U50,'S1'!$B$23:$Z$57,5,FALSE))","v":0}]
[null,"erreicht",null,null,{"$f":"IF(VLOOKUP(B50,'S1'!$B$23:$Z$57,6,FALSE)=\"\",\"\",VLOOKUP(B50,'S1'!$B$23:$Z$57,6,FALSE))","v":"."},{"$f":"IF(VLOOKUP(B50,'S1'!$B$23:$Z$57,7,FALSE)=\"\",\"\",VLOOKUP(B50,'S1'!$B$23:$Z$57,7,FALSE))","v":""},{"$f":"IF(VLOOKUP(B50,'S1'!$B$23:$Z$57,8,FALSE)=\"\",\"\",VLOOKUP(B50,'S1'!$B$23:$Z$57,8,FALSE))","v":""},{"$f":"IF(VLOOKUP(B50,'S1'!$B$23:$Z$57,9,FALSE)=\"\",\"\",VLOOKUP(B50,'S1'!$B$23:$Z$57,9,FALSE))","v":""},{"$f":"IF(VLOOKUP(B50,'S1'!$B$23:$Z$57,10,FALSE)=\"\",\"\",VLOOKUP(B50,'S1'!$B$23:$Z$57,10,FALSE))","v":""},{"$f":"IF(VLOOKUP(B50,'S1'!$B$23:$Z$57,11,FALSE)=\"\",\"\",VLOOKUP(B50,'S1'!$B$23:$Z$57,11,FALSE))","v":""},{"$f":"IF(VLOOKUP(B50,'S1'!$B$23:$Z$57,12,FALSE)=\"\",\"\",VLOOKUP(B50,'S1'!$B$23:$Z$57,12,FALSE))","v":""},{"$f":"IF(VLOOKUP(B50,'S1'!$B$23:$Z$57,13,FALSE)=\"\",\"\",VLOOKUP(B50,'S1'!$B$23:$Z$57,13,FALSE))","v":""},{"$f":"IF(VLOOKUP(B50,'S1'!$B$23:$Z$57,14,FALSE)=\"\",\"\",VLOOKUP(B50,'S1'!$B$23:$Z$57,14,FALSE))","v":""},{"$f":"IF(VLOOKUP(B50,'S1'!$B$23:$Z$57,15,FALSE)=\"\",\"\",VLOOKUP(B50,'S1'!$B$23:$Z$57,15,FALSE))","v":""},null,null,null,null,null,null,"erreicht",null,null,{"$f":"IF(VLOOKUP(U50,'S1'!$B$23:$Z$57,6,FALSE)=\"\",\"\",VLOOKUP(U50,'S1'!$B$23:$Z$57,6,FALSE))","v":"."},{"$f":"IF(VLOOKUP(U50,'S1'!$B$23:$Z$57,7,FALSE)=\"\",\"\",VLOOKUP(U50,'S1'!$B$23:$Z$57,7,FALSE))","v":""},{"$f":"IF(VLOOKUP(U50,'S1'!$B$23:$Z$57,8,FALSE)=\"\",\"\",VLOOKUP(U50,'S1'!$B$23:$Z$57,8,FALSE))","v":""},{"$f":"IF(VLOOKUP(U50,'S1'!$B$23:$Z$57,9,FALSE)=\"\",\"\",VLOOKUP(U50,'S1'!$B$23:$Z$57,9,FALSE))","v":""},{"$f":"IF(VLOOKUP(U50,'S1'!$B$23:$Z$57,10,FALSE)=\"\",\"\",VLOOKUP(U50,'S1'!$B$23:$Z$57,10,FALSE))","v":""},{"$f":"IF(VLOOKUP(U50,'S1'!$B$23:$Z$57,11,FALSE)=\"\",\"\",VLOOKUP(U50,'S1'!$B$23:$Z$57,11,FALSE))","v":""},{"$f":"IF(VLOOKUP(U50,'S1'!$B$23:$Z$57,12,FALSE)=\"\",\"\",VLOOKUP(U50,'S1'!$B$23:$Z$57,12,FALSE))","v":""},{"$f":"IF(VLOOKUP(U50,'S1'!$B$23:$Z$57,13,FALSE)=\"\",\"\",VLOOKUP(U50,'S1'!$B$23:$Z$57,13,FALSE))","v":""},{"$f":"IF(VLOOKUP(U50,'S1'!$B$23:$Z$57,14,FALSE)=\"\",\"\",VLOOKUP(U50,'S1'!$B$23:$Z$57,14,FALSE))","v":""},{"$f":"IF(VLOOKUP(U50,'S1'!$B$23:$Z$57,15,FALSE)=\"\",\"\",VLOOKUP(U50,'S1'!$B$23:$Z$57,15,FALSE))","v":""}]
[null,"von",null,null,{"$f":"IF('S1'!$G$21=\"\",\"\",'S1'!$G$21)","v":""},{"$f":"IF('S1'!$H$21=\"\",\"\",'S1'!$H$21)","v":""},{"$f":"IF('S1'!$I$21=\"\",\"\",'S1'!$I$21)","v":""},{"$f":"IF('S1'!$J$21=\"\",\"\",'S1'!$J$21)","v":""},{"$f":"IF('S1'!$K$21=\"\",\"\",'S1'!$K$21)","v":""},{"$f":"IF('S1'!$L$21=\"\",\"\",'S1'!$L$21)","v":""},{"$f":"IF('S1'!$M$21=\"\",\"\",'S1'!$M$21)","v":""},{"$f":"IF('S1'!$N$21=\"\",\"\",'S1'!$N$21)","v":""},{"$f":"IF('S1'!$O$21=\"\",\"\",'S1'!$O$21)","v":""},{"$f":"IF('S1'!$P$21=\"\",\"\",'S1'!$P$21)","v":""},null,"von",null,null,null,null,"von",null,null,{"$f":"IF('S1'!$G$21=\"\",\"\",'S1'!$G$21)","v":""},{"$f":"IF('S1'!$H$21=\"\",\"\",'S1'!$H$21)","v":""},{"$f":"IF('S1'!$I$21=\"\",\"\",'S1'!$I$21)","v":""},{"$f":"IF('S1'!$J$21=\"\",\"\",'S1'!$J$21)","v":""},{"$f":"IF('S1'!$K$21=\"\",\"\",'S1'!$K$21)","v":""},{"$f":"IF('S1'!$L$21=\"\",\"\",'S1'!$L$21)","v":""},{"$f":"IF('S1'!$M$21=\"\",\"\",'S1'!$M$21)","v":""},{"$f":"IF('S1'!$N$21=\"\",\"\",'S1'!$N$21)","v":""},{"$f":"IF('S1'!$O$21=\"\",\"\",'S1'!$O$21)","v":""},{"$f":"IF('S1'!$P$21=\"\",\"\",'S1'!$P$21)","v":""},null,"von"]
[null,null,null,null,null,null,null,null,null,null,null,null,null,null,null,{"$f":"'S1'!$H$12","v":0},null,null,null,null,null,null,null,null,null,null,null,null,null,null,null,null,null,null,{"$f":"'S1'!$H$12","v":0}]
[null,{"$f":"IF('S1'!$Q$18=\"\",\"\",\"Aufgabe\")","v":""},null,null,{"$f":"IF('S1'!$Q$18=\"\",\"\",'S1'!$Q$18)","v":""},{"$f":"IF('S1'!$R$18=\"\",\"\",'S1'!$R$18)","v":""},{"$f":"IF('S1'!$S$18=\"\",\"\",'S1'!$S$18)","v":""},{"$f":"IF('S1'!$T$18=\"\",\"\",'S1'!$T$18)","v":""},{"$f":"IF('S1'!$U$18=\"\",\"\",'S1'!$U$18)","v":""},{"$f":"IF('S1'!$V$18=\"\",\"\",'S1'!$V$18)","v":""},{"$f":"IF('S1'!$W$18=\"\",\"\",'S1'!$W$18)","v":""},{"$f":"IF('S1'!$X$18=\"\",\"\",'S1'!$X$18)","v":""},{"$f":"IF('S1'!$Y$18=\"\",\"\",'S1'!$Y$18)","v":""},{"$f":"IF('S1'!$Z$18=\"\",\"\",'S1'!$Z$18)","v":""},null,null,null,null,null,null,{"$f":"IF('S1'!$Q$18=\"\",\"\",\"Aufgabe\")","v":""},null,null,{"$f":"IF('S1'!$Q$18=\"\",\"\",'S1'!$Q$18)","v":""},{"$f":"IF('S1'!$R$18=\"\",\"\",'S1'!$R$18)","v":""},{"$f":"IF('S1'!$S$18=\"\",\"\",'S1'!$S$18)","v":""},{"$f":"IF('S1'!$T$18=\"\",\"\",'S1'!$T$18)","v":""},{"$f":"IF('S1'!$U$18=\"\",\"\",'S1'!$U$18)","v":""},{"$f":"IF('S1'!$V$18=\"\",\"\",'S1'!$V$18)","v":""},{"$f":"IF('S1'!$W$18=\"\",\"\",'S1'!$W$18)","v":""},{"$f":"IF('S1'!$X$18=\"\",\"\",'S1'!$X$18)","v":""},{"$f":"IF('S1'!$Y$18=\"\",\"\",'S1'!$Y$18)","v":""},{"$f":"IF('S1'!$Z$18=\"\",\"\",'S1'!$Z$18)","v":""}]
[null,{"$f":"IF('S1'!$Q$18=\"\",\"\",\"erreicht\")","v":""},null,null,{"$f":"IF(VLOOKUP(B50,'S1'!$B$23:$Z$57,16,FALSE)=\"\",\"\",VLOOKUP(B50,'S1'!$B$23:$Z$57,16,FALSE))","v":""},{"$f":"IF(VLOOKUP(B50,'S1'!$B$23:$Z$57,17,FALSE)=\"\",\"\",VLOOKUP(B50,'S1'!$B$23:$Z$57,17,FALSE))","v":""},{"$f":"IF(VLOOKUP(B50,'S1'!$B$23:$Z$57,18,FALSE)=\"\",\"\",VLOOKUP(B50,'S1'!$B$23:$Z$57,18,FALSE))","v":""},{"$f":"IF(VLOOKUP(B50,'S1'!$B$23:$Z$57,19,FALSE)=\"\",\"\",VLOOKUP(B50,'S1'!$B$23:$Z$57,19,FALSE))","v":""},{"$f":"IF(VLOOKUP(B50,'S1'!$B$23:$Z$57,20,FALSE)=\"\",\"\",VLOOKUP(B50,'S1'!$B$23:$Z$57,20,FALSE))","v":""},{"$f":"IF(VLOOKUP(B50,'S1'!$B$23:$Z$57,21,FALSE)=\"\",\"\",VLOOKUP(B50,'S1'!$B$23:$Z$57,21,FALSE))","v":""},{"$f":"IF(VLOOKUP(B50,'S1'!$B$23:$Z$57,22,FALSE)=\"\",\"\",VLOOKUP(B50,'S1'!$B$23:$Z$57,22,FALSE))","v":""},{"$f":"IF(VLOOKUP(B50,'S1'!$B$23:$Z$57,23,FALSE)=\"\",\"\",VLOOKUP(B50,'S1'!$B$23:$Z$57,23,FALSE))","v":""},{"$f":"IF(VLOOKUP(B50,'S1'!$B$23:$Z$57,24,FALSE)=\"\",\"\",VLOOKUP(B50,'S1'!$B$23:$Z$57,24,FALSE))","v":""},{"$f":"IF(VLOOKUP(B50,'S1'!$B$23:$Z$57,25,FALSE)=\"\",\"\",VLOOKUP(B50,'S1'!$B$23:$Z$57,25,FALSE))","v":""},null,"Note",null,null,null,null,{"$f":"IF('S1'!$Q$18=\"\",\"\",\"erreicht\")","v":""},null,null,{"$f":"IF(VLOOKUP(U50,'S1'!$B$23:$Z$57,16,FALSE)=\"\",\"\",VLOOKUP(U50,'S1'!$B$23:$Z$57,16,FALSE))","v":""},{"$f":"IF(VLOOKUP(U50,'S1'!$B$23:$Z$57,17,FALSE)=\"\",\"\",VLOOKUP(U50,'S1'!$B$23:$Z$57,17,FALSE))","v":""},{"$f":"IF(VLOOKUP(U50,'S1'!$B$23:$Z$57,18,FALSE)=\"\",\"\",VLOOKUP(U50,'S1'!$B$23:$Z$57,18,FALSE))","v":""},{"$f":"IF(VLOOKUP(U50,'S1'!$B$23:$Z$57,19,FALSE)=\"\",\"\",VLOOKUP(U50,'S1'!$B$23:$Z$57,19,FALSE))","v":""},{"$f":"IF(VLOOKUP(U50,'S1'!$B$23:$Z$57,20,FALSE)=\"\",\"\",VLOOKUP(U50,'S1'!$B$23:$Z$57,20,FALSE))","v":""},{"$f":"IF(VLOOKUP(U50,'S1'!$B$23:$Z$57,21,FALSE)=\"\",\"\",VLOOKUP(U50,'S1'!$B$23:$Z$57,21,FALSE))","v":""},{"$f":"IF(VLOOKUP(U50,'S1'!$B$23:$Z$57,22,FALSE)=\"\",\"\",VLOOKUP(U50,'S1'!$B$23:$Z$57,22,FALSE))","v":""},{"$f":"IF(VLOOKUP(U50,'S1'!$B$23:$Z$57,23,FALSE)=\"\",\"\",VLOOKUP(U50,'S1'!$B$23:$Z$57,23,FALSE))","v":""},{"$f":"IF(VLOOKUP(U50,'S1'!$B$23:$Z$57,24,FALSE)=\"\",\"\",VLOOKUP(U50,'S1'!$B$23:$Z$57,24,FALSE))","v":""},{"$f":"IF(VLOOKUP(U50,'S1'!$B$23:$Z$57,25,FALSE)=\"\",\"\",VLOOKUP(U50,'S1'!$B$23:$Z$57,25,FALSE))","v":""},null,"Note"]
[null,{"$f":"IF('S1'!$Q$18=\"\",\"\",\"von\")","v":""},null,null,{"$f":"IF('S1'!$Q$21=\"\",\"\",'S1'!$Q$21)","v":""},{"$f":"IF('S1'!$R$21=\"\",\"\",'S1'!$R$21)","v":""},{"$f":"IF('S1'!$S$21=\"\",\"\",'S1'!$S$21)","v":""},{"$f":"IF('S1'!$T$21=\"\",\"\",'S1'!$T$21)","v":""},{"$f":"IF('S1'!$U$21=\"\",\"\",'S1'!$U$21)","v":""},{"$f":"IF('S1'!$V$21=\"\",\"\",'S1'!$V$21)","v":""},{"$f":"IF('S1'!$W$21=\"\",\"\",'S1'!$W$21)","v":""},{"$f":"IF('S1'!$X$21=\"\",\"\",'S1'!$X$21)","v":""},{"$f":"IF('S1'!$Y$21=\"\",\"\",'S1'!$Y$21)","v":""},{"$f":"IF('S1'!$Z$21=\"\",\"\",'S1'!$Z$21)","v":""},null,{"$f":"IF(VLOOKUP(B50,'S1'!$B$23:$Z$57,2,FALSE)=\"\",\"\",CONCATENATE(VLOOKUP(B50,'S1'!$B$23:$Z$57,2,FALSE),\" \",VLOOKUP(B50,'S1'!$B$23:$Z$57,3,FALSE)))","v":"- "},null,null,null,null,{"$f":"IF('S1'!$Q$18=\"\",\"\",\"von\")","v":""},null,null,{"$f":"IF('S1'!$Q$21=\"\",\"\",'S1'!$Q$21)","v":""},{"$f":"IF('S1'!$R$21=\"\",\"\",'S1'!$R$21)","v":""},{"$f":"IF('S1'!$S$21=\"\",\"\",'S1'!$S$21)","v":""},{"$f":"IF('S1'!$T$21=\"\",\"\",'S1'!$T$21)","v":""},{"$f":"IF('S1'!$U$21=\"\",\"\",'S1'!$U$21)","v":""},{"$f":"IF('S1'!$V$21=\"\",\"\",'S1'!$V$21)","v":""},{"$f":"IF('S1'!$W$21=\"\",\"\",'S1'!$W$21)","v":""},{"$f":"IF('S1'!$X$21=\"\",\"\",'S1'!$X$21)","v":""},{"$f":"IF('S1'!$Y$21=\"\",\"\",'S1'!$Y$21)","v":""},{"$f":"IF('S1'!$Z$21=\"\",\"\",'S1'!$Z$21)","v":""},null,{"$f":"IF(VLOOKUP(U50,'S1'!$B$23:$Z$57,2,FALSE)=\"\",\"\",CONCATENATE(VLOOKUP(U50,'S1'!$B$23:$Z$57,2,FALSE),\" \",VLOOKUP(U50,'S1'!$B$23:$Z$57,3,FALSE)))","v":"- "}]
[]
[]
[]
[null,{"$f":"'S1'!$B$33","v":""},null,null,null,null,null,null,null,null,null,null,null,null,null,null,null,null,null,null,{"$f":"'S1'!$B$34","v":""}]
[null,null,null,null,null,null,null,null,null,null,null,null,null,null,null,"Summe",null,null,null,null,null,null,null,null,null,null,null,null,null,null,null,null,null,null,"Summe"]
[null,"Aufgabe",null,null,{"$f":"IF('S1'!$G$18=\"\",\"\",'S1'!$G$18)","v":1},{"$f":"IF('S1'!$H$18=\"\",\"\",'S1'!$H$18)","v":2},{"$f":"IF('S1'!$I$18=\"\",\"\",'S1'!$I$18)","v":3},{"$f":"IF('S1'!$J$18=\"\",\"\",'S1'!$J$18)","v":""},{"$f":"IF('S1'!$K$18=\"\",\"\",'S1'!$K$18)","v":""},{"$f":"IF('S1'!$L$18=\"\",\"\",'S1'!$L$18)","v":""},{"$f":"IF('S1'!$M$18=\"\",\"\",'S1'!$M$18)","v":""},{"$f":"IF('S1'!$N$18=\"\",\"\",'S1'!$N$18)","v":""},{"$f":"IF('S1'!$O$18=\"\",\"\",'S1'!$O$18)","v":""},{"$f":"IF('S1'!$P$18=\"\",\"\",'S1'!$P$18)","v":""},null,{"$f":"IF(VLOOKUP(B62,'S1'!$B$23:$Z$57,5,FALSE)=\"\",\"\",VLOOKUP(B62,'S1'!$B$23:$Z$57,5,FALSE))","v":0},null,null,null,null,"Aufgabe",null,null,{"$f":"IF('S1'!$G$18=\"\",\"\",'S1'!$G$18)","v":1},{"$f":"IF('S1'!$H$18=\"\",\"\",'S1'!$H$18)","v":2},{"$f":"IF('S1'!$I$18=\"\",\"\",'S1'!$I$18)","v":3},{"$f":"IF('S1'!$J$18=\"\",\"\",'S1'!$J$18)","v":""},{"$f":"IF('S1'!$K$18=\"\",\"\",'S1'!$K$18)","v":""},{"$f":"IF('S1'!$L$18=\"\",\"\",'S1'!$L$18)","v":""},{"$f":"IF('S1'!$M$18=\"\",\"\",'S1'!$M$18)","v":""},{"$f":"IF('S1'!$N$18=\"\",\"\",'S1'!$N$18)","v":""},{"$f":"IF('S1'!$O$18=\"\",\"\",'S1'!$O$18)","v":""},{"$f":"IF('S1'!$P$18=\"\",\"\",'S1'!$P$18)","v":""},null,{"$f":"IF(VLOOKUP(U62,'S1'!$B$23:$Z$57,5,FALSE)=\"\",\"\",VLOOKUP(U62,'S1'!$B$23:$Z$57,5,FALSE))","v":0}]
[null,"erreicht",null,null,{"$f":"IF(VLOOKUP(B62,'S1'!$B$23:$Z$57,6,FALSE)=\"\",\"\",VLOOKUP(B62,'S1'!$B$23:$Z$57,6,FALSE))","v":"."},{"$f":"IF(VLOOKUP(B62,'S1'!$B$23:$Z$57,7,FALSE)=\"\",\"\",VLOOKUP(B62,'S1'!$B$23:$Z$57,7,FALSE))","v":""},{"$f":"IF(VLOOKUP(B62,'S1'!$B$23:$Z$57,8,FALSE)=\"\",\"\",VLOOKUP(B62,'S1'!$B$23:$Z$57,8,FALSE))","v":""},{"$f":"IF(VLOOKUP(B62,'S1'!$B$23:$Z$57,9,FALSE)=\"\",\"\",VLOOKUP(B62,'S1'!$B$23:$Z$57,9,FALSE))","v":""},{"$f":"IF(VLOOKUP(B62,'S1'!$B$23:$Z$57,10,FALSE)=\"\",\"\",VLOOKUP(B62,'S1'!$B$23:$Z$57,10,FALSE))","v":""},{"$f":"IF(VLOOKUP(B62,'S1'!$B$23:$Z$57,11,FALSE)=\"\",\"\",VLOOKUP(B62,'S1'!$B$23:$Z$57,11,FALSE))","v":""},{"$f":"IF(VLOOKUP(B62,'S1'!$B$23:$Z$57,12,FALSE)=\"\",\"\",VLOOKUP(B62,'S1'!$B$23:$Z$57,12,FALSE))","v":""},{"$f":"IF(VLOOKUP(B62,'S1'!$B$23:$Z$57,13,FALSE)=\"\",\"\",VLOOKUP(B62,'S1'!$B$23:$Z$57,13,FALSE))","v":""},{"$f":"IF(VLOOKUP(B62,'S1'!$B$23:$Z$57,14,FALSE)=\"\",\"\",VLOOKUP(B62,'S1'!$B$23:$Z$57,14,FALSE))","v":""},{"$f":"IF(VLOOKUP(B62,'S1'!$B$23:$Z$57,15,FALSE)=\"\",\"\",VLOOKUP(B62,'S1'!$B$23:$Z$57,15,FALSE))","v":""},null,null,null,null,null,null,"erreicht",null,null,{"$f":"IF(VLOOKUP(U62,'S1'!$B$23:$Z$57,6,FALSE)=\"\",\"\",VLOOKUP(U62,'S1'!$B$23:$Z$57,6,FALSE))","v":"."},{"$f":"IF(VLOOKUP(U62,'S1'!$B$23:$Z$57,7,FALSE)=\"\",\"\",VLOOKUP(U62,'S1'!$B$23:$Z$57,7,FALSE))","v":""},{"$f":"IF(VLOOKUP(U62,'S1'!$B$23:$Z$57,8,FALSE)=\"\",\"\",VLOOKUP(U62,'S1'!$B$23:$Z$57,8,FALSE))","v":""},{"$f":"IF(VLOOKUP(U62,'S1'!$B$23:$Z$57,9,FALSE)=\"\",\"\",VLOOKUP(U62,'S1'!$B$23:$Z$57,9,FALSE))","v":""},{"$f":"IF(VLOOKUP(U62,'S1'!$B$23:$Z$57,10,FALSE)=\"\",\"\",VLOOKUP(U62,'S1'!$B$23:$Z$57,10,FALSE))","v":""},{"$f":"IF(VLOOKUP(U62,'S1'!$B$23:$Z$57,11,FALSE)=\"\",\"\",VLOOKUP(U62,'S1'!$B$23:$Z$57,11,FALSE))","v":""},{"$f":"IF(VLOOKUP(U62,'S1'!$B$23:$Z$57,12,FALSE)=\"\",\"\",VLOOKUP(U62,'S1'!$B$23:$Z$57,12,FALSE))","v":""},{"$f":"IF(VLOOKUP(U62,'S1'!$B$23:$Z$57,13,FALSE)=\"\",\"\",VLOOKUP(U62,'S1'!$B$23:$Z$57,13,FALSE))","v":""},{"$f":"IF(VLOOKUP(U62,'S1'!$B$23:$Z$57,14,FALSE)=\"\",\"\",VLOOKUP(U62,'S1'!$B$23:$Z$57,14,FALSE))","v":""},{"$f":"IF(VLOOKUP(U62,'S1'!$B$23:$Z$57,15,FALSE)=\"\",\"\",VLOOKUP(U62,'S1'!$B$23:$Z$57,15,FALSE))","v":""}]
[null,"von",null,null,{"$f":"IF('S1'!$G$21=\"\",\"\",'S1'!$G$21)","v":""},{"$f":"IF('S1'!$H$21=\"\",\"\",'S1'!$H$21)","v":""},{"$f":"IF('S1'!$I$21=\"\",\"\",'S1'!$I$21)","v":""},{"$f":"IF('S1'!$J$21=\"\",\"\",'S1'!$J$21)","v":""},{"$f":"IF('S1'!$K$21=\"\",\"\",'S1'!$K$21)","v":""},{"$f":"IF('S1'!$L$21=\"\",\"\",'S1'!$L$21)","v":""},{"$f":"IF('S1'!$M$21=\"\",\"\",'S1'!$M$21)","v":""},{"$f":"IF('S1'!$N$21=\"\",\"\",'S1'!$N$21)","v":""},{"$f":"IF('S1'!$O$21=\"\",\"\",'S1'!$O$21)","v":""},{"$f":"IF('S1'!$P$21=\"\",\"\",'S1'!$P$21)","v":""},null,"von",null,null,null,null,"von",null,null,{"$f":"IF('S1'!$G$21=\"\",\"\",'S1'!$G$21)","v":""},{"$f":"IF('S1'!$H$21=\"\",\"\",'S1'!$H$21)","v":""},{"$f":"IF('S1'!$I$21=\"\",\"\",'S1'!$I$21)","v":""},{"$f":"IF('S1'!$J$21=\"\",\"\",'S1'!$J$21)","v":""},{"$f":"IF('S1'!$K$21=\"\",\"\",'S1'!$K$21)","v":""},{"$f":"IF('S1'!$L$21=\"\",\"\",'S1'!$L$21)","v":""},{"$f":"IF('S1'!$M$21=\"\",\"\",'S1'!$M$21)","v":""},{"$f":"IF('S1'!$N$21=\"\",\"\",'S1'!$N$21)","v":""},{"$f":"IF('S1'!$O$21=\"\",\"\",'S1'!$O$21)","v":""},{"$f":"IF('S1'!$P$21=\"\",\"\",'S1'!$P$21)","v":""},null,"von"]
[null,null,null,null,null,null,null,null,null,null,null,null,null,null,null,{"$f":"'S1'!$H$12","v":0},null,null,null,null,null,null,null,null,null,null,null,null,null,null,null,null,null,null,{"$f":"'S1'!$H$12","v":0}]
[null,{"$f":"IF('S1'!$Q$18=\"\",\"\",\"Aufgabe\")","v":""},null,null,{"$f":"IF('S1'!$Q$18=\"\",\"\",'S1'!$Q$18)","v":""},{"$f":"IF('S1'!$R$18=\"\",\"\",'S1'!$R$18)","v":""},{"$f":"IF('S1'!$S$18=\"\",\"\",'S1'!$S$18)","v":""},{"$f":"IF('S1'!$T$18=\"\",\"\",'S1'!$T$18)","v":""},{"$f":"IF('S1'!$U$18=\"\",\"\",'S1'!$U$18)","v":""},{"$f":"IF('S1'!$V$18=\"\",\"\",'S1'!$V$18)","v":""},{"$f":"IF('S1'!$W$18=\"\",\"\",'S1'!$W$18)","v":""},{"$f":"IF('S1'!$X$18=\"\",\"\",'S1'!$X$18)","v":""},{"$f":"IF('S1'!$Y$18=\"\",\"\",'S1'!$Y$18)","v":""},{"$f":"IF('S1'!$Z$18=\"\",\"\",'S1'!$Z$18)","v":""},null,null,null,null,null,null,{"$f":"IF('S1'!$Q$18=\"\",\"\",\"Aufgabe\")","v":""},null,null,{"$f":"IF('S1'!$Q$18=\"\",\"\",'S1'!$Q$18)","v":""},{"$f":"IF('S1'!$R$18=\"\",\"\",'S1'!$R$18)","v":""},{"$f":"IF('S1'!$S$18=\"\",\"\",'S1'!$S$18)","v":""},{"$f":"IF('S1'!$T$18=\"\",\"\",'S1'!$T$18)","v":""},{"$f":"IF('S1'!$U$18=\"\",\"\",'S1'!$U$18)","v":""},{"$f":"IF('S1'!$V$18=\"\",\"\",'S1'!$V$18)","v":""},{"$f":"IF('S1'!$W$18=\"\",\"\",'S1'!$W$18)","v":""},{"$f":"IF('S1'!$X$18=\"\",\"\",'S1'!$X$18)","v":""},{"$f":"IF('S1'!$Y$18=\"\",\"\",'S1'!$Y$18)","v":""},{"$f":"IF('S1'!$Z$18=\"\",\"\",'S1'!$Z$18)","v":""}]
[null,{"$f":"IF('S1'!$Q$18=\"\",\"\",\"erreicht\")","v":""},null,null,{"$f":"IF(VLOOKUP(B62,'S1'!$B$23:$Z$57,16,FALSE)=\"\",\"\",VLOOKUP(B62,'S1'!$B$23:$Z$57,16,FALSE))","v":""},{"$f":"IF(VLOOKUP(B62,'S1'!$B$23:$Z$57,17,FALSE)=\"\",\"\",VLOOKUP(B62,'S1'!$B$23:$Z$57,17,FALSE))","v":""},{"$f":"IF(VLOOKUP(B62,'S1'!$B$23:$Z$57,18,FALSE)=\"\",\"\",VLOOKUP(B62,'S1'!$B$23:$Z$57,18,FALSE))","v":""},{"$f":"IF(VLOOKUP(B62,'S1'!$B$23:$Z$57,19,FALSE)=\"\",\"\",VLOOKUP(B62,'S1'!$B$23:$Z$57,19,FALSE))","v":""},{"$f":"IF(VLOOKUP(B62,'S1'!$B$23:$Z$57,20,FALSE)=\"\",\"\",VLOOKUP(B62,'S1'!$B$23:$Z$57,20,FALSE))","v":""},{"$f":"IF(VLOOKUP(B62,'S1'!$B$23:$Z$57,21,FALSE)=\"\",\"\",VLOOKUP(B62,'S1'!$B$23:$Z$57,21,FALSE))","v":""},{"$f":"IF(VLOOKUP(B62,'S1'!$B$23:$Z$57,22,FALSE)=\"\",\"\",VLOOKUP(B62,'S1'!$B$23:$Z$57,22,FALSE))","v":""},{"$f":"IF(VLOOKUP(B62,'S1'!$B$23:$Z$57,23,FALSE)=\"\",\"\",VLOOKUP(B62,'S1'!$B$23:$Z$57,23,FALSE))","v":""},{"$f":"IF(VLOOKUP(B62,'S1'!$B$23:$Z$57,24,FALSE)=\"\",\"\",VLOOKUP(B62,'S1'!$B$23:$Z$57,24,FALSE))","v":""},{"$f":"IF(VLOOKUP(B62,'S1'!$B$23:$Z$57,25,FALSE)=\"\",\"\",VLOOKUP(B62,'S1'!$B$23:$Z$57,25,FALSE))","v":""},null,"Note",null,null,null,null,{"$f":"IF('S1'!$Q$18=\"\",\"\",\"erreicht\")","v":""},null,null,{"$f":"IF(VLOOKUP(U62,'S1'!$B$23:$Z$57,16,FALSE)=\"\",\"\",VLOOKUP(U62,'S1'!$B$23:$Z$57,16,FALSE))","v":""},{"$f":"IF(VLOOKUP(U62,'S1'!$B$23:$Z$57,17,FALSE)=\"\",\"\",VLOOKUP(U62,'S1'!$B$23:$Z$57,17,FALSE))","v":""},{"$f":"IF(VLOOKUP(U62,'S1'!$B$23:$Z$57,18,FALSE)=\"\",\"\",VLOOKUP(U62,'S1'!$B$23:$Z$57,18,FALSE))","v":""},{"$f":"IF(VLOOKUP(U62,'S1'!$B$23:$Z$57,19,FALSE)=\"\",\"\",VLOOKUP(U62,'S1'!$B$23:$Z$57,19,FALSE))","v":""},{"$f":"IF(VLOOKUP(U62,'S1'!$B$23:$Z$57,20,FALSE)=\"\",\"\",VLOOKUP(U62,'S1'!$B$23:$Z$57,20,FALSE))","v":""},{"$f":"IF(VLOOKUP(U62,'S1'!$B$23:$Z$57,21,FALSE)=\"\",\"\",VLOOKUP(U62,'S1'!$B$23:$Z$57,21,FALSE))","v":""},{"$f":"IF(VLOOKUP(U62,'S1'!$B$23:$Z$57,22,FALSE)=\"\",\"\",VLOOKUP(U62,'S1'!$B$23:$Z$57,22,FALSE))","v":""},{"$f":"IF(VLOOKUP(U62,'S1'!$B$23:$Z$57,23,FALSE)=\"\",\"\",VLOOKUP(U62,'S1'!$B$23:$Z$57,23,FALSE))","v":""},{"$f":"IF(VLOOKUP(U62,'S1'!$B$23:$Z$57,24,FALSE)=\"\",\"\",VLOOKUP(U62,'S1'!$B$23:$Z$57,24,FALSE))","v":""},{"$f":"IF(VLOOKUP(U62,'S1'!$B$23:$Z$57,25,FALSE)=\"\",\"\",VLOOKUP(U62,'S1'!$B$23:$Z$57,25,FALSE))","v":""},null,"Note"]
[null,{"$f":"IF('S1'!$Q$18=\"\",\"\",\"von\")","v":""},null,null,{"$f":"IF('S1'!$Q$21=\"\",\"\",'S1'!$Q$21)","v":""},{"$f":"IF('S1'!$R$21=\"\",\"\",'S1'!$R$21)","v":""},{"$f":"IF('S1'!$S$21=\"\",\"\",'S1'!$S$21)","v":""},{"$f":"IF('S1'!$T$21=\"\",\"\",'S1'!$T$21)","v":""},{"$f":"IF('S1'!$U$21=\"\",\"\",'S1'!$U$21)","v":""},{"$f":"IF('S1'!$V$21=\"\",\"\",'S1'!$V$21)","v":""},{"$f":"IF('S1'!$W$21=\"\",\"\",'S1'!$W$21)","v":""},{"$f":"IF('S1'!$X$21=\"\",\"\",'S1'!$X$21)","v":""},{"$f":"IF('S1'!$Y$21=\"\",\"\",'S1'!$Y$21)","v":""},{"$f":"IF('S1'!$Z$21=\"\",\"\",'S1'!$Z$21)","v":""},null,{"$f":"IF(VLOOKUP(B62,'S1'!$B$23:$Z$57,2,FALSE)=\"\",\"\",CONCATENATE(VLOOKUP(B62,'S1'!$B$23:$Z$57,2,FALSE),\" \",VLOOKUP(B62,'S1'!$B$23:$Z$57,3,FALSE)))","v":"- "},null,null,null,null,{"$f":"IF('S1'!$Q$18=\"\",\"\",\"von\")","v":""},null,null,{"$f":"IF('S1'!$Q$21=\"\",\"\",'S1'!$Q$21)","v":""},{"$f":"IF('S1'!$R$21=\"\",\"\",'S1'!$R$21)","v":""},{"$f":"IF('S1'!$S$21=\"\",\"\",'S1'!$S$21)","v":""},{"$f":"IF('S1'!$T$21=\"\",\"\",'S1'!$T$21)","v":""},{"$f":"IF('S1'!$U$21=\"\",\"\",'S1'!$U$21)","v":""},{"$f":"IF('S1'!$V$21=\"\",\"\",'S1'!$V$21)","v":""},{"$f":"IF('S1'!$W$21=\"\",\"\",'S1'!$W$21)","v":""},{"$f":"IF('S1'!$X$21=\"\",\"\",'S1'!$X$21)","v":""},{"$f":"IF('S1'!$Y$21=\"\",\"\",'S1'!$Y$21)","v":""},{"$f":"IF('S1'!$Z$21=\"\",\"\",'S1'!$Z$21)","v":""},null,{"$f":"IF(VLOOKUP(U62,'S1'!$B$23:$Z$57,2,FALSE)=\"\",\"\",CONCATENATE(VLOOKUP(U62,'S1'!$B$23:$Z$57,2,FALSE),\" \",VLOOKUP(U62,'S1'!$B$23:$Z$57,3,FALSE)))","v":"- "}]
[]
[]
[null,{"$f":"'S1'!$B$35","v":""},null,null,null,null,null,null,null,null,null,null,null,null,null,null,null,null,null,null,{"$f":"'S1'!$B$36","v":""}]
[null,null,null,null,null,null,null,null,null,null,null,null,null,null,null,"Summe",null,null,null,null,null,null,null,null,null,null,null,null,null,null,null,null,null,null,"Summe"]
[null,"Aufgabe",null,null,{"$f":"IF('S1'!$G$18=\"\",\"\",'S1'!$G$18)","v":1},{"$f":"IF('S1'!$H$18=\"\",\"\",'S1'!$H$18)","v":2},{"$f":"IF('S1'!$I$18=\"\",\"\",'S1'!$I$18)","v":3},{"$f":"IF('S1'!$J$18=\"\",\"\",'S1'!$J$18)","v":""},{"$f":"IF('S1'!$K$18=\"\",\"\",'S1'!$K$18)","v":""},{"$f":"IF('S1'!$L$18=\"\",\"\",'S1'!$L$18)","v":""},{"$f":"IF('S1'!$M$18=\"\",\"\",'S1'!$M$18)","v":""},{"$f":"IF('S1'!$N$18=\"\",\"\",'S1'!$N$18)","v":""},{"$f":"IF('S1'!$O$18=\"\",\"\",'S1'!$O$18)","v":""},{"$f":"IF('S1'!$P$18=\"\",\"\",'S1'!$P$18)","v":""},null,{"$f":"IF(VLOOKUP(B73,'S1'!$B$23:$Z$57,5,FALSE)=\"\",\"\",VLOOKUP(B73,'S1'!$B$23:$Z$57,5,FALSE))","v":0},null,null,null,null,"Aufgabe",null,null,{"$f":"IF('S1'!$G$18=\"\",\"\",'S1'!$G$18)","v":1},{"$f":"IF('S1'!$H$18=\"\",\"\",'S1'!$H$18)","v":2},{"$f":"IF('S1'!$I$18=\"\",\"\",'S1'!$I$18)","v":3},{"$f":"IF('S1'!$J$18=\"\",\"\",'S1'!$J$18)","v":""},{"$f":"IF('S1'!$K$18=\"\",\"\",'S1'!$K$18)","v":""},{"$f":"IF('S1'!$L$18=\"\",\"\",'S1'!$L$18)","v":""},{"$f":"IF('S1'!$M$18=\"\",\"\",'S1'!$M$18)","v":""},{"$f":"IF('S1'!$N$18=\"\",\"\",'S1'!$N$18)","v":""},{"$f":"IF('S1'!$O$18=\"\",\"\",'S1'!$O$18)","v":""},{"$f":"IF('S1'!$P$18=\"\",\"\",'S1'!$P$18)","v":""},null,{"$f":"IF(VLOOKUP(U73,'S1'!$B$23:$Z$57,5,FALSE)=\"\",\"\",VLOOKUP(U73,'S1'!$B$23:$Z$57,5,FALSE))","v":0}]
[null,"erreicht",null,null,{"$f":"IF(VLOOKUP(B73,'S1'!$B$23:$Z$57,6,FALSE)=\"\",\"\",VLOOKUP(B73,'S1'!$B$23:$Z$57,6,FALSE))","v":"."},{"$f":"IF(VLOOKUP(B73,'S1'!$B$23:$Z$57,7,FALSE)=\"\",\"\",VLOOKUP(B73,'S1'!$B$23:$Z$57,7,FALSE))","v":""},{"$f":"IF(VLOOKUP(B73,'S1'!$B$23:$Z$57,8,FALSE)=\"\",\"\",VLOOKUP(B73,'S1'!$B$23:$Z$57,8,FALSE))","v":""},{"$f":"IF(VLOOKUP(B73,'S1'!$B$23:$Z$57,9,FALSE)=\"\",\"\",VLOOKUP(B73,'S1'!$B$23:$Z$57,9,FALSE))","v":""},{"$f":"IF(VLOOKUP(B73,'S1'!$B$23:$Z$57,10,FALSE)=\"\",\"\",VLOOKUP(B73,'S1'!$B$23:$Z$57,10,FALSE))","v":""},{"$f":"IF(VLOOKUP(B73,'S1'!$B$23:$Z$57,11,FALSE)=\"\",\"\",VLOOKUP(B73,'S1'!$B$23:$Z$57,11,FALSE))","v":""},{"$f":"IF(VLOOKUP(B73,'S1'!$B$23:$Z$57,12,FALSE)=\"\",\"\",VLOOKUP(B73,'S1'!$B$23:$Z$57,12,FALSE))","v":""},{"$f":"IF(VLOOKUP(B73,'S1'!$B$23:$Z$57,13,FALSE)=\"\",\"\",VLOOKUP(B73,'S1'!$B$23:$Z$57,13,FALSE))","v":""},{"$f":"IF(VLOOKUP(B73,'S1'!$B$23:$Z$57,14,FALSE)=\"\",\"\",VLOOKUP(B73,'S1'!$B$23:$Z$57,14,FALSE))","v":""},{"$f":"IF(VLOOKUP(B73,'S1'!$B$23:$Z$57,15,FALSE)=\"\",\"\",VLOOKUP(B73,'S1'!$B$23:$Z$57,15,FALSE))","v":""},null,null,null,null,null,null,"erreicht",null,null,{"$f":"IF(VLOOKUP(U73,'S1'!$B$23:$Z$57,6,FALSE)=\"\",\"\",VLOOKUP(U73,'S1'!$B$23:$Z$57,6,FALSE))","v":"."},{"$f":"IF(VLOOKUP(U73,'S1'!$B$23:$Z$57,7,FALSE)=\"\",\"\",VLOOKUP(U73,'S1'!$B$23:$Z$57,7,FALSE))","v":""},{"$f":"IF(VLOOKUP(U73,'S1'!$B$23:$Z$57,8,FALSE)=\"\",\"\",VLOOKUP(U73,'S1'!$B$23:$Z$57,8,FALSE))","v":""},{"$f":"IF(VLOOKUP(U73,'S1'!$B$23:$Z$57,9,FALSE)=\"\",\"\",VLOOKUP(U73,'S1'!$B$23:$Z$57,9,FALSE))","v":""},{"$f":"IF(VLOOKUP(U73,'S1'!$B$23:$Z$57,10,FALSE)=\"\",\"\",VLOOKUP(U73,'S1'!$B$23:$Z$57,10,FALSE))","v":""},{"$f":"IF(VLOOKUP(U73,'S1'!$B$23:$Z$57,11,FALSE)=\"\",\"\",VLOOKUP(U73,'S1'!$B$23:$Z$57,11,FALSE))","v":""},{"$f":"IF(VLOOKUP(U73,'S1'!$B$23:$Z$57,12,FALSE)=\"\",\"\",VLOOKUP(U73,'S1'!$B$23:$Z$57,12,FALSE))","v":""},{"$f":"IF(VLOOKUP(U73,'S1'!$B$23:$Z$57,13,FALSE)=\"\",\"\",VLOOKUP(U73,'S1'!$B$23:$Z$57,13,FALSE))","v":""},{"$f":"IF(VLOOKUP(U73,'S1'!$B$23:$Z$57,14,FALSE)=\"\",\"\",VLOOKUP(U73,'S1'!$B$23:$Z$57,14,FALSE))","v":""},{"$f":"IF(VLOOKUP(U73,'S1'!$B$23:$Z$57,15,FALSE)=\"\",\"\",VLOOKUP(U73,'S1'!$B$23:$Z$57,15,FALSE))","v":""}]
[null,"von",null,null,{"$f":"IF('S1'!$G$21=\"\",\"\",'S1'!$G$21)","v":""},{"$f":"IF('S1'!$H$21=\"\",\"\",'S1'!$H$21)","v":""},{"$f":"IF('S1'!$I$21=\"\",\"\",'S1'!$I$21)","v":""},{"$f":"IF('S1'!$J$21=\"\",\"\",'S1'!$J$21)","v":""},{"$f":"IF('S1'!$K$21=\"\",\"\",'S1'!$K$21)","v":""},{"$f":"IF('S1'!$L$21=\"\",\"\",'S1'!$L$21)","v":""},{"$f":"IF('S1'!$M$21=\"\",\"\",'S1'!$M$21)","v":""},{"$f":"IF('S1'!$N$21=\"\",\"\",'S1'!$N$21)","v":""},{"$f":"IF('S1'!$O$21=\"\",\"\",'S1'!$O$21)","v":""},{"$f":"IF('S1'!$P$21=\"\",\"\",'S1'!$P$21)","v":""},null,"von",null,null,null,null,"von",null,null,{"$f":"IF('S1'!$G$21=\"\",\"\",'S1'!$G$21)","v":""},{"$f":"IF('S1'!$H$21=\"\",\"\",'S1'!$H$21)","v":""},{"$f":"IF('S1'!$I$21=\"\",\"\",'S1'!$I$21)","v":""},{"$f":"IF('S1'!$J$21=\"\",\"\",'S1'!$J$21)","v":""},{"$f":"IF('S1'!$K$21=\"\",\"\",'S1'!$K$21)","v":""},{"$f":"IF('S1'!$L$21=\"\",\"\",'S1'!$L$21)","v":""},{"$f":"IF('S1'!$M$21=\"\",\"\",'S1'!$M$21)","v":""},{"$f":"IF('S1'!$N$21=\"\",\"\",'S1'!$N$21)","v":""},{"$f":"IF('S1'!$O$21=\"\",\"\",'S1'!$O$21)","v":""},{"$f":"IF('S1'!$P$21=\"\",\"\",'S1'!$P$21)","v":""},null,"von"]
[null,null,null,null,null,null,null,null,null,null,null,null,null,null,null,{"$f":"'S1'!$H$12","v":0},null,null,null,null,null,null,null,null,null,null,null,null,null,null,null,null,null,null,{"$f":"'S1'!$H$12","v":0}]
[null,{"$f":"IF('S1'!$Q$18=\"\",\"\",\"Aufgabe\")","v":""},null,null,{"$f":"IF('S1'!$Q$18=\"\",\"\",'S1'!$Q$18)","v":""},{"$f":"IF('S1'!$R$18=\"\",\"\",'S1'!$R$18)","v":""},{"$f":"IF('S1'!$S$18=\"\",\"\",'S1'!$S$18)","v":""},{"$f":"IF('S1'!$T$18=\"\",\"\",'S1'!$T$18)","v":""},{"$f":"IF('S1'!$U$18=\"\",\"\",'S1'!$U$18)","v":""},{"$f":"IF('S1'!$V$18=\"\",\"\",'S1'!$V$18)","v":""},{"$f":"IF('S1'!$W$18=\"\",\"\",'S1'!$W$18)","v":""},{"$f":"IF('S1'!$X$18=\"\",\"\",'S1'!$X$18)","v":""},{"$f":"IF('S1'!$Y$18=\"\",\"\",'S1'!$Y$18)","v":""},{"$f":"IF('S1'!$Z$18=\"\",\"\",'S1'!$Z$18)","v":""},null,null,null,null,null,null,{"$f":"IF('S1'!$Q$18=\"\",\"\",\"Aufgabe\")","v":""},null,null,{"$f":"IF('S1'!$Q$18=\"\",\"\",'S1'!$Q$18)","v":""},{"$f":"IF('S1'!$R$18=\"\",\"\",'S1'!$R$18)","v":""},{"$f":"IF('S1'!$S$18=\"\",\"\",'S1'!$S$18)","v":""},{"$f":"IF('S1'!$T$18=\"\",\"\",'S1'!$T$18)","v":""},{"$f":"IF('S1'!$U$18=\"\",\"\",'S1'!$U$18)","v":""},{"$f":"IF('S1'!$V$18=\"\",\"\",'S1'!$V$18)","v":""},{"$f":"IF('S1'!$W$18=\"\",\"\",'S1'!$W$18)","v":""},{"$f":"IF('S1'!$X$18=\"\",\"\",'S1'!$X$18)","v":""},{"$f":"IF('S1'!$Y$18=\"\",\"\",'S1'!$Y$18)","v":""},{"$f":"IF('S1'!$Z$18=\"\",\"\",'S1'!$Z$18)","v":""}]
[null,{"$f":"IF('S1'!$Q$18=\"\",\"\",\"erreicht\")","v":""},null,null,{"$f":"IF(VLOOKUP(B73,'S1'!$B$23:$Z$57,16,FALSE)=\"\",\"\",VLOOKUP(B73,'S1'!$B$23:$Z$57,16,FALSE))","v":""},{"$f":"IF(VLOOKUP(B73,'S1'!$B$23:$Z$57,17,FALSE)=\"\",\"\",VLOOKUP(B73,'S1'!$B$23:$Z$57,17,FALSE))","v":""},{"$f":"IF(VLOOKUP(B73,'S1'!$B$23:$Z$57,18,FALSE)=\"\",\"\",VLOOKUP(B73,'S1'!$B$23:$Z$57,18,FALSE))","v":""},{"$f":"IF(VLOOKUP(B73,'S1'!$B$23:$Z$57,19,FALSE)=\"\",\"\",VLOOKUP(B73,'S1'!$B$23:$Z$57,19,FALSE))","v":""},{"$f":"IF(VLOOKUP(B73,'S1'!$B$23:$Z$57,20,FALSE)=\"\",\"\",VLOOKUP(B73,'S1'!$B$23:$Z$57,20,FALSE))","v":""},{"$f":"IF(VLOOKUP(B73,'S1'!$B$23:$Z$57,21,FALSE)=\"\",\"\",VLOOKUP(B73,'S1'!$B$23:$Z$57,21,FALSE))","v":""},{"$f":"IF(VLOOKUP(B73,'S1'!$B$23:$Z$57,22,FALSE)=\"\",\"\",VLOOKUP(B73,'S1'!$B$23:$Z$57,22,FALSE))","v":""},{"$f":"IF(VLOOKUP(B73,'S1'!$B$23:$Z$57,23,FALSE)=\"\",\"\",VLOOKUP(B73,'S1'!$B$23:$Z$57,23,FALSE))","v":""},{"$f":"IF(VLOOKUP(B73,'S1'!$B$23:$Z$57,24,FALSE)=\"\",\"\",VLOOKUP(B73,'S1'!$B$23:$Z$57,24,FALSE))","v":""},{"$f":"IF(VLOOKUP(B73,'S1'!$B$23:$Z$57,25,FALSE)=\"\",\"\",VLOOKUP(B73,'S1'!$B$23:$Z$57,25,FALSE))","v":""},null,"Note",null,null,null,null,{"$f":"IF('S1'!$Q$18=\"\",\"\",\"erreicht\")","v":""},null,null,{"$f":"IF(VLOOKUP(U73,'S1'!$B$23:$Z$57,16,FALSE)=\"\",\"\",VLOOKUP(U73,'S1'!$B$23:$Z$57,16,FALSE))","v":""},{"$f":"IF(VLOOKUP(U73,'S1'!$B$23:$Z$57,17,FALSE)=\"\",\"\",VLOOKUP(U73,'S1'!$B$23:$Z$57,17,FALSE))","v":""},{"$f":"IF(VLOOKUP(U73,'S1'!$B$23:$Z$57,18,FALSE)=\"\",\"\",VLOOKUP(U73,'S1'!$B$23:$Z$57,18,FALSE))","v":""},{"$f":"IF(VLOOKUP(U73,'S1'!$B$23:$Z$57,19,FALSE)=\"\",\"\",VLOOKUP(U73,'S1'!$B$23:$Z$57,19,FALSE))","v":""},{"$f":"IF(VLOOKUP(U73,'S1'!$B$23:$Z$57,20,FALSE)=\"\",\"\",VLOOKUP(U73,'S1'!$B$23:$Z$57,20,FALSE))","v":""},{"$f":"IF(VLOOKUP(U73,'S1'!$B$23:$Z$57,21,FALSE)=\"\",\"\",VLOOKUP(U73,'S1'!$B$23:$Z$57,21,FALSE))","v":""},{"$f":"IF(VLOOKUP(U73,'S1'!$B$23:$Z$57,22,FALSE)=\"\",\"\",VLOOKUP(U73,'S1'!$B$23:$Z$57,22,FALSE))","v":""},{"$f":"IF(VLOOKUP(U73,'S1'!$B$23:$Z$57,23,FALSE)=\"\",\"\",VLOOKUP(U73,'S1'!$B$23:$Z$57,23,FALSE))","v":""},{"$f":"IF(VLOOKUP(U73,'S1'!$B$23:$Z$57,24,FALSE)=\"\",\"\",VLOOKUP(U73,'S1'!$B$23:$Z$57,24,FALSE))","v":""},{"$f":"IF(VLOOKUP(U73,'S1'!$B$23:$Z$57,25,FALSE)=\"\",\"\",VLOOKUP(U73,'S1'!$B$23:$Z$57,25,FALSE))","v":""},null,"Note"]
[null,{"$f":"IF('S1'!$Q$18=\"\",\"\",\"von\")","v":""},null,null,{"$f":"IF('S1'!$Q$21=\"\",\"\",'S1'!$Q$21)","v":""},{"$f":"IF('S1'!$R$21=\"\",\"\",'S1'!$R$21)","v":""},{"$f":"IF('S1'!$S$21=\"\",\"\",'S1'!$S$21)","v":""},{"$f":"IF('S1'!$T$21=\"\",\"\",'S1'!$T$21)","v":""},{"$f":"IF('S1'!$U$21=\"\",\"\",'S1'!$U$21)","v":""},{"$f":"IF('S1'!$V$21=\"\",\"\",'S1'!$V$21)","v":""},{"$f":"IF('S1'!$W$21=\"\",\"\",'S1'!$W$21)","v":""},{"$f":"IF('S1'!$X$21=\"\",\"\",'S1'!$X$21)","v":""},{"$f":"IF('S1'!$Y$21=\"\",\"\",'S1'!$Y$21)","v":""},{"$f":"IF('S1'!$Z$21=\"\",\"\",'S1'!$Z$21)","v":""},null,{"$f":"IF(VLOOKUP(B73,'S1'!$B$23:$Z$57,2,FALSE)=\"\",\"\",CONCATENATE(VLOOKUP(B73,'S1'!$B$23:$Z$57,2,FALSE),\" \",VLOOKUP(B73,'S1'!$B$23:$Z$57,3,FALSE)))","v":"- "},null,null,null,null,{"$f":"IF('S1'!$Q$18=\"\",\"\",\"von\")","v":""},null,null,{"$f":"IF('S1'!$Q$21=\"\",\"\",'S1'!$Q$21)","v":""},{"$f":"IF('S1'!$R$21=\"\",\"\",'S1'!$R$21)","v":""},{"$f":"IF('S1'!$S$21=\"\",\"\",'S1'!$S$21)","v":""},{"$f":"IF('S1'!$T$21=\"\",\"\",'S1'!$T$21)","v":""},{"$f":"IF('S1'!$U$21=\"\",\"\",'S1'!$U$21)","v":""},{"$f":"IF('S1'!$V$21=\"\",\"\",'S1'!$V$21)","v":""},{"$f":"IF('S1'!$W$21=\"\",\"\",'S1'!$W$21)","v":""},{"$f":"IF('S1'!$X$21=\"\",\"\",'S1'!$X$21)","v":""},{"$f":"IF('S1'!$Y$21=\"\",\"\",'S1'!$Y$21)","v":""},{"$f":"IF('S1'!$Z$21=\"\",\"\",'S1'!$Z$21)","v":""},null,{"$f":"IF(VLOOKUP(U73,'S1'!$B$23:$Z$57,2,FALSE)=\"\",\"\",CONCATENATE(VLOOKUP(U73,'S1'!$B$23:$Z$57,2,FALSE),\" \",VLOOKUP(U73,'S1'!$B$23:$Z$57,3,FALSE)))","v":"- "}]
[]
[]
[]
[null,{"$f":"'S1'!$B$37","v":""},null,null,null,null,null,null,null,null,null,null,null,null,null,null,null,null,null,null,{"$f":"'S1'!$B$38","v":""}]
[null,null,null,null,null,null,null,null,null,null,null,null,null,null,null,"Summe",null,null,null,null,null,null,null,null,null,null,null,null,null,null,null,null,null,null,"Summe"]
[null,"Aufgabe",null,null,{"$f":"IF('S1'!$G$18=\"\",\"\",'S1'!$G$18)","v":1},{"$f":"IF('S1'!$H$18=\"\",\"\",'S1'!$H$18)","v":2},{"$f":"IF('S1'!$I$18=\"\",\"\",'S1'!$I$18)","v":3},{"$f":"IF('S1'!$J$18=\"\",\"\",'S1'!$J$18)","v":""},{"$f":"IF('S1'!$K$18=\"\",\"\",'S1'!$K$18)","v":""},{"$f":"IF('S1'!$L$18=\"\",\"\",'S1'!$L$18)","v":""},{"$f":"IF('S1'!$M$18=\"\",\"\",'S1'!$M$18)","v":""},{"$f":"IF('S1'!$N$18=\"\",\"\",'S1'!$N$18)","v":""},{"$f":"IF('S1'!$O$18=\"\",\"\",'S1'!$O$18)","v":""},{"$f":"IF('S1'!$P$18=\"\",\"\",'S1'!$P$18)","v":""},null,{"$f":"IF(VLOOKUP(B85,'S1'!$B$23:$Z$57,5,FALSE)=\"\",\"\",VLOOKUP(B85,'S1'!$B$23:$Z$57,5,FALSE))","v":0},null,null,null,null,"Aufgabe",null,null,{"$f":"IF('S1'!$G$18=\"\",\"\",'S1'!$G$18)","v":1},{"$f":"IF('S1'!$H$18=\"\",\"\",'S1'!$H$18)","v":2},{"$f":"IF('S1'!$I$18=\"\",\"\",'S1'!$I$18)","v":3},{"$f":"IF('S1'!$J$18=\"\",\"\",'S1'!$J$18)","v":""},{"$f":"IF('S1'!$K$18=\"\",\"\",'S1'!$K$18)","v":""},{"$f":"IF('S1'!$L$18=\"\",\"\",'S1'!$L$18)","v":""},{"$f":"IF('S1'!$M$18=\"\",\"\",'S1'!$M$18)","v":""},{"$f":"IF('S1'!$N$18=\"\",\"\",'S1'!$N$18)","v":""},{"$f":"IF('S1'!$O$18=\"\",\"\",'S1'!$O$18)","v":""},{"$f":"IF('S1'!$P$18=\"\",\"\",'S1'!$P$18)","v":""},null,{"$f":"IF(VLOOKUP(U85,'S1'!$B$23:$Z$57,5,FALSE)=\"\",\"\",VLOOKUP(U85,'S1'!$B$23:$Z$57,5,FALSE))","v":0}]
[null,"erreicht",null,null,{"$f":"IF(VLOOKUP(B85,'S1'!$B$23:$Z$57,6,FALSE)=\"\",\"\",VLOOKUP(B85,'S1'!$B$23:$Z$57,6,FALSE))","v":"."},{"$f":"IF(VLOOKUP(B85,'S1'!$B$23:$Z$57,7,FALSE)=\"\",\"\",VLOOKUP(B85,'S1'!$B$23:$Z$57,7,FALSE))","v":""},{"$f":"IF(VLOOKUP(B85,'S1'!$B$23:$Z$57,8,FALSE)=\"\",\"\",VLOOKUP(B85,'S1'!$B$23:$Z$57,8,FALSE))","v":""},{"$f":"IF(VLOOKUP(B85,'S1'!$B$23:$Z$57,9,FALSE)=\"\",\"\",VLOOKUP(B85,'S1'!$B$23:$Z$57,9,FALSE))","v":""},{"$f":"IF(VLOOKUP(B85,'S1'!$B$23:$Z$57,10,FALSE)=\"\",\"\",VLOOKUP(B85,'S1'!$B$23:$Z$57,10,FALSE))","v":""},{"$f":"IF(VLOOKUP(B85,'S1'!$B$23:$Z$57,11,FALSE)=\"\",\"\",VLOOKUP(B85,'S1'!$B$23:$Z$57,11,FALSE))","v":""},{"$f":"IF(VLOOKUP(B85,'S1'!$B$23:$Z$57,12,FALSE)=\"\",\"\",VLOOKUP(B85,'S1'!$B$23:$Z$57,12,FALSE))","v":""},{"$f":"IF(VLOOKUP(B85,'S1'!$B$23:$Z$57,13,FALSE)=\"\",\"\",VLOOKUP(B85,'S1'!$B$23:$Z$57,13,FALSE))","v":""},{"$f":"IF(VLOOKUP(B85,'S1'!$B$23:$Z$57,14,FALSE)=\"\",\"\",VLOOKUP(B85,'S1'!$B$23:$Z$57,14,FALSE))","v":""},{"$f":"IF(VLOOKUP(B85,'S1'!$B$23:$Z$57,15,FALSE)=\"\",\"\",VLOOKUP(B85,'S1'!$B$23:$Z$57,15,FALSE))","v":""},null,null,null,null,null,null,"erreicht",null,null,{"$f":"IF(VLOOKUP(U85,'S1'!$B$23:$Z$57,6,FALSE)=\"\",\"\",VLOOKUP(U85,'S1'!$B$23:$Z$57,6,FALSE))","v":"."},{"$f":"IF(VLOOKUP(U85,'S1'!$B$23:$Z$57,7,FALSE)=\"\",\"\",VLOOKUP(U85,'S1'!$B$23:$Z$57,7,FALSE))","v":""},{"$f":"IF(VLOOKUP(U85,'S1'!$B$23:$Z$57,8,FALSE)=\"\",\"\",VLOOKUP(U85,'S1'!$B$23:$Z$57,8,FALSE))","v":""},{"$f":"IF(VLOOKUP(U85,'S1'!$B$23:$Z$57,9,FALSE)=\"\",\"\",VLOOKUP(U85,'S1'!$B$23:$Z$57,9,FALSE))","v":""},{"$f":"IF(VLOOKUP(U85,'S1'!$B$23:$Z$57,10,FALSE)=\"\",\"\",VLOOKUP(U85,'S1'!$B$23:$Z$57,10,FALSE))","v":""},{"$f":"IF(VLOOKUP(U85,'S1'!$B$23:$Z$57,11,FALSE)=\"\",\"\",VLOOKUP(U85,'S1'!$B$23:$Z$57,11,FALSE))","v":""},{"$f":"IF(VLOOKUP(U85,'S1'!$B$23:$Z$57,12,FALSE)=\"\",\"\",VLOOKUP(U85,'S1'!$B$23:$Z$57,12,FALSE))","v":""},{"$f":"IF(VLOOKUP(U85,'S1'!$B$23:$Z$57,13,FALSE)=\"\",\"\",VLOOKUP(U85,'S1'!$B$23:$Z$57,13,FALSE))","v":""},{"$f":"IF(VLOOKUP(U85,'S1'!$B$23:$Z$57,14,FALSE)=\"\",\"\",VLOOKUP(U85,'S1'!$B$23:$Z$57,14,FALSE))","v":""},{"$f":"IF(VLOOKUP(U85,'S1'!$B$23:$Z$57,15,FALSE)=\"\",\"\",VLOOKUP(U85,'S1'!$B$23:$Z$57,15,FALSE))","v":""}]
[null,"von",null,null,{"$f":"IF('S1'!$G$21=\"\",\"\",'S1'!$G$21)","v":""},{"$f":"IF('S1'!$H$21=\"\",\"\",'S1'!$H$21)","v":""},{"$f":"IF('S1'!$I$21=\"\",\"\",'S1'!$I$21)","v":""},{"$f":"IF('S1'!$J$21=\"\",\"\",'S1'!$J$21)","v":""},{"$f":"IF('S1'!$K$21=\"\",\"\",'S1'!$K$21)","v":""},{"$f":"IF('S1'!$L$21=\"\",\"\",'S1'!$L$21)","v":""},{"$f":"IF('S1'!$M$21=\"\",\"\",'S1'!$M$21)","v":""},{"$f":"IF('S1'!$N$21=\"\",\"\",'S1'!$N$21)","v":""},{"$f":"IF('S1'!$O$21=\"\",\"\",'S1'!$O$21)","v":""},{"$f":"IF('S1'!$P$21=\"\",\"\",'S1'!$P$21)","v":""},null,"von",null,null,null,null,"von",null,null,{"$f":"IF('S1'!$G$21=\"\",\"\",'S1'!$G$21)","v":""},{"$f":"IF('S1'!$H$21=\"\",\"\",'S1'!$H$21)","v":""},{"$f":"IF('S1'!$I$21=\"\",\"\",'S1'!$I$21)","v":""},{"$f":"IF('S1'!$J$21=\"\",\"\",'S1'!$J$21)","v":""},{"$f":"IF('S1'!$K$21=\"\",\"\",'S1'!$K$21)","v":""},{"$f":"IF('S1'!$L$21=\"\",\"\",'S1'!$L$21)","v":""},{"$f":"IF('S1'!$M$21=\"\",\"\",'S1'!$M$21)","v":""},{"$f":"IF('S1'!$N$21=\"\",\"\",'S1'!$N$21)","v":""},{"$f":"IF('S1'!$O$21=\"\",\"\",'S1'!$O$21)","v":""},{"$f":"IF('S1'!$P$21=\"\",\"\",'S1'!$P$21)","v":""},null,"von"]
[null,null,null,null,null,null,null,null,null,null,null,null,null,null,null,{"$f":"'S1'!$H$12","v":0},null,null,null,null,null,null,null,null,null,null,null,null,null,null,null,null,null,null,{"$f":"'S1'!$H$12","v":0}]
[null,{"$f":"IF('S1'!$Q$18=\"\",\"\",\"Aufgabe\")","v":""},null,null,{"$f":"IF('S1'!$Q$18=\"\",\"\",'S1'!$Q$18)","v":""},{"$f":"IF('S1'!$R$18=\"\",\"\",'S1'!$R$18)","v":""},{"$f":"IF('S1'!$S$18=\"\",\"\",'S1'!$S$18)","v":""},{"$f":"IF('S1'!$T$18=\"\",\"\",'S1'!$T$18)","v":""},{"$f":"IF('S1'!$U$18=\"\",\"\",'S1'!$U$18)","v":""},{"$f":"IF('S1'!$V$18=\"\",\"\",'S1'!$V$18)","v":""},{"$f":"IF('S1'!$W$18=\"\",\"\",'S1'!$W$18)","v":""},{"$f":"IF('S1'!$X$18=\"\",\"\",'S1'!$X$18)","v":""},{"$f":"IF('S1'!$Y$18=\"\",\"\",'S1'!$Y$18)","v":""},{"$f":"IF('S1'!$Z$18=\"\",\"\",'S1'!$Z$18)","v":""},null,null,null,null,null,null,{"$f":"IF('S1'!$Q$18=\"\",\"\",\"Aufgabe\")","v":""},null,null,{"$f":"IF('S1'!$Q$18=\"\",\"\",'S1'!$Q$18)","v":""},{"$f":"IF('S1'!$R$18=\"\",\"\",'S1'!$R$18)","v":""},{"$f":"IF('S1'!$S$18=\"\",\"\",'S1'!$S$18)","v":""},{"$f":"IF('S1'!$T$18=\"\",\"\",'S1'!$T$18)","v":""},{"$f":"IF('S1'!$U$18=\"\",\"\",'S1'!$U$18)","v":""},{"$f":"IF('S1'!$V$18=\"\",\"\",'S1'!$V$18)","v":""},{"$f":"IF('S1'!$W$18=\"\",\"\",'S1'!$W$18)","v":""},{"$f":"IF('S1'!$X$18=\"\",\"\",'S1'!$X$18)","v":""},{"$f":"IF('S1'!$Y$18=\"\",\"\",'S1'!$Y$18)","v":""},{"$f":"IF('S1'!$Z$18=\"\",\"\",'S1'!$Z$18)","v":""}]
[null,{"$f":"IF('S1'!$Q$18=\"\",\"\",\"erreicht\")","v":""},null,null,{"$f":"IF(VLOOKUP(B85,'S1'!$B$23:$Z$57,16,FALSE)=\"\",\"\",VLOOKUP(B85,'S1'!$B$23:$Z$57,16,FALSE))","v":""},{"$f":"IF(VLOOKUP(B85,'S1'!$B$23:$Z$57,17,FALSE)=\"\",\"\",VLOOKUP(B85,'S1'!$B$23:$Z$57,17,FALSE))","v":""},{"$f":"IF(VLOOKUP(B85,'S1'!$B$23:$Z$57,18,FALSE)=\"\",\"\",VLOOKUP(B85,'S1'!$B$23:$Z$57,18,FALSE))","v":""},{"$f":"IF(VLOOKUP(B85,'S1'!$B$23:$Z$57,19,FALSE)=\"\",\"\",VLOOKUP(B85,'S1'!$B$23:$Z$57,19,FALSE))","v":""},{"$f":"IF(VLOOKUP(B85,'S1'!$B$23:$Z$57,20,FALSE)=\"\",\"\",VLOOKUP(B85,'S1'!$B$23:$Z$57,20,FALSE))","v":""},{"$f":"IF(VLOOKUP(B85,'S1'!$B$23:$Z$57,21,FALSE)=\"\",\"\",VLOOKUP(B85,'S1'!$B$23:$Z$57,21,FALSE))","v":""},{"$f":"IF(VLOOKUP(B85,'S1'!$B$23:$Z$57,22,FALSE)=\"\",\"\",VLOOKUP(B85,'S1'!$B$23:$Z$57,22,FALSE))","v":""},{"$f":"IF(VLOOKUP(B85,'S1'!$B$23:$Z$57,23,FALSE)=\"\",\"\",VLOOKUP(B85,'S1'!$B$23:$Z$57,23,FALSE))","v":""},{"$f":"IF(VLOOKUP(B85,'S1'!$B$23:$Z$57,24,FALSE)=\"\",\"\",VLOOKUP(B85,'S1'!$B$23:$Z$57,24,FALSE))","v":""},{"$f":"IF(VLOOKUP(B85,'S1'!$B$23:$Z$57,25,FALSE)=\"\",\"\",VLOOKUP(B85,'S1'!$B$23:$Z$57,25,FALSE))","v":""},null,"Note",null,null,null,null,{"$f":"IF('S1'!$Q$18=\"\",\"\",\"erreicht\")","v":""},null,null,{"$f":"IF(VLOOKUP(U85,'S1'!$B$23:$Z$57,16,FALSE)=\"\",\"\",VLOOKUP(U85,'S1'!$B$23:$Z$57,16,FALSE))","v":""},{"$f":"IF(VLOOKUP(U85,'S1'!$B$23:$Z$57,17,FALSE)=\"\",\"\",VLOOKUP(U85,'S1'!$B$23:$Z$57,17,FALSE))","v":""},{"$f":"IF(VLOOKUP(U85,'S1'!$B$23:$Z$57,18,FALSE)=\"\",\"\",VLOOKUP(U85,'S1'!$B$23:$Z$57,18,FALSE))","v":""},{"$f":"IF(VLOOKUP(U85,'S1'!$B$23:$Z$57,19,FALSE)=\"\",\"\",VLOOKUP(U85,'S1'!$B$23:$Z$57,19,FALSE))","v":""},{"$f":"IF(VLOOKUP(U85,'S1'!$B$23:$Z$57,20,FALSE)=\"\",\"\",VLOOKUP(U85,'S1'!$B$23:$Z$57,20,FALSE))","v":""},{"$f":"IF(VLOOKUP(U85,'S1'!$B$23:$Z$57,21,FALSE)=\"\",\"\",VLOOKUP(U85,'S1'!$B$23:$Z$57,21,FALSE))","v":""},{"$f":"IF(VLOOKUP(U85,'S1'!$B$23:$Z$57,22,FALSE)=\"\",\"\",VLOOKUP(U85,'S1'!$B$23:$Z$57,22,FALSE))","v":""},{"$f":"IF(VLOOKUP(U85,'S1'!$B$23:$Z$57,23,FALSE)=\"\",\"\",VLOOKUP(U85,'S1'!$B$23:$Z$57,23,FALSE))","v":""},{"$f":"IF(VLOOKUP(U85,'S1'!$B$23:$Z$57,24,FALSE)=\"\",\"\",VLOOKUP(U85,'S1'!$B$23:$Z$57,24,FALSE))","v":""},{"$f":"IF(VLOOKUP(U85,'S1'!$B$23:$Z$57,25,FALSE)=\"\",\"\",VLOOKUP(U85,'S1'!$B$23:$Z$57,25,FALSE))","v":""},null,"Note"]
[null,{"$f":"IF('S1'!$Q$18=\"\",\"\",\"von\")","v":""},null,null,{"$f":"IF('S1'!$Q$21=\"\",\"\",'S1'!$Q$21)","v":""},{"$f":"IF('S1'!$R$21=\"\",\"\",'S1'!$R$21)","v":""},{"$f":"IF('S1'!$S$21=\"\",\"\",'S1'!$S$21)","v":""},{"$f":"IF('S1'!$T$21=\"\",\"\",'S1'!$T$21)","v":""},{"$f":"IF('S1'!$U$21=\"\",\"\",'S1'!$U$21)","v":""},{"$f":"IF('S1'!$V$21=\"\",\"\",'S1'!$V$21)","v":""},{"$f":"IF('S1'!$W$21=\"\",\"\",'S1'!$W$21)","v":""},{"$f":"IF('S1'!$X$21=\"\",\"\",'S1'!$X$21)","v":""},{"$f":"IF('S1'!$Y$21=\"\",\"\",'S1'!$Y$21)","v":""},{"$f":"IF('S1'!$Z$21=\"\",\"\",'S1'!$Z$21)","v":""},null,{"$f":"IF(VLOOKUP(B85,'S1'!$B$23:$Z$57,2,FALSE)=\"\",\"\",CONCATENATE(VLOOKUP(B85,'S1'!$B$23:$Z$57,2,FALSE),\" \",VLOOKUP(B85,'S1'!$B$23:$Z$57,3,FALSE)))","v":"- "},null,null,null,null,{"$f":"IF('S1'!$Q$18=\"\",\"\",\"von\")","v":""},null,null,{"$f":"IF('S1'!$Q$21=\"\",\"\",'S1'!$Q$21)","v":""},{"$f":"IF('S1'!$R$21=\"\",\"\",'S1'!$R$21)","v":""},{"$f":"IF('S1'!$S$21=\"\",\"\",'S1'!$S$21)","v":""},{"$f":"IF('S1'!$T$21=\"\",\"\",'S1'!$T$21)","v":""},{"$f":"IF('S1'!$U$21=\"\",\"\",'S1'!$U$21)","v":""},{"$f":"IF('S1'!$V$21=\"\",\"\",'S1'!$V$21)","v":""},{"$f":"IF('S1'!$W$21=\"\",\"\",'S1'!$W$21)","v":""},{"$f":"IF('S1'!$X$21=\"\",\"\",'S1'!$X$21)","v":""},{"$f":"IF('S1'!$Y$21=\"\",\"\",'S1'!$Y$21)","v":""},{"$f":"IF('S1'!$Z$21=\"\",\"\",'S1'!$Z$21)","v":""},null,{"$f":"IF(VLOOKUP(U85,'S1'!$B$23:$Z$57,2,FALSE)=\"\",\"\",CONCATENATE(VLOOKUP(U85,'S1'!$B$23:$Z$57,2,FALSE),\" \",VLOOKUP(U85,'S1'!$B$23:$Z$57,3,FALSE)))","v":"- "}]
[]
[]
[]
[null,{"$f":"'S1'!$B$39","v":""},null,null,null,null,null,null,null,null,null,null,null,null,null,null,null,null,null,null,{"$f":"'S1'!$B$40","v":""}]
[null,null,null,null,null,null,null,null,null,null,null,null,null,null,null,"Summe",null,null,null,null,null,null,null,null,null,null,null,null,null,null,null,null,null,null,"Summe"]
[null,"Aufgabe",null,null,{"$f":"IF('S1'!$G$18=\"\",\"\",'S1'!$G$18)","v":1},{"$f":"IF('S1'!$H$18=\"\",\"\",'S1'!$H$18)","v":2},{"$f":"IF('S1'!$I$18=\"\",\"\",'S1'!$I$18)","v":3},{"$f":"IF('S1'!$J$18=\"\",\"\",'S1'!$J$18)","v":""},{"$f":"IF('S1'!$K$18=\"\",\"\",'S1'!$K$18)","v":""},{"$f":"IF('S1'!$L$18=\"\",\"\",'S1'!$L$18)","v":""},{"$f":"IF('S1'!$M$18=\"\",\"\",'S1'!$M$18)","v":""},{"$f":"IF('S1'!$N$18=\"\",\"\",'S1'!$N$18)","v":""},{"$f":"IF('S1'!$O$18=\"\",\"\",'S1'!$O$18)","v":""},{"$f":"IF('S1'!$P$18=\"\",\"\",'S1'!$P$18)","v":""},null,{"$f":"IF(VLOOKUP(B97,'S1'!$B$23:$Z$57,5,FALSE)=\"\",\"\",VLOOKUP(B97,'S1'!$B$23:$Z$57,5,FALSE))","v":0},null,null,null,null,"Aufgabe",null,null,{"$f":"IF('S1'!$G$18=\"\",\"\",'S1'!$G$18)","v":1},{"$f":"IF('S1'!$H$18=\"\",\"\",'S1'!$H$18)","v":2},{"$f":"IF('S1'!$I$18=\"\",\"\",'S1'!$I$18)","v":3},{"$f":"IF('S1'!$J$18=\"\",\"\",'S1'!$J$18)","v":""},{"$f":"IF('S1'!$K$18=\"\",\"\",'S1'!$K$18)","v":""},{"$f":"IF('S1'!$L$18=\"\",\"\",'S1'!$L$18)","v":""},{"$f":"IF('S1'!$M$18=\"\",\"\",'S1'!$M$18)","v":""},{"$f":"IF('S1'!$N$18=\"\",\"\",'S1'!$N$18)","v":""},{"$f":"IF('S1'!$O$18=\"\",\"\",'S1'!$O$18)","v":""},{"$f":"IF('S1'!$P$18=\"\",\"\",'S1'!$P$18)","v":""},null,{"$f":"IF(VLOOKUP(U97,'S1'!$B$23:$Z$57,5,FALSE)=\"\",\"\",VLOOKUP(U97,'S1'!$B$23:$Z$57,5,FALSE))","v":0}]
[null,"erreicht",null,null,{"$f":"IF(VLOOKUP(B97,'S1'!$B$23:$Z$57,6,FALSE)=\"\",\"\",VLOOKUP(B97,'S1'!$B$23:$Z$57,6,FALSE))","v":"."},{"$f":"IF(VLOOKUP(B97,'S1'!$B$23:$Z$57,7,FALSE)=\"\",\"\",VLOOKUP(B97,'S1'!$B$23:$Z$57,7,FALSE))","v":""},{"$f":"IF(VLOOKUP(B97,'S1'!$B$23:$Z$57,8,FALSE)=\"\",\"\",VLOOKUP(B97,'S1'!$B$23:$Z$57,8,FALSE))","v":""},{"$f":"IF(VLOOKUP(B97,'S1'!$B$23:$Z$57,9,FALSE)=\"\",\"\",VLOOKUP(B97,'S1'!$B$23:$Z$57,9,FALSE))","v":""},{"$f":"IF(VLOOKUP(B97,'S1'!$B$23:$Z$57,10,FALSE)=\"\",\"\",VLOOKUP(B97,'S1'!$B$23:$Z$57,10,FALSE))","v":""},{"$f":"IF(VLOOKUP(B97,'S1'!$B$23:$Z$57,11,FALSE)=\"\",\"\",VLOOKUP(B97,'S1'!$B$23:$Z$57,11,FALSE))","v":""},{"$f":"IF(VLOOKUP(B97,'S1'!$B$23:$Z$57,12,FALSE)=\"\",\"\",VLOOKUP(B97,'S1'!$B$23:$Z$57,12,FALSE))","v":""},{"$f":"IF(VLOOKUP(B97,'S1'!$B$23:$Z$57,13,FALSE)=\"\",\"\",VLOOKUP(B97,'S1'!$B$23:$Z$57,13,FALSE))","v":""},{"$f":"IF(VLOOKUP(B97,'S1'!$B$23:$Z$57,14,FALSE)=\"\",\"\",VLOOKUP(B97,'S1'!$B$23:$Z$57,14,FALSE))","v":""},{"$f":"IF(VLOOKUP(B97,'S1'!$B$23:$Z$57,15,FALSE)=\"\",\"\",VLOOKUP(B97,'S1'!$B$23:$Z$57,15,FALSE))","v":""},null,null,null,null,null,null,"erreicht",null,null,{"$f":"IF(VLOOKUP(U97,'S1'!$B$23:$Z$57,6,FALSE)=\"\",\"\",VLOOKUP(U97,'S1'!$B$23:$Z$57,6,FALSE))","v":"."},{"$f":"IF(VLOOKUP(U97,'S1'!$B$23:$Z$57,7,FALSE)=\"\",\"\",VLOOKUP(U97,'S1'!$B$23:$Z$57,7,FALSE))","v":""},{"$f":"IF(VLOOKUP(U97,'S1'!$B$23:$Z$57,8,FALSE)=\"\",\"\",VLOOKUP(U97,'S1'!$B$23:$Z$57,8,FALSE))","v":""},{"$f":"IF(VLOOKUP(U97,'S1'!$B$23:$Z$57,9,FALSE)=\"\",\"\",VLOOKUP(U97,'S1'!$B$23:$Z$57,9,FALSE))","v":""},{"$f":"IF(VLOOKUP(U97,'S1'!$B$23:$Z$57,10,FALSE)=\"\",\"\",VLOOKUP(U97,'S1'!$B$23:$Z$57,10,FALSE))","v":""},{"$f":"IF(VLOOKUP(U97,'S1'!$B$23:$Z$57,11,FALSE)=\"\",\"\",VLOOKUP(U97,'S1'!$B$23:$Z$57,11,FALSE))","v":""},{"$f":"IF(VLOOKUP(U97,'S1'!$B$23:$Z$57,12,FALSE)=\"\",\"\",VLOOKUP(U97,'S1'!$B$23:$Z$57,12,FALSE))","v":""},{"$f":"IF(VLOOKUP(U97,'S1'!$B$23:$Z$57,13,FALSE)=\"\",\"\",VLOOKUP(U97,'S1'!$B$23:$Z$57,13,FALSE))","v":""},{"$f":"IF(VLOOKUP(U97,'S1'!$B$23:$Z$57,14,FALSE)=\"\",\"\",VLOOKUP(U97,'S1'!$B$23:$Z$57,14,FALSE))","v":""},{"$f":"IF(VLOOKUP(U97,'S1'!$B$23:$Z$57,15,FALSE)=\"\",\"\",VLOOKUP(U97,'S1'!$B$23:$Z$57,15,FALSE))","v":""}]
[null,"von",null,null,{"$f":"IF('S1'!$G$21=\"\",\"\",'S1'!$G$21)","v":""},{"$f":"IF('S1'!$H$21=\"\",\"\",'S1'!$H$21)","v":""},{"$f":"IF('S1'!$I$21=\"\",\"\",'S1'!$I$21)","v":""},{"$f":"IF('S1'!$J$21=\"\",\"\",'S1'!$J$21)","v":""},{"$f":"IF('S1'!$K$21=\"\",\"\",'S1'!$K$21)","v":""},{"$f":"IF('S1'!$L$21=\"\",\"\",'S1'!$L$21)","v":""},{"$f":"IF('S1'!$M$21=\"\",\"\",'S1'!$M$21)","v":""},{"$f":"IF('S1'!$N$21=\"\",\"\",'S1'!$N$21)","v":""},{"$f":"IF('S1'!$O$21=\"\",\"\",'S1'!$O$21)","v":""},{"$f":"IF('S1'!$P$21=\"\",\"\",'S1'!$P$21)","v":""},null,"von",null,null,null,null,"von",null,null,{"$f":"IF('S1'!$G$21=\"\",\"\",'S1'!$G$21)","v":""},{"$f":"IF('S1'!$H$21=\"\",\"\",'S1'!$H$21)","v":""},{"$f":"IF('S1'!$I$21=\"\",\"\",'S1'!$I$21)","v":""},{"$f":"IF('S1'!$J$21=\"\",\"\",'S1'!$J$21)","v":""},{"$f":"IF('S1'!$K$21=\"\",\"\",'S1'!$K$21)","v":""},{"$f":"IF('S1'!$L$21=\"\",\"\",'S1'!$L$21)","v":""},{"$f":"IF('S1'!$M$21=\"\",\"\",'S1'!$M$21)","v":""},{"$f":"IF('S1'!$N$21=\"\",\"\",'S1'!$N$21)","v":""},{"$f":"IF('S1'!$O$21=\"\",\"\",'S1'!$O$21)","v":""},{"$f":"IF('S1'!$P$21=\"\",\"\",'S1'!$P$21)","v":""},null,"von"]
[null,null,null,null,null,null,null,null,null,null,null,null,null,null,null,{"$f":"'S1'!$H$12","v":0},null,null,null,null,null,null,null,null,null,null,null,null,null,null,null,null,null,null,{"$f":"'S1'!$H$12","v":0}]
[null,{"$f":"IF('S1'!$Q$18=\"\",\"\",\"Aufgabe\")","v":""},null,null,{"$f":"IF('S1'!$Q$18=\"\",\"\",'S1'!$Q$18)","v":""},{"$f":"IF('S1'!$R$18=\"\",\"\",'S1'!$R$18)","v":""},{"$f":"IF('S1'!$S$18=\"\",\"\",'S1'!$S$18)","v":""},{"$f":"IF('S1'!$T$18=\"\",\"\",'S1'!$T$18)","v":""},{"$f":"IF('S1'!$U$18=\"\",\"\",'S1'!$U$18)","v":""},{"$f":"IF('S1'!$V$18=\"\",\"\",'S1'!$V$18)","v":""},{"$f":"IF('S1'!$W$18=\"\",\"\",'S1'!$W$18)","v":""},{"$f":"IF('S1'!$X$18=\"\",\"\",'S1'!$X$18)","v":""},{"$f":"IF('S1'!$Y$18=\"\",\"\",'S1'!$Y$18)","v":""},{"$f":"IF('S1'!$Z$18=\"\",\"\",'S1'!$Z$18)","v":""},null,null,null,null,null,null,{"$f":"IF('S1'!$Q$18=\"\",\"\",\"Aufgabe\")","v":""},null,null,{"$f":"IF('S1'!$Q$18=\"\",\"\",'S1'!$Q$18)","v":""},{"$f":"IF('S1'!$R$18=\"\",\"\",'S1'!$R$18)","v":""},{"$f":"IF('S1'!$S$18=\"\",\"\",'S1'!$S$18)","v":""},{"$f":"IF('S1'!$T$18=\"\",\"\",'S1'!$T$18)","v":""},{"$f":"IF('S1'!$U$18=\"\",\"\",'S1'!$U$18)","v":""},{"$f":"IF('S1'!$V$18=\"\",\"\",'S1'!$V$18)","v":""},{"$f":"IF('S1'!$W$18=\"\",\"\",'S1'!$W$18)","v":""},{"$f":"IF('S1'!$X$18=\"\",\"\",'S1'!$X$18)","v":""},{"$f":"IF('S1'!$Y$18=\"\",\"\",'S1'!$Y$18)","v":""},{"$f":"IF('S1'!$Z$18=\"\",\"\",'S1'!$Z$18)","v":""}]
[null,{"$f":"IF('S1'!$Q$18=\"\",\"\",\"erreicht\")","v":""},null,null,{"$f":"IF(VLOOKUP(B97,'S1'!$B$23:$Z$57,16,FALSE)=\"\",\"\",VLOOKUP(B97,'S1'!$B$23:$Z$57,16,FALSE))","v":""},{"$f":"IF(VLOOKUP(B97,'S1'!$B$23:$Z$57,17,FALSE)=\"\",\"\",VLOOKUP(B97,'S1'!$B$23:$Z$57,17,FALSE))","v":""},{"$f":"IF(VLOOKUP(B97,'S1'!$B$23:$Z$57,18,FALSE)=\"\",\"\",VLOOKUP(B97,'S1'!$B$23:$Z$57,18,FALSE))","v":""},{"$f":"IF(VLOOKUP(B97,'S1'!$B$23:$Z$57,19,FALSE)=\"\",\"\",VLOOKUP(B97,'S1'!$B$23:$Z$57,19,FALSE))","v":""},{"$f":"IF(VLOOKUP(B97,'S1'!$B$23:$Z$57,20,FALSE)=\"\",\"\",VLOOKUP(B97,'S1'!$B$23:$Z$57,20,FALSE))","v":""},{"$f":"IF(VLOOKUP(B97,'S1'!$B$23:$Z$57,21,FALSE)=\"\",\"\",VLOOKUP(B97,'S1'!$B$23:$Z$57,21,FALSE))","v":""},{"$f":"IF(VLOOKUP(B97,'S1'!$B$23:$Z$57,22,FALSE)=\"\",\"\",VLOOKUP(B97,'S1'!$B$23:$Z$57,22,FALSE))","v":""},{"$f":"IF(VLOOKUP(B97,'S1'!$B$23:$Z$57,23,FALSE)=\"\",\"\",VLOOKUP(B97,'S1'!$B$23:$Z$57,23,FALSE))","v":""},{"$f":"IF(VLOOKUP(B97,'S1'!$B$23:$Z$57,24,FALSE)=\"\",\"\",VLOOKUP(B97,'S1'!$B$23:$Z$57,24,FALSE))","v":""},{"$f":"IF(VLOOKUP(B97,'S1'!$B$23:$Z$57,25,FALSE)=\"\",\"\",VLOOKUP(B97,'S1'!$B$23:$Z$57,25,FALSE))","v":""},null,"Note",null,null,null,null,{"$f":"IF('S1'!$Q$18=\"\",\"\",\"erreicht\")","v":""},null,null,{"$f":"IF(VLOOKUP(U97,'S1'!$B$23:$Z$57,16,FALSE)=\"\",\"\",VLOOKUP(U97,'S1'!$B$23:$Z$57,16,FALSE))","v":""},{"$f":"IF(VLOOKUP(U97,'S1'!$B$23:$Z$57,17,FALSE)=\"\",\"\",VLOOKUP(U97,'S1'!$B$23:$Z$57,17,FALSE))","v":""},{"$f":"IF(VLOOKUP(U97,'S1'!$B$23:$Z$57,18,FALSE)=\"\",\"\",VLOOKUP(U97,'S1'!$B$23:$Z$57,18,FALSE))","v":""},{"$f":"IF(VLOOKUP(U97,'S1'!$B$23:$Z$57,19,FALSE)=\"\",\"\",VLOOKUP(U97,'S1'!$B$23:$Z$57,19,FALSE))","v":""},{"$f":"IF(VLOOKUP(U97,'S1'!$B$23:$Z$57,20,FALSE)=\"\",\"\",VLOOKUP(U97,'S1'!$B$23:$Z$57,20,FALSE))","v":""},{"$f":"IF(VLOOKUP(U97,'S1'!$B$23:$Z$57,21,FALSE)=\"\",\"\",VLOOKUP(U97,'S1'!$B$23:$Z$57,21,FALSE))","v":""},{"$f":"IF(VLOOKUP(U97,'S1'!$B$23:$Z$57,22,FALSE)=\"\",\"\",VLOOKUP(U97,'S1'!$B$23:$Z$57,22,FALSE))","v":""},{"$f":"IF(VLOOKUP(U97,'S1'!$B$23:$Z$57,23,FALSE)=\"\",\"\",VLOOKUP(U97,'S1'!$B$23:$Z$57,23,FALSE))","v":""},{"$f":"IF(VLOOKUP(U97,'S1'!$B$23:$Z$57,24,FALSE)=\"\",\"\",VLOOKUP(U97,'S1'!$B$23:$Z$57,24,FALSE))","v":""},{"$f":"IF(VLOOKUP(U97,'S1'!$B$23:$Z$57,25,FALSE)=\"\",\"\",VLOOKUP(U97,'S1'!$B$23:$Z$57,25,FALSE))","v":""},null,"Note"]
[null,{"$f":"IF('S1'!$Q$18=\"\",\"\",\"von\")","v":""},null,null,{"$f":"IF('S1'!$Q$21=\"\",\"\",'S1'!$Q$21)","v":""},{"$f":"IF('S1'!$R$21=\"\",\"\",'S1'!$R$21)","v":""},{"$f":"IF('S1'!$S$21=\"\",\"\",'S1'!$S$21)","v":""},{"$f":"IF('S1'!$T$21=\"\",\"\",'S1'!$T$21)","v":""},{"$f":"IF('S1'!$U$21=\"\",\"\",'S1'!$U$21)","v":""},{"$f":"IF('S1'!$V$21=\"\",\"\",'S1'!$V$21)","v":""},{"$f":"IF('S1'!$W$21=\"\",\"\",'S1'!$W$21)","v":""},{"$f":"IF('S1'!$X$21=\"\",\"\",'S1'!$X$21)","v":""},{"$f":"IF('S1'!$Y$21=\"\",\"\",'S1'!$Y$21)","v":""},{"$f":"IF('S1'!$Z$21=\"\",\"\",'S1'!$Z$21)","v":""},null,{"$f":"IF(VLOOKUP(B97,'S1'!$B$23:$Z$57,2,FALSE)=\"\",\"\",CONCATENATE(VLOOKUP(B97,'S1'!$B$23:$Z$57,2,FALSE),\" \",VLOOKUP(B97,'S1'!$B$23:$Z$57,3,FALSE)))","v":"- "},null,null,null,null,{"$f":"IF('S1'!$Q$18=\"\",\"\",\"von\")","v":""},null,null,{"$f":"IF('S1'!$Q$21=\"\",\"\",'S1'!$Q$21)","v":""},{"$f":"IF('S1'!$R$21=\"\",\"\",'S1'!$R$21)","v":""},{"$f":"IF('S1'!$S$21=\"\",\"\",'S1'!$S$21)","v":""},{"$f":"IF('S1'!$T$21=\"\",\"\",'S1'!$T$21)","v":""},{"$f":"IF('S1'!$U$21=\"\",\"\",'S1'!$U$21)","v":""},{"$f":"IF('S1'!$V$21=\"\",\"\",'S1'!$V$21)","v":""},{"$f":"IF('S1'!$W$21=\"\",\"\",'S1'!$W$21)","v":""},{"$f":"IF('S1'!$X$21=\"\",\"\",'S1'!$X$21)","v":""},{"$f":"IF('S1'!$Y$21=\"\",\"\",'S1'!$Y$21)","v":""},{"$f":"IF('S1'!$Z$21=\"\",\"\",'S1'!$Z$21)","v":""},null,{"$f":"IF(VLOOKUP(U97,'S1'!$B$23:$Z$57,2,FALSE)=\"\",\"\",CONCATENATE(VLOOKUP(U97,'S1'!$B$23:$Z$57,2,FALSE),\" \",VLOOKUP(U97,'S1'!$B$23:$Z$57,3,FALSE)))","v":"- "}]
[]
[]
[]
[null,{"$f":"'S1'!$B$41","v":""},null,null,null,null,null,null,null,null,null,null,null,null,null,null,null,null,null,null,{"$f":"'S1'!$B$42","v":""}]
[null,null,null,null,null,null,null,null,null,null,null,null,null,null,null,"Summe",null,null,null,null,null,null,null,null,null,null,null,null,null,null,null,null,null,null,"Summe"]
[null,"Aufgabe",null,null,{"$f":"IF('S1'!$G$18=\"\",\"\",'S1'!$G$18)","v":1},{"$f":"IF('S1'!$H$18=\"\",\"\",'S1'!$H$18)","v":2},{"$f":"IF('S1'!$I$18=\"\",\"\",'S1'!$I$18)","v":3},{"$f":"IF('S1'!$J$18=\"\",\"\",'S1'!$J$18)","v":""},{"$f":"IF('S1'!$K$18=\"\",\"\",'S1'!$K$18)","v":""},{"$f":"IF('S1'!$L$18=\"\",\"\",'S1'!$L$18)","v":""},{"$f":"IF('S1'!$M$18=\"\",\"\",'S1'!$M$18)","v":""},{"$f":"IF('S1'!$N$18=\"\",\"\",'S1'!$N$18)","v":""},{"$f":"IF('S1'!$O$18=\"\",\"\",'S1'!$O$18)","v":""},{"$f":"IF('S1'!$P$18=\"\",\"\",'S1'!$P$18)","v":""},null,{"$f":"IF(VLOOKUP(B109,'S1'!$B$23:$Z$57,5,FALSE)=\"\",\"\",VLOOKUP(B109,'S1'!$B$23:$Z$57,5,FALSE))","v":0},null,null,null,null,"Aufgabe",null,null,{"$f":"IF('S1'!$G$18=\"\",\"\",'S1'!$G$18)","v":1},{"$f":"IF('S1'!$H$18=\"\",\"\",'S1'!$H$18)","v":2},{"$f":"IF('S1'!$I$18=\"\",\"\",'S1'!$I$18)","v":3},{"$f":"IF('S1'!$J$18=\"\",\"\",'S1'!$J$18)","v":""},{"$f":"IF('S1'!$K$18=\"\",\"\",'S1'!$K$18)","v":""},{"$f":"IF('S1'!$L$18=\"\",\"\",'S1'!$L$18)","v":""},{"$f":"IF('S1'!$M$18=\"\",\"\",'S1'!$M$18)","v":""},{"$f":"IF('S1'!$N$18=\"\",\"\",'S1'!$N$18)","v":""},{"$f":"IF('S1'!$O$18=\"\",\"\",'S1'!$O$18)","v":""},{"$f":"IF('S1'!$P$18=\"\",\"\",'S1'!$P$18)","v":""},null,{"$f":"IF(VLOOKUP(U109,'S1'!$B$23:$Z$57,5,FALSE)=\"\",\"\",VLOOKUP(U109,'S1'!$B$23:$Z$57,5,FALSE))","v":0}]
[null,"erreicht",null,null,{"$f":"IF(VLOOKUP(B109,'S1'!$B$23:$Z$57,6,FALSE)=\"\",\"\",VLOOKUP(B109,'S1'!$B$23:$Z$57,6,FALSE))","v":"."},{"$f":"IF(VLOOKUP(B109,'S1'!$B$23:$Z$57,7,FALSE)=\"\",\"\",VLOOKUP(B109,'S1'!$B$23:$Z$57,7,FALSE))","v":""},{"$f":"IF(VLOOKUP(B109,'S1'!$B$23:$Z$57,8,FALSE)=\"\",\"\",VLOOKUP(B109,'S1'!$B$23:$Z$57,8,FALSE))","v":""},{"$f":"IF(VLOOKUP(B109,'S1'!$B$23:$Z$57,9,FALSE)=\"\",\"\",VLOOKUP(B109,'S1'!$B$23:$Z$57,9,FALSE))","v":""},{"$f":"IF(VLOOKUP(B109,'S1'!$B$23:$Z$57,10,FALSE)=\"\",\"\",VLOOKUP(B109,'S1'!$B$23:$Z$57,10,FALSE))","v":""},{"$f":"IF(VLOOKUP(B109,'S1'!$B$23:$Z$57,11,FALSE)=\"\",\"\",VLOOKUP(B109,'S1'!$B$23:$Z$57,11,FALSE))","v":""},{"$f":"IF(VLOOKUP(B109,'S1'!$B$23:$Z$57,12,FALSE)=\"\",\"\",VLOOKUP(B109,'S1'!$B$23:$Z$57,12,FALSE))","v":""},{"$f":"IF(VLOOKUP(B109,'S1'!$B$23:$Z$57,13,FALSE)=\"\",\"\",VLOOKUP(B109,'S1'!$B$23:$Z$57,13,FALSE))","v":""},{"$f":"IF(VLOOKUP(B109,'S1'!$B$23:$Z$57,14,FALSE)=\"\",\"\",VLOOKUP(B109,'S1'!$B$23:$Z$57,14,FALSE))","v":""},{"$f":"IF(VLOOKUP(B109,'S1'!$B$23:$Z$57,15,FALSE)=\"\",\"\",VLOOKUP(B109,'S1'!$B$23:$Z$57,15,FALSE))","v":""},null,null,null,null,null,null,"erreicht",null,null,{"$f":"IF(VLOOKUP(U109,'S1'!$B$23:$Z$57,6,FALSE)=\"\",\"\",VLOOKUP(U109,'S1'!$B$23:$Z$57,6,FALSE))","v":"."},{"$f":"IF(VLOOKUP(U109,'S1'!$B$23:$Z$57,7,FALSE)=\"\",\"\",VLOOKUP(U109,'S1'!$B$23:$Z$57,7,FALSE))","v":""},{"$f":"IF(VLOOKUP(U109,'S1'!$B$23:$Z$57,8,FALSE)=\"\",\"\",VLOOKUP(U109,'S1'!$B$23:$Z$57,8,FALSE))","v":""},{"$f":"IF(VLOOKUP(U109,'S1'!$B$23:$Z$57,9,FALSE)=\"\",\"\",VLOOKUP(U109,'S1'!$B$23:$Z$57,9,FALSE))","v":""},{"$f":"IF(VLOOKUP(U109,'S1'!$B$23:$Z$57,10,FALSE)=\"\",\"\",VLOOKUP(U109,'S1'!$B$23:$Z$57,10,FALSE))","v":""},{"$f":"IF(VLOOKUP(U109,'S1'!$B$23:$Z$57,11,FALSE)=\"\",\"\",VLOOKUP(U109,'S1'!$B$23:$Z$57,11,FALSE))","v":""},{"$f":"IF(VLOOKUP(U109,'S1'!$B$23:$Z$57,12,FALSE)=\"\",\"\",VLOOKUP(U109,'S1'!$B$23:$Z$57,12,FALSE))","v":""},{"$f":"IF(VLOOKUP(U109,'S1'!$B$23:$Z$57,13,FALSE)=\"\",\"\",VLOOKUP(U109,'S1'!$B$23:$Z$57,13,FALSE))","v":""},{"$f":"IF(VLOOKUP(U109,'S1'!$B$23:$Z$57,14,FALSE)=\"\",\"\",VLOOKUP(U109,'S1'!$B$23:$Z$57,14,FALSE))","v":""},{"$f":"IF(VLOOKUP(U109,'S1'!$B$23:$Z$57,15,FALSE)=\"\",\"\",VLOOKUP(U109,'S1'!$B$23:$Z$57,15,FALSE))","v":""}]
[null,"von",null,null,{"$f":"IF('S1'!$G$21=\"\",\"\",'S1'!$G$21)","v":""},{"$f":"IF('S1'!$H$21=\"\",\"\",'S1'!$H$21)","v":""},{"$f":"IF('S1'!$I$21=\"\",\"\",'S1'!$I$21)","v":""},{"$f":"IF('S1'!$J$21=\"\",\"\",'S1'!$J$21)","v":""},{"$f":"IF('S1'!$K$21=\"\",\"\",'S1'!$K$21)","v":""},{"$f":"IF('S1'!$L$21=\"\",\"\",'S1'!$L$21)","v":""},{"$f":"IF('S1'!$M$21=\"\",\"\",'S1'!$M$21)","v":""},{"$f":"IF('S1'!$N$21=\"\",\"\",'S1'!$N$21)","v":""},{"$f":"IF('S1'!$O$21=\"\",\"\",'S1'!$O$21)","v":""},{"$f":"IF('S1'!$P$21=\"\",\"\",'S1'!$P$21)","v":""},null,"von",null,null,null,null,"von",null,null,{"$f":"IF('S1'!$G$21=\"\",\"\",'S1'!$G$21)","v":""},{"$f":"IF('S1'!$H$21=\"\",\"\",'S1'!$H$21)","v":""},{"$f":"IF('S1'!$I$21=\"\",\"\",'S1'!$I$21)","v":""},{"$f":"IF('S1'!$J$21=\"\",\"\",'S1'!$J$21)","v":""},{"$f":"IF('S1'!$K$21=\"\",\"\",'S1'!$K$21)","v":""},{"$f":"IF('S1'!$L$21=\"\",\"\",'S1'!$L$21)","v":""},{"$f":"IF('S1'!$M$21=\"\",\"\",'S1'!$M$21)","v":""},{"$f":"IF('S1'!$N$21=\"\",\"\",'S1'!$N$21)","v":""},{"$f":"IF('S1'!$O$21=\"\",\"\",'S1'!$O$21)","v":""},{"$f":"IF('S1'!$P$21=\"\",\"\",'S1'!$P$21)","v":""},null,"von"]
[null,null,null,null,null,null,null,null,null,null,null,null,null,null,null,{"$f":"'S1'!$H$12","v":0},null,null,null,null,null,null,null,null,null,null,null,null,null,null,null,null,null,null,{"$f":"'S1'!$H$12","v":0}]
[null,{"$f":"IF('S1'!$Q$18=\"\",\"\",\"Aufgabe\")","v":""},null,null,{"$f":"IF('S1'!$Q$18=\"\",\"\",'S1'!$Q$18)","v":""},{"$f":"IF('S1'!$R$18=\"\",\"\",'S1'!$R$18)","v":""},{"$f":"IF('S1'!$S$18=\"\",\"\",'S1'!$S$18)","v":""},{"$f":"IF('S1'!$T$18=\"\",\"\",'S1'!$T$18)","v":""},{"$f":"IF('S1'!$U$18=\"\",\"\",'S1'!$U$18)","v":""},{"$f":"IF('S1'!$V$18=\"\",\"\",'S1'!$V$18)","v":""},{"$f":"IF('S1'!$W$18=\"\",\"\",'S1'!$W$18)","v":""},{"$f":"IF('S1'!$X$18=\"\",\"\",'S1'!$X$18)","v":""},{"$f":"IF('S1'!$Y$18=\"\",\"\",'S1'!$Y$18)","v":""},{"$f":"IF('S1'!$Z$18=\"\",\"\",'S1'!$Z$18)","v":""},null,null,null,null,null,null,{"$f":"IF('S1'!$Q$18=\"\",\"\",\"Aufgabe\")","v":""},null,null,{"$f":"IF('S1'!$Q$18=\"\",\"\",'S1'!$Q$18)","v":""},{"$f":"IF('S1'!$R$18=\"\",\"\",'S1'!$R$18)","v":""},{"$f":"IF('S1'!$S$18=\"\",\"\",'S1'!$S$18)","v":""},{"$f":"IF('S1'!$T$18=\"\",\"\",'S1'!$T$18)","v":""},{"$f":"IF('S1'!$U$18=\"\",\"\",'S1'!$U$18)","v":""},{"$f":"IF('S1'!$V$18=\"\",\"\",'S1'!$V$18)","v":""},{"$f":"IF('S1'!$W$18=\"\",\"\",'S1'!$W$18)","v":""},{"$f":"IF('S1'!$X$18=\"\",\"\",'S1'!$X$18)","v":""},{"$f":"IF('S1'!$Y$18=\"\",\"\",'S1'!$Y$18)","v":""},{"$f":"IF('S1'!$Z$18=\"\",\"\",'S1'!$Z$18)","v":""}]
[null,{"$f":"IF('S1'!$Q$18=\"\",\"\",\"erreicht\")","v":""},null,null,{"$f":"IF(VLOOKUP(B109,'S1'!$B$23:$Z$57,16,FALSE)=\"\",\"\",VLOOKUP(B109,'S1'!$B$23:$Z$57,16,FALSE))","v":""},{"$f":"IF(VLOOKUP(B109,'S1'!$B$23:$Z$57,17,FALSE)=\"\",\"\",VLOOKUP(B109,'S1'!$B$23:$Z$57,17,FALSE))","v":""},{"$f":"IF(VLOOKUP(B109,'S1'!$B$23:$Z$57,18,FALSE)=\"\",\"\",VLOOKUP(B109,'S1'!$B$23:$Z$57,18,FALSE))","v":""},{"$f":"IF(VLOOKUP(B109,'S1'!$B$23:$Z$57,19,FALSE)=\"\",\"\",VLOOKUP(B109,'S1'!$B$23:$Z$57,19,FALSE))","v":""},{"$f":"IF(VLOOKUP(B109,'S1'!$B$23:$Z$57,20,FALSE)=\"\",\"\",VLOOKUP(B109,'S1'!$B$23:$Z$57,20,FALSE))","v":""},{"$f":"IF(VLOOKUP(B109,'S1'!$B$23:$Z$57,21,FALSE)=\"\",\"\",VLOOKUP(B109,'S1'!$B$23:$Z$57,21,FALSE))","v":""},{"$f":"IF(VLOOKUP(B109,'S1'!$B$23:$Z$57,22,FALSE)=\"\",\"\",VLOOKUP(B109,'S1'!$B$23:$Z$57,22,FALSE))","v":""},{"$f":"IF(VLOOKUP(B109,'S1'!$B$23:$Z$57,23,FALSE)=\"\",\"\",VLOOKUP(B109,'S1'!$B$23:$Z$57,23,FALSE))","v":""},{"$f":"IF(VLOOKUP(B109,'S1'!$B$23:$Z$57,24,FALSE)=\"\",\"\",VLOOKUP(B109,'S1'!$B$23:$Z$57,24,FALSE))","v":""},{"$f":"IF(VLOOKUP(B109,'S1'!$B$23:$Z$57,25,FALSE)=\"\",\"\",VLOOKUP(B109,'S1'!$B$23:$Z$57,25,FALSE))","v":""},null,"Note",null,null,null,null,{"$f":"IF('S1'!$Q$18=\"\",\"\",\"erreicht\")","v":""},null,null,{"$f":"IF(VLOOKUP(U109,'S1'!$B$23:$Z$57,16,FALSE)=\"\",\"\",VLOOKUP(U109,'S1'!$B$23:$Z$57,16,FALSE))","v":""},{"$f":"IF(VLOOKUP(U109,'S1'!$B$23:$Z$57,17,FALSE)=\"\",\"\",VLOOKUP(U109,'S1'!$B$23:$Z$57,17,FALSE))","v":""},{"$f":"IF(VLOOKUP(U109,'S1'!$B$23:$Z$57,18,FALSE)=\"\",\"\",VLOOKUP(U109,'S1'!$B$23:$Z$57,18,FALSE))","v":""},{"$f":"IF(VLOOKUP(U109,'S1'!$B$23:$Z$57,19,FALSE)=\"\",\"\",VLOOKUP(U109,'S1'!$B$23:$Z$57,19,FALSE))","v":""},{"$f":"IF(VLOOKUP(U109,'S1'!$B$23:$Z$57,20,FALSE)=\"\",\"\",VLOOKUP(U109,'S1'!$B$23:$Z$57,20,FALSE))","v":""},{"$f":"IF(VLOOKUP(U109,'S1'!$B$23:$Z$57,21,FALSE)=\"\",\"\",VLOOKUP(U109,'S1'!$B$23:$Z$57,21,FALSE))","v":""},{"$f":"IF(VLOOKUP(U109,'S1'!$B$23:$Z$57,22,FALSE)=\"\",\"\",VLOOKUP(U109,'S1'!$B$23:$Z$57,22,FALSE))","v":""},{"$f":"IF(VLOOKUP(U109,'S1'!$B$23:$Z$57,23,FALSE)=\"\",\"\",VLOOKUP(U109,'S1'!$B$23:$Z$57,23,FALSE))","v":""},{"$f":"IF(VLOOKUP(U109,'S1'!$B$23:$Z$57,24,FALSE)=\"\",\"\",VLOOKUP(U109,'S1'!$B$23:$Z$57,24,FALSE))","v":""},{"$f":"IF(VLOOKUP(U109,'S1'!$B$23:$Z$57,25,FALSE)=\"\",\"\",VLOOKUP(U109,'S1'!$B$23:$Z$57,25,FALSE))","v":""},null,"Note"]
[null,{"$f":"IF('S1'!$Q$18=\"\",\"\",\"von\")","v":""},null,null,{"$f":"IF('S1'!$Q$21=\"\",\"\",'S1'!$Q$21)","v":""},{"$f":"IF('S1'!$R$21=\"\",\"\",'S1'!$R$21)","v":""},{"$f":"IF('S1'!$S$21=\"\",\"\",'S1'!$S$21)","v":""},{"$f":"IF('S1'!$T$21=\"\",\"\",'S1'!$T$21)","v":""},{"$f":"IF('S1'!$U$21=\"\",\"\",'S1'!$U$21)","v":""},{"$f":"IF('S1'!$V$21=\"\",\"\",'S1'!$V$21)","v":""},{"$f":"IF('S1'!$W$21=\"\",\"\",'S1'!$W$21)","v":""},{"$f":"IF('S1'!$X$21=\"\",\"\",'S1'!$X$21)","v":""},{"$f":"IF('S1'!$Y$21=\"\",\"\",'S1'!$Y$21)","v":""},{"$f":"IF('S1'!$Z$21=\"\",\"\",'S1'!$Z$21)","v":""},null,{"$f":"IF(VLOOKUP(B109,'S1'!$B$23:$Z$57,2,FALSE)=\"\",\"\",CONCATENATE(VLOOKUP(B109,'S1'!$B$23:$Z$57,2,FALSE),\" \",VLOOKUP(B109,'S1'!$B$23:$Z$57,3,FALSE)))","v":"- "},null,null,null,null,{"$f":"IF('S1'!$Q$18=\"\",\"\",\"von\")","v":""},null,null,{"$f":"IF('S1'!$Q$21=\"\",\"\",'S1'!$Q$21)","v":""},{"$f":"IF('S1'!$R$21=\"\",\"\",'S1'!$R$21)","v":""},{"$f":"IF('S1'!$S$21=\"\",\"\",'S1'!$S$21)","v":""},{"$f":"IF('S1'!$T$21=\"\",\"\",'S1'!$T$21)","v":""},{"$f":"IF('S1'!$U$21=\"\",\"\",'S1'!$U$21)","v":""},{"$f":"IF('S1'!$V$21=\"\",\"\",'S1'!$V$21)","v":""},{"$f":"IF('S1'!$W$21=\"\",\"\",'S1'!$W$21)","v":""},{"$f":"IF('S1'!$X$21=\"\",\"\",'S1'!$X$21)","v":""},{"$f":"IF('S1'!$Y$21=\"\",\"\",'S1'!$Y$21)","v":""},{"$f":"IF('S1'!$Z$21=\"\",\"\",'S1'!$Z$21)","v":""},null,{"$f":"IF(VLOOKUP(U109,'S1'!$B$23:$Z$57,2,FALSE)=\"\",\"\",CONCATENATE(VLOOKUP(U109,'S1'!$B$23:$Z$57,2,FALSE),\" \",VLOOKUP(U109,'S1'!$B$23:$Z$57,3,FALSE)))","v":"- "}]
[]
[]
[]
[null,{"$f":"'S1'!$B$43","v":""},null,null,null,null,null,null,null,null,null,null,null,null,null,null,null,null,null,null,{"$f":"'S1'!$B$44","v":""}]
[null,null,null,null,null,null,null,null,null,null,null,null,null,null,null,"Summe",null,null,null,null,null,null,null,null,null,null,null,null,null,null,null,null,null,null,"Summe"]
[null,"Aufgabe",null,null,{"$f":"IF('S1'!$G$18=\"\",\"\",'S1'!$G$18)","v":1},{"$f":"IF('S1'!$H$18=\"\",\"\",'S1'!$H$18)","v":2},{"$f":"IF('S1'!$I$18=\"\",\"\",'S1'!$I$18)","v":3},{"$f":"IF('S1'!$J$18=\"\",\"\",'S1'!$J$18)","v":""},{"$f":"IF('S1'!$K$18=\"\",\"\",'S1'!$K$18)","v":""},{"$f":"IF('S1'!$L$18=\"\",\"\",'S1'!$L$18)","v":""},{"$f":"IF('S1'!$M$18=\"\",\"\",'S1'!$M$18)","v":""},{"$f":"IF('S1'!$N$18=\"\",\"\",'S1'!$N$18)","v":""},{"$f":"IF('S1'!$O$18=\"\",\"\",'S1'!$O$18)","v":""},{"$f":"IF('S1'!$P$18=\"\",\"\",'S1'!$P$18)","v":""},null,{"$f":"IF(VLOOKUP(B121,'S1'!$B$23:$Z$57,5,FALSE)=\"\",\"\",VLOOKUP(B121,'S1'!$B$23:$Z$57,5,FALSE))","v":0},null,null,null,null,"Aufgabe",null,null,{"$f":"IF('S1'!$G$18=\"\",\"\",'S1'!$G$18)","v":1},{"$f":"IF('S1'!$H$18=\"\",\"\",'S1'!$H$18)","v":2},{"$f":"IF('S1'!$I$18=\"\",\"\",'S1'!$I$18)","v":3},{"$f":"IF('S1'!$J$18=\"\",\"\",'S1'!$J$18)","v":""},{"$f":"IF('S1'!$K$18=\"\",\"\",'S1'!$K$18)","v":""},{"$f":"IF('S1'!$L$18=\"\",\"\",'S1'!$L$18)","v":""},{"$f":"IF('S1'!$M$18=\"\",\"\",'S1'!$M$18)","v":""},{"$f":"IF('S1'!$N$18=\"\",\"\",'S1'!$N$18)","v":""},{"$f":"IF('S1'!$O$18=\"\",\"\",'S1'!$O$18)","v":""},{"$f":"IF('S1'!$P$18=\"\",\"\",'S1'!$P$18)","v":""},null,{"$f":"IF(VLOOKUP(U121,'S1'!$B$23:$Z$57,5,FALSE)=\"\",\"\",VLOOKUP(U121,'S1'!$B$23:$Z$57,5,FALSE))","v":0}]
[null,"erreicht",null,null,{"$f":"IF(VLOOKUP(B121,'S1'!$B$23:$Z$57,6,FALSE)=\"\",\"\",VLOOKUP(B121,'S1'!$B$23:$Z$57,6,FALSE))","v":"."},{"$f":"IF(VLOOKUP(B121,'S1'!$B$23:$Z$57,7,FALSE)=\"\",\"\",VLOOKUP(B121,'S1'!$B$23:$Z$57,7,FALSE))","v":""},{"$f":"IF(VLOOKUP(B121,'S1'!$B$23:$Z$57,8,FALSE)=\"\",\"\",VLOOKUP(B121,'S1'!$B$23:$Z$57,8,FALSE))","v":""},{"$f":"IF(VLOOKUP(B121,'S1'!$B$23:$Z$57,9,FALSE)=\"\",\"\",VLOOKUP(B121,'S1'!$B$23:$Z$57,9,FALSE))","v":""},{"$f":"IF(VLOOKUP(B121,'S1'!$B$23:$Z$57,10,FALSE)=\"\",\"\",VLOOKUP(B121,'S1'!$B$23:$Z$57,10,FALSE))","v":""},{"$f":"IF(VLOOKUP(B121,'S1'!$B$23:$Z$57,11,FALSE)=\"\",\"\",VLOOKUP(B121,'S1'!$B$23:$Z$57,11,FALSE))","v":""},{"$f":"IF(VLOOKUP(B121,'S1'!$B$23:$Z$57,12,FALSE)=\"\",\"\",VLOOKUP(B121,'S1'!$B$23:$Z$57,12,FALSE))","v":""},{"$f":"IF(VLOOKUP(B121,'S1'!$B$23:$Z$57,13,FALSE)=\"\",\"\",VLOOKUP(B121,'S1'!$B$23:$Z$57,13,FALSE))","v":""},{"$f":"IF(VLOOKUP(B121,'S1'!$B$23:$Z$57,14,FALSE)=\"\",\"\",VLOOKUP(B121,'S1'!$B$23:$Z$57,14,FALSE))","v":""},{"$f":"IF(VLOOKUP(B121,'S1'!$B$23:$Z$57,15,FALSE)=\"\",\"\",VLOOKUP(B121,'S1'!$B$23:$Z$57,15,FALSE))","v":""},null,null,null,null,null,null,"erreicht",null,null,{"$f":"IF(VLOOKUP(U121,'S1'!$B$23:$Z$57,6,FALSE)=\"\",\"\",VLOOKUP(U121,'S1'!$B$23:$Z$57,6,FALSE))","v":"."},{"$f":"IF(VLOOKUP(U121,'S1'!$B$23:$Z$57,7,FALSE)=\"\",\"\",VLOOKUP(U121,'S1'!$B$23:$Z$57,7,FALSE))","v":""},{"$f":"IF(VLOOKUP(U121,'S1'!$B$23:$Z$57,8,FALSE)=\"\",\"\",VLOOKUP(U121,'S1'!$B$23:$Z$57,8,FALSE))","v":""},{"$f":"IF(VLOOKUP(U121,'S1'!$B$23:$Z$57,9,FALSE)=\"\",\"\",VLOOKUP(U121,'S1'!$B$23:$Z$57,9,FALSE))","v":""},{"$f":"IF(VLOOKUP(U121,'S1'!$B$23:$Z$57,10,FALSE)=\"\",\"\",VLOOKUP(U121,'S1'!$B$23:$Z$57,10,FALSE))","v":""},{"$f":"IF(VLOOKUP(U121,'S1'!$B$23:$Z$57,11,FALSE)=\"\",\"\",VLOOKUP(U121,'S1'!$B$23:$Z$57,11,FALSE))","v":""},{"$f":"IF(VLOOKUP(U121,'S1'!$B$23:$Z$57,12,FALSE)=\"\",\"\",VLOOKUP(U121,'S1'!$B$23:$Z$57,12,FALSE))","v":""},{"$f":"IF(VLOOKUP(U121,'S1'!$B$23:$Z$57,13,FALSE)=\"\",\"\",VLOOKUP(U121,'S1'!$B$23:$Z$57,13,FALSE))","v":""},{"$f":"IF(VLOOKUP(U121,'S1'!$B$23:$Z$57,14,FALSE)=\"\",\"\",VLOOKUP(U121,'S1'!$B$23:$Z$57,14,FALSE))","v":""},{"$f":"IF(VLOOKUP(U121,'S1'!$B$23:$Z$57,15,FALSE)=\"\",\"\",VLOOKUP(U121,'S1'!$B$23:$Z$57,15,FALSE))","v":""}]
[null,"von",null,null,{"$f":"IF('S1'!$G$21=\"\",\"\",'S1'!$G$21)","v":""},{"$f":"IF('S1'!$H$21=\"\",\"\",'S1'!$H$21)","v":""},{"$f":"IF('S1'!$I$21=\"\",\"\",'S1'!$I$21)","v":""},{"$f":"IF('S1'!$J$21=\"\",\"\",'S1'!$J$21)","v":""},{"$f":"IF('S1'!$K$21=\"\",\"\",'S1'!$K$21)","v":""},{"$f":"IF('S1'!$L$21=\"\",\"\",'S1'!$L$21)","v":""},{"$f":"IF('S1'!$M$21=\"\",\"\",'S1'!$M$21)","v":""},{"$f":"IF('S1'!$N$21=\"\",\"\",'S1'!$N$21)","v":""},{"$f":"IF('S1'!$O$21=\"\",\"\",'S1'!$O$21)","v":""},{"$f":"IF('S1'!$P$21=\"\",\"\",'S1'!$P$21)","v":""},null,"von",null,null,null,null,"von",null,null,{"$f":"IF('S1'!$G$21=\"\",\"\",'S1'!$G$21)","v":""},{"$f":"IF('S1'!$H$21=\"\",\"\",'S1'!$H$21)","v":""},{"$f":"IF('S1'!$I$21=\"\",\"\",'S1'!$I$21)","v":""},{"$f":"IF('S1'!$J$21=\"\",\"\",'S1'!$J$21)","v":""},{"$f":"IF('S1'!$K$21=\"\",\"\",'S1'!$K$21)","v":""},{"$f":"IF('S1'!$L$21=\"\",\"\",'S1'!$L$21)","v":""},{"$f":"IF('S1'!$M$21=\"\",\"\",'S1'!$M$21)","v":""},{"$f":"IF('S1'!$N$21=\"\",\"\",'S1'!$N$21)","v":""},{"$f":"IF('S1'!$O$21=\"\",\"\",'S1'!$O$21)","v":""},{"$f":"IF('S1'!$P$21=\"\",\"\",'S1'!$P$21)","v":""},null,"von"]
[null,null,null,null,null,null,null,null,null,null,null,null,null,null,null,{"$f":"'S1'!$H$12","v":0},null,null,null,null,null,null,null,null,null,null,null,null,null,null,null,null,null,null,{"$f":"'S1'!$H$12","v":0}]
[null,{"$f":"IF('S1'!$Q$18=\"\",\"\",\"Aufgabe\")","v":""},null,null,{"$f":"IF('S1'!$Q$18=\"\",\"\",'S1'!$Q$18)","v":""},{"$f":"IF('S1'!$R$18=\"\",\"\",'S1'!$R$18)","v":""},{"$f":"IF('S1'!$S$18=\"\",\"\",'S1'!$S$18)","v":""},{"$f":"IF('S1'!$T$18=\"\",\"\",'S1'!$T$18)","v":""},{"$f":"IF('S1'!$U$18=\"\",\"\",'S1'!$U$18)","v":""},{"$f":"IF('S1'!$V$18=\"\",\"\",'S1'!$V$18)","v":""},{"$f":"IF('S1'!$W$18=\"\",\"\",'S1'!$W$18)","v":""},{"$f":"IF('S1'!$X$18=\"\",\"\",'S1'!$X$18)","v":""},{"$f":"IF('S1'!$Y$18=\"\",\"\",'S1'!$Y$18)","v":""},{"$f":"IF('S1'!$Z$18=\"\",\"\",'S1'!$Z$18)","v":""},null,null,null,null,null,null,{"$f":"IF('S1'!$Q$18=\"\",\"\",\"Aufgabe\")","v":""},null,null,{"$f":"IF('S1'!$Q$18=\"\",\"\",'S1'!$Q$18)","v":""},{"$f":"IF('S1'!$R$18=\"\",\"\",'S1'!$R$18)","v":""},{"$f":"IF('S1'!$S$18=\"\",\"\",'S1'!$S$18)","v":""},{"$f":"IF('S1'!$T$18=\"\",\"\",'S1'!$T$18)","v":""},{"$f":"IF('S1'!$U$18=\"\",\"\",'S1'!$U$18)","v":""},{"$f":"IF('S1'!$V$18=\"\",\"\",'S1'!$V$18)","v":""},{"$f":"IF('S1'!$W$18=\"\",\"\",'S1'!$W$18)","v":""},{"$f":"IF('S1'!$X$18=\"\",\"\",'S1'!$X$18)","v":""},{"$f":"IF('S1'!$Y$18=\"\",\"\",'S1'!$Y$18)","v":""},{"$f":"IF('S1'!$Z$18=\"\",\"\",'S1'!$Z$18)","v":""}]
[null,{"$f":"IF('S1'!$Q$18=\"\",\"\",\"erreicht\")","v":""},null,null,{"$f":"IF(VLOOKUP(B121,'S1'!$B$23:$Z$57,16,FALSE)=\"\",\"\",VLOOKUP(B121,'S1'!$B$23:$Z$57,16,FALSE))","v":""},{"$f":"IF(VLOOKUP(B121,'S1'!$B$23:$Z$57,17,FALSE)=\"\",\"\",VLOOKUP(B121,'S1'!$B$23:$Z$57,17,FALSE))","v":""},{"$f":"IF(VLOOKUP(B121,'S1'!$B$23:$Z$57,18,FALSE)=\"\",\"\",VLOOKUP(B121,'S1'!$B$23:$Z$57,18,FALSE))","v":""},{"$f":"IF(VLOOKUP(B121,'S1'!$B$23:$Z$57,19,FALSE)=\"\",\"\",VLOOKUP(B121,'S1'!$B$23:$Z$57,19,FALSE))","v":""},{"$f":"IF(VLOOKUP(B121,'S1'!$B$23:$Z$57,20,FALSE)=\"\",\"\",VLOOKUP(B121,'S1'!$B$23:$Z$57,20,FALSE))","v":""},{"$f":"IF(VLOOKUP(B121,'S1'!$B$23:$Z$57,21,FALSE)=\"\",\"\",VLOOKUP(B121,'S1'!$B$23:$Z$57,21,FALSE))","v":""},{"$f":"IF(VLOOKUP(B121,'S1'!$B$23:$Z$57,22,FALSE)=\"\",\"\",VLOOKUP(B121,'S1'!$B$23:$Z$57,22,FALSE))","v":""},{"$f":"IF(VLOOKUP(B121,'S1'!$B$23:$Z$57,23,FALSE)=\"\",\"\",VLOOKUP(B121,'S1'!$B$23:$Z$57,23,FALSE))","v":""},{"$f":"IF(VLOOKUP(B121,'S1'!$B$23:$Z$57,24,FALSE)=\"\",\"\",VLOOKUP(B121,'S1'!$B$23:$Z$57,24,FALSE))","v":""},{"$f":"IF(VLOOKUP(B121,'S1'!$B$23:$Z$57,25,FALSE)=\"\",\"\",VLOOKUP(B121,'S1'!$B$23:$Z$57,25,FALSE))","v":""},null,"Note",null,null,null,null,{"$f":"IF('S1'!$Q$18=\"\",\"\",\"erreicht\")","v":""},null,null,{"$f":"IF(VLOOKUP(U121,'S1'!$B$23:$Z$57,16,FALSE)=\"\",\"\",VLOOKUP(U121,'S1'!$B$23:$Z$57,16,FALSE))","v":""},{"$f":"IF(VLOOKUP(U121,'S1'!$B$23:$Z$57,17,FALSE)=\"\",\"\",VLOOKUP(U121,'S1'!$B$23:$Z$57,17,FALSE))","v":""},{"$f":"IF(VLOOKUP(U121,'S1'!$B$23:$Z$57,18,FALSE)=\"\",\"\",VLOOKUP(U121,'S1'!$B$23:$Z$57,18,FALSE))","v":""},{"$f":"IF(VLOOKUP(U121,'S1'!$B$23:$Z$57,19,FALSE)=\"\",\"\",VLOOKUP(U121,'S1'!$B$23:$Z$57,19,FALSE))","v":""},{"$f":"IF(VLOOKUP(U121,'S1'!$B$23:$Z$57,20,FALSE)=\"\",\"\",VLOOKUP(U121,'S1'!$B$23:$Z$57,20,FALSE))","v":""},{"$f":"IF(VLOOKUP(U121,'S1'!$B$23:$Z$57,21,FALSE)=\"\",\"\",VLOOKUP(U121,'S1'!$B$23:$Z$57,21,FALSE))","v":""},{"$f":"IF(VLOOKUP(U121,'S1'!$B$23:$Z$57,22,FALSE)=\"\",\"\",VLOOKUP(U121,'S1'!$B$23:$Z$57,22,FALSE))","v":""},{"$f":"IF(VLOOKUP(U121,'S1'!$B$23:$Z$57,23,FALSE)=\"\",\"\",VLOOKUP(U121,'S1'!$B$23:$Z$57,23,FALSE))","v":""},{"$f":"IF(VLOOKUP(U121,'S1'!$B$23:$Z$57,24,FALSE)=\"\",\"\",VLOOKUP(U121,'S1'!$B$23:$Z$57,24,FALSE))","v":""},{"$f":"IF(VLOOKUP(U121,'S1'!$B$23:$Z$57,25,FALSE)=\"\",\"\",VLOOKUP(U121,'S1'!$B$23:$Z$57,25,FALSE))","v":""},null,"Note"]
[null,{"$f":"IF('S1'!$Q$18=\"\",\"\",\"von\")","v":""},null,null,{"$f":"IF('S1'!$Q$21=\"\",\"\",'S1'!$Q$21)","v":""},{"$f":"IF('S1'!$R$21=\"\",\"\",'S1'!$R$21)","v":""},{"$f":"IF('S1'!$S$21=\"\",\"\",'S1'!$S$21)","v":""},{"$f":"IF('S1'!$T$21=\"\",\"\",'S1'!$T$21)","v":""},{"$f":"IF('S1'!$U$21=\"\",\"\",'S1'!$U$21)","v":""},{"$f":"IF('S1'!$V$21=\"\",\"\",'S1'!$V$21)","v":""},{"$f":"IF('S1'!$W$21=\"\",\"\",'S1'!$W$21)","v":""},{"$f":"IF('S1'!$X$21=\"\",\"\",'S1'!$X$21)","v":""},{"$f":"IF('S1'!$Y$21=\"\",\"\",'S1'!$Y$21)","v":""},{"$f":"IF('S1'!$Z$21=\"\",\"\",'S1'!$Z$21)","v":""},null,{"$f":"IF(VLOOKUP(B121,'S1'!$B$23:$Z$57,2,FALSE)=\"\",\"\",CONCATENATE(VLOOKUP(B121,'S1'!$B$23:$Z$57,2,FALSE),\" \",VLOOKUP(B121,'S1'!$B$23:$Z$57,3,FALSE)))","v":"- "},null,null,null,null,{"$f":"IF('S1'!$Q$18=\"\",\"\",\"von\")","v":""},null,null,{"$f":"IF('S1'!$Q$21=\"\",\"\",'S1'!$Q$21)","v":""},{"$f":"IF('S1'!$R$21=\"\",\"\",'S1'!$R$21)","v":""},{"$f":"IF('S1'!$S$21=\"\",\"\",'S1'!$S$21)","v":""},{"$f":"IF('S1'!$T$21=\"\",\"\",'S1'!$T$21)","v":""},{"$f":"IF('S1'!$U$21=\"\",\"\",'S1'!$U$21)","v":""},{"$f":"IF('S1'!$V$21=\"\",\"\",'S1'!$V$21)","v":""},{"$f":"IF('S1'!$W$21=\"\",\"\",'S1'!$W$21)","v":""},{"$f":"IF('S1'!$X$21=\"\",\"\",'S1'!$X$21)","v":""},{"$f":"IF('S1'!$Y$21=\"\",\"\",'S1'!$Y$21)","v":""},{"$f":"IF('S1'!$Z$21=\"\",\"\",'S1'!$Z$21)","v":""},null,{"$f":"IF(VLOOKUP(U121,'S1'!$B$23:$Z$57,2,FALSE)=\"\",\"\",CONCATENATE(VLOOKUP(U121,'S1'!$B$23:$Z$57,2,FALSE),\" \",VLOOKUP(U121,'S1'!$B$23:$Z$57,3,FALSE)))","v":"- "}]
[]
[]
[]
[null,{"$f":"'S1'!$B$45","v":""},null,null,null,null,null,null,null,null,null,null,null,null,null,null,null,null,null,null,{"$f":"'S1'!$B$46","v":""}]
[null,null,null,null,null,null,null,null,null,null,null,null,null,null,null,"Summe",null,null,null,null,null,null,null,null,null,null,null,null,null,null,null,null,null,null,"Summe"]
[null,"Aufgabe",null,null,{"$f":"IF('S1'!$G$18=\"\",\"\",'S1'!$G$18)","v":1},{"$f":"IF('S1'!$H$18=\"\",\"\",'S1'!$H$18)","v":2},{"$f":"IF('S1'!$I$18=\"\",\"\",'S1'!$I$18)","v":3},{"$f":"IF('S1'!$J$18=\"\",\"\",'S1'!$J$18)","v":""},{"$f":"IF('S1'!$K$18=\"\",\"\",'S1'!$K$18)","v":""},{"$f":"IF('S1'!$L$18=\"\",\"\",'S1'!$L$18)","v":""},{"$f":"IF('S1'!$M$18=\"\",\"\",'S1'!$M$18)","v":""},{"$f":"IF('S1'!$N$18=\"\",\"\",'S1'!$N$18)","v":""},{"$f":"IF('S1'!$O$18=\"\",\"\",'S1'!$O$18)","v":""},{"$f":"IF('S1'!$P$18=\"\",\"\",'S1'!$P$18)","v":""},null,{"$f":"IF(VLOOKUP(B133,'S1'!$B$23:$Z$57,5,FALSE)=\"\",\"\",VLOOKUP(B133,'S1'!$B$23:$Z$57,5,FALSE))","v":0},null,null,null,null,"Aufgabe",null,null,{"$f":"IF('S1'!$G$18=\"\",\"\",'S1'!$G$18)","v":1},{"$f":"IF('S1'!$H$18=\"\",\"\",'S1'!$H$18)","v":2},{"$f":"IF('S1'!$I$18=\"\",\"\",'S1'!$I$18)","v":3},{"$f":"IF('S1'!$J$18=\"\",\"\",'S1'!$J$18)","v":""},{"$f":"IF('S1'!$K$18=\"\",\"\",'S1'!$K$18)","v":""},{"$f":"IF('S1'!$L$18=\"\",\"\",'S1'!$L$18)","v":""},{"$f":"IF('S1'!$M$18=\"\",\"\",'S1'!$M$18)","v":""},{"$f":"IF('S1'!$N$18=\"\",\"\",'S1'!$N$18)","v":""},{"$f":"IF('S1'!$O$18=\"\",\"\",'S1'!$O$18)","v":""},{"$f":"IF('S1'!$P$18=\"\",\"\",'S1'!$P$18)","v":""},null,{"$f":"IF(VLOOKUP(U133,'S1'!$B$23:$Z$57,5,FALSE)=\"\",\"\",VLOOKUP(U133,'S1'!$B$23:$Z$57,5,FALSE))","v":0}]
[null,"erreicht",null,null,{"$f":"IF(VLOOKUP(B133,'S1'!$B$23:$Z$57,6,FALSE)=\"\",\"\",VLOOKUP(B133,'S1'!$B$23:$Z$57,6,FALSE))","v":"."},{"$f":"IF(VLOOKUP(B133,'S1'!$B$23:$Z$57,7,FALSE)=\"\",\"\",VLOOKUP(B133,'S1'!$B$23:$Z$57,7,FALSE))","v":""},{"$f":"IF(VLOOKUP(B133,'S1'!$B$23:$Z$57,8,FALSE)=\"\",\"\",VLOOKUP(B133,'S1'!$B$23:$Z$57,8,FALSE))","v":""},{"$f":"IF(VLOOKUP(B133,'S1'!$B$23:$Z$57,9,FALSE)=\"\",\"\",VLOOKUP(B133,'S1'!$B$23:$Z$57,9,FALSE))","v":""},{"$f":"IF(VLOOKUP(B133,'S1'!$B$23:$Z$57,10,FALSE)=\"\",\"\",VLOOKUP(B133,'S1'!$B$23:$Z$57,10,FALSE))","v":""},{"$f":"IF(VLOOKUP(B133,'S1'!$B$23:$Z$57,11,FALSE)=\"\",\"\",VLOOKUP(B133,'S1'!$B$23:$Z$57,11,FALSE))","v":""},{"$f":"IF(VLOOKUP(B133,'S1'!$B$23:$Z$57,12,FALSE)=\"\",\"\",VLOOKUP(B133,'S1'!$B$23:$Z$57,12,FALSE))","v":""},{"$f":"IF(VLOOKUP(B133,'S1'!$B$23:$Z$57,13,FALSE)=\"\",\"\",VLOOKUP(B133,'S1'!$B$23:$Z$57,13,FALSE))","v":""},{"$f":"IF(VLOOKUP(B133,'S1'!$B$23:$Z$57,14,FALSE)=\"\",\"\",VLOOKUP(B133,'S1'!$B$23:$Z$57,14,FALSE))","v":""},{"$f":"IF(VLOOKUP(B133,'S1'!$B$23:$Z$57,15,FALSE)=\"\",\"\",VLOOKUP(B133,'S1'!$B$23:$Z$57,15,FALSE))","v":""},null,null,null,null,null,null,"erreicht",null,null,{"$f":"IF(VLOOKUP(U133,'S1'!$B$23:$Z$57,6,FALSE)=\"\",\"\",VLOOKUP(U133,'S1'!$B$23:$Z$57,6,FALSE))","v":"."},{"$f":"IF(VLOOKUP(U133,'S1'!$B$23:$Z$57,7,FALSE)=\"\",\"\",VLOOKUP(U133,'S1'!$B$23:$Z$57,7,FALSE))","v":""},{"$f":"IF(VLOOKUP(U133,'S1'!$B$23:$Z$57,8,FALSE)=\"\",\"\",VLOOKUP(U133,'S1'!$B$23:$Z$57,8,FALSE))","v":""},{"$f":"IF(VLOOKUP(U133,'S1'!$B$23:$Z$57,9,FALSE)=\"\",\"\",VLOOKUP(U133,'S1'!$B$23:$Z$57,9,FALSE))","v":""},{"$f":"IF(VLOOKUP(U133,'S1'!$B$23:$Z$57,10,FALSE)=\"\",\"\",VLOOKUP(U133,'S1'!$B$23:$Z$57,10,FALSE))","v":""},{"$f":"IF(VLOOKUP(U133,'S1'!$B$23:$Z$57,11,FALSE)=\"\",\"\",VLOOKUP(U133,'S1'!$B$23:$Z$57,11,FALSE))","v":""},{"$f":"IF(VLOOKUP(U133,'S1'!$B$23:$Z$57,12,FALSE)=\"\",\"\",VLOOKUP(U133,'S1'!$B$23:$Z$57,12,FALSE))","v":""},{"$f":"IF(VLOOKUP(U133,'S1'!$B$23:$Z$57,13,FALSE)=\"\",\"\",VLOOKUP(U133,'S1'!$B$23:$Z$57,13,FALSE))","v":""},{"$f":"IF(VLOOKUP(U133,'S1'!$B$23:$Z$57,14,FALSE)=\"\",\"\",VLOOKUP(U133,'S1'!$B$23:$Z$57,14,FALSE))","v":""},{"$f":"IF(VLOOKUP(U133,'S1'!$B$23:$Z$57,15,FALSE)=\"\",\"\",VLOOKUP(U133,'S1'!$B$23:$Z$57,15,FALSE))","v":""}]
[null,"von",null,null,{"$f":"IF('S1'!$G$21=\"\",\"\",'S1'!$G$21)","v":""},{"$f":"IF('S1'!$H$21=\"\",\"\",'S1'!$H$21)","v":""},{"$f":"IF('S1'!$I$21=\"\",\"\",'S1'!$I$21)","v":""},{"$f":"IF('S1'!$J$21=\"\",\"\",'S1'!$J$21)","v":""},{"$f":"IF('S1'!$K$21=\"\",\"\",'S1'!$K$21)","v":""},{"$f":"IF('S1'!$L$21=\"\",\"\",'S1'!$L$21)","v":""},{"$f":"IF('S1'!$M$21=\"\",\"\",'S1'!$M$21)","v":""},{"$f":"IF('S1'!$N$21=\"\",\"\",'S1'!$N$21)","v":""},{"$f":"IF('S1'!$O$21=\"\",\"\",'S1'!$O$21)","v":""},{"$f":"IF('S1'!$P$21=\"\",\"\",'S1'!$P$21)","v":""},null,"von",null,null,null,null,"von",null,null,{"$f":"IF('S1'!$G$21=\"\",\"\",'S1'!$G$21)","v":""},{"$f":"IF('S1'!$H$21=\"\",\"\",'S1'!$H$21)","v":""},{"$f":"IF('S1'!$I$21=\"\",\"\",'S1'!$I$21)","v":""},{"$f":"IF('S1'!$J$21=\"\",\"\",'S1'!$J$21)","v":""},{"$f":"IF('S1'!$K$21=\"\",\"\",'S1'!$K$21)","v":""},{"$f":"IF('S1'!$L$21=\"\",\"\",'S1'!$L$21)","v":""},{"$f":"IF('S1'!$M$21=\"\",\"\",'S1'!$M$21)","v":""},{"$f":"IF('S1'!$N$21=\"\",\"\",'S1'!$N$21)","v":""},{"$f":"IF('S1'!$O$21=\"\",\"\",'S1'!$O$21)","v":""},{"$f":"IF('S1'!$P$21=\"\",\"\",'S1'!$P$21)","v":""},null,"von"]
[null,null,null,null,null,null,null,null,null,null,null,null,null,null,null,{"$f":"'S1'!$H$12","v":0},null,null,null,null,null,null,null,null,null,null,null,null,null,null,null,null,null,null,{"$f":"'S1'!$H$12","v":0}]
[null,{"$f":"IF('S1'!$Q$18=\"\",\"\",\"Aufgabe\")","v":""},null,null,{"$f":"IF('S1'!$Q$18=\"\",\"\",'S1'!$Q$18)","v":""},{"$f":"IF('S1'!$R$18=\"\",\"\",'S1'!$R$18)","v":""},{"$f":"IF('S1'!$S$18=\"\",\"\",'S1'!$S$18)","v":""},{"$f":"IF('S1'!$T$18=\"\",\"\",'S1'!$T$18)","v":""},{"$f":"IF('S1'!$U$18=\"\",\"\",'S1'!$U$18)","v":""},{"$f":"IF('S1'!$V$18=\"\",\"\",'S1'!$V$18)","v":""},{"$f":"IF('S1'!$W$18=\"\",\"\",'S1'!$W$18)","v":""},{"$f":"IF('S1'!$X$18=\"\",\"\",'S1'!$X$18)","v":""},{"$f":"IF('S1'!$Y$18=\"\",\"\",'S1'!$Y$18)","v":""},{"$f":"IF('S1'!$Z$18=\"\",\"\",'S1'!$Z$18)","v":""},null,null,null,null,null,null,{"$f":"IF('S1'!$Q$18=\"\",\"\",\"Aufgabe\")","v":""},null,null,{"$f":"IF('S1'!$Q$18=\"\",\"\",'S1'!$Q$18)","v":""},{"$f":"IF('S1'!$R$18=\"\",\"\",'S1'!$R$18)","v":""},{"$f":"IF('S1'!$S$18=\"\",\"\",'S1'!$S$18)","v":""},{"$f":"IF('S1'!$T$18=\"\",\"\",'S1'!$T$18)","v":""},{"$f":"IF('S1'!$U$18=\"\",\"\",'S1'!$U$18)","v":""},{"$f":"IF('S1'!$V$18=\"\",\"\",'S1'!$V$18)","v":""},{"$f":"IF('S1'!$W$18=\"\",\"\",'S1'!$W$18)","v":""},{"$f":"IF('S1'!$X$18=\"\",\"\",'S1'!$X$18)","v":""},{"$f":"IF('S1'!$Y$18=\"\",\"\",'S1'!$Y$18)","v":""},{"$f":"IF('S1'!$Z$18=\"\",\"\",'S1'!$Z$18)","v":""}]
[null,{"$f":"IF('S1'!$Q$18=\"\",\"\",\"erreicht\")","v":""},null,null,{"$f":"IF(VLOOKUP(B133,'S1'!$B$23:$Z$57,16,FALSE)=\"\",\"\",VLOOKUP(B133,'S1'!$B$23:$Z$57,16,FALSE))","v":""},{"$f":"IF(VLOOKUP(B133,'S1'!$B$23:$Z$57,17,FALSE)=\"\",\"\",VLOOKUP(B133,'S1'!$B$23:$Z$57,17,FALSE))","v":""},{"$f":"IF(VLOOKUP(B133,'S1'!$B$23:$Z$57,18,FALSE)=\"\",\"\",VLOOKUP(B133,'S1'!$B$23:$Z$57,18,FALSE))","v":""},{"$f":"IF(VLOOKUP(B133,'S1'!$B$23:$Z$57,19,FALSE)=\"\",\"\",VLOOKUP(B133,'S1'!$B$23:$Z$57,19,FALSE))","v":""},{"$f":"IF(VLOOKUP(B133,'S1'!$B$23:$Z$57,20,FALSE)=\"\",\"\",VLOOKUP(B133,'S1'!$B$23:$Z$57,20,FALSE))","v":""},{"$f":"IF(VLOOKUP(B133,'S1'!$B$23:$Z$57,21,FALSE)=\"\",\"\",VLOOKUP(B133,'S1'!$B$23:$Z$57,21,FALSE))","v":""},{"$f":"IF(VLOOKUP(B133,'S1'!$B$23:$Z$57,22,FALSE)=\"\",\"\",VLOOKUP(B133,'S1'!$B$23:$Z$57,22,FALSE))","v":""},{"$f":"IF(VLOOKUP(B133,'S1'!$B$23:$Z$57,23,FALSE)=\"\",\"\",VLOOKUP(B133,'S1'!$B$23:$Z$57,23,FALSE))","v":""},{"$f":"IF(VLOOKUP(B133,'S1'!$B$23:$Z$57,24,FALSE)=\"\",\"\",VLOOKUP(B133,'S1'!$B$23:$Z$57,24,FALSE))","v":""},{"$f":"IF(VLOOKUP(B133,'S1'!$B$23:$Z$57,25,FALSE)=\"\",\"\",VLOOKUP(B133,'S1'!$B$23:$Z$57,25,FALSE))","v":""},null,"Note",null,null,null,null,{"$f":"IF('S1'!$Q$18=\"\",\"\",\"erreicht\")","v":""},null,null,{"$f":"IF(VLOOKUP(U133,'S1'!$B$23:$Z$57,16,FALSE)=\"\",\"\",VLOOKUP(U133,'S1'!$B$23:$Z$57,16,FALSE))","v":""},{"$f":"IF(VLOOKUP(U133,'S1'!$B$23:$Z$57,17,FALSE)=\"\",\"\",VLOOKUP(U133,'S1'!$B$23:$Z$57,17,FALSE))","v":""},{"$f":"IF(VLOOKUP(U133,'S1'!$B$23:$Z$57,18,FALSE)=\"\",\"\",VLOOKUP(U133,'S1'!$B$23:$Z$57,18,FALSE))","v":""},{"$f":"IF(VLOOKUP(U133,'S1'!$B$23:$Z$57,19,FALSE)=\"\",\"\",VLOOKUP(U133,'S1'!$B$23:$Z$57,19,FALSE))","v":""},{"$f":"IF(VLOOKUP(U133,'S1'!$B$23:$Z$57,20,FALSE)=\"\",\"\",VLOOKUP(U133,'S1'!$B$23:$Z$57,20,FALSE))","v":""},{"$f":"IF(VLOOKUP(U133,'S1'!$B$23:$Z$57,21,FALSE)=\"\",\"\",VLOOKUP(U133,'S1'!$B$23:$Z$57,21,FALSE))","v":""},{"$f":"IF(VLOOKUP(U133,'S1'!$B$23:$Z$57,22,FALSE)=\"\",\"\",VLOOKUP(U133,'S1'!$B$23:$Z$57,22,FALSE))","v":""},{"$f":"IF(VLOOKUP(U133,'S1'!$B$23:$Z$57,23,FALSE)=\"\",\"\",VLOOKUP(U133,'S1'!$B$23:$Z$57,23,FALSE))","v":""},{"$f":"IF(VLOOKUP(U133,'S1'!$B$23:$Z$57,24,FALSE)=\"\",\"\",VLOOKUP(U133,'S1'!$B$23:$Z$57,24,FALSE))","v":""},{"$f":"IF(VLOOKUP(U133,'S1'!$B$23:$Z$57,25,FALSE)=\"\",\"\",VLOOKUP(U133,'S1'!$B$23:$Z$57,25,FALSE))","v":""},null,"Note"]
[null,{"$f":"IF('S1'!$Q$18=\"\",\"\",\"von\")","v":""},null,null,{"$f":"IF('S1'!$Q$21=\"\",\"\",'S1'!$Q$21)","v":""},{"$f":"IF('S1'!$R$21=\"\",\"\",'S1'!$R$21)","v":""},{"$f":"IF('S1'!$S$21=\"\",\"\",'S1'!$S$21)","v":""},{"$f":"IF('S1'!$T$21=\"\",\"\",'S1'!$T$21)","v":""},{"$f":"IF('S1'!$U$21=\"\",\"\",'S1'!$U$21)","v":""},{"$f":"IF('S1'!$V$21=\"\",\"\",'S1'!$V$21)","v":""},{"$f":"IF('S1'!$W$21=\"\",\"\",'S1'!$W$21)","v":""},{"$f":"IF('S1'!$X$21=\"\",\"\",'S1'!$X$21)","v":""},{"$f":"IF('S1'!$Y$21=\"\",\"\",'S1'!$Y$21)","v":""},{"$f":"IF('S1'!$Z$21=\"\",\"\",'S1'!$Z$21)","v":""},null,{"$f":"IF(VLOOKUP(B133,'S1'!$B$23:$Z$57,2,FALSE)=\"\",\"\",CONCATENATE(VLOOKUP(B133,'S1'!$B$23:$Z$57,2,FALSE),\" \",VLOOKUP(B133,'S1'!$B$23:$Z$57,3,FALSE)))","v":"- "},null,null,null,null,{"$f":"IF('S1'!$Q$18=\"\",\"\",\"von\")","v":""},null,null,{"$f":"IF('S1'!$Q$21=\"\",\"\",'S1'!$Q$21)","v":""},{"$f":"IF('S1'!$R$21=\"\",\"\",'S1'!$R$21)","v":""},{"$f":"IF('S1'!$S$21=\"\",\"\",'S1'!$S$21)","v":""},{"$f":"IF('S1'!$T$21=\"\",\"\",'S1'!$T$21)","v":""},{"$f":"IF('S1'!$U$21=\"\",\"\",'S1'!$U$21)","v":""},{"$f":"IF('S1'!$V$21=\"\",\"\",'S1'!$V$21)","v":""},{"$f":"IF('S1'!$W$21=\"\",\"\",'S1'!$W$21)","v":""},{"$f":"IF('S1'!$X$21=\"\",\"\",'S1'!$X$21)","v":""},{"$f":"IF('S1'!$Y$21=\"\",\"\",'S1'!$Y$21)","v":""},{"$f":"IF('S1'!$Z$21=\"\",\"\",'S1'!$Z$21)","v":""},null,{"$f":"IF(VLOOKUP(U133,'S1'!$B$23:$Z$57,2,FALSE)=\"\",\"\",CONCATENATE(VLOOKUP(U133,'S1'!$B$23:$Z$57,2,FALSE),\" \",VLOOKUP(U133,'S1'!$B$23:$Z$57,3,FALSE)))","v":"- "}]
[]
[]
[null,{"$f":"'S1'!$B$47","v":""},null,null,null,null,null,null,null,null,null,null,null,null,null,null,null,null,null,null,{"$f":"'S1'!$B$48","v":""}]
[null,null,null,null,null,null,null,null,null,null,null,null,null,null,null,"Summe",null,null,null,null,null,null,null,null,null,null,null,null,null,null,null,null,null,null,"Summe"]
[null,"Aufgabe",null,null,{"$f":"IF('S1'!$G$18=\"\",\"\",'S1'!$G$18)","v":1},{"$f":"IF('S1'!$H$18=\"\",\"\",'S1'!$H$18)","v":2},{"$f":"IF('S1'!$I$18=\"\",\"\",'S1'!$I$18)","v":3},{"$f":"IF('S1'!$J$18=\"\",\"\",'S1'!$J$18)","v":""},{"$f":"IF('S1'!$K$18=\"\",\"\",'S1'!$K$18)","v":""},{"$f":"IF('S1'!$L$18=\"\",\"\",'S1'!$L$18)","v":""},{"$f":"IF('S1'!$M$18=\"\",\"\",'S1'!$M$18)","v":""},{"$f":"IF('S1'!$N$18=\"\",\"\",'S1'!$N$18)","v":""},{"$f":"IF('S1'!$O$18=\"\",\"\",'S1'!$O$18)","v":""},{"$f":"IF('S1'!$P$18=\"\",\"\",'S1'!$P$18)","v":""},null,{"$f":"IF(VLOOKUP(B144,'S1'!$B$23:$Z$57,5,FALSE)=\"\",\"\",VLOOKUP(B144,'S1'!$B$23:$Z$57,5,FALSE))","v":0},null,null,null,null,"Aufgabe",null,null,{"$f":"IF('S1'!$G$18=\"\",\"\",'S1'!$G$18)","v":1},{"$f":"IF('S1'!$H$18=\"\",\"\",'S1'!$H$18)","v":2},{"$f":"IF('S1'!$I$18=\"\",\"\",'S1'!$I$18)","v":3},{"$f":"IF('S1'!$J$18=\"\",\"\",'S1'!$J$18)","v":""},{"$f":"IF('S1'!$K$18=\"\",\"\",'S1'!$K$18)","v":""},{"$f":"IF('S1'!$L$18=\"\",\"\",'S1'!$L$18)","v":""},{"$f":"IF('S1'!$M$18=\"\",\"\",'S1'!$M$18)","v":""},{"$f":"IF('S1'!$N$18=\"\",\"\",'S1'!$N$18)","v":""},{"$f":"IF('S1'!$O$18=\"\",\"\",'S1'!$O$18)","v":""},{"$f":"IF('S1'!$P$18=\"\",\"\",'S1'!$P$18)","v":""},null,{"$f":"IF(VLOOKUP(U144,'S1'!$B$23:$Z$57,5,FALSE)=\"\",\"\",VLOOKUP(U144,'S1'!$B$23:$Z$57,5,FALSE))","v":0}]
[null,"erreicht",null,null,{"$f":"IF(VLOOKUP(B144,'S1'!$B$23:$Z$57,6,FALSE)=\"\",\"\",VLOOKUP(B144,'S1'!$B$23:$Z$57,6,FALSE))","v":"."},{"$f":"IF(VLOOKUP(B144,'S1'!$B$23:$Z$57,7,FALSE)=\"\",\"\",VLOOKUP(B144,'S1'!$B$23:$Z$57,7,FALSE))","v":""},{"$f":"IF(VLOOKUP(B144,'S1'!$B$23:$Z$57,8,FALSE)=\"\",\"\",VLOOKUP(B144,'S1'!$B$23:$Z$57,8,FALSE))","v":""},{"$f":"IF(VLOOKUP(B144,'S1'!$B$23:$Z$57,9,FALSE)=\"\",\"\",VLOOKUP(B144,'S1'!$B$23:$Z$57,9,FALSE))","v":""},{"$f":"IF(VLOOKUP(B144,'S1'!$B$23:$Z$57,10,FALSE)=\"\",\"\",VLOOKUP(B144,'S1'!$B$23:$Z$57,10,FALSE))","v":""},{"$f":"IF(VLOOKUP(B144,'S1'!$B$23:$Z$57,11,FALSE)=\"\",\"\",VLOOKUP(B144,'S1'!$B$23:$Z$57,11,FALSE))","v":""},{"$f":"IF(VLOOKUP(B144,'S1'!$B$23:$Z$57,12,FALSE)=\"\",\"\",VLOOKUP(B144,'S1'!$B$23:$Z$57,12,FALSE))","v":""},{"$f":"IF(VLOOKUP(B144,'S1'!$B$23:$Z$57,13,FALSE)=\"\",\"\",VLOOKUP(B144,'S1'!$B$23:$Z$57,13,FALSE))","v":""},{"$f":"IF(VLOOKUP(B144,'S1'!$B$23:$Z$57,14,FALSE)=\"\",\"\",VLOOKUP(B144,'S1'!$B$23:$Z$57,14,FALSE))","v":""},{"$f":"IF(VLOOKUP(B144,'S1'!$B$23:$Z$57,15,FALSE)=\"\",\"\",VLOOKUP(B144,'S1'!$B$23:$Z$57,15,FALSE))","v":""},null,null,null,null,null,null,"erreicht",null,null,{"$f":"IF(VLOOKUP(U144,'S1'!$B$23:$Z$57,6,FALSE)=\"\",\"\",VLOOKUP(U144,'S1'!$B$23:$Z$57,6,FALSE))","v":"."},{"$f":"IF(VLOOKUP(U144,'S1'!$B$23:$Z$57,7,FALSE)=\"\",\"\",VLOOKUP(U144,'S1'!$B$23:$Z$57,7,FALSE))","v":""},{"$f":"IF(VLOOKUP(U144,'S1'!$B$23:$Z$57,8,FALSE)=\"\",\"\",VLOOKUP(U144,'S1'!$B$23:$Z$57,8,FALSE))","v":""},{"$f":"IF(VLOOKUP(U144,'S1'!$B$23:$Z$57,9,FALSE)=\"\",\"\",VLOOKUP(U144,'S1'!$B$23:$Z$57,9,FALSE))","v":""},{"$f":"IF(VLOOKUP(U144,'S1'!$B$23:$Z$57,10,FALSE)=\"\",\"\",VLOOKUP(U144,'S1'!$B$23:$Z$57,10,FALSE))","v":""},{"$f":"IF(VLOOKUP(U144,'S1'!$B$23:$Z$57,11,FALSE)=\"\",\"\",VLOOKUP(U144,'S1'!$B$23:$Z$57,11,FALSE))","v":""},{"$f":"IF(VLOOKUP(U144,'S1'!$B$23:$Z$57,12,FALSE)=\"\",\"\",VLOOKUP(U144,'S1'!$B$23:$Z$57,12,FALSE))","v":""},{"$f":"IF(VLOOKUP(U144,'S1'!$B$23:$Z$57,13,FALSE)=\"\",\"\",VLOOKUP(U144,'S1'!$B$23:$Z$57,13,FALSE))","v":""},{"$f":"IF(VLOOKUP(U144,'S1'!$B$23:$Z$57,14,FALSE)=\"\",\"\",VLOOKUP(U144,'S1'!$B$23:$Z$57,14,FALSE))","v":""},{"$f":"IF(VLOOKUP(U144,'S1'!$B$23:$Z$57,15,FALSE)=\"\",\"\",VLOOKUP(U144,'S1'!$B$23:$Z$57,15,FALSE))","v":""}]
[null,"von",null,null,{"$f":"IF('S1'!$G$21=\"\",\"\",'S1'!$G$21)","v":""},{"$f":"IF('S1'!$H$21=\"\",\"\",'S1'!$H$21)","v":""},{"$f":"IF('S1'!$I$21=\"\",\"\",'S1'!$I$21)","v":""},{"$f":"IF('S1'!$J$21=\"\",\"\",'S1'!$J$21)","v":""},{"$f":"IF('S1'!$K$21=\"\",\"\",'S1'!$K$21)","v":""},{"$f":"IF('S1'!$L$21=\"\",\"\",'S1'!$L$21)","v":""},{"$f":"IF('S1'!$M$21=\"\",\"\",'S1'!$M$21)","v":""},{"$f":"IF('S1'!$N$21=\"\",\"\",'S1'!$N$21)","v":""},{"$f":"IF('S1'!$O$21=\"\",\"\",'S1'!$O$21)","v":""},{"$f":"IF('S1'!$P$21=\"\",\"\",'S1'!$P$21)","v":""},null,"von",null,null,null,null,"von",null,null,{"$f":"IF('S1'!$G$21=\"\",\"\",'S1'!$G$21)","v":""},{"$f":"IF('S1'!$H$21=\"\",\"\",'S1'!$H$21)","v":""},{"$f":"IF('S1'!$I$21=\"\",\"\",'S1'!$I$21)","v":""},{"$f":"IF('S1'!$J$21=\"\",\"\",'S1'!$J$21)","v":""},{"$f":"IF('S1'!$K$21=\"\",\"\",'S1'!$K$21)","v":""},{"$f":"IF('S1'!$L$21=\"\",\"\",'S1'!$L$21)","v":""},{"$f":"IF('S1'!$M$21=\"\",\"\",'S1'!$M$21)","v":""},{"$f":"IF('S1'!$N$21=\"\",\"\",'S1'!$N$21)","v":""},{"$f":"IF('S1'!$O$21=\"\",\"\",'S1'!$O$21)","v":""},{"$f":"IF('S1'!$P$21=\"\",\"\",'S1'!$P$21)","v":""},null,"von"]
[null,null,null,null,null,null,null,null,null,null,null,null,null,null,null,{"$f":"'S1'!$H$12","v":0},null,null,null,null,null,null,null,null,null,null,null,null,null,null,null,null,null,null,{"$f":"'S1'!$H$12","v":0}]
[null,{"$f":"IF('S1'!$Q$18=\"\",\"\",\"Aufgabe\")","v":""},null,null,{"$f":"IF('S1'!$Q$18=\"\",\"\",'S1'!$Q$18)","v":""},{"$f":"IF('S1'!$R$18=\"\",\"\",'S1'!$R$18)","v":""},{"$f":"IF('S1'!$S$18=\"\",\"\",'S1'!$S$18)","v":""},{"$f":"IF('S1'!$T$18=\"\",\"\",'S1'!$T$18)","v":""},{"$f":"IF('S1'!$U$18=\"\",\"\",'S1'!$U$18)","v":""},{"$f":"IF('S1'!$V$18=\"\",\"\",'S1'!$V$18)","v":""},{"$f":"IF('S1'!$W$18=\"\",\"\",'S1'!$W$18)","v":""},{"$f":"IF('S1'!$X$18=\"\",\"\",'S1'!$X$18)","v":""},{"$f":"IF('S1'!$Y$18=\"\",\"\",'S1'!$Y$18)","v":""},{"$f":"IF('S1'!$Z$18=\"\",\"\",'S1'!$Z$18)","v":""},null,null,null,null,null,null,{"$f":"IF('S1'!$Q$18=\"\",\"\",\"Aufgabe\")","v":""},null,null,{"$f":"IF('S1'!$Q$18=\"\",\"\",'S1'!$Q$18)","v":""},{"$f":"IF('S1'!$R$18=\"\",\"\",'S1'!$R$18)","v":""},{"$f":"IF('S1'!$S$18=\"\",\"\",'S1'!$S$18)","v":""},{"$f":"IF('S1'!$T$18=\"\",\"\",'S1'!$T$18)","v":""},{"$f":"IF('S1'!$U$18=\"\",\"\",'S1'!$U$18)","v":""},{"$f":"IF('S1'!$V$18=\"\",\"\",'S1'!$V$18)","v":""},{"$f":"IF('S1'!$W$18=\"\",\"\",'S1'!$W$18)","v":""},{"$f":"IF('S1'!$X$18=\"\",\"\",'S1'!$X$18)","v":""},{"$f":"IF('S1'!$Y$18=\"\",\"\",'S1'!$Y$18)","v":""},{"$f":"IF('S1'!$Z$18=\"\",\"\",'S1'!$Z$18)","v":""}]
[null,{"$f":"IF('S1'!$Q$18=\"\",\"\",\"erreicht\")","v":""},null,null,{"$f":"IF(VLOOKUP(B144,'S1'!$B$23:$Z$57,16,FALSE)=\"\",\"\",VLOOKUP(B144,'S1'!$B$23:$Z$57,16,FALSE))","v":""},{"$f":"IF(VLOOKUP(B144,'S1'!$B$23:$Z$57,17,FALSE)=\"\",\"\",VLOOKUP(B144,'S1'!$B$23:$Z$57,17,FALSE))","v":""},{"$f":"IF(VLOOKUP(B144,'S1'!$B$23:$Z$57,18,FALSE)=\"\",\"\",VLOOKUP(B144,'S1'!$B$23:$Z$57,18,FALSE))","v":""},{"$f":"IF(VLOOKUP(B144,'S1'!$B$23:$Z$57,19,FALSE)=\"\",\"\",VLOOKUP(B144,'S1'!$B$23:$Z$57,19,FALSE))","v":""},{"$f":"IF(VLOOKUP(B144,'S1'!$B$23:$Z$57,20,FALSE)=\"\",\"\",VLOOKUP(B144,'S1'!$B$23:$Z$57,20,FALSE))","v":""},{"$f":"IF(VLOOKUP(B144,'S1'!$B$23:$Z$57,21,FALSE)=\"\",\"\",VLOOKUP(B144,'S1'!$B$23:$Z$57,21,FALSE))","v":""},{"$f":"IF(VLOOKUP(B144,'S1'!$B$23:$Z$57,22,FALSE)=\"\",\"\",VLOOKUP(B144,'S1'!$B$23:$Z$57,22,FALSE))","v":""},{"$f":"IF(VLOOKUP(B144,'S1'!$B$23:$Z$57,23,FALSE)=\"\",\"\",VLOOKUP(B144,'S1'!$B$23:$Z$57,23,FALSE))","v":""},{"$f":"IF(VLOOKUP(B144,'S1'!$B$23:$Z$57,24,FALSE)=\"\",\"\",VLOOKUP(B144,'S1'!$B$23:$Z$57,24,FALSE))","v":""},{"$f":"IF(VLOOKUP(B144,'S1'!$B$23:$Z$57,25,FALSE)=\"\",\"\",VLOOKUP(B144,'S1'!$B$23:$Z$57,25,FALSE))","v":""},null,"Note",null,null,null,null,{"$f":"IF('S1'!$Q$18=\"\",\"\",\"erreicht\")","v":""},null,null,{"$f":"IF(VLOOKUP(U144,'S1'!$B$23:$Z$57,16,FALSE)=\"\",\"\",VLOOKUP(U144,'S1'!$B$23:$Z$57,16,FALSE))","v":""},{"$f":"IF(VLOOKUP(U144,'S1'!$B$23:$Z$57,17,FALSE)=\"\",\"\",VLOOKUP(U144,'S1'!$B$23:$Z$57,17,FALSE))","v":""},{"$f":"IF(VLOOKUP(U144,'S1'!$B$23:$Z$57,18,FALSE)=\"\",\"\",VLOOKUP(U144,'S1'!$B$23:$Z$57,18,FALSE))","v":""},{"$f":"IF(VLOOKUP(U144,'S1'!$B$23:$Z$57,19,FALSE)=\"\",\"\",VLOOKUP(U144,'S1'!$B$23:$Z$57,19,FALSE))","v":""},{"$f":"IF(VLOOKUP(U144,'S1'!$B$23:$Z$57,20,FALSE)=\"\",\"\",VLOOKUP(U144,'S1'!$B$23:$Z$57,20,FALSE))","v":""},{"$f":"IF(VLOOKUP(U144,'S1'!$B$23:$Z$57,21,FALSE)=\"\",\"\",VLOOKUP(U144,'S1'!$B$23:$Z$57,21,FALSE))","v":""},{"$f":"IF(VLOOKUP(U144,'S1'!$B$23:$Z$57,22,FALSE)=\"\",\"\",VLOOKUP(U144,'S1'!$B$23:$Z$57,22,FALSE))","v":""},{"$f":"IF(VLOOKUP(U144,'S1'!$B$23:$Z$57,23,FALSE)=\"\",\"\",VLOOKUP(U144,'S1'!$B$23:$Z$57,23,FALSE))","v":""},{"$f":"IF(VLOOKUP(U144,'S1'!$B$23:$Z$57,24,FALSE)=\"\",\"\",VLOOKUP(U144,'S1'!$B$23:$Z$57,24,FALSE))","v":""},{"$f":"IF(VLOOKUP(U144,'S1'!$B$23:$Z$57,25,FALSE)=\"\",\"\",VLOOKUP(U144,'S1'!$B$23:$Z$57,25,FALSE))","v":""},null,"Note"]
[null,{"$f":"IF('S1'!$Q$18=\"\",\"\",\"von\")","v":""},null,null,{"$f":"IF('S1'!$Q$21=\"\",\"\",'S1'!$Q$21)","v":""},{"$f":"IF('S1'!$R$21=\"\",\"\",'S1'!$R$21)","v":""},{"$f":"IF('S1'!$S$21=\"\",\"\",'S1'!$S$21)","v":""},{"$f":"IF('S1'!$T$21=\"\",\"\",'S1'!$T$21)","v":""},{"$f":"IF('S1'!$U$21=\"\",\"\",'S1'!$U$21)","v":""},{"$f":"IF('S1'!$V$21=\"\",\"\",'S1'!$V$21)","v":""},{"$f":"IF('S1'!$W$21=\"\",\"\",'S1'!$W$21)","v":""},{"$f":"IF('S1'!$X$21=\"\",\"\",'S1'!$X$21)","v":""},{"$f":"IF('S1'!$Y$21=\"\",\"\",'S1'!$Y$21)","v":""},{"$f":"IF('S1'!$Z$21=\"\",\"\",'S1'!$Z$21)","v":""},null,{"$f":"IF(VLOOKUP(B144,'S1'!$B$23:$Z$57,2,FALSE)=\"\",\"\",CONCATENATE(VLOOKUP(B144,'S1'!$B$23:$Z$57,2,FALSE),\" \",VLOOKUP(B144,'S1'!$B$23:$Z$57,3,FALSE)))","v":"- "},null,null,null,null,{"$f":"IF('S1'!$Q$18=\"\",\"\",\"von\")","v":""},null,null,{"$f":"IF('S1'!$Q$21=\"\",\"\",'S1'!$Q$21)","v":""},{"$f":"IF('S1'!$R$21=\"\",\"\",'S1'!$R$21)","v":""},{"$f":"IF('S1'!$S$21=\"\",\"\",'S1'!$S$21)","v":""},{"$f":"IF('S1'!$T$21=\"\",\"\",'S1'!$T$21)","v":""},{"$f":"IF('S1'!$U$21=\"\",\"\",'S1'!$U$21)","v":""},{"$f":"IF('S1'!$V$21=\"\",\"\",'S1'!$V$21)","v":""},{"$f":"IF('S1'!$W$21=\"\",\"\",'S1'!$W$21)","v":""},{"$f":"IF('S1'!$X$21=\"\",\"\",'S1'!$X$21)","v":""},{"$f":"IF('S1'!$Y$21=\"\",\"\",'S1'!$Y$21)","v":""},{"$f":"IF('S1'!$Z$21=\"\",\"\",'S1'!$Z$21)","v":""},null,{"$f":"IF(VLOOKUP(U144,'S1'!$B$23:$Z$57,2,FALSE)=\"\",\"\",CONCATENATE(VLOOKUP(U144,'S1'!$B$23:$Z$57,2,FALSE),\" \",VLOOKUP(U144,'S1'!$B$23:$Z$57,3,FALSE)))","v":"- "}]
[]
[]
[]
[null,{"$f":"'S1'!$B$49","v":""},null,null,null,null,null,null,null,null,null,null,null,null,null,null,null,null,null,null,{"$f":"'S1'!$B$50","v":""}]
[null,null,null,null,null,null,null,null,null,null,null,null,null,null,null,"Summe",null,null,null,null,null,null,null,null,null,null,null,null,null,null,null,null,null,null,"Summe"]
[null,"Aufgabe",null,null,{"$f":"IF('S1'!$G$18=\"\",\"\",'S1'!$G$18)","v":1},{"$f":"IF('S1'!$H$18=\"\",\"\",'S1'!$H$18)","v":2},{"$f":"IF('S1'!$I$18=\"\",\"\",'S1'!$I$18)","v":3},{"$f":"IF('S1'!$J$18=\"\",\"\",'S1'!$J$18)","v":""},{"$f":"IF('S1'!$K$18=\"\",\"\",'S1'!$K$18)","v":""},{"$f":"IF('S1'!$L$18=\"\",\"\",'S1'!$L$18)","v":""},{"$f":"IF('S1'!$M$18=\"\",\"\",'S1'!$M$18)","v":""},{"$f":"IF('S1'!$N$18=\"\",\"\",'S1'!$N$18)","v":""},{"$f":"IF('S1'!$O$18=\"\",\"\",'S1'!$O$18)","v":""},{"$f":"IF('S1'!$P$18=\"\",\"\",'S1'!$P$18)","v":""},null,{"$f":"IF(VLOOKUP(B156,'S1'!$B$23:$Z$57,5,FALSE)=\"\",\"\",VLOOKUP(B156,'S1'!$B$23:$Z$57,5,FALSE))","v":0},null,null,null,null,"Aufgabe",null,null,{"$f":"IF('S1'!$G$18=\"\",\"\",'S1'!$G$18)","v":1},{"$f":"IF('S1'!$H$18=\"\",\"\",'S1'!$H$18)","v":2},{"$f":"IF('S1'!$I$18=\"\",\"\",'S1'!$I$18)","v":3},{"$f":"IF('S1'!$J$18=\"\",\"\",'S1'!$J$18)","v":""},{"$f":"IF('S1'!$K$18=\"\",\"\",'S1'!$K$18)","v":""},{"$f":"IF('S1'!$L$18=\"\",\"\",'S1'!$L$18)","v":""},{"$f":"IF('S1'!$M$18=\"\",\"\",'S1'!$M$18)","v":""},{"$f":"IF('S1'!$N$18=\"\",\"\",'S1'!$N$18)","v":""},{"$f":"IF('S1'!$O$18=\"\",\"\",'S1'!$O$18)","v":""},{"$f":"IF('S1'!$P$18=\"\",\"\",'S1'!$P$18)","v":""},null,{"$f":"IF(VLOOKUP(U156,'S1'!$B$23:$Z$57,5,FALSE)=\"\",\"\",VLOOKUP(U156,'S1'!$B$23:$Z$57,5,FALSE))","v":0}]
[null,"erreicht",null,null,{"$f":"IF(VLOOKUP(B156,'S1'!$B$23:$Z$57,6,FALSE)=\"\",\"\",VLOOKUP(B156,'S1'!$B$23:$Z$57,6,FALSE))","v":"."},{"$f":"IF(VLOOKUP(B156,'S1'!$B$23:$Z$57,7,FALSE)=\"\",\"\",VLOOKUP(B156,'S1'!$B$23:$Z$57,7,FALSE))","v":""},{"$f":"IF(VLOOKUP(B156,'S1'!$B$23:$Z$57,8,FALSE)=\"\",\"\",VLOOKUP(B156,'S1'!$B$23:$Z$57,8,FALSE))","v":""},{"$f":"IF(VLOOKUP(B156,'S1'!$B$23:$Z$57,9,FALSE)=\"\",\"\",VLOOKUP(B156,'S1'!$B$23:$Z$57,9,FALSE))","v":""},{"$f":"IF(VLOOKUP(B156,'S1'!$B$23:$Z$57,10,FALSE)=\"\",\"\",VLOOKUP(B156,'S1'!$B$23:$Z$57,10,FALSE))","v":""},{"$f":"IF(VLOOKUP(B156,'S1'!$B$23:$Z$57,11,FALSE)=\"\",\"\",VLOOKUP(B156,'S1'!$B$23:$Z$57,11,FALSE))","v":""},{"$f":"IF(VLOOKUP(B156,'S1'!$B$23:$Z$57,12,FALSE)=\"\",\"\",VLOOKUP(B156,'S1'!$B$23:$Z$57,12,FALSE))","v":""},{"$f":"IF(VLOOKUP(B156,'S1'!$B$23:$Z$57,13,FALSE)=\"\",\"\",VLOOKUP(B156,'S1'!$B$23:$Z$57,13,FALSE))","v":""},{"$f":"IF(VLOOKUP(B156,'S1'!$B$23:$Z$57,14,FALSE)=\"\",\"\",VLOOKUP(B156,'S1'!$B$23:$Z$57,14,FALSE))","v":""},{"$f":"IF(VLOOKUP(B156,'S1'!$B$23:$Z$57,15,FALSE)=\"\",\"\",VLOOKUP(B156,'S1'!$B$23:$Z$57,15,FALSE))","v":""},null,null,null,null,null,null,"erreicht",null,null,{"$f":"IF(VLOOKUP(U156,'S1'!$B$23:$Z$57,6,FALSE)=\"\",\"\",VLOOKUP(U156,'S1'!$B$23:$Z$57,6,FALSE))","v":"."},{"$f":"IF(VLOOKUP(U156,'S1'!$B$23:$Z$57,7,FALSE)=\"\",\"\",VLOOKUP(U156,'S1'!$B$23:$Z$57,7,FALSE))","v":""},{"$f":"IF(VLOOKUP(U156,'S1'!$B$23:$Z$57,8,FALSE)=\"\",\"\",VLOOKUP(U156,'S1'!$B$23:$Z$57,8,FALSE))","v":""},{"$f":"IF(VLOOKUP(U156,'S1'!$B$23:$Z$57,9,FALSE)=\"\",\"\",VLOOKUP(U156,'S1'!$B$23:$Z$57,9,FALSE))","v":""},{"$f":"IF(VLOOKUP(U156,'S1'!$B$23:$Z$57,10,FALSE)=\"\",\"\",VLOOKUP(U156,'S1'!$B$23:$Z$57,10,FALSE))","v":""},{"$f":"IF(VLOOKUP(U156,'S1'!$B$23:$Z$57,11,FALSE)=\"\",\"\",VLOOKUP(U156,'S1'!$B$23:$Z$57,11,FALSE))","v":""},{"$f":"IF(VLOOKUP(U156,'S1'!$B$23:$Z$57,12,FALSE)=\"\",\"\",VLOOKUP(U156,'S1'!$B$23:$Z$57,12,FALSE))","v":""},{"$f":"IF(VLOOKUP(U156,'S1'!$B$23:$Z$57,13,FALSE)=\"\",\"\",VLOOKUP(U156,'S1'!$B$23:$Z$57,13,FALSE))","v":""},{"$f":"IF(VLOOKUP(U156,'S1'!$B$23:$Z$57,14,FALSE)=\"\",\"\",VLOOKUP(U156,'S1'!$B$23:$Z$57,14,FALSE))","v":""},{"$f":"IF(VLOOKUP(U156,'S1'!$B$23:$Z$57,15,FALSE)=\"\",\"\",VLOOKUP(U156,'S1'!$B$23:$Z$57,15,FALSE))","v":""}]
[null,"von",null,null,{"$f":"IF('S1'!$G$21=\"\",\"\",'S1'!$G$21)","v":""},{"$f":"IF('S1'!$H$21=\"\",\"\",'S1'!$H$21)","v":""},{"$f":"IF('S1'!$I$21=\"\",\"\",'S1'!$I$21)","v":""},{"$f":"IF('S1'!$J$21=\"\",\"\",'S1'!$J$21)","v":""},{"$f":"IF('S1'!$K$21=\"\",\"\",'S1'!$K$21)","v":""},{"$f":"IF('S1'!$L$21=\"\",\"\",'S1'!$L$21)","v":""},{"$f":"IF('S1'!$M$21=\"\",\"\",'S1'!$M$21)","v":""},{"$f":"IF('S1'!$N$21=\"\",\"\",'S1'!$N$21)","v":""},{"$f":"IF('S1'!$O$21=\"\",\"\",'S1'!$O$21)","v":""},{"$f":"IF('S1'!$P$21=\"\",\"\",'S1'!$P$21)","v":""},null,"von",null,null,null,null,"von",null,null,{"$f":"IF('S1'!$G$21=\"\",\"\",'S1'!$G$21)","v":""},{"$f":"IF('S1'!$H$21=\"\",\"\",'S1'!$H$21)","v":""},{"$f":"IF('S1'!$I$21=\"\",\"\",'S1'!$I$21)","v":""},{"$f":"IF('S1'!$J$21=\"\",\"\",'S1'!$J$21)","v":""},{"$f":"IF('S1'!$K$21=\"\",\"\",'S1'!$K$21)","v":""},{"$f":"IF('S1'!$L$21=\"\",\"\",'S1'!$L$21)","v":""},{"$f":"IF('S1'!$M$21=\"\",\"\",'S1'!$M$21)","v":""},{"$f":"IF('S1'!$N$21=\"\",\"\",'S1'!$N$21)","v":""},{"$f":"IF('S1'!$O$21=\"\",\"\",'S1'!$O$21)","v":""},{"$f":"IF('S1'!$P$21=\"\",\"\",'S1'!$P$21)","v":""},null,"von"]
[null,null,null,null,null,null,null,null,null,null,null,null,null,null,null,{"$f":"'S1'!$H$12","v":0},null,null,null,null,null,null,null,null,null,null,null,null,null,null,null,null,null,null,{"$f":"'S1'!$H$12","v":0}]
[null,{"$f":"IF('S1'!$Q$18=\"\",\"\",\"Aufgabe\")","v":""},null,null,{"$f":"IF('S1'!$Q$18=\"\",\"\",'S1'!$Q$18)","v":""},{"$f":"IF('S1'!$R$18=\"\",\"\",'S1'!$R$18)","v":""},{"$f":"IF('S1'!$S$18=\"\",\"\",'S1'!$S$18)","v":""},{"$f":"IF('S1'!$T$18=\"\",\"\",'S1'!$T$18)","v":""},{"$f":"IF('S1'!$U$18=\"\",\"\",'S1'!$U$18)","v":""},{"$f":"IF('S1'!$V$18=\"\",\"\",'S1'!$V$18)","v":""},{"$f":"IF('S1'!$W$18=\"\",\"\",'S1'!$W$18)","v":""},{"$f":"IF('S1'!$X$18=\"\",\"\",'S1'!$X$18)","v":""},{"$f":"IF('S1'!$Y$18=\"\",\"\",'S1'!$Y$18)","v":""},{"$f":"IF('S1'!$Z$18=\"\",\"\",'S1'!$Z$18)","v":""},null,null,null,null,null,null,{"$f":"IF('S1'!$Q$18=\"\",\"\",\"Aufgabe\")","v":""},null,null,{"$f":"IF('S1'!$Q$18=\"\",\"\",'S1'!$Q$18)","v":""},{"$f":"IF('S1'!$R$18=\"\",\"\",'S1'!$R$18)","v":""},{"$f":"IF('S1'!$S$18=\"\",\"\",'S1'!$S$18)","v":""},{"$f":"IF('S1'!$T$18=\"\",\"\",'S1'!$T$18)","v":""},{"$f":"IF('S1'!$U$18=\"\",\"\",'S1'!$U$18)","v":""},{"$f":"IF('S1'!$V$18=\"\",\"\",'S1'!$V$18)","v":""},{"$f":"IF('S1'!$W$18=\"\",\"\",'S1'!$W$18)","v":""},{"$f":"IF('S1'!$X$18=\"\",\"\",'S1'!$X$18)","v":""},{"$f":"IF('S1'!$Y$18=\"\",\"\",'S1'!$Y$18)","v":""},{"$f":"IF('S1'!$Z$18=\"\",\"\",'S1'!$Z$18)","v":""}]
[null,{"$f":"IF('S1'!$Q$18=\"\",\"\",\"erreicht\")","v":""},null,null,{"$f":"IF(VLOOKUP(B156,'S1'!$B$23:$Z$57,16,FALSE)=\"\",\"\",VLOOKUP(B156,'S1'!$B$23:$Z$57,16,FALSE))","v":""},{"$f":"IF(VLOOKUP(B156,'S1'!$B$23:$Z$57,17,FALSE)=\"\",\"\",VLOOKUP(B156,'S1'!$B$23:$Z$57,17,FALSE))","v":""},{"$f":"IF(VLOOKUP(B156,'S1'!$B$23:$Z$57,18,FALSE)=\"\",\"\",VLOOKUP(B156,'S1'!$B$23:$Z$57,18,FALSE))","v":""},{"$f":"IF(VLOOKUP(B156,'S1'!$B$23:$Z$57,19,FALSE)=\"\",\"\",VLOOKUP(B156,'S1'!$B$23:$Z$57,19,FALSE))","v":""},{"$f":"IF(VLOOKUP(B156,'S1'!$B$23:$Z$57,20,FALSE)=\"\",\"\",VLOOKUP(B156,'S1'!$B$23:$Z$57,20,FALSE))","v":""},{"$f":"IF(VLOOKUP(B156,'S1'!$B$23:$Z$57,21,FALSE)=\"\",\"\",VLOOKUP(B156,'S1'!$B$23:$Z$57,21,FALSE))","v":""},{"$f":"IF(VLOOKUP(B156,'S1'!$B$23:$Z$57,22,FALSE)=\"\",\"\",VLOOKUP(B156,'S1'!$B$23:$Z$57,22,FALSE))","v":""},{"$f":"IF(VLOOKUP(B156,'S1'!$B$23:$Z$57,23,FALSE)=\"\",\"\",VLOOKUP(B156,'S1'!$B$23:$Z$57,23,FALSE))","v":""},{"$f":"IF(VLOOKUP(B156,'S1'!$B$23:$Z$57,24,FALSE)=\"\",\"\",VLOOKUP(B156,'S1'!$B$23:$Z$57,24,FALSE))","v":""},{"$f":"IF(VLOOKUP(B156,'S1'!$B$23:$Z$57,25,FALSE)=\"\",\"\",VLOOKUP(B156,'S1'!$B$23:$Z$57,25,FALSE))","v":""},null,"Note",null,null,null,null,{"$f":"IF('S1'!$Q$18=\"\",\"\",\"erreicht\")","v":""},null,null,{"$f":"IF(VLOOKUP(U156,'S1'!$B$23:$Z$57,16,FALSE)=\"\",\"\",VLOOKUP(U156,'S1'!$B$23:$Z$57,16,FALSE))","v":""},{"$f":"IF(VLOOKUP(U156,'S1'!$B$23:$Z$57,17,FALSE)=\"\",\"\",VLOOKUP(U156,'S1'!$B$23:$Z$57,17,FALSE))","v":""},{"$f":"IF(VLOOKUP(U156,'S1'!$B$23:$Z$57,18,FALSE)=\"\",\"\",VLOOKUP(U156,'S1'!$B$23:$Z$57,18,FALSE))","v":""},{"$f":"IF(VLOOKUP(U156,'S1'!$B$23:$Z$57,19,FALSE)=\"\",\"\",VLOOKUP(U156,'S1'!$B$23:$Z$57,19,FALSE))","v":""},{"$f":"IF(VLOOKUP(U156,'S1'!$B$23:$Z$57,20,FALSE)=\"\",\"\",VLOOKUP(U156,'S1'!$B$23:$Z$57,20,FALSE))","v":""},{"$f":"IF(VLOOKUP(U156,'S1'!$B$23:$Z$57,21,FALSE)=\"\",\"\",VLOOKUP(U156,'S1'!$B$23:$Z$57,21,FALSE))","v":""},{"$f":"IF(VLOOKUP(U156,'S1'!$B$23:$Z$57,22,FALSE)=\"\",\"\",VLOOKUP(U156,'S1'!$B$23:$Z$57,22,FALSE))","v":""},{"$f":"IF(VLOOKUP(U156,'S1'!$B$23:$Z$57,23,FALSE)=\"\",\"\",VLOOKUP(U156,'S1'!$B$23:$Z$57,23,FALSE))","v":""},{"$f":"IF(VLOOKUP(U156,'S1'!$B$23:$Z$57,24,FALSE)=\"\",\"\",VLOOKUP(U156,'S1'!$B$23:$Z$57,24,FALSE))","v":""},{"$f":"IF(VLOOKUP(U156,'S1'!$B$23:$Z$57,25,FALSE)=\"\",\"\",VLOOKUP(U156,'S1'!$B$23:$Z$57,25,FALSE))","v":""},null,"Note"]
[null,{"$f":"IF('S1'!$Q$18=\"\",\"\",\"von\")","v":""},null,null,{"$f":"IF('S1'!$Q$21=\"\",\"\",'S1'!$Q$21)","v":""},{"$f":"IF('S1'!$R$21=\"\",\"\",'S1'!$R$21)","v":""},{"$f":"IF('S1'!$S$21=\"\",\"\",'S1'!$S$21)","v":""},{"$f":"IF('S1'!$T$21=\"\",\"\",'S1'!$T$21)","v":""},{"$f":"IF('S1'!$U$21=\"\",\"\",'S1'!$U$21)","v":""},{"$f":"IF('S1'!$V$21=\"\",\"\",'S1'!$V$21)","v":""},{"$f":"IF('S1'!$W$21=\"\",\"\",'S1'!$W$21)","v":""},{"$f":"IF('S1'!$X$21=\"\",\"\",'S1'!$X$21)","v":""},{"$f":"IF('S1'!$Y$21=\"\",\"\",'S1'!$Y$21)","v":""},{"$f":"IF('S1'!$Z$21=\"\",\"\",'S1'!$Z$21)","v":""},null,{"$f":"IF(VLOOKUP(B156,'S1'!$B$23:$Z$57,2,FALSE)=\"\",\"\",CONCATENATE(VLOOKUP(B156,'S1'!$B$23:$Z$57,2,FALSE),\" \",VLOOKUP(B156,'S1'!$B$23:$Z$57,3,FALSE)))","v":"- "},null,null,null,null,{"$f":"IF('S1'!$Q$18=\"\",\"\",\"von\")","v":""},null,null,{"$f":"IF('S1'!$Q$21=\"\",\"\",'S1'!$Q$21)","v":""},{"$f":"IF('S1'!$R$21=\"\",\"\",'S1'!$R$21)","v":""},{"$f":"IF('S1'!$S$21=\"\",\"\",'S1'!$S$21)","v":""},{"$f":"IF('S1'!$T$21=\"\",\"\",'S1'!$T$21)","v":""},{"$f":"IF('S1'!$U$21=\"\",\"\",'S1'!$U$21)","v":""},{"$f":"IF('S1'!$V$21=\"\",\"\",'S1'!$V$21)","v":""},{"$f":"IF('S1'!$W$21=\"\",\"\",'S1'!$W$21)","v":""},{"$f":"IF('S1'!$X$21=\"\",\"\",'S1'!$X$21)","v":""},{"$f":"IF('S1'!$Y$21=\"\",\"\",'S1'!$Y$21)","v":""},{"$f":"IF('S1'!$Z$21=\"\",\"\",'S1'!$Z$21)","v":""},null,{"$f":"IF(VLOOKUP(U156,'S1'!$B$23:$Z$57,2,FALSE)=\"\",\"\",CONCATENATE(VLOOKUP(U156,'S1'!$B$23:$Z$57,2,FALSE),\" \",VLOOKUP(U156,'S1'!$B$23:$Z$57,3,FALSE)))","v":"- "}]
[]
[]
[]
[null,{"$f":"'S1'!$B$51","v":""},null,null,null,null,null,null,null,null,null,null,null,null,null,null,null,null,null,null,{"$f":"'S1'!$B$52","v":""}]
[null,null,null,null,null,null,null,null,null,null,null,null,null,null,null,"Summe",null,null,null,null,null,null,null,null,null,null,null,null,null,null,null,null,null,null,"Summe"]
[null,"Aufgabe",null,null,{"$f":"IF('S1'!$G$18=\"\",\"\",'S1'!$G$18)","v":1},{"$f":"IF('S1'!$H$18=\"\",\"\",'S1'!$H$18)","v":2},{"$f":"IF('S1'!$I$18=\"\",\"\",'S1'!$I$18)","v":3},{"$f":"IF('S1'!$J$18=\"\",\"\",'S1'!$J$18)","v":""},{"$f":"IF('S1'!$K$18=\"\",\"\",'S1'!$K$18)","v":""},{"$f":"IF('S1'!$L$18=\"\",\"\",'S1'!$L$18)","v":""},{"$f":"IF('S1'!$M$18=\"\",\"\",'S1'!$M$18)","v":""},{"$f":"IF('S1'!$N$18=\"\",\"\",'S1'!$N$18)","v":""},{"$f":"IF('S1'!$O$18=\"\",\"\",'S1'!$O$18)","v":""},{"$f":"IF('S1'!$P$18=\"\",\"\",'S1'!$P$18)","v":""},null,{"$f":"IF(VLOOKUP(B168,'S1'!$B$23:$Z$57,5,FALSE)=\"\",\"\",VLOOKUP(B168,'S1'!$B$23:$Z$57,5,FALSE))","v":0},null,null,null,null,"Aufgabe",null,null,{"$f":"IF('S1'!$G$18=\"\",\"\",'S1'!$G$18)","v":1},{"$f":"IF('S1'!$H$18=\"\",\"\",'S1'!$H$18)","v":2},{"$f":"IF('S1'!$I$18=\"\",\"\",'S1'!$I$18)","v":3},{"$f":"IF('S1'!$J$18=\"\",\"\",'S1'!$J$18)","v":""},{"$f":"IF('S1'!$K$18=\"\",\"\",'S1'!$K$18)","v":""},{"$f":"IF('S1'!$L$18=\"\",\"\",'S1'!$L$18)","v":""},{"$f":"IF('S1'!$M$18=\"\",\"\",'S1'!$M$18)","v":""},{"$f":"IF('S1'!$N$18=\"\",\"\",'S1'!$N$18)","v":""},{"$f":"IF('S1'!$O$18=\"\",\"\",'S1'!$O$18)","v":""},{"$f":"IF('S1'!$P$18=\"\",\"\",'S1'!$P$18)","v":""},null,{"$f":"IF(VLOOKUP(U168,'S1'!$B$23:$Z$57,5,FALSE)=\"\",\"\",VLOOKUP(U168,'S1'!$B$23:$Z$57,5,FALSE))","v":0}]
[null,"erreicht",null,null,{"$f":"IF(VLOOKUP(B168,'S1'!$B$23:$Z$57,6,FALSE)=\"\",\"\",VLOOKUP(B168,'S1'!$B$23:$Z$57,6,FALSE))","v":"."},{"$f":"IF(VLOOKUP(B168,'S1'!$B$23:$Z$57,7,FALSE)=\"\",\"\",VLOOKUP(B168,'S1'!$B$23:$Z$57,7,FALSE))","v":""},{"$f":"IF(VLOOKUP(B168,'S1'!$B$23:$Z$57,8,FALSE)=\"\",\"\",VLOOKUP(B168,'S1'!$B$23:$Z$57,8,FALSE))","v":""},{"$f":"IF(VLOOKUP(B168,'S1'!$B$23:$Z$57,9,FALSE)=\"\",\"\",VLOOKUP(B168,'S1'!$B$23:$Z$57,9,FALSE))","v":""},{"$f":"IF(VLOOKUP(B168,'S1'!$B$23:$Z$57,10,FALSE)=\"\",\"\",VLOOKUP(B168,'S1'!$B$23:$Z$57,10,FALSE))","v":""},{"$f":"IF(VLOOKUP(B168,'S1'!$B$23:$Z$57,11,FALSE)=\"\",\"\",VLOOKUP(B168,'S1'!$B$23:$Z$57,11,FALSE))","v":""},{"$f":"IF(VLOOKUP(B168,'S1'!$B$23:$Z$57,12,FALSE)=\"\",\"\",VLOOKUP(B168,'S1'!$B$23:$Z$57,12,FALSE))","v":""},{"$f":"IF(VLOOKUP(B168,'S1'!$B$23:$Z$57,13,FALSE)=\"\",\"\",VLOOKUP(B168,'S1'!$B$23:$Z$57,13,FALSE))","v":""},{"$f":"IF(VLOOKUP(B168,'S1'!$B$23:$Z$57,14,FALSE)=\"\",\"\",VLOOKUP(B168,'S1'!$B$23:$Z$57,14,FALSE))","v":""},{"$f":"IF(VLOOKUP(B168,'S1'!$B$23:$Z$57,15,FALSE)=\"\",\"\",VLOOKUP(B168,'S1'!$B$23:$Z$57,15,FALSE))","v":""},null,null,null,null,null,null,"erreicht",null,null,{"$f":"IF(VLOOKUP(U168,'S1'!$B$23:$Z$57,6,FALSE)=\"\",\"\",VLOOKUP(U168,'S1'!$B$23:$Z$57,6,FALSE))","v":"."},{"$f":"IF(VLOOKUP(U168,'S1'!$B$23:$Z$57,7,FALSE)=\"\",\"\",VLOOKUP(U168,'S1'!$B$23:$Z$57,7,FALSE))","v":""},{"$f":"IF(VLOOKUP(U168,'S1'!$B$23:$Z$57,8,FALSE)=\"\",\"\",VLOOKUP(U168,'S1'!$B$23:$Z$57,8,FALSE))","v":""},{"$f":"IF(VLOOKUP(U168,'S1'!$B$23:$Z$57,9,FALSE)=\"\",\"\",VLOOKUP(U168,'S1'!$B$23:$Z$57,9,FALSE))","v":""},{"$f":"IF(VLOOKUP(U168,'S1'!$B$23:$Z$57,10,FALSE)=\"\",\"\",VLOOKUP(U168,'S1'!$B$23:$Z$57,10,FALSE))","v":""},{"$f":"IF(VLOOKUP(U168,'S1'!$B$23:$Z$57,11,FALSE)=\"\",\"\",VLOOKUP(U168,'S1'!$B$23:$Z$57,11,FALSE))","v":""},{"$f":"IF(VLOOKUP(U168,'S1'!$B$23:$Z$57,12,FALSE)=\"\",\"\",VLOOKUP(U168,'S1'!$B$23:$Z$57,12,FALSE))","v":""},{"$f":"IF(VLOOKUP(U168,'S1'!$B$23:$Z$57,13,FALSE)=\"\",\"\",VLOOKUP(U168,'S1'!$B$23:$Z$57,13,FALSE))","v":""},{"$f":"IF(VLOOKUP(U168,'S1'!$B$23:$Z$57,14,FALSE)=\"\",\"\",VLOOKUP(U168,'S1'!$B$23:$Z$57,14,FALSE))","v":""},{"$f":"IF(VLOOKUP(U168,'S1'!$B$23:$Z$57,15,FALSE)=\"\",\"\",VLOOKUP(U168,'S1'!$B$23:$Z$57,15,FALSE))","v":""}]
[null,"von",null,null,{"$f":"IF('S1'!$G$21=\"\",\"\",'S1'!$G$21)","v":""},{"$f":"IF('S1'!$H$21=\"\",\"\",'S1'!$H$21)","v":""},{"$f":"IF('S1'!$I$21=\"\",\"\",'S1'!$I$21)","v":""},{"$f":"IF('S1'!$J$21=\"\",\"\",'S1'!$J$21)","v":""},{"$f":"IF('S1'!$K$21=\"\",\"\",'S1'!$K$21)","v":""},{"$f":"IF('S1'!$L$21=\"\",\"\",'S1'!$L$21)","v":""},{"$f":"IF('S1'!$M$21=\"\",\"\",'S1'!$M$21)","v":""},{"$f":"IF('S1'!$N$21=\"\",\"\",'S1'!$N$21)","v":""},{"$f":"IF('S1'!$O$21=\"\",\"\",'S1'!$O$21)","v":""},{"$f":"IF('S1'!$P$21=\"\",\"\",'S1'!$P$21)","v":""},null,"von",null,null,null,null,"von",null,null,{"$f":"IF('S1'!$G$21=\"\",\"\",'S1'!$G$21)","v":""},{"$f":"IF('S1'!$H$21=\"\",\"\",'S1'!$H$21)","v":""},{"$f":"IF('S1'!$I$21=\"\",\"\",'S1'!$I$21)","v":""},{"$f":"IF('S1'!$J$21=\"\",\"\",'S1'!$J$21)","v":""},{"$f":"IF('S1'!$K$21=\"\",\"\",'S1'!$K$21)","v":""},{"$f":"IF('S1'!$L$21=\"\",\"\",'S1'!$L$21)","v":""},{"$f":"IF('S1'!$M$21=\"\",\"\",'S1'!$M$21)","v":""},{"$f":"IF('S1'!$N$21=\"\",\"\",'S1'!$N$21)","v":""},{"$f":"IF('S1'!$O$21=\"\",\"\",'S1'!$O$21)","v":""},{"$f":"IF('S1'!$P$21=\"\",\"\",'S1'!$P$21)","v":""},null,"von"]
[null,null,null,null,null,null,null,null,null,null,null,null,null,null,null,{"$f":"'S1'!$H$12","v":0},null,null,null,null,null,null,null,null,null,null,null,null,null,null,null,null,null,null,{"$f":"'S1'!$H$12","v":0}]
[null,{"$f":"IF('S1'!$Q$18=\"\",\"\",\"Aufgabe\")","v":""},null,null,{"$f":"IF('S1'!$Q$18=\"\",\"\",'S1'!$Q$18)","v":""},{"$f":"IF('S1'!$R$18=\"\",\"\",'S1'!$R$18)","v":""},{"$f":"IF('S1'!$S$18=\"\",\"\",'S1'!$S$18)","v":""},{"$f":"IF('S1'!$T$18=\"\",\"\",'S1'!$T$18)","v":""},{"$f":"IF('S1'!$U$18=\"\",\"\",'S1'!$U$18)","v":""},{"$f":"IF('S1'!$V$18=\"\",\"\",'S1'!$V$18)","v":""},{"$f":"IF('S1'!$W$18=\"\",\"\",'S1'!$W$18)","v":""},{"$f":"IF('S1'!$X$18=\"\",\"\",'S1'!$X$18)","v":""},{"$f":"IF('S1'!$Y$18=\"\",\"\",'S1'!$Y$18)","v":""},{"$f":"IF('S1'!$Z$18=\"\",\"\",'S1'!$Z$18)","v":""},null,null,null,null,null,null,{"$f":"IF('S1'!$Q$18=\"\",\"\",\"Aufgabe\")","v":""},null,null,{"$f":"IF('S1'!$Q$18=\"\",\"\",'S1'!$Q$18)","v":""},{"$f":"IF('S1'!$R$18=\"\",\"\",'S1'!$R$18)","v":""},{"$f":"IF('S1'!$S$18=\"\",\"\",'S1'!$S$18)","v":""},{"$f":"IF('S1'!$T$18=\"\",\"\",'S1'!$T$18)","v":""},{"$f":"IF('S1'!$U$18=\"\",\"\",'S1'!$U$18)","v":""},{"$f":"IF('S1'!$V$18=\"\",\"\",'S1'!$V$18)","v":""},{"$f":"IF('S1'!$W$18=\"\",\"\",'S1'!$W$18)","v":""},{"$f":"IF('S1'!$X$18=\"\",\"\",'S1'!$X$18)","v":""},{"$f":"IF('S1'!$Y$18=\"\",\"\",'S1'!$Y$18)","v":""},{"$f":"IF('S1'!$Z$18=\"\",\"\",'S1'!$Z$18)","v":""}]
[null,{"$f":"IF('S1'!$Q$18=\"\",\"\",\"erreicht\")","v":""},null,null,{"$f":"IF(VLOOKUP(B168,'S1'!$B$23:$Z$57,16,FALSE)=\"\",\"\",VLOOKUP(B168,'S1'!$B$23:$Z$57,16,FALSE))","v":""},{"$f":"IF(VLOOKUP(B168,'S1'!$B$23:$Z$57,17,FALSE)=\"\",\"\",VLOOKUP(B168,'S1'!$B$23:$Z$57,17,FALSE))","v":""},{"$f":"IF(VLOOKUP(B168,'S1'!$B$23:$Z$57,18,FALSE)=\"\",\"\",VLOOKUP(B168,'S1'!$B$23:$Z$57,18,FALSE))","v":""},{"$f":"IF(VLOOKUP(B168,'S1'!$B$23:$Z$57,19,FALSE)=\"\",\"\",VLOOKUP(B168,'S1'!$B$23:$Z$57,19,FALSE))","v":""},{"$f":"IF(VLOOKUP(B168,'S1'!$B$23:$Z$57,20,FALSE)=\"\",\"\",VLOOKUP(B168,'S1'!$B$23:$Z$57,20,FALSE))","v":""},{"$f":"IF(VLOOKUP(B168,'S1'!$B$23:$Z$57,21,FALSE)=\"\",\"\",VLOOKUP(B168,'S1'!$B$23:$Z$57,21,FALSE))","v":""},{"$f":"IF(VLOOKUP(B168,'S1'!$B$23:$Z$57,22,FALSE)=\"\",\"\",VLOOKUP(B168,'S1'!$B$23:$Z$57,22,FALSE))","v":""},{"$f":"IF(VLOOKUP(B168,'S1'!$B$23:$Z$57,23,FALSE)=\"\",\"\",VLOOKUP(B168,'S1'!$B$23:$Z$57,23,FALSE))","v":""},{"$f":"IF(VLOOKUP(B168,'S1'!$B$23:$Z$57,24,FALSE)=\"\",\"\",VLOOKUP(B168,'S1'!$B$23:$Z$57,24,FALSE))","v":""},{"$f":"IF(VLOOKUP(B168,'S1'!$B$23:$Z$57,25,FALSE)=\"\",\"\",VLOOKUP(B168,'S1'!$B$23:$Z$57,25,FALSE))","v":""},null,"Note",null,null,null,null,{"$f":"IF('S1'!$Q$18=\"\",\"\",\"erreicht\")","v":""},null,null,{"$f":"IF(VLOOKUP(U168,'S1'!$B$23:$Z$57,16,FALSE)=\"\",\"\",VLOOKUP(U168,'S1'!$B$23:$Z$57,16,FALSE))","v":""},{"$f":"IF(VLOOKUP(U168,'S1'!$B$23:$Z$57,17,FALSE)=\"\",\"\",VLOOKUP(U168,'S1'!$B$23:$Z$57,17,FALSE))","v":""},{"$f":"IF(VLOOKUP(U168,'S1'!$B$23:$Z$57,18,FALSE)=\"\",\"\",VLOOKUP(U168,'S1'!$B$23:$Z$57,18,FALSE))","v":""},{"$f":"IF(VLOOKUP(U168,'S1'!$B$23:$Z$57,19,FALSE)=\"\",\"\",VLOOKUP(U168,'S1'!$B$23:$Z$57,19,FALSE))","v":""},{"$f":"IF(VLOOKUP(U168,'S1'!$B$23:$Z$57,20,FALSE)=\"\",\"\",VLOOKUP(U168,'S1'!$B$23:$Z$57,20,FALSE))","v":""},{"$f":"IF(VLOOKUP(U168,'S1'!$B$23:$Z$57,21,FALSE)=\"\",\"\",VLOOKUP(U168,'S1'!$B$23:$Z$57,21,FALSE))","v":""},{"$f":"IF(VLOOKUP(U168,'S1'!$B$23:$Z$57,22,FALSE)=\"\",\"\",VLOOKUP(U168,'S1'!$B$23:$Z$57,22,FALSE))","v":""},{"$f":"IF(VLOOKUP(U168,'S1'!$B$23:$Z$57,23,FALSE)=\"\",\"\",VLOOKUP(U168,'S1'!$B$23:$Z$57,23,FALSE))","v":""},{"$f":"IF(VLOOKUP(U168,'S1'!$B$23:$Z$57,24,FALSE)=\"\",\"\",VLOOKUP(U168,'S1'!$B$23:$Z$57,24,FALSE))","v":""},{"$f":"IF(VLOOKUP(U168,'S1'!$B$23:$Z$57,25,FALSE)=\"\",\"\",VLOOKUP(U168,'S1'!$B$23:$Z$57,25,FALSE))","v":""},null,"Note"]
[null,{"$f":"IF('S1'!$Q$18=\"\",\"\",\"von\")","v":""},null,null,{"$f":"IF('S1'!$Q$21=\"\",\"\",'S1'!$Q$21)","v":""},{"$f":"IF('S1'!$R$21=\"\",\"\",'S1'!$R$21)","v":""},{"$f":"IF('S1'!$S$21=\"\",\"\",'S1'!$S$21)","v":""},{"$f":"IF('S1'!$T$21=\"\",\"\",'S1'!$T$21)","v":""},{"$f":"IF('S1'!$U$21=\"\",\"\",'S1'!$U$21)","v":""},{"$f":"IF('S1'!$V$21=\"\",\"\",'S1'!$V$21)","v":""},{"$f":"IF('S1'!$W$21=\"\",\"\",'S1'!$W$21)","v":""},{"$f":"IF('S1'!$X$21=\"\",\"\",'S1'!$X$21)","v":""},{"$f":"IF('S1'!$Y$21=\"\",\"\",'S1'!$Y$21)","v":""},{"$f":"IF('S1'!$Z$21=\"\",\"\",'S1'!$Z$21)","v":""},null,{"$f":"IF(VLOOKUP(B168,'S1'!$B$23:$Z$57,2,FALSE)=\"\",\"\",CONCATENATE(VLOOKUP(B168,'S1'!$B$23:$Z$57,2,FALSE),\" \",VLOOKUP(B168,'S1'!$B$23:$Z$57,3,FALSE)))","v":"- "},null,null,null,null,{"$f":"IF('S1'!$Q$18=\"\",\"\",\"von\")","v":""},null,null,{"$f":"IF('S1'!$Q$21=\"\",\"\",'S1'!$Q$21)","v":""},{"$f":"IF('S1'!$R$21=\"\",\"\",'S1'!$R$21)","v":""},{"$f":"IF('S1'!$S$21=\"\",\"\",'S1'!$S$21)","v":""},{"$f":"IF('S1'!$T$21=\"\",\"\",'S1'!$T$21)","v":""},{"$f":"IF('S1'!$U$21=\"\",\"\",'S1'!$U$21)","v":""},{"$f":"IF('S1'!$V$21=\"\",\"\",'S1'!$V$21)","v":""},{"$f":"IF('S1'!$W$21=\"\",\"\",'S1'!$W$21)","v":""},{"$f":"IF('S1'!$X$21=\"\",\"\",'S1'!$X$21)","v":""},{"$f":"IF('S1'!$Y$21=\"\",\"\",'S1'!$Y$21)","v":""},{"$f":"IF('S1'!$Z$21=\"\",\"\",'S1'!$Z$21)","v":""},null,{"$f":"IF(VLOOKUP(U168,'S1'!$B$23:$Z$57,2,FALSE)=\"\",\"\",CONCATENATE(VLOOKUP(U168,'S1'!$B$23:$Z$57,2,FALSE),\" \",VLOOKUP(U168,'S1'!$B$23:$Z$57,3,FALSE)))","v":"- "}]
[]
[]
[]
[null,{"$f":"'S1'!$B$53","v":""},null,null,null,null,null,null,null,null,null,null,null,null,null,null,null,null,null,null,{"$f":"'S1'!$B$54","v":""}]
[null,null,null,null,null,null,null,null,null,null,null,null,null,null,null,"Summe",null,null,null,null,null,null,null,null,null,null,null,null,null,null,null,null,null,null,"Summe"]
[null,"Aufgabe",null,null,{"$f":"IF('S1'!$G$18=\"\",\"\",'S1'!$G$18)","v":1},{"$f":"IF('S1'!$H$18=\"\",\"\",'S1'!$H$18)","v":2},{"$f":"IF('S1'!$I$18=\"\",\"\",'S1'!$I$18)","v":3},{"$f":"IF('S1'!$J$18=\"\",\"\",'S1'!$J$18)","v":""},{"$f":"IF('S1'!$K$18=\"\",\"\",'S1'!$K$18)","v":""},{"$f":"IF('S1'!$L$18=\"\",\"\",'S1'!$L$18)","v":""},{"$f":"IF('S1'!$M$18=\"\",\"\",'S1'!$M$18)","v":""},{"$f":"IF('S1'!$N$18=\"\",\"\",'S1'!$N$18)","v":""},{"$f":"IF('S1'!$O$18=\"\",\"\",'S1'!$O$18)","v":""},{"$f":"IF('S1'!$P$18=\"\",\"\",'S1'!$P$18)","v":""},null,{"$f":"IF(VLOOKUP(B180,'S1'!$B$23:$Z$57,5,FALSE)=\"\",\"\",VLOOKUP(B180,'S1'!$B$23:$Z$57,5,FALSE))","v":0},null,null,null,null,"Aufgabe",null,null,{"$f":"IF('S1'!$G$18=\"\",\"\",'S1'!$G$18)","v":1},{"$f":"IF('S1'!$H$18=\"\",\"\",'S1'!$H$18)","v":2},{"$f":"IF('S1'!$I$18=\"\",\"\",'S1'!$I$18)","v":3},{"$f":"IF('S1'!$J$18=\"\",\"\",'S1'!$J$18)","v":""},{"$f":"IF('S1'!$K$18=\"\",\"\",'S1'!$K$18)","v":""},{"$f":"IF('S1'!$L$18=\"\",\"\",'S1'!$L$18)","v":""},{"$f":"IF('S1'!$M$18=\"\",\"\",'S1'!$M$18)","v":""},{"$f":"IF('S1'!$N$18=\"\",\"\",'S1'!$N$18)","v":""},{"$f":"IF('S1'!$O$18=\"\",\"\",'S1'!$O$18)","v":""},{"$f":"IF('S1'!$P$18=\"\",\"\",'S1'!$P$18)","v":""},null,{"$f":"IF(VLOOKUP(U180,'S1'!$B$23:$Z$57,5,FALSE)=\"\",\"\",VLOOKUP(U180,'S1'!$B$23:$Z$57,5,FALSE))","v":0}]
[null,"erreicht",null,null,{"$f":"IF(VLOOKUP(B180,'S1'!$B$23:$Z$57,6,FALSE)=\"\",\"\",VLOOKUP(B180,'S1'!$B$23:$Z$57,6,FALSE))","v":"."},{"$f":"IF(VLOOKUP(B180,'S1'!$B$23:$Z$57,7,FALSE)=\"\",\"\",VLOOKUP(B180,'S1'!$B$23:$Z$57,7,FALSE))","v":""},{"$f":"IF(VLOOKUP(B180,'S1'!$B$23:$Z$57,8,FALSE)=\"\",\"\",VLOOKUP(B180,'S1'!$B$23:$Z$57,8,FALSE))","v":""},{"$f":"IF(VLOOKUP(B180,'S1'!$B$23:$Z$57,9,FALSE)=\"\",\"\",VLOOKUP(B180,'S1'!$B$23:$Z$57,9,FALSE))","v":""},{"$f":"IF(VLOOKUP(B180,'S1'!$B$23:$Z$57,10,FALSE)=\"\",\"\",VLOOKUP(B180,'S1'!$B$23:$Z$57,10,FALSE))","v":""},{"$f":"IF(VLOOKUP(B180,'S1'!$B$23:$Z$57,11,FALSE)=\"\",\"\",VLOOKUP(B180,'S1'!$B$23:$Z$57,11,FALSE))","v":""},{"$f":"IF(VLOOKUP(B180,'S1'!$B$23:$Z$57,12,FALSE)=\"\",\"\",VLOOKUP(B180,'S1'!$B$23:$Z$57,12,FALSE))","v":""},{"$f":"IF(VLOOKUP(B180,'S1'!$B$23:$Z$57,13,FALSE)=\"\",\"\",VLOOKUP(B180,'S1'!$B$23:$Z$57,13,FALSE))","v":""},{"$f":"IF(VLOOKUP(B180,'S1'!$B$23:$Z$57,14,FALSE)=\"\",\"\",VLOOKUP(B180,'S1'!$B$23:$Z$57,14,FALSE))","v":""},{"$f":"IF(VLOOKUP(B180,'S1'!$B$23:$Z$57,15,FALSE)=\"\",\"\",VLOOKUP(B180,'S1'!$B$23:$Z$57,15,FALSE))","v":""},null,null,null,null,null,null,"erreicht",null,null,{"$f":"IF(VLOOKUP(U180,'S1'!$B$23:$Z$57,6,FALSE)=\"\",\"\",VLOOKUP(U180,'S1'!$B$23:$Z$57,6,FALSE))","v":"."},{"$f":"IF(VLOOKUP(U180,'S1'!$B$23:$Z$57,7,FALSE)=\"\",\"\",VLOOKUP(U180,'S1'!$B$23:$Z$57,7,FALSE))","v":""},{"$f":"IF(VLOOKUP(U180,'S1'!$B$23:$Z$57,8,FALSE)=\"\",\"\",VLOOKUP(U180,'S1'!$B$23:$Z$57,8,FALSE))","v":""},{"$f":"IF(VLOOKUP(U180,'S1'!$B$23:$Z$57,9,FALSE)=\"\",\"\",VLOOKUP(U180,'S1'!$B$23:$Z$57,9,FALSE))","v":""},{"$f":"IF(VLOOKUP(U180,'S1'!$B$23:$Z$57,10,FALSE)=\"\",\"\",VLOOKUP(U180,'S1'!$B$23:$Z$57,10,FALSE))","v":""},{"$f":"IF(VLOOKUP(U180,'S1'!$B$23:$Z$57,11,FALSE)=\"\",\"\",VLOOKUP(U180,'S1'!$B$23:$Z$57,11,FALSE))","v":""},{"$f":"IF(VLOOKUP(U180,'S1'!$B$23:$Z$57,12,FALSE)=\"\",\"\",VLOOKUP(U180,'S1'!$B$23:$Z$57,12,FALSE))","v":""},{"$f":"IF(VLOOKUP(U180,'S1'!$B$23:$Z$57,13,FALSE)=\"\",\"\",VLOOKUP(U180,'S1'!$B$23:$Z$57,13,FALSE))","v":""},{"$f":"IF(VLOOKUP(U180,'S1'!$B$23:$Z$57,14,FALSE)=\"\",\"\",VLOOKUP(U180,'S1'!$B$23:$Z$57,14,FALSE))","v":""},{"$f":"IF(VLOOKUP(U180,'S1'!$B$23:$Z$57,15,FALSE)=\"\",\"\",VLOOKUP(U180,'S1'!$B$23:$Z$57,15,FALSE))","v":""}]
[null,"von",null,null,{"$f":"IF('S1'!$G$21=\"\",\"\",'S1'!$G$21)","v":""},{"$f":"IF('S1'!$H$21=\"\",\"\",'S1'!$H$21)","v":""},{"$f":"IF('S1'!$I$21=\"\",\"\",'S1'!$I$21)","v":""},{"$f":"IF('S1'!$J$21=\"\",\"\",'S1'!$J$21)","v":""},{"$f":"IF('S1'!$K$21=\"\",\"\",'S1'!$K$21)","v":""},{"$f":"IF('S1'!$L$21=\"\",\"\",'S1'!$L$21)","v":""},{"$f":"IF('S1'!$M$21=\"\",\"\",'S1'!$M$21)","v":""},{"$f":"IF('S1'!$N$21=\"\",\"\",'S1'!$N$21)","v":""},{"$f":"IF('S1'!$O$21=\"\",\"\",'S1'!$O$21)","v":""},{"$f":"IF('S1'!$P$21=\"\",\"\",'S1'!$P$21)","v":""},null,"von",null,null,null,null,"von",null,null,{"$f":"IF('S1'!$G$21=\"\",\"\",'S1'!$G$21)","v":""},{"$f":"IF('S1'!$H$21=\"\",\"\",'S1'!$H$21)","v":""},{"$f":"IF('S1'!$I$21=\"\",\"\",'S1'!$I$21)","v":""},{"$f":"IF('S1'!$J$21=\"\",\"\",'S1'!$J$21)","v":""},{"$f":"IF('S1'!$K$21=\"\",\"\",'S1'!$K$21)","v":""},{"$f":"IF('S1'!$L$21=\"\",\"\",'S1'!$L$21)","v":""},{"$f":"IF('S1'!$M$21=\"\",\"\",'S1'!$M$21)","v":""},{"$f":"IF('S1'!$N$21=\"\",\"\",'S1'!$N$21)","v":""},{"$f":"IF('S1'!$O$21=\"\",\"\",'S1'!$O$21)","v":""},{"$f":"IF('S1'!$P$21=\"\",\"\",'S1'!$P$21)","v":""},null,"von"]
[null,null,null,null,null,null,null,null,null,null,null,null,null,null,null,{"$f":"'S1'!$H$12","v":0},null,null,null,null,null,null,null,null,null,null,null,null,null,null,null,null,null,null,{"$f":"'S1'!$H$12","v":0}]
[null,{"$f":"IF('S1'!$Q$18=\"\",\"\",\"Aufgabe\")","v":""},null,null,{"$f":"IF('S1'!$Q$18=\"\",\"\",'S1'!$Q$18)","v":""},{"$f":"IF('S1'!$R$18=\"\",\"\",'S1'!$R$18)","v":""},{"$f":"IF('S1'!$S$18=\"\",\"\",'S1'!$S$18)","v":""},{"$f":"IF('S1'!$T$18=\"\",\"\",'S1'!$T$18)","v":""},{"$f":"IF('S1'!$U$18=\"\",\"\",'S1'!$U$18)","v":""},{"$f":"IF('S1'!$V$18=\"\",\"\",'S1'!$V$18)","v":""},{"$f":"IF('S1'!$W$18=\"\",\"\",'S1'!$W$18)","v":""},{"$f":"IF('S1'!$X$18=\"\",\"\",'S1'!$X$18)","v":""},{"$f":"IF('S1'!$Y$18=\"\",\"\",'S1'!$Y$18)","v":""},{"$f":"IF('S1'!$Z$18=\"\",\"\",'S1'!$Z$18)","v":""},null,null,null,null,null,null,{"$f":"IF('S1'!$Q$18=\"\",\"\",\"Aufgabe\")","v":""},null,null,{"$f":"IF('S1'!$Q$18=\"\",\"\",'S1'!$Q$18)","v":""},{"$f":"IF('S1'!$R$18=\"\",\"\",'S1'!$R$18)","v":""},{"$f":"IF('S1'!$S$18=\"\",\"\",'S1'!$S$18)","v":""},{"$f":"IF('S1'!$T$18=\"\",\"\",'S1'!$T$18)","v":""},{"$f":"IF('S1'!$U$18=\"\",\"\",'S1'!$U$18)","v":""},{"$f":"IF('S1'!$V$18=\"\",\"\",'S1'!$V$18)","v":""},{"$f":"IF('S1'!$W$18=\"\",\"\",'S1'!$W$18)","v":""},{"$f":"IF('S1'!$X$18=\"\",\"\",'S1'!$X$18)","v":""},{"$f":"IF('S1'!$Y$18=\"\",\"\",'S1'!$Y$18)","v":""},{"$f":"IF('S1'!$Z$18=\"\",\"\",'S1'!$Z$18)","v":""}]
[null,{"$f":"IF('S1'!$Q$18=\"\",\"\",\"erreicht\")","v":""},null,null,{"$f":"IF(VLOOKUP(B180,'S1'!$B$23:$Z$57,16,FALSE)=\"\",\"\",VLOOKUP(B180,'S1'!$B$23:$Z$57,16,FALSE))","v":""},{"$f":"IF(VLOOKUP(B180,'S1'!$B$23:$Z$57,17,FALSE)=\"\",\"\",VLOOKUP(B180,'S1'!$B$23:$Z$57,17,FALSE))","v":""},{"$f":"IF(VLOOKUP(B180,'S1'!$B$23:$Z$57,18,FALSE)=\"\",\"\",VLOOKUP(B180,'S1'!$B$23:$Z$57,18,FALSE))","v":""},{"$f":"IF(VLOOKUP(B180,'S1'!$B$23:$Z$57,19,FALSE)=\"\",\"\",VLOOKUP(B180,'S1'!$B$23:$Z$57,19,FALSE))","v":""},{"$f":"IF(VLOOKUP(B180,'S1'!$B$23:$Z$57,20,FALSE)=\"\",\"\",VLOOKUP(B180,'S1'!$B$23:$Z$57,20,FALSE))","v":""},{"$f":"IF(VLOOKUP(B180,'S1'!$B$23:$Z$57,21,FALSE)=\"\",\"\",VLOOKUP(B180,'S1'!$B$23:$Z$57,21,FALSE))","v":""},{"$f":"IF(VLOOKUP(B180,'S1'!$B$23:$Z$57,22,FALSE)=\"\",\"\",VLOOKUP(B180,'S1'!$B$23:$Z$57,22,FALSE))","v":""},{"$f":"IF(VLOOKUP(B180,'S1'!$B$23:$Z$57,23,FALSE)=\"\",\"\",VLOOKUP(B180,'S1'!$B$23:$Z$57,23,FALSE))","v":""},{"$f":"IF(VLOOKUP(B180,'S1'!$B$23:$Z$57,24,FALSE)=\"\",\"\",VLOOKUP(B180,'S1'!$B$23:$Z$57,24,FALSE))","v":""},{"$f":"IF(VLOOKUP(B180,'S1'!$B$23:$Z$57,25,FALSE)=\"\",\"\",VLOOKUP(B180,'S1'!$B$23:$Z$57,25,FALSE))","v":""},null,"Note",null,null,null,null,{"$f":"IF('S1'!$Q$18=\"\",\"\",\"erreicht\")","v":""},null,null,{"$f":"IF(VLOOKUP(U180,'S1'!$B$23:$Z$57,16,FALSE)=\"\",\"\",VLOOKUP(U180,'S1'!$B$23:$Z$57,16,FALSE))","v":""},{"$f":"IF(VLOOKUP(U180,'S1'!$B$23:$Z$57,17,FALSE)=\"\",\"\",VLOOKUP(U180,'S1'!$B$23:$Z$57,17,FALSE))","v":""},{"$f":"IF(VLOOKUP(U180,'S1'!$B$23:$Z$57,18,FALSE)=\"\",\"\",VLOOKUP(U180,'S1'!$B$23:$Z$57,18,FALSE))","v":""},{"$f":"IF(VLOOKUP(U180,'S1'!$B$23:$Z$57,19,FALSE)=\"\",\"\",VLOOKUP(U180,'S1'!$B$23:$Z$57,19,FALSE))","v":""},{"$f":"IF(VLOOKUP(U180,'S1'!$B$23:$Z$57,20,FALSE)=\"\",\"\",VLOOKUP(U180,'S1'!$B$23:$Z$57,20,FALSE))","v":""},{"$f":"IF(VLOOKUP(U180,'S1'!$B$23:$Z$57,21,FALSE)=\"\",\"\",VLOOKUP(U180,'S1'!$B$23:$Z$57,21,FALSE))","v":""},{"$f":"IF(VLOOKUP(U180,'S1'!$B$23:$Z$57,22,FALSE)=\"\",\"\",VLOOKUP(U180,'S1'!$B$23:$Z$57,22,FALSE))","v":""},{"$f":"IF(VLOOKUP(U180,'S1'!$B$23:$Z$57,23,FALSE)=\"\",\"\",VLOOKUP(U180,'S1'!$B$23:$Z$57,23,FALSE))","v":""},{"$f":"IF(VLOOKUP(U180,'S1'!$B$23:$Z$57,24,FALSE)=\"\",\"\",VLOOKUP(U180,'S1'!$B$23:$Z$57,24,FALSE))","v":""},{"$f":"IF(VLOOKUP(U180,'S1'!$B$23:$Z$57,25,FALSE)=\"\",\"\",VLOOKUP(U180,'S1'!$B$23:$Z$57,25,FALSE))","v":""},null,"Note"]
[null,{"$f":"IF('S1'!$Q$18=\"\",\"\",\"von\")","v":""},null,null,{"$f":"IF('S1'!$Q$21=\"\",\"\",'S1'!$Q$21)","v":""},{"$f":"IF('S1'!$R$21=\"\",\"\",'S1'!$R$21)","v":""},{"$f":"IF('S1'!$S$21=\"\",\"\",'S1'!$S$21)","v":""},{"$f":"IF('S1'!$T$21=\"\",\"\",'S1'!$T$21)","v":""},{"$f":"IF('S1'!$U$21=\"\",\"\",'S1'!$U$21)","v":""},{"$f":"IF('S1'!$V$21=\"\",\"\",'S1'!$V$21)","v":""},{"$f":"IF('S1'!$W$21=\"\",\"\",'S1'!$W$21)","v":""},{"$f":"IF('S1'!$X$21=\"\",\"\",'S1'!$X$21)","v":""},{"$f":"IF('S1'!$Y$21=\"\",\"\",'S1'!$Y$21)","v":""},{"$f":"IF('S1'!$Z$21=\"\",\"\",'S1'!$Z$21)","v":""},null,{"$f":"IF(VLOOKUP(B180,'S1'!$B$23:$Z$57,2,FALSE)=\"\",\"\",CONCATENATE(VLOOKUP(B180,'S1'!$B$23:$Z$57,2,FALSE),\" \",VLOOKUP(B180,'S1'!$B$23:$Z$57,3,FALSE)))","v":"- "},null,null,null,null,{"$f":"IF('S1'!$Q$18=\"\",\"\",\"von\")","v":""},null,null,{"$f":"IF('S1'!$Q$21=\"\",\"\",'S1'!$Q$21)","v":""},{"$f":"IF('S1'!$R$21=\"\",\"\",'S1'!$R$21)","v":""},{"$f":"IF('S1'!$S$21=\"\",\"\",'S1'!$S$21)","v":""},{"$f":"IF('S1'!$T$21=\"\",\"\",'S1'!$T$21)","v":""},{"$f":"IF('S1'!$U$21=\"\",\"\",'S1'!$U$21)","v":""},{"$f":"IF('S1'!$V$21=\"\",\"\",'S1'!$V$21)","v":""},{"$f":"IF('S1'!$W$21=\"\",\"\",'S1'!$W$21)","v":""},{"$f":"IF('S1'!$X$21=\"\",\"\",'S1'!$X$21)","v":""},{"$f":"IF('S1'!$Y$21=\"\",\"\",'S1'!$Y$21)","v":""},{"$f":"IF('S1'!$Z$21=\"\",\"\",'S1'!$Z$21)","v":""},null,{"$f":"IF(VLOOKUP(U180,'S1'!$B$23:$Z$57,2,FALSE)=\"\",\"\",CONCATENATE(VLOOKUP(U180,'S1'!$B$23:$Z$57,2,FALSE),\" \",VLOOKUP(U180,'S1'!$B$23:$Z$57,3,FALSE)))","v":"- "}]
[]
[]
[]
[null,{"$f":"'S1'!$B$55","v":""},null,null,null,null,null,null,null,null,null,null,null,null,null,null,null,null,null,null,{"$f":"'S1'!$B$56","v":""}]
[null,null,null,null,null,null,null,null,null,null,null,null,null,null,null,"Summe",null,null,null,null,null,null,null,null,null,null,null,null,null,null,null,null,null,null,"Summe"]
[null,"Aufgabe",null,null,{"$f":"IF('S1'!$G$18=\"\",\"\",'S1'!$G$18)","v":1},{"$f":"IF('S1'!$H$18=\"\",\"\",'S1'!$H$18)","v":2},{"$f":"IF('S1'!$I$18=\"\",\"\",'S1'!$I$18)","v":3},{"$f":"IF('S1'!$J$18=\"\",\"\",'S1'!$J$18)","v":""},{"$f":"IF('S1'!$K$18=\"\",\"\",'S1'!$K$18)","v":""},{"$f":"IF('S1'!$L$18=\"\",\"\",'S1'!$L$18)","v":""},{"$f":"IF('S1'!$M$18=\"\",\"\",'S1'!$M$18)","v":""},{"$f":"IF('S1'!$N$18=\"\",\"\",'S1'!$N$18)","v":""},{"$f":"IF('S1'!$O$18=\"\",\"\",'S1'!$O$18)","v":""},{"$f":"IF('S1'!$P$18=\"\",\"\",'S1'!$P$18)","v":""},null,{"$f":"IF(VLOOKUP(B192,'S1'!$B$23:$Z$57,5,FALSE)=\"\",\"\",VLOOKUP(B192,'S1'!$B$23:$Z$57,5,FALSE))","v":0},null,null,null,null,"Aufgabe",null,null,{"$f":"IF('S1'!$G$18=\"\",\"\",'S1'!$G$18)","v":1},{"$f":"IF('S1'!$H$18=\"\",\"\",'S1'!$H$18)","v":2},{"$f":"IF('S1'!$I$18=\"\",\"\",'S1'!$I$18)","v":3},{"$f":"IF('S1'!$J$18=\"\",\"\",'S1'!$J$18)","v":""},{"$f":"IF('S1'!$K$18=\"\",\"\",'S1'!$K$18)","v":""},{"$f":"IF('S1'!$L$18=\"\",\"\",'S1'!$L$18)","v":""},{"$f":"IF('S1'!$M$18=\"\",\"\",'S1'!$M$18)","v":""},{"$f":"IF('S1'!$N$18=\"\",\"\",'S1'!$N$18)","v":""},{"$f":"IF('S1'!$O$18=\"\",\"\",'S1'!$O$18)","v":""},{"$f":"IF('S1'!$P$18=\"\",\"\",'S1'!$P$18)","v":""},null,{"$f":"IF(VLOOKUP(U192,'S1'!$B$23:$Z$57,5,FALSE)=\"\",\"\",VLOOKUP(U192,'S1'!$B$23:$Z$57,5,FALSE))","v":0}]
[null,"erreicht",null,null,{"$f":"IF(VLOOKUP(B192,'S1'!$B$23:$Z$57,6,FALSE)=\"\",\"\",VLOOKUP(B192,'S1'!$B$23:$Z$57,6,FALSE))","v":"."},{"$f":"IF(VLOOKUP(B192,'S1'!$B$23:$Z$57,7,FALSE)=\"\",\"\",VLOOKUP(B192,'S1'!$B$23:$Z$57,7,FALSE))","v":""},{"$f":"IF(VLOOKUP(B192,'S1'!$B$23:$Z$57,8,FALSE)=\"\",\"\",VLOOKUP(B192,'S1'!$B$23:$Z$57,8,FALSE))","v":""},{"$f":"IF(VLOOKUP(B192,'S1'!$B$23:$Z$57,9,FALSE)=\"\",\"\",VLOOKUP(B192,'S1'!$B$23:$Z$57,9,FALSE))","v":""},{"$f":"IF(VLOOKUP(B192,'S1'!$B$23:$Z$57,10,FALSE)=\"\",\"\",VLOOKUP(B192,'S1'!$B$23:$Z$57,10,FALSE))","v":""},{"$f":"IF(VLOOKUP(B192,'S1'!$B$23:$Z$57,11,FALSE)=\"\",\"\",VLOOKUP(B192,'S1'!$B$23:$Z$57,11,FALSE))","v":""},{"$f":"IF(VLOOKUP(B192,'S1'!$B$23:$Z$57,12,FALSE)=\"\",\"\",VLOOKUP(B192,'S1'!$B$23:$Z$57,12,FALSE))","v":""},{"$f":"IF(VLOOKUP(B192,'S1'!$B$23:$Z$57,13,FALSE)=\"\",\"\",VLOOKUP(B192,'S1'!$B$23:$Z$57,13,FALSE))","v":""},{"$f":"IF(VLOOKUP(B192,'S1'!$B$23:$Z$57,14,FALSE)=\"\",\"\",VLOOKUP(B192,'S1'!$B$23:$Z$57,14,FALSE))","v":""},{"$f":"IF(VLOOKUP(B192,'S1'!$B$23:$Z$57,15,FALSE)=\"\",\"\",VLOOKUP(B192,'S1'!$B$23:$Z$57,15,FALSE))","v":""},null,null,null,null,null,null,"erreicht",null,null,{"$f":"IF(VLOOKUP(U192,'S1'!$B$23:$Z$57,6,FALSE)=\"\",\"\",VLOOKUP(U192,'S1'!$B$23:$Z$57,6,FALSE))","v":"."},{"$f":"IF(VLOOKUP(U192,'S1'!$B$23:$Z$57,7,FALSE)=\"\",\"\",VLOOKUP(U192,'S1'!$B$23:$Z$57,7,FALSE))","v":""},{"$f":"IF(VLOOKUP(U192,'S1'!$B$23:$Z$57,8,FALSE)=\"\",\"\",VLOOKUP(U192,'S1'!$B$23:$Z$57,8,FALSE))","v":""},{"$f":"IF(VLOOKUP(U192,'S1'!$B$23:$Z$57,9,FALSE)=\"\",\"\",VLOOKUP(U192,'S1'!$B$23:$Z$57,9,FALSE))","v":""},{"$f":"IF(VLOOKUP(U192,'S1'!$B$23:$Z$57,10,FALSE)=\"\",\"\",VLOOKUP(U192,'S1'!$B$23:$Z$57,10,FALSE))","v":""},{"$f":"IF(VLOOKUP(U192,'S1'!$B$23:$Z$57,11,FALSE)=\"\",\"\",VLOOKUP(U192,'S1'!$B$23:$Z$57,11,FALSE))","v":""},{"$f":"IF(VLOOKUP(U192,'S1'!$B$23:$Z$57,12,FALSE)=\"\",\"\",VLOOKUP(U192,'S1'!$B$23:$Z$57,12,FALSE))","v":""},{"$f":"IF(VLOOKUP(U192,'S1'!$B$23:$Z$57,13,FALSE)=\"\",\"\",VLOOKUP(U192,'S1'!$B$23:$Z$57,13,FALSE))","v":""},{"$f":"IF(VLOOKUP(U192,'S1'!$B$23:$Z$57,14,FALSE)=\"\",\"\",VLOOKUP(U192,'S1'!$B$23:$Z$57,14,FALSE))","v":""},{"$f":"IF(VLOOKUP(U192,'S1'!$B$23:$Z$57,15,FALSE)=\"\",\"\",VLOOKUP(U192,'S1'!$B$23:$Z$57,15,FALSE))","v":""}]
[null,"von",null,null,{"$f":"IF('S1'!$G$21=\"\",\"\",'S1'!$G$21)","v":""},{"$f":"IF('S1'!$H$21=\"\",\"\",'S1'!$H$21)","v":""},{"$f":"IF('S1'!$I$21=\"\",\"\",'S1'!$I$21)","v":""},{"$f":"IF('S1'!$J$21=\"\",\"\",'S1'!$J$21)","v":""},{"$f":"IF('S1'!$K$21=\"\",\"\",'S1'!$K$21)","v":""},{"$f":"IF('S1'!$L$21=\"\",\"\",'S1'!$L$21)","v":""},{"$f":"IF('S1'!$M$21=\"\",\"\",'S1'!$M$21)","v":""},{"$f":"IF('S1'!$N$21=\"\",\"\",'S1'!$N$21)","v":""},{"$f":"IF('S1'!$O$21=\"\",\"\",'S1'!$O$21)","v":""},{"$f":"IF('S1'!$P$21=\"\",\"\",'S1'!$P$21)","v":""},null,"von",null,null,null,null,"von",null,null,{"$f":"IF('S1'!$G$21=\"\",\"\",'S1'!$G$21)","v":""},{"$f":"IF('S1'!$H$21=\"\",\"\",'S1'!$H$21)","v":""},{"$f":"IF('S1'!$I$21=\"\",\"\",'S1'!$I$21)","v":""},{"$f":"IF('S1'!$J$21=\"\",\"\",'S1'!$J$21)","v":""},{"$f":"IF('S1'!$K$21=\"\",\"\",'S1'!$K$21)","v":""},{"$f":"IF('S1'!$L$21=\"\",\"\",'S1'!$L$21)","v":""},{"$f":"IF('S1'!$M$21=\"\",\"\",'S1'!$M$21)","v":""},{"$f":"IF('S1'!$N$21=\"\",\"\",'S1'!$N$21)","v":""},{"$f":"IF('S1'!$O$21=\"\",\"\",'S1'!$O$21)","v":""},{"$f":"IF('S1'!$P$21=\"\",\"\",'S1'!$P$21)","v":""},null,"von"]
[null,null,null,null,null,null,null,null,null,null,null,null,null,null,null,{"$f":"'S1'!$H$12","v":0},null,null,null,null,null,null,null,null,null,null,null,null,null,null,null,null,null,null,{"$f":"'S1'!$H$12","v":0}]
[null,{"$f":"IF('S1'!$Q$18=\"\",\"\",\"Aufgabe\")","v":""},null,null,{"$f":"IF('S1'!$Q$18=\"\",\"\",'S1'!$Q$18)","v":""},{"$f":"IF('S1'!$R$18=\"\",\"\",'S1'!$R$18)","v":""},{"$f":"IF('S1'!$S$18=\"\",\"\",'S1'!$S$18)","v":""},{"$f":"IF('S1'!$T$18=\"\",\"\",'S1'!$T$18)","v":""},{"$f":"IF('S1'!$U$18=\"\",\"\",'S1'!$U$18)","v":""},{"$f":"IF('S1'!$V$18=\"\",\"\",'S1'!$V$18)","v":""},{"$f":"IF('S1'!$W$18=\"\",\"\",'S1'!$W$18)","v":""},{"$f":"IF('S1'!$X$18=\"\",\"\",'S1'!$X$18)","v":""},{"$f":"IF('S1'!$Y$18=\"\",\"\",'S1'!$Y$18)","v":""},{"$f":"IF('S1'!$Z$18=\"\",\"\",'S1'!$Z$18)","v":""},null,null,null,null,null,null,{"$f":"IF('S1'!$Q$18=\"\",\"\",\"Aufgabe\")","v":""},null,null,{"$f":"IF('S1'!$Q$18=\"\",\"\",'S1'!$Q$18)","v":""},{"$f":"IF('S1'!$R$18=\"\",\"\",'S1'!$R$18)","v":""},{"$f":"IF('S1'!$S$18=\"\",\"\",'S1'!$S$18)","v":""},{"$f":"IF('S1'!$T$18=\"\",\"\",'S1'!$T$18)","v":""},{"$f":"IF('S1'!$U$18=\"\",\"\",'S1'!$U$18)","v":""},{"$f":"IF('S1'!$V$18=\"\",\"\",'S1'!$V$18)","v":""},{"$f":"IF('S1'!$W$18=\"\",\"\",'S1'!$W$18)","v":""},{"$f":"IF('S1'!$X$18=\"\",\"\",'S1'!$X$18)","v":""},{"$f":"IF('S1'!$Y$18=\"\",\"\",'S1'!$Y$18)","v":""},{"$f":"IF('S1'!$Z$18=\"\",\"\",'S1'!$Z$18)","v":""}]
[null,{"$f":"IF('S1'!$Q$18=\"\",\"\",\"erreicht\")","v":""},null,null,{"$f":"IF(VLOOKUP(B192,'S1'!$B$23:$Z$57,16,FALSE)=\"\",\"\",VLOOKUP(B192,'S1'!$B$23:$Z$57,16,FALSE))","v":""},{"$f":"IF(VLOOKUP(B192,'S1'!$B$23:$Z$57,17,FALSE)=\"\",\"\",VLOOKUP(B192,'S1'!$B$23:$Z$57,17,FALSE))","v":""},{"$f":"IF(VLOOKUP(B192,'S1'!$B$23:$Z$57,18,FALSE)=\"\",\"\",VLOOKUP(B192,'S1'!$B$23:$Z$57,18,FALSE))","v":""},{"$f":"IF(VLOOKUP(B192,'S1'!$B$23:$Z$57,19,FALSE)=\"\",\"\",VLOOKUP(B192,'S1'!$B$23:$Z$57,19,FALSE))","v":""},{"$f":"IF(VLOOKUP(B192,'S1'!$B$23:$Z$57,20,FALSE)=\"\",\"\",VLOOKUP(B192,'S1'!$B$23:$Z$57,20,FALSE))","v":""},{"$f":"IF(VLOOKUP(B192,'S1'!$B$23:$Z$57,21,FALSE)=\"\",\"\",VLOOKUP(B192,'S1'!$B$23:$Z$57,21,FALSE))","v":""},{"$f":"IF(VLOOKUP(B192,'S1'!$B$23:$Z$57,22,FALSE)=\"\",\"\",VLOOKUP(B192,'S1'!$B$23:$Z$57,22,FALSE))","v":""},{"$f":"IF(VLOOKUP(B192,'S1'!$B$23:$Z$57,23,FALSE)=\"\",\"\",VLOOKUP(B192,'S1'!$B$23:$Z$57,23,FALSE))","v":""},{"$f":"IF(VLOOKUP(B192,'S1'!$B$23:$Z$57,24,FALSE)=\"\",\"\",VLOOKUP(B192,'S1'!$B$23:$Z$57,24,FALSE))","v":""},{"$f":"IF(VLOOKUP(B192,'S1'!$B$23:$Z$57,25,FALSE)=\"\",\"\",VLOOKUP(B192,'S1'!$B$23:$Z$57,25,FALSE))","v":""},null,"Note",null,null,null,null,{"$f":"IF('S1'!$Q$18=\"\",\"\",\"erreicht\")","v":""},null,null,{"$f":"IF(VLOOKUP(U192,'S1'!$B$23:$Z$57,16,FALSE)=\"\",\"\",VLOOKUP(U192,'S1'!$B$23:$Z$57,16,FALSE))","v":""},{"$f":"IF(VLOOKUP(U192,'S1'!$B$23:$Z$57,17,FALSE)=\"\",\"\",VLOOKUP(U192,'S1'!$B$23:$Z$57,17,FALSE))","v":""},{"$f":"IF(VLOOKUP(U192,'S1'!$B$23:$Z$57,18,FALSE)=\"\",\"\",VLOOKUP(U192,'S1'!$B$23:$Z$57,18,FALSE))","v":""},{"$f":"IF(VLOOKUP(U192,'S1'!$B$23:$Z$57,19,FALSE)=\"\",\"\",VLOOKUP(U192,'S1'!$B$23:$Z$57,19,FALSE))","v":""},{"$f":"IF(VLOOKUP(U192,'S1'!$B$23:$Z$57,20,FALSE)=\"\",\"\",VLOOKUP(U192,'S1'!$B$23:$Z$57,20,FALSE))","v":""},{"$f":"IF(VLOOKUP(U192,'S1'!$B$23:$Z$57,21,FALSE)=\"\",\"\",VLOOKUP(U192,'S1'!$B$23:$Z$57,21,FALSE))","v":""},{"$f":"IF(VLOOKUP(U192,'S1'!$B$23:$Z$57,22,FALSE)=\"\",\"\",VLOOKUP(U192,'S1'!$B$23:$Z$57,22,FALSE))","v":""},{"$f":"IF(VLOOKUP(U192,'S1'!$B$23:$Z$57,23,FALSE)=\"\",\"\",VLOOKUP(U192,'S1'!$B$23:$Z$57,23,FALSE))","v":""},{"$f":"IF(VLOOKUP(U192,'S1'!$B$23:$Z$57,24,FALSE)=\"\",\"\",VLOOKUP(U192,'S1'!$B$23:$Z$57,24,FALSE))","v":""},{"$f":"IF(VLOOKUP(U192,'S1'!$B$23:$Z$57,25,FALSE)=\"\",\"\",VLOOKUP(U192,'S1'!$B$23:$Z$57,25,FALSE))","v":""},null,"Note"]
[null,{"$f":"IF('S1'!$Q$18=\"\",\"\",\"von\")","v":""},null,null,{"$f":"IF('S1'!$Q$21=\"\",\"\",'S1'!$Q$21)","v":""},{"$f":"IF('S1'!$R$21=\"\",\"\",'S1'!$R$21)","v":""},{"$f":"IF('S1'!$S$21=\"\",\"\",'S1'!$S$21)","v":""},{"$f":"IF('S1'!$T$21=\"\",\"\",'S1'!$T$21)","v":""},{"$f":"IF('S1'!$U$21=\"\",\"\",'S1'!$U$21)","v":""},{"$f":"IF('S1'!$V$21=\"\",\"\",'S1'!$V$21)","v":""},{"$f":"IF('S1'!$W$21=\"\",\"\",'S1'!$W$21)","v":""},{"$f":"IF('S1'!$X$21=\"\",\"\",'S1'!$X$21)","v":""},{"$f":"IF('S1'!$Y$21=\"\",\"\",'S1'!$Y$21)","v":""},{"$f":"IF('S1'!$Z$21=\"\",\"\",'S1'!$Z$21)","v":""},null,{"$f":"IF(VLOOKUP(B192,'S1'!$B$23:$Z$57,2,FALSE)=\"\",\"\",CONCATENATE(VLOOKUP(B192,'S1'!$B$23:$Z$57,2,FALSE),\" \",VLOOKUP(B192,'S1'!$B$23:$Z$57,3,FALSE)))","v":"- "},null,null,null,null,{"$f":"IF('S1'!$Q$18=\"\",\"\",\"von\")","v":""},null,null,{"$f":"IF('S1'!$Q$21=\"\",\"\",'S1'!$Q$21)","v":""},{"$f":"IF('S1'!$R$21=\"\",\"\",'S1'!$R$21)","v":""},{"$f":"IF('S1'!$S$21=\"\",\"\",'S1'!$S$21)","v":""},{"$f":"IF('S1'!$T$21=\"\",\"\",'S1'!$T$21)","v":""},{"$f":"IF('S1'!$U$21=\"\",\"\",'S1'!$U$21)","v":""},{"$f":"IF('S1'!$V$21=\"\",\"\",'S1'!$V$21)","v":""},{"$f":"IF('S1'!$W$21=\"\",\"\",'S1'!$W$21)","v":""},{"$f":"IF('S1'!$X$21=\"\",\"\",'S1'!$X$21)","v":""},{"$f":"IF('S1'!$Y$21=\"\",\"\",'S1'!$Y$21)","v":""},{"$f":"IF('S1'!$Z$21=\"\",\"\",'S1'!$Z$21)","v":""},null,{"$f":"IF(VLOOKUP(U192,'S1'!$B$23:$Z$57,2,FALSE)=\"\",\"\",CONCATENATE(VLOOKUP(U192,'S1'!$B$23:$Z$57,2,FALSE),\" \",VLOOKUP(U192,'S1'!$B$23:$Z$57,3,FALSE)))","v":"- "}]
[]
[]
[]
[null,{"$f":"'S1'!$B$57","v":""}]
[null,null,null,null,null,null,null,null,null,null,null,null,null,null,null,"Summe"]
[null,"Aufgabe",null,null,{"$f":"IF('S1'!$G$18=\"\",\"\",'S1'!$G$18)","v":1},{"$f":"IF('S1'!$H$18=\"\",\"\",'S1'!$H$18)","v":2},{"$f":"IF('S1'!$I$18=\"\",\"\",'S1'!$I$18)","v":3},{"$f":"IF('S1'!$J$18=\"\",\"\",'S1'!$J$18)","v":""},{"$f":"IF('S1'!$K$18=\"\",\"\",'S1'!$K$18)","v":""},{"$f":"IF('S1'!$L$18=\"\",\"\",'S1'!$L$18)","v":""},{"$f":"IF('S1'!$M$18=\"\",\"\",'S1'!$M$18)","v":""},{"$f":"IF('S1'!$N$18=\"\",\"\",'S1'!$N$18)","v":""},{"$f":"IF('S1'!$O$18=\"\",\"\",'S1'!$O$18)","v":""},{"$f":"IF('S1'!$P$18=\"\",\"\",'S1'!$P$18)","v":""},null,{"$f":"IF(VLOOKUP(B204,'S1'!$B$23:$Z$57,5,FALSE)=\"\",\"\",VLOOKUP(B204,'S1'!$B$23:$Z$57,5,FALSE))","v":0}]
[null,"erreicht",null,null,{"$f":"IF(VLOOKUP(B204,'S1'!$B$23:$Z$57,6,FALSE)=\"\",\"\",VLOOKUP(B204,'S1'!$B$23:$Z$57,6,FALSE))","v":"."},{"$f":"IF(VLOOKUP(B204,'S1'!$B$23:$Z$57,7,FALSE)=\"\",\"\",VLOOKUP(B204,'S1'!$B$23:$Z$57,7,FALSE))","v":""},{"$f":"IF(VLOOKUP(B204,'S1'!$B$23:$Z$57,8,FALSE)=\"\",\"\",VLOOKUP(B204,'S1'!$B$23:$Z$57,8,FALSE))","v":""},{"$f":"IF(VLOOKUP(B204,'S1'!$B$23:$Z$57,9,FALSE)=\"\",\"\",VLOOKUP(B204,'S1'!$B$23:$Z$57,9,FALSE))","v":""},{"$f":"IF(VLOOKUP(B204,'S1'!$B$23:$Z$57,10,FALSE)=\"\",\"\",VLOOKUP(B204,'S1'!$B$23:$Z$57,10,FALSE))","v":""},{"$f":"IF(VLOOKUP(B204,'S1'!$B$23:$Z$57,11,FALSE)=\"\",\"\",VLOOKUP(B204,'S1'!$B$23:$Z$57,11,FALSE))","v":""},{"$f":"IF(VLOOKUP(B204,'S1'!$B$23:$Z$57,12,FALSE)=\"\",\"\",VLOOKUP(B204,'S1'!$B$23:$Z$57,12,FALSE))","v":""},{"$f":"IF(VLOOKUP(B204,'S1'!$B$23:$Z$57,13,FALSE)=\"\",\"\",VLOOKUP(B204,'S1'!$B$23:$Z$57,13,FALSE))","v":""},{"$f":"IF(VLOOKUP(B204,'S1'!$B$23:$Z$57,14,FALSE)=\"\",\"\",VLOOKUP(B204,'S1'!$B$23:$Z$57,14,FALSE))","v":""},{"$f":"IF(VLOOKUP(B204,'S1'!$B$23:$Z$57,15,FALSE)=\"\",\"\",VLOOKUP(B204,'S1'!$B$23:$Z$57,15,FALSE))","v":""}]
[null,"von",null,null,{"$f":"IF('S1'!$G$21=\"\",\"\",'S1'!$G$21)","v":""},{"$f":"IF('S1'!$H$21=\"\",\"\",'S1'!$H$21)","v":""},{"$f":"IF('S1'!$I$21=\"\",\"\",'S1'!$I$21)","v":""},{"$f":"IF('S1'!$J$21=\"\",\"\",'S1'!$J$21)","v":""},{"$f":"IF('S1'!$K$21=\"\",\"\",'S1'!$K$21)","v":""},{"$f":"IF('S1'!$L$21=\"\",\"\",'S1'!$L$21)","v":""},{"$f":"IF('S1'!$M$21=\"\",\"\",'S1'!$M$21)","v":""},{"$f":"IF('S1'!$N$21=\"\",\"\",'S1'!$N$21)","v":""},{"$f":"IF('S1'!$O$21=\"\",\"\",'S1'!$O$21)","v":""},{"$f":"IF('S1'!$P$21=\"\",\"\",'S1'!$P$21)","v":""},null,"von"]
[null,null,null,null,null,null,null,null,null,null,null,null,null,null,null,{"$f":"'S1'!$H$12","v":0}]
[null,{"$f":"IF('S1'!$Q$18=\"\",\"\",\"Aufgabe\")","v":""},null,null,{"$f":"IF('S1'!$Q$18=\"\",\"\",'S1'!$Q$18)","v":""},{"$f":"IF('S1'!$R$18=\"\",\"\",'S1'!$R$18)","v":""},{"$f":"IF('S1'!$S$18=\"\",\"\",'S1'!$S$18)","v":""},{"$f":"IF('S1'!$T$18=\"\",\"\",'S1'!$T$18)","v":""},{"$f":"IF('S1'!$U$18=\"\",\"\",'S1'!$U$18)","v":""},{"$f":"IF('S1'!$V$18=\"\",\"\",'S1'!$V$18)","v":""},{"$f":"IF('S1'!$W$18=\"\",\"\",'S1'!$W$18)","v":""},{"$f":"IF('S1'!$X$18=\"\",\"\",'S1'!$X$18)","v":""},{"$f":"IF('S1'!$Y$18=\"\",\"\",'S1'!$Y$18)","v":""},{"$f":"IF('S1'!$Z$18=\"\",\"\",'S1'!$Z$18)","v":""}]
[null,{"$f":"IF('S1'!$Q$18=\"\",\"\",\"erreicht\")","v":""},null,null,{"$f":"IF(VLOOKUP(B204,'S1'!$B$23:$Z$57,16,FALSE)=\"\",\"\",VLOOKUP(B204,'S1'!$B$23:$Z$57,16,FALSE))","v":""},{"$f":"IF(VLOOKUP(B204,'S1'!$B$23:$Z$57,17,FALSE)=\"\",\"\",VLOOKUP(B204,'S1'!$B$23:$Z$57,17,FALSE))","v":""},{"$f":"IF(VLOOKUP(B204,'S1'!$B$23:$Z$57,18,FALSE)=\"\",\"\",VLOOKUP(B204,'S1'!$B$23:$Z$57,18,FALSE))","v":""},{"$f":"IF(VLOOKUP(B204,'S1'!$B$23:$Z$57,19,FALSE)=\"\",\"\",VLOOKUP(B204,'S1'!$B$23:$Z$57,19,FALSE))","v":""},{"$f":"IF(VLOOKUP(B204,'S1'!$B$23:$Z$57,20,FALSE)=\"\",\"\",VLOOKUP(B204,'S1'!$B$23:$Z$57,20,FALSE))","v":""},{"$f":"IF(VLOOKUP(B204,'S1'!$B$23:$Z$57,21,FALSE)=\"\",\"\",VLOOKUP(B204,'S1'!$B$23:$Z$57,21,FALSE))","v":""},{"$f":"IF(VLOOKUP(B204,'S1'!$B$23:$Z$57,22,FALSE)=\"\",\"\",VLOOKUP(B204,'S1'!$B$23:$Z$57,22,FALSE))","v":""},{"$f":"IF(VLOOKUP(B204,'S1'!$B$23:$Z$57,23,FALSE)=\"\",\"\",VLOOKUP(B204,'S1'!$B$23:$Z$57,23,FALSE))","v":""},{"$f":"IF(VLOOKUP(B204,'S1'!$B$23:$Z$57,24,FALSE)=\"\",\"\",VLOOKUP(B204,'S1'!$B$23:$Z$57,24,FALSE))","v":""},{"$f":"IF(VLOOKUP(B204,'S1'!$B$23:$Z$57,25,FALSE)=\"\",\"\",VLOOKUP(B204,'S1'!$B$23:$Z$57,25,FALSE))","v":""},null,"Note"]
[null,{"$f":"IF('S1'!$Q$18=\"\",\"\",\"von\")","v":""},null,null,{"$f":"IF('S1'!$Q$21=\"\",\"\",'S1'!$Q$21)","v":""},{"$f":"IF('S1'!$R$21=\"\",\"\",'S1'!$R$21)","v":""},{"$f":"IF('S1'!$S$21=\"\",\"\",'S1'!$S$21)","v":""},{"$f":"IF('S1'!$T$21=\"\",\"\",'S1'!$T$21)","v":""},{"$f":"IF('S1'!$U$21=\"\",\"\",'S1'!$U$21)","v":""},{"$f":"IF('S1'!$V$21=\"\",\"\",'S1'!$V$21)","v":""},{"$f":"IF('S1'!$W$21=\"\",\"\",'S1'!$W$21)","v":""},{"$f":"IF('S1'!$X$21=\"\",\"\",'S1'!$X$21)","v":""},{"$f":"IF('S1'!$Y$21=\"\",\"\",'S1'!$Y$21)","v":""},{"$f":"IF('S1'!$Z$21=\"\",\"\",'S1'!$Z$21)","v":""},null,{"$f":"IF(VLOOKUP(B204,'S1'!$B$23:$Z$57,2,FALSE)=\"\",\"\",CONCATENATE(VLOOKUP(B204,'S1'!$B$23:$Z$57,2,FALSE),\" \",VLOOKUP(B204,'S1'!$B$23:$Z$57,3,FALSE)))","v":"- "}]

{"sheet":"L1","index":12,"n_rows":57,"n_cols":27,"rows_kept":57,"cut":false,"hidden":false,"merged":[[12,2,12,3],[13,2,13,3],[14,2,15,11],[0,1,4,3],[2,6,4,6],[8,2,8,11],[9,2,9,3],[10,2,10,3],[11,2,11,3]]}
[null,{"$f":"Dateneingabe!A1","v":"Mustergymnasium\nMusterstraße 1\n12345 Musterstadt"}]
[null,null,null,null,null,"Schuljahr:",{"$f":"Dateneingabe!F2","v":0}]
[null,null,null,null,null,null,{"$f":"Dateneingabe!F3","v":0},null,null,null,null,null,null,null,null,null,null,null,null,null,null,null,null,null,null,null,1]
[null,null,null,null,null,"Klasse:"]
[]
[]
[null,{"$f":"'S1'!B7","v":"Schriftliche Arbeit 1"}]
[]
[null,"Art der Arbeit:",{"$f":"'S1'!C9","v":0}]
[null,"Geschrieben am:",{"$f":"'S1'!C10","v":"00:00:00"}]
[null,"Arbeitszeit:",{"$f":"'S1'!C11","v":0}]
[null,"Zurückgegeben am:",{"$f":"'S1'!C12","v":"00:00:00"},null,null,"Gewichtung der Arbeit:",null,null,{"$f":"'S1'!T12","v":1}]
[null,"Dem Direktorat vorgelegt:",{"$f":"'S1'!C13","v":"00:00:00"}]
[null,"Notenlisteneintrag am:",{"$f":"'S1'!C14","v":"00:00:00"}]
[null,"Lehrstoff:",{"$f":"'S1'!C15","v":0}]
[]
[]
[]
[null,"Name","Note",null,null,null,null,"Auswertung Häufigkeit"]
[null,null,null,null,null,null,null,"Note","Anzahl"]
[]
[null,null,null,null,null,null,null,"0",{"$f":"'S1'!AF25","v":0}]
[1,{"$f":"'S1'!B23","v":""},{"$f":"'S1'!C23","v":"-"},null,null,null,null,1,{"$f":"'S1'!AF26","v":0}]
[2,{"$f":"'S1'!B24","v":""},{"$f":"'S1'!C24","v":"-"},null,null,null,null,2,{"$f":"'S1'!AF27","v":0}]
[3,{"$f":"'S1'!B25","v":""},{"$f":"'S1'!C25","v":"-"},null,null,null,null,3,{"$f":"'S1'!AF28","v":0}]
[4,{"$f":"'S1'!B26","v":""},{"$f":"'S1'!C26","v":"-"},null,null,null,null,4,{"$f":"'S1'!AF29","v":0}]
[5,{"$f":"'S1'!B27","v":""},{"$f":"'S1'!C27","v":"-"},null,null,null,null,5,{"$f":"'S1'!AF30","v":0}]
[6,{"$f":"'S1'!B28","v":""},{"$f":"'S1'!C28","v":"-"},null,null,null,null,6,{"$f":"'S1'!AF31","v":0}]
[7,{"$f":"'S1'!B29","v":""},{"$f":"'S1'!C29","v":"-"},null,null,null,null,7,{"$f":"'S1'!AF32","v":0}]
[8,{"$f":"'S1'!B30","v":""},{"$f":"'S1'!C30","v":"-"},null,null,null,null,8,{"$f":"'S1'!AF33","v":0}]
[9,{"$f":"'S1'!B31","v":""},{"$f":"'S1'!C31","v":"-"},null,null,null,null,9,{"$f":"'S1'!AF34","v":0}]
[10,{"$f":"'S1'!B32","v":""},{"$f":"'S1'!C32","v":"-"},null,null,null,null,10,{"$f":"'S1'!AF35","v":0}]
[11,{"$f":"'S1'!B33","v":""},{"$f":"'S1'!C33","v":"-"},null,null,null,null,11,{"$f":"'S1'!AF36","v":0}]
[12,{"$f":"'S1'!B34","v":""},{"$f":"'S1'!C34","v":"-"},null,null,null,null,12,{"$f":"'S1'!AF37","v":0}]
[13,{"$f":"'S1'!B35","v":""},{"$f":"'S1'!C35","v":"-"},null,null,null,null,13,{"$f":"'S1'!AF38","v":0}]
[14,{"$f":"'S1'!B36","v":""},{"$f":"'S1'!C36","v":"-"},null,null,null,null,14,{"$f":"'S1'!AF39","v":0}]
[15,{"$f":"'S1'!B37","v":""},{"$f":"'S1'!C37","v":"-"},null,null,null,null,15,{"$f":"'S1'!AF40","v":0}]
[16,{"$f":"'S1'!B38","v":""},{"$f":"'S1'!C38","v":"-"}]
[17,{"$f":"'S1'!B39","v":""},{"$f":"'S1'!C39","v":"-"}]
[18,{"$f":"'S1'!B40","v":""},{"$f":"'S1'!C40","v":"-"}]
[19,{"$f":"'S1'!B41","v":""},{"$f":"'S1'!C41","v":"-"}]
[20,{"$f":"'S1'!B42","v":""},{"$f":"'S1'!C42","v":"-"}]
[21,{"$f":"'S1'!B43","v":""},{"$f":"'S1'!C43","v":"-"}]
[22,{"$f":"'S1'!B44","v":""},{"$f":"'S1'!C44","v":"-"}]
[23,{"$f":"'S1'!B45","v":""},{"$f":"'S1'!C45","v":"-"}]
[24,{"$f":"'S1'!B46","v":""},{"$f":"'S1'!C46","v":"-"}]
[25,{"$f":"'S1'!B47","v":""},{"$f":"'S1'!C47","v":"-"}]
[26,{"$f":"'S1'!B48","v":""},{"$f":"'S1'!C48","v":"-"}]
[27,{"$f":"'S1'!B49","v":""},{"$f":"'S1'!C49","v":"-"}]
[28,{"$f":"'S1'!B50","v":""},{"$f":"'S1'!C50","v":"-"}]
[29,{"$f":"'S1'!B51","v":""},{"$f":"'S1'!C51","v":"-"}]
[30,{"$f":"'S1'!B52","v":""},{"$f":"'S1'!C52","v":"-"}]
[31,{"$f":"'S1'!B53","v":""},{"$f":"'S1'!C53","v":"-"}]
[32,{"$f":"'S1'!B54","v":""},{"$f":"'S1'!C54","v":"-"}]
[33,{"$f":"'S1'!B55","v":""},{"$f":"'S1'!C55","v":"-"},null,null,null,"Notendurchschnitt:",null,{"$f":"'S1'!AD60","v":"-"}]
[34,{"$f":"'S1'!B56","v":""},{"$f":"'S1'!C56","v":"-"}]
[35,{"$f":"'S1'!B57","v":""},{"$f":"'S1'!C57","v":"-"},null,null,null,"% 5er und 6er",null,{"$f":"'S1'!AD62","v":"0 %"}]

{"sheet":"M1","index":13,"n_rows":37,"n_cols":27,"rows_kept":37,"cut":false,"hidden":false,"merged":[[16,18,16,22],[32,18,32,19],[4,17,4,23],[26,23,26,25],[6,12,6,23],[0,11,0,26],[26,11,26,13],[26,14,26,16],[26,17,26,19],[26,20,26,22],[18,15,19,23],[8,16,8,20],[10,15,10,20],[12,17,12,22],[14,20,14,23]]}
[null,null,null,null,null,null,null,null,null,null,null,{"$f":"Dateneingabe!I28","v":0}]
[]
[null,null,null,null,null,null,null,null,null,null,null,"ABA",null,{"$f":"Dateneingabe!F6","v":0},null,null,null,null,null,null,null,"Schuljahr",null,null,{"$f":"Dateneingabe!F2","v":0}]
[]
[null,null,null,null,null,null,null,null,null,null,null,null,"Schülerarbeiten",null,null,null,null,"________________________"]
[]
[null,null,null,null,null,null,null,null,null,null,null,null,"_________________________________"]
[]
[null,null,null,null,null,null,null,null,null,null,null,"Geschrieben am:",null,null,null,null,{"$f":"'S1'!C10","v":"00:00:00"}]
[]
[null,null,null,null,null,null,null,null,null,null,null,"Arbeitszeit: ",null,null,null,{"$f":"'S1'!C11","v":0}]
[]
[null,null,null,null,null,null,null,null,null,null,null,"Zurückgegeben am:",null,null,null,null,null,{"$f":"'S1'!C12","v":"00:00:00"}]
[]
[null,null,null,null,null,null,null,null,null,null,null,"Dem Direktorat vorgelegt am:",null,null,null,null,null,null,null,null,{"$f":"'S1'!C13","v":"00:00:00"}]
[]
[null,null,null,null,null,null,null,null,null,null,null,"Notenlisteneintrag am: ",null,null,null,null,null,null,{"$f":"'S1'!C14","v":"00:00:00"}]
[]
[null,null,null,null,null,null,null,null,null,null,null,"Lehrstoff:",null,null,null,{"$f":"'S1'!C15","v":0}]
[]
[]
[null,null,null,null,null,null,null,null,null,null,null,"Nicht mitgeschrieben haben:",null,null,null,null,null,null,null,"_________________"]
[]
[]
[null,null,null,null,null,null,null,null,null,null,null,"Notenstatistik:"]
[]
[null,null,null,null,null,null,null,null,null,null,null,1,null,null,2,null,null,3,null,null,4,null,null,5,null,null,6]
[null,null,null,null,null,null,null,null,null,null,null,15,14,13,12,11,10,9,8,7,6,5,4,3,2,1,0]
[null,null,null,null,null,null,null,null,null,null,null,{"$f":"'S1'!$AF40","v":0},{"$f":"'S1'!$AF39","v":0},{"$f":"'S1'!$AF38","v":0},{"$f":"'S1'!$AF37","v":0},{"$f":"'S1'!$AF36","v":0},{"$f":"'S1'!$AF35","v":0},{"$f":"'S1'!$AF34","v":0},{"$f":"'S1'!$AF33","v":0},{"$f":"'S1'!$AF32","v":0},{"$f":"'S1'!$AF31","v":0},{"$f":"'S1'!$AF30","v":0},{"$f":"'S1'!$AF29","v":0},{"$f":"'S1'!$AF28","v":0},{"$f":"'S1'!$AF27","v":0},{"$f":"'S1'!$AF26","v":0},{"$f":"'S1'!$AF25","v":0}]
[]
[null,null,null,null,null,null,null,null,null,null,null,"Punktedurchschnitt:",null,null,null,null,null,null,{"$f":"'S1'!AD60","v":"-"}]
[]
[null,null,null,null,null,null,null,null,null,null,null,"Anteil Note 5 und 6:",null,null,null,null,null,null,{"$f":"'S1'!AD62","v":"0 %"}]
[]
[]
[]
[null,null,null,null,null,null,null,null,null,null,null,"Unterschrift: __________________________"]

{"sheet":"E2","index":14,"n_rows":212,"n_cols":35,"rows_kept":212,"cut":false,"hidden":false,"merged":[[208,15,208,17],[208,34,208,36],[210,15,210,17],[210,34,210,36],[211,15,211,17],[211,34,211,36],[204,15,204,17],[204,34,204,36],[205,15,205,17],[205,34,205,36],[207,15,207,17],[207,34,207,36],[196,15,196,17],[196,34,196,36],[198,15,198,17],[198,34,198,36],[199,15,199,17],[199,34,199,36],[192,15,192,17],[192,34,192,36],[193,15,193,17],[193,34,193,36],[195,15,195,17],[195,34,195,36],[184,15,184,17],[184,34,184,36],[186,15,186,17],[186,34,186,36],[187,15,187,17],[187,34,187,36],[180,15,180,17],[180,34,180,36],[181,15,181,17],[181,34,181,36],[183,15,183,17],[183,34,183,36],[172,15,172,17],[172,34,172,36],[174,15,174,17],[174,34,174,36],[175,15,175,17],[175,34,175,36],[168,15,168,17],[168,34,168,36],[169,15,169,17],[169,34,169,36],[171,15,171,17],[171,34,171,36],[160,15,160,17],[160,34,160,36],[162,15,162,17],[162,34,162,36],[163,15,163,17],[163,34,163,36],[156,15,156,17],[156,34,156,36],[157,15,157,17],[157,34,157,36],[159,15,159,17],[159,34,159,36],[148,15,148,17],[148,34,148,36],[150,15,150,17],[150,34,150,36],[151,15,151,17],[151,34,151,36],[144,15,144,17],[144,34,144,36],[145,15,145,17],[145,34,145,36],[147,15,147,17],[147,34,147,36],[137,15,137,17],[137,34,137,36],[139,15,139,17],[139,34,139,36],[140,15,140,17],[140,34,140,36],[133,15,133,17],[133,34,133,36],[134,15,134,17],[134,34,134,36],[136,15,136,17],[136,34,136,36],[125,15,125,17],[125,34,125,36],[127,15,127,17],[127,34,127,36],[128,15,128,17],[128,34,128,36],[121,15,121,17],[121,34,121,36],[122,15,122,17],[122,34,122,36],[124,15,124,17],[124,34,124,36],[113,15,113,17],[113,34,113,36],[115,15,115,17],[115,34,115,36],[116,15,116,17],[116,34,116,36],[109,15,109,17],[109,34,109,36],[110,15,110,17],[110,34,110,36],[112,15,112,17],[112,34,112,36],[101,15,101,17],[101,34,101,36],[103,15,103,17],[103,34,103,36],[104,15,104,17],[104,34,104,36],[97,15,97,17],[97,34,97,36],[98,15,98,17],[98,34,98,36],[100,15,100,17],[100,34,100,36],[89,15,89,17],[89,34,89,36],[91,15,91,17],[91,34,91,36],[92,15,92,17],[92,34,92,36],[85,15,85,17],[85,34,85,36],[86,15,86,17],[86,34,86,36],[88,15,88,17],[88,34,88,36],[77,15,77,17],[77,34,77,36],[79,15,79,17],[79,34,79,36],[80,15,80,17],[80,34,80,36],[73,15,73,17],[73,34,73,36],[74,15,74,17],[74,34,74,36],[76,15,76,17],[76,34,76,36],[66,15,66,17],[66,34,66,36],[68,15,68,17],[68,34,68,36],[69,15,69,17],[69,34,69,36],[62,15,62,17],[62,34,62,36],[63,15,63,17],[63,34,63,36],[65,15,65,17],[65,34,65,36],[54,15,54,17],[54,34,54,36],[56,15,56,17],[56,34,56,36],[57,15,57,17],[57,34,57,36],[50,15,50,17],[50,34,50,36],[51,15,51,17],[51,34,51,36],[53,15,53,17],[53,34,53,36],[42,15,42,17],[42,34,42,36],[44,15,44,17],[44,34,44,36],[45,15,45,17],[45,34,45,36],[38,15,38,17],[38,34,38,36],[39,15,39,17],[39,34,39,36],[41,15,41,17],[41,34,41,36],[30,15,30,17],[30,34,30,36],[32,15,32,17],[32,34,32,36],[33,15,33,17],[33,34,33,36],[26,15,26,17],[26,34,26,36],[27,15,27,17],[27,34,27,36],[29,15,29,17],[29,34,29,36],[18,15,18,17],[18,34,18,36],[20,15,20,17],[20,34,20,36],[21,15,21,17],[21,34,21,36],[14,15,14,17],[14,34,14,36],[15,15,15,17],[15,34,15,36],[17,15,17,17],[17,34,17,36],[6,15,6,17],[6,34,6,36],[8,15,8,17],[8,34,8,36],[9,15,9,17],[9,34,9,36],[2,15,2,17],[2,34,2,36],[3,15,3,17],[3,34,3,36],[5,15,5,17],[5,34,5,36]]}
[]
[null,{"$f":"'S2'!$B$23","v":""},null,null,null,null,null,null,null,null,null,null,null,null,null,null,null,null,null,null,{"$f":"'S2'!$B$24","v":""}]
[null,null,null,null,null,null,null,null,null,null,null,null,null,null,null,"Summe",null,null,null,null,null,null,null,null,null,null,null,null,null,null,null,null,null,null,"Summe"]
[null,"Aufgabe",null,null,{"$f":"IF('S2'!$G$18=\"\",\"\",'S2'!$G$18)","v":1},{"$f":"IF('S2'!$H$18=\"\",\"\",'S2'!$H$18)","v":2},{"$f":"IF('S2'!$I$18=\"\",\"\",'S2'!$I$18)","v":3},{"$f":"IF('S2'!$J$18=\"\",\"\",'S2'!$J$18)","v":""},{"$f":"IF('S2'!$K$18=\"\",\"\",'S2'!$K$18)","v":""},{"$f":"IF('S2'!$L$18=\"\",\"\",'S2'!$L$18)","v":""},{"$f":"IF('S2'!$M$18=\"\",\"\",'S2'!$M$18)","v":""},{"$f":"IF('S2'!$N$18=\"\",\"\",'S2'!$N$18)","v":""},{"$f":"IF('S2'!$O$18=\"\",\"\",'S2'!$O$18)","v":""},{"$f":"IF('S2'!$P$18=\"\",\"\",'S2'!$P$18)","v":""},null,{"$f":"IF(VLOOKUP(B2,'S2'!$B$23:$Z$57,5,FALSE)=\"\",\"\",VLOOKUP(B2,'S2'!$B$23:$Z$57,5,FALSE))","v":0},null,null,null,null,"Aufgabe",null,null,{"$f":"IF('S2'!$G$18=\"\",\"\",'S2'!$G$18)","v":1},{"$f":"IF('S2'!$H$18=\"\",\"\",'S2'!$H$18)","v":2},{"$f":"IF('S2'!$I$18=\"\",\"\",'S2'!$I$18)","v":3},{"$f":"IF('S2'!$J$18=\"\",\"\",'S2'!$J$18)","v":""},{"$f":"IF('S2'!$K$18=\"\",\"\",'S2'!$K$18)","v":""},{"$f":"IF('S2'!$L$18=\"\",\"\",'S2'!$L$18)","v":""},{"$f":"IF('S2'!$M$18=\"\",\"\",'S2'!$M$18)","v":""},{"$f":"IF('S2'!$N$18=\"\",\"\",'S2'!$N$18)","v":""},{"$f":"IF('S2'!$O$18=\"\",\"\",'S2'!$O$18)","v":""},{"$f":"IF('S2'!$P$18=\"\",\"\",'S2'!$P$18)","v":""},null,{"$f":"IF(VLOOKUP(U2,'S2'!$B$23:$Z$57,5,FALSE)=\"\",\"\",VLOOKUP(U2,'S2'!$B$23:$Z$57,5,FALSE))","v":0}]
[null,"erreicht",null,null,{"$f":"IF(VLOOKUP(B2,'S2'!$B$23:$Z$57,6,FALSE)=\"\",\"\",VLOOKUP(B2,'S2'!$B$23:$Z$57,6,FALSE))","v":"."},{"$f":"IF(VLOOKUP(B2,'S2'!$B$23:$Z$57,7,FALSE)=\"\",\"\",VLOOKUP(B2,'S2'!$B$23:$Z$57,7,FALSE))","v":""},{"$f":"IF(VLOOKUP(B2,'S2'!$B$23:$Z$57,8,FALSE)=\"\",\"\",VLOOKUP(B2,'S2'!$B$23:$Z$57,8,FALSE))","v":""},{"$f":"IF(VLOOKUP(B2,'S2'!$B$23:$Z$57,9,FALSE)=\"\",\"\",VLOOKUP(B2,'S2'!$B$23:$Z$57,9,FALSE))","v":""},{"$f":"IF(VLOOKUP(B2,'S2'!$B$23:$Z$57,10,FALSE)=\"\",\"\",VLOOKUP(B2,'S2'!$B$23:$Z$57,10,FALSE))","v":""},{"$f":"IF(VLOOKUP(B2,'S2'!$B$23:$Z$57,11,FALSE)=\"\",\"\",VLOOKUP(B2,'S2'!$B$23:$Z$57,11,FALSE))","v":""},{"$f":"IF(VLOOKUP(B2,'S2'!$B$23:$Z$57,12,FALSE)=\"\",\"\",VLOOKUP(B2,'S2'!$B$23:$Z$57,12,FALSE))","v":""},{"$f":"IF(VLOOKUP(B2,'S2'!$B$23:$Z$57,13,FALSE)=\"\",\"\",VLOOKUP(B2,'S2'!$B$23:$Z$57,13,FALSE))","v":""},{"$f":"IF(VLOOKUP(B2,'S2'!$B$23:$Z$57,14,FALSE)=\"\",\"\",VLOOKUP(B2,'S2'!$B$23:$Z$57,14,FALSE))","v":""},{"$f":"IF(VLOOKUP(B2,'S2'!$B$23:$Z$57,15,FALSE)=\"\",\"\",VLOOKUP(B2,'S2'!$B$23:$Z$57,15,FALSE))","v":""},null,null,null,null,null,null,"erreicht",null,null,{"$f":"IF(VLOOKUP(U2,'S2'!$B$23:$Z$57,6,FALSE)=\"\",\"\",VLOOKUP(U2,'S2'!$B$23:$Z$57,6,FALSE))","v":"."},{"$f":"IF(VLOOKUP(U2,'S2'!$B$23:$Z$57,7,FALSE)=\"\",\"\",VLOOKUP(U2,'S2'!$B$23:$Z$57,7,FALSE))","v":""},{"$f":"IF(VLOOKUP(U2,'S2'!$B$23:$Z$57,8,FALSE)=\"\",\"\",VLOOKUP(U2,'S2'!$B$23:$Z$57,8,FALSE))","v":""},{"$f":"IF(VLOOKUP(U2,'S2'!$B$23:$Z$57,9,FALSE)=\"\",\"\",VLOOKUP(U2,'S2'!$B$23:$Z$57,9,FALSE))","v":""},{"$f":"IF(VLOOKUP(U2,'S2'!$B$23:$Z$57,10,FALSE)=\"\",\"\",VLOOKUP(U2,'S2'!$B$23:$Z$57,10,FALSE))","v":""},{"$f":"IF(VLOOKUP(U2,'S2'!$B$23:$Z$57,11,FALSE)=\"\",\"\",VLOOKUP(U2,'S2'!$B$23:$Z$57,11,FALSE))","v":""},{"$f":"IF(VLOOKUP(U2,'S2'!$B$23:$Z$57,12,FALSE)=\"\",\"\",VLOOKUP(U2,'S2'!$B$23:$Z$57,12,FALSE))","v":""},{"$f":"IF(VLOOKUP(U2,'S2'!$B$23:$Z$57,13,FALSE)=\"\",\"\",VLOOKUP(U2,'S2'!$B$23:$Z$57,13,FALSE))","v":""},{"$f":"IF(VLOOKUP(U2,'S2'!$B$23:$Z$57,14,FALSE)=\"\",\"\",VLOOKUP(U2,'S2'!$B$23:$Z$57,14,FALSE))","v":""},{"$f":"IF(VLOOKUP(U2,'S2'!$B$23:$Z$57,15,FALSE)=\"\",\"\",VLOOKUP(U2,'S2'!$B$23:$Z$57,15,FALSE))","v":""}]
[null,"von",null,null,{"$f":"IF('S2'!$G$21=\"\",\"\",'S2'!$G$21)","v":""},{"$f":"IF('S2'!$H$21=\"\",\"\",'S2'!$H$21)","v":""},{"$f":"IF('S2'!$I$21=\"\",\"\",'S2'!$I$21)","v":""},{"$f":"IF('S2'!$J$21=\"\",\"\",'S2'!$J$21)","v":""},{"$f":"IF('S2'!$K$21=\"\",\"\",'S2'!$K$21)","v":""},{"$f":"IF('S2'!$L$21=\"\",\"\",'S2'!$L$21)","v":""},{"$f":"IF('S2'!$M$21=\"\",\"\",'S2'!$M$21)","v":""},{"$f":"IF('S2'!$N$21=\"\",\"\",'S2'!$N$21)","v":""},{"$f":"IF('S2'!$O$21=\"\",\"\",'S2'!$O$21)","v":""},{"$f":"IF('S2'!$P$21=\"\",\"\",'S2'!$P$21)","v":""},null,"von",null,null,null,null,"von",null,null,{"$f":"IF('S2'!$G$21=\"\",\"\",'S2'!$G$21)","v":""},{"$f":"IF('S2'!$H$21=\"\",\"\",'S2'!$H$21)","v":""},{"$f":"IF('S2'!$I$21=\"\",\"\",'S2'!$I$21)","v":""},{"$f":"IF('S2'!$J$21=\"\",\"\",'S2'!$J$21)","v":""},{"$f":"IF('S2'!$K$21=\"\",\"\",'S2'!$K$21)","v":""},{"$f":"IF('S2'!$L$21=\"\",\"\",'S2'!$L$21)","v":""},{"$f":"IF('S2'!$M$21=\"\",\"\",'S2'!$M$21)","v":""},{"$f":"IF('S2'!$N$21=\"\",\"\",'S2'!$N$21)","v":""},{"$f":"IF('S2'!$O$21=\"\",\"\",'S2'!$O$21)","v":""},{"$f":"IF('S2'!$P$21=\"\",\"\",'S2'!$P$21)","v":""},null,"von"]
[null,null,null,null,null,null,null,null,null,null,null,null,null,null,null,{"$f":"'S2'!$H$12","v":0},null,null,null,null,null,null,null,null,null,null,null,null,null,null,null,null,null,null,{"$f":"'S2'!$H$12","v":0}]
[null,{"$f":"IF('S2'!$Q$18=\"\",\"\",\"Aufgabe\")","v":""},null,null,{"$f":"IF('S2'!$Q$18=\"\",\"\",'S2'!$Q$18)","v":""},{"$f":"IF('S2'!$R$18=\"\",\"\",'S2'!$R$18)","v":""},{"$f":"IF('S2'!$S$18=\"\",\"\",'S2'!$S$18)","v":""},{"$f":"IF('S2'!$T$18=\"\",\"\",'S2'!$T$18)","v":""},{"$f":"IF('S2'!$U$18=\"\",\"\",'S2'!$U$18)","v":""},{"$f":"IF('S2'!$V$18=\"\",\"\",'S2'!$V$18)","v":""},{"$f":"IF('S2'!$W$18=\"\",\"\",'S2'!$W$18)","v":""},{"$f":"IF('S2'!$X$18=\"\",\"\",'S2'!$X$18)","v":""},{"$f":"IF('S2'!$Y$18=\"\",\"\",'S2'!$Y$18)","v":""},{"$f":"IF('S2'!$Z$18=\"\",\"\",'S2'!$Z$18)","v":""},null,null,null,null,null,null,{"$f":"IF('S2'!$Q$18=\"\",\"\",\"Aufgabe\")","v":""},null,null,{"$f":"IF('S2'!$Q$18=\"\",\"\",'S2'!$Q$18)","v":""},{"$f":"IF('S2'!$R$18=\"\",\"\",'S2'!$R$18)","v":""},{"$f":"IF('S2'!$S$18=\"\",\"\",'S2'!$S$18)","v":""},{"$f":"IF('S2'!$T$18=\"\",\"\",'S2'!$T$18)","v":""},{"$f":"IF('S2'!$U$18=\"\",\"\",'S2'!$U$18)","v":""},{"$f":"IF('S2'!$V$18=\"\",\"\",'S2'!$V$18)","v":""},{"$f":"IF('S2'!$W$18=\"\",\"\",'S2'!$W$18)","v":""},{"$f":"IF('S2'!$X$18=\"\",\"\",'S2'!$X$18)","v":""},{"$f":"IF('S2'!$Y$18=\"\",\"\",'S2'!$Y$18)","v":""},{"$f":"IF('S2'!$Z$18=\"\",\"\",'S2'!$Z$18)","v":""}]
[null,{"$f":"IF('S2'!$Q$18=\"\",\"\",\"erreicht\")","v":""},null,null,{"$f":"IF(VLOOKUP(B2,'S2'!$B$23:$Z$57,16,FALSE)=\"\",\"\",VLOOKUP(B2,'S2'!$B$23:$Z$57,16,FALSE))","v":""},{"$f":"IF(VLOOKUP(B2,'S2'!$B$23:$Z$57,17,FALSE)=\"\",\"\",VLOOKUP(B2,'S2'!$B$23:$Z$57,17,FALSE))","v":""},{"$f":"IF(VLOOKUP(B2,'S2'!$B$23:$Z$57,18,FALSE)=\"\",\"\",VLOOKUP(B2,'S2'!$B$23:$Z$57,18,FALSE))","v":""},{"$f":"IF(VLOOKUP(B2,'S2'!$B$23:$Z$57,19,FALSE)=\"\",\"\",VLOOKUP(B2,'S2'!$B$23:$Z$57,19,FALSE))","v":""},{"$f":"IF(VLOOKUP(B2,'S2'!$B$23:$Z$57,20,FALSE)=\"\",\"\",VLOOKUP(B2,'S2'!$B$23:$Z$57,20,FALSE))","v":""},{"$f":"IF(VLOOKUP(B2,'S2'!$B$23:$Z$57,21,FALSE)=\"\",\"\",VLOOKUP(B2,'S2'!$B$23:$Z$57,21,FALSE))","v":""},{"$f":"IF(VLOOKUP(B2,'S2'!$B$23:$Z$57,22,FALSE)=\"\",\"\",VLOOKUP(B2,'S2'!$B$23:$Z$57,22,FALSE))","v":""},{"$f":"IF(VLOOKUP(B2,'S2'!$B$23:$Z$57,23,FALSE)=\"\",\"\",VLOOKUP(B2,'S2'!$B$23:$Z$57,23,FALSE))","v":""},{"$f":"IF(VLOOKUP(B2,'S2'!$B$23:$Z$57,24,FALSE)=\"\",\"\",VLOOKUP(B2,'S2'!$B$23:$Z$57,24,FALSE))","v":""},{"$f":"IF(VLOOKUP(B2,'S2'!$B$23:$Z$57,25,FALSE)=\"\",\"\",VLOOKUP(B2,'S2'!$B$23:$Z$57,25,FALSE))","v":""},null,"Note",null,null,null,null,{"$f":"IF('S2'!$Q$18=\"\",\"\",\"erreicht\")","v":""},null,null,{"$f":"IF(VLOOKUP(U2,'S2'!$B$23:$Z$57,16,FALSE)=\"\",\"\",VLOOKUP(U2,'S2'!$B$23:$Z$57,16,FALSE))","v":""},{"$f":"IF(VLOOKUP(U2,'S2'!$B$23:$Z$57,17,FALSE)=\"\",\"\",VLOOKUP(U2,'S2'!$B$23:$Z$57,17,FALSE))","v":""},{"$f":"IF(VLOOKUP(U2,'S2'!$B$23:$Z$57,18,FALSE)=\"\",\"\",VLOOKUP(U2,'S2'!$B$23:$Z$57,18,FALSE))","v":""},{"$f":"IF(VLOOKUP(U2,'S2'!$B$23:$Z$57,19,FALSE)=\"\",\"\",VLOOKUP(U2,'S2'!$B$23:$Z$57,19,FALSE))","v":""},{"$f":"IF(VLOOKUP(U2,'S2'!$B$23:$Z$57,20,FALSE)=\"\",\"\",VLOOKUP(U2,'S2'!$B$23:$Z$57,20,FALSE))","v":""},{"$f":"IF(VLOOKUP(U2,'S2'!$B$23:$Z$57,21,FALSE)=\"\",\"\",VLOOKUP(U2,'S2'!$B$23:$Z$57,21,FALSE))","v":""},{"$f":"IF(VLOOKUP(U2,'S2'!$B$23:$Z$57,22,FALSE)=\"\",\"\",VLOOKUP(U2,'S2'!$B$23:$Z$57,22,FALSE))","v":""},{"$f":"IF(VLOOKUP(U2,'S2'!$B$23:$Z$57,23,FALSE)=\"\",\"\",VLOOKUP(U2,'S2'!$B$23:$Z$57,23,FALSE))","v":""},{"$f":"IF(VLOOKUP(U2,'S2'!$B$23:$Z$57,24,FALSE)=\"\",\"\",VLOOKUP(U2,'S2'!$B$23:$Z$57,24,FALSE))","v":""},{"$f":"IF(VLOOKUP(U2,'S2'!$B$23:$Z$57,25,FALSE)=\"\",\"\",VLOOKUP(U2,'S2'!$B$23:$Z$57,25,FALSE))","v":""},null,"Note"]
[null,{"$f":"IF('S2'!$Q$18=\"\",\"\",\"von\")","v":""},null,null,{"$f":"IF('S2'!$Q$21=\"\",\"\",'S2'!$Q$21)","v":""},{"$f":"IF('S2'!$R$21=\"\",\"\",'S2'!$R$21)","v":""},{"$f":"IF('S2'!$S$21=\"\",\"\",'S2'!$S$21)","v":""},{"$f":"IF('S2'!$T$21=\"\",\"\",'S2'!$T$21)","v":""},{"$f":"IF('S2'!$U$21=\"\",\"\",'S2'!$U$21)","v":""},{"$f":"IF('S2'!$V$21=\"\",\"\",'S2'!$V$21)","v":""},{"$f":"IF('S2'!$W$21=\"\",\"\",'S2'!$W$21)","v":""},{"$f":"IF('S2'!$X$21=\"\",\"\",'S2'!$X$21)","v":""},{"$f":"IF('S2'!$Y$21=\"\",\"\",'S2'!$Y$21)","v":""},{"$f":"IF('S2'!$Z$21=\"\",\"\",'S2'!$Z$21)","v":""},null,{"$f":"IF(VLOOKUP(B2,'S2'!$B$23:$Z$57,2,FALSE)=\"\",\"\",CONCATENATE(VLOOKUP(B2,'S2'!$B$23:$Z$57,2,FALSE),\" \",VLOOKUP(B2,'S2'!$B$23:$Z$57,3,FALSE)))","v":"- "},null,null,null,null,{"$f":"IF('S2'!$Q$18=\"\",\"\",\"von\")","v":""},null,null,{"$f":"IF('S2'!$Q$21=\"\",\"\",'S2'!$Q$21)","v":""},{"$f":"IF('S2'!$R$21=\"\",\"\",'S2'!$R$21)","v":""},{"$f":"IF('S2'!$S$21=\"\",\"\",'S2'!$S$21)","v":""},{"$f":"IF('S2'!$T$21=\"\",\"\",'S2'!$T$21)","v":""},{"$f":"IF('S2'!$U$21=\"\",\"\",'S2'!$U$21)","v":""},{"$f":"IF('S2'!$V$21=\"\",\"\",'S2'!$V$21)","v":""},{"$f":"IF('S2'!$W$21=\"\",\"\",'S2'!$W$21)","v":""},{"$f":"IF('S2'!$X$21=\"\",\"\",'S2'!$X$21)","v":""},{"$f":"IF('S2'!$Y$21=\"\",\"\",'S2'!$Y$21)","v":""},{"$f":"IF('S2'!$Z$21=\"\",\"\",'S2'!$Z$21)","v":""},null,{"$f":"IF(VLOOKUP(U2,'S2'!$B$23:$Z$57,2,FALSE)=\"\",\"\",CONCATENATE(VLOOKUP(U2,'S2'!$B$23:$Z$57,2,FALSE),\" \",VLOOKUP(U2,'S2'!$B$23:$Z$57,3,FALSE)))","v":"- "}]
[]
[]
[]
[null,{"$f":"'S2'!$B$25","v":""},null,null,null,null,null,null,null,null,null,null,null,null,null,null,null,null,null,null,{"$f":"'S2'!$B$26","v":""}]
[null,null,null,null,null,null,null,null,null,null,null,null,null,null,null,"Summe",null,null,null,null,null,null,null,null,null,null,null,null,null,null,null,null,null,null,"Summe"]
[null,"Aufgabe",null,null,{"$f":"IF('S2'!$G$18=\"\",\"\",'S2'!$G$18)","v":1},{"$f":"IF('S2'!$H$18=\"\",\"\",'S2'!$H$18)","v":2},{"$f":"IF('S2'!$I$18=\"\",\"\",'S2'!$I$18)","v":3},{"$f":"IF('S2'!$J$18=\"\",\"\",'S2'!$J$18)","v":""},{"$f":"IF('S2'!$K$18=\"\",\"\",'S2'!$K$18)","v":""},{"$f":"IF('S2'!$L$18=\"\",\"\",'S2'!$L$18)","v":""},{"$f":"IF('S2'!$M$18=\"\",\"\",'S2'!$M$18)","v":""},{"$f":"IF('S2'!$N$18=\"\",\"\",'S2'!$N$18)","v":""},{"$f":"IF('S2'!$O$18=\"\",\"\",'S2'!$O$18)","v":""},{"$f":"IF('S2'!$P$18=\"\",\"\",'S2'!$P$18)","v":""},null,{"$f":"IF(VLOOKUP(B14,'S2'!$B$23:$Z$57,5,FALSE)=\"\",\"\",VLOOKUP(B14,'S2'!$B$23:$Z$57,5,FALSE))","v":0},null,null,null,null,"Aufgabe",null,null,{"$f":"IF('S2'!$G$18=\"\",\"\",'S2'!$G$18)","v":1},{"$f":"IF('S2'!$H$18=\"\",\"\",'S2'!$H$18)","v":2},{"$f":"IF('S2'!$I$18=\"\",\"\",'S2'!$I$18)","v":3},{"$f":"IF('S2'!$J$18=\"\",\"\",'S2'!$J$18)","v":""},{"$f":"IF('S2'!$K$18=\"\",\"\",'S2'!$K$18)","v":""},{"$f":"IF('S2'!$L$18=\"\",\"\",'S2'!$L$18)","v":""},{"$f":"IF('S2'!$M$18=\"\",\"\",'S2'!$M$18)","v":""},{"$f":"IF('S2'!$N$18=\"\",\"\",'S2'!$N$18)","v":""},{"$f":"IF('S2'!$O$18=\"\",\"\",'S2'!$O$18)","v":""},{"$f":"IF('S2'!$P$18=\"\",\"\",'S2'!$P$18)","v":""},null,{"$f":"IF(VLOOKUP(U14,'S2'!$B$23:$Z$57,5,FALSE)=\"\",\"\",VLOOKUP(U14,'S2'!$B$23:$Z$57,5,FALSE))","v":0}]
[null,"erreicht",null,null,{"$f":"IF(VLOOKUP(B14,'S2'!$B$23:$Z$57,6,FALSE)=\"\",\"\",VLOOKUP(B14,'S2'!$B$23:$Z$57,6,FALSE))","v":"."},{"$f":"IF(VLOOKUP(B14,'S2'!$B$23:$Z$57,7,FALSE)=\"\",\"\",VLOOKUP(B14,'S2'!$B$23:$Z$57,7,FALSE))","v":""},{"$f":"IF(VLOOKUP(B14,'S2'!$B$23:$Z$57,8,FALSE)=\"\",\"\",VLOOKUP(B14,'S2'!$B$23:$Z$57,8,FALSE))","v":""},{"$f":"IF(VLOOKUP(B14,'S2'!$B$23:$Z$57,9,FALSE)=\"\",\"\",VLOOKUP(B14,'S2'!$B$23:$Z$57,9,FALSE))","v":""},{"$f":"IF(VLOOKUP(B14,'S2'!$B$23:$Z$57,10,FALSE)=\"\",\"\",VLOOKUP(B14,'S2'!$B$23:$Z$57,10,FALSE))","v":""},{"$f":"IF(VLOOKUP(B14,'S2'!$B$23:$Z$57,11,FALSE)=\"\",\"\",VLOOKUP(B14,'S2'!$B$23:$Z$57,11,FALSE))","v":""},{"$f":"IF(VLOOKUP(B14,'S2'!$B$23:$Z$57,12,FALSE)=\"\",\"\",VLOOKUP(B14,'S2'!$B$23:$Z$57,12,FALSE))","v":""},{"$f":"IF(VLOOKUP(B14,'S2'!$B$23:$Z$57,13,FALSE)=\"\",\"\",VLOOKUP(B14,'S2'!$B$23:$Z$57,13,FALSE))","v":""},{"$f":"IF(VLOOKUP(B14,'S2'!$B$23:$Z$57,14,FALSE)=\"\",\"\",VLOOKUP(B14,'S2'!$B$23:$Z$57,14,FALSE))","v":""},{"$f":"IF(VLOOKUP(B14,'S2'!$B$23:$Z$57,15,FALSE)=\"\",\"\",VLOOKUP(B14,'S2'!$B$23:$Z$57,15,FALSE))","v":""},null,null,null,null,null,null,"erreicht",null,null,{"$f":"IF(VLOOKUP(U14,'S2'!$B$23:$Z$57,6,FALSE)=\"\",\"\",VLOOKUP(U14,'S2'!$B$23:$Z$57,6,FALSE))","v":"."},{"$f":"IF(VLOOKUP(U14,'S2'!$B$23:$Z$57,7,FALSE)=\"\",\"\",VLOOKUP(U14,'S2'!$B$23:$Z$57,7,FALSE))","v":""},{"$f":"IF(VLOOKUP(U14,'S2'!$B$23:$Z$57,8,FALSE)=\"\",\"\",VLOOKUP(U14,'S2'!$B$23:$Z$57,8,FALSE))","v":""},{"$f":"IF(VLOOKUP(U14,'S2'!$B$23:$Z$57,9,FALSE)=\"\",\"\",VLOOKUP(U14,'S2'!$B$23:$Z$57,9,FALSE))","v":""},{"$f":"IF(VLOOKUP(U14,'S2'!$B$23:$Z$57,10,FALSE)=\"\",\"\",VLOOKUP(U14,'S2'!$B$23:$Z$57,10,FALSE))","v":""},{"$f":"IF(VLOOKUP(U14,'S2'!$B$23:$Z$57,11,FALSE)=\"\",\"\",VLOOKUP(U14,'S2'!$B$23:$Z$57,11,FALSE))","v":""},{"$f":"IF(VLOOKUP(U14,'S2'!$B$23:$Z$57,12,FALSE)=\"\",\"\",VLOOKUP(U14,'S2'!$B$23:$Z$57,12,FALSE))","v":""},{"$f":"IF(VLOOKUP(U14,'S2'!$B$23:$Z$57,13,FALSE)=\"\",\"\",VLOOKUP(U14,'S2'!$B$23:$Z$57,13,FALSE))","v":""},{"$f":"IF(VLOOKUP(U14,'S2'!$B$23:$Z$57,14,FALSE)=\"\",\"\",VLOOKUP(U14,'S2'!$B$23:$Z$57,14,FALSE))","v":""},{"$f":"IF(VLOOKUP(U14,'S2'!$B$23:$Z$57,15,FALSE)=\"\",\"\",VLOOKUP(U14,'S2'!$B$23:$Z$57,15,FALSE))","v":""}]
[null,"von",null,null,{"$f":"IF('S2'!$G$21=\"\",\"\",'S2'!$G$21)","v":""},{"$f":"IF('S2'!$H$21=\"\",\"\",'S2'!$H$21)","v":""},{"$f":"IF('S2'!$I$21=\"\",\"\",'S2'!$I$21)","v":""},{"$f":"IF('S2'!$J$21=\"\",\"\",'S2'!$J$21)","v":""},{"$f":"IF('S2'!$K$21=\"\",\"\",'S2'!$K$21)","v":""},{"$f":"IF('S2'!$L$21=\"\",\"\",'S2'!$L$21)","v":""},{"$f":"IF('S2'!$M$21=\"\",\"\",'S2'!$M$21)","v":""},{"$f":"IF('S2'!$N$21=\"\",\"\",'S2'!$N$21)","v":""},{"$f":"IF('S2'!$O$21=\"\",\"\",'S2'!$O$21)","v":""},{"$f":"IF('S2'!$P$21=\"\",\"\",'S2'!$P$21)","v":""},null,"von",null,null,null,null,"von",null,null,{"$f":"IF('S2'!$G$21=\"\",\"\",'S2'!$G$21)","v":""},{"$f":"IF('S2'!$H$21=\"\",\"\",'S2'!$H$21)","v":""},{"$f":"IF('S2'!$I$21=\"\",\"\",'S2'!$I$21)","v":""},{"$f":"IF('S2'!$J$21=\"\",\"\",'S2'!$J$21)","v":""},{"$f":"IF('S2'!$K$21=\"\",\"\",'S2'!$K$21)","v":""},{"$f":"IF('S2'!$L$21=\"\",\"\",'S2'!$L$21)","v":""},{"$f":"IF('S2'!$M$21=\"\",\"\",'S2'!$M$21)","v":""},{"$f":"IF('S2'!$N$21=\"\",\"\",'S2'!$N$21)","v":""},{"$f":"IF('S2'!$O$21=\"\",\"\",'S2'!$O$21)","v":""},{"$f":"IF('S2'!$P$21=\"\",\"\",'S2'!$P$21)","v":""},null,"von"]
[null,null,null,null,null,null,null,null,null,null,null,null,null,null,null,{"$f":"'S2'!$H$12","v":0},null,null,null,null,null,null,null,null,null,null,null,null,null,null,null,null,null,null,{"$f":"'S2'!$H$12","v":0}]
[null,{"$f":"IF('S2'!$Q$18=\"\",\"\",\"Aufgabe\")","v":""},null,null,{"$f":"IF('S2'!$Q$18=\"\",\"\",'S2'!$Q$18)","v":""},{"$f":"IF('S2'!$R$18=\"\",\"\",'S2'!$R$18)","v":""},{"$f":"IF('S2'!$S$18=\"\",\"\",'S2'!$S$18)","v":""},{"$f":"IF('S2'!$T$18=\"\",\"\",'S2'!$T$18)","v":""},{"$f":"IF('S2'!$U$18=\"\",\"\",'S2'!$U$18)","v":""},{"$f":"IF('S2'!$V$18=\"\",\"\",'S2'!$V$18)","v":""},{"$f":"IF('S2'!$W$18=\"\",\"\",'S2'!$W$18)","v":""},{"$f":"IF('S2'!$X$18=\"\",\"\",'S2'!$X$18)","v":""},{"$f":"IF('S2'!$Y$18=\"\",\"\",'S2'!$Y$18)","v":""},{"$f":"IF('S2'!$Z$18=\"\",\"\",'S2'!$Z$18)","v":""},null,null,null,null,null,null,{"$f":"IF('S2'!$Q$18=\"\",\"\",\"Aufgabe\")","v":""},null,null,{"$f":"IF('S2'!$Q$18=\"\",\"\",'S2'!$Q$18)","v":""},{"$f":"IF('S2'!$R$18=\"\",\"\",'S2'!$R$18)","v":""},{"$f":"IF('S2'!$S$18=\"\",\"\",'S2'!$S$18)","v":""},{"$f":"IF('S2'!$T$18=\"\",\"\",'S2'!$T$18)","v":""},{"$f":"IF('S2'!$U$18=\"\",\"\",'S2'!$U$18)","v":""},{"$f":"IF('S2'!$V$18=\"\",\"\",'S2'!$V$18)","v":""},{"$f":"IF('S2'!$W$18=\"\",\"\",'S2'!$W$18)","v":""},{"$f":"IF('S2'!$X$18=\"\",\"\",'S2'!$X$18)","v":""},{"$f":"IF('S2'!$Y$18=\"\",\"\",'S2'!$Y$18)","v":""},{"$f":"IF('S2'!$Z$18=\"\",\"\",'S2'!$Z$18)","v":""}]
[null,{"$f":"IF('S2'!$Q$18=\"\",\"\",\"erreicht\")","v":""},null,null,{"$f":"IF(VLOOKUP(B14,'S2'!$B$23:$Z$57,16,FALSE)=\"\",\"\",VLOOKUP(B14,'S2'!$B$23:$Z$57,16,FALSE))","v":""},{"$f":"IF(VLOOKUP(B14,'S2'!$B$23:$Z$57,17,FALSE)=\"\",\"\",VLOOKUP(B14,'S2'!$B$23:$Z$57,17,FALSE))","v":""},{"$f":"IF(VLOOKUP(B14,'S2'!$B$23:$Z$57,18,FALSE)=\"\",\"\",VLOOKUP(B14,'S2'!$B$23:$Z$57,18,FALSE))","v":""},{"$f":"IF(VLOOKUP(B14,'S2'!$B$23:$Z$57,19,FALSE)=\"\",\"\",VLOOKUP(B14,'S2'!$B$23:$Z$57,19,FALSE))","v":""},{"$f":"IF(VLOOKUP(B14,'S2'!$B$23:$Z$57,20,FALSE)=\"\",\"\",VLOOKUP(B14,'S2'!$B$23:$Z$57,20,FALSE))","v":""},{"$f":"IF(VLOOKUP(B14,'S2'!$B$23:$Z$57,21,FALSE)=\"\",\"\",VLOOKUP(B14,'S2'!$B$23:$Z$57,21,FALSE))","v":""},{"$f":"IF(VLOOKUP(B14,'S2'!$B$23:$Z$57,22,FALSE)=\"\",\"\",VLOOKUP(B14,'S2'!$B$23:$Z$57,22,FALSE))","v":""},{"$f":"IF(VLOOKUP(B14,'S2'!$B$23:$Z$57,23,FALSE)=\"\",\"\",VLOOKUP(B14,'S2'!$B$23:$Z$57,23,FALSE))","v":""},{"$f":"IF(VLOOKUP(B14,'S2'!$B$23:$Z$57,24,FALSE)=\"\",\"\",VLOOKUP(B14,'S2'!$B$23:$Z$57,24,FALSE))","v":""},{"$f":"IF(VLOOKUP(B14,'S2'!$B$23:$Z$57,25,FALSE)=\"\",\"\",VLOOKUP(B14,'S2'!$B$23:$Z$57,25,FALSE))","v":""},null,"Note",null,null,null,null,{"$f":"IF('S2'!$Q$18=\"\",\"\",\"erreicht\")","v":""},null,null,{"$f":"IF(VLOOKUP(U14,'S2'!$B$23:$Z$57,16,FALSE)=\"\",\"\",VLOOKUP(U14,'S2'!$B$23:$Z$57,16,FALSE))","v":""},{"$f":"IF(VLOOKUP(U14,'S2'!$B$23:$Z$57,17,FALSE)=\"\",\"\",VLOOKUP(U14,'S2'!$B$23:$Z$57,17,FALSE))","v":""},{"$f":"IF(VLOOKUP(U14,'S2'!$B$23:$Z$57,18,FALSE)=\"\",\"\",VLOOKUP(U14,'S2'!$B$23:$Z$57,18,FALSE))","v":""},{"$f":"IF(VLOOKUP(U14,'S2'!$B$23:$Z$57,19,FALSE)=\"\",\"\",VLOOKUP(U14,'S2'!$B$23:$Z$57,19,FALSE))","v":""},{"$f":"IF(VLOOKUP(U14,'S2'!$B$23:$Z$57,20,FALSE)=\"\",\"\",VLOOKUP(U14,'S2'!$B$23:$Z$57,20,FALSE))","v":""},{"$f":"IF(VLOOKUP(U14,'S2'!$B$23:$Z$57,21,FALSE)=\"\",\"\",VLOOKUP(U14,'S2'!$B$23:$Z$57,21,FALSE))","v":""},{"$f":"IF(VLOOKUP(U14,'S2'!$B$23:$Z$57,22,FALSE)=\"\",\"\",VLOOKUP(U14,'S2'!$B$23:$Z$57,22,FALSE))","v":""},{"$f":"IF(VLOOKUP(U14,'S2'!$B$23:$Z$57,23,FALSE)=\"\",\"\",VLOOKUP(U14,'S2'!$B$23:$Z$57,23,FALSE))","v":""},{"$f":"IF(VLOOKUP(U14,'S2'!$B$23:$Z$57,24,FALSE)=\"\",\"\",VLOOKUP(U14,'S2'!$B$23:$Z$57,24,FALSE))","v":""},{"$f":"IF(VLOOKUP(U14,'S2'!$B$23:$Z$57,25,FALSE)=\"\",\"\",VLOOKUP(U14,'S2'!$B$23:$Z$57,25,FALSE))","v":""},null,"Note"]
[null,{"$f":"IF('S2'!$Q$18=\"\",\"\",\"von\")","v":""},null,null,{"$f":"IF('S2'!$Q$21=\"\",\"\",'S2'!$Q$21)","v":""},{"$f":"IF('S2'!$R$21=\"\",\"\",'S2'!$R$21)","v":""},{"$f":"IF('S2'!$S$21=\"\",\"\",'S2'!$S$21)","v":""},{"$f":"IF('S2'!$T$21=\"\",\"\",'S2'!$T$21)","v":""},{"$f":"IF('S2'!$U$21=\"\",\"\",'S2'!$U$21)","v":""},{"$f":"IF('S2'!$V$21=\"\",\"\",'S2'!$V$21)","v":""},{"$f":"IF('S2'!$W$21=\"\",\"\",'S2'!$W$21)","v":""},{"$f":"IF('S2'!$X$21=\"\",\"\",'S2'!$X$21)","v":""},{"$f":"IF('S2'!$Y$21=\"\",\"\",'S2'!$Y$21)","v":""},{"$f":"IF('S2'!$Z$21=\"\",\"\",'S2'!$Z$21)","v":""},null,{"$f":"IF(VLOOKUP(B14,'S2'!$B$23:$Z$57,2,FALSE)=\"\",\"\",CONCATENATE(VLOOKUP(B14,'S2'!$B$23:$Z$57,2,FALSE),\" \",VLOOKUP(B14,'S2'!$B$23:$Z$57,3,FALSE)))","v":"- "},null,null,null,null,{"$f":"IF('S2'!$Q$18=\"\",\"\",\"von\")","v":""},null,null,{"$f":"IF('S2'!$Q$21=\"\",\"\",'S2'!$Q$21)","v":""},{"$f":"IF('S2'!$R$21=\"\",\"\",'S2'!$R$21)","v":""},{"$f":"IF('S2'!$S$21=\"\",\"\",'S2'!$S$21)","v":""},{"$f":"IF('S2'!$T$21=\"\",\"\",'S2'!$T$21)","v":""},{"$f":"IF('S2'!$U$21=\"\",\"\",'S2'!$U$21)","v":""},{"$f":"IF('S2'!$V$21=\"\",\"\",'S2'!$V$21)","v":""},{"$f":"IF('S2'!$W$21=\"\",\"\",'S2'!$W$21)","v":""},{"$f":"IF('S2'!$X$21=\"\",\"\",'S2'!$X$21)","v":""},{"$f":"IF('S2'!$Y$21=\"\",\"\",'S2'!$Y$21)","v":""},{"$f":"IF('S2'!$Z$21=\"\",\"\",'S2'!$Z$21)","v":""},null,{"$f":"IF(VLOOKUP(U14,'S2'!$B$23:$Z$57,2,FALSE)=\"\",\"\",CONCATENATE(VLOOKUP(U14,'S2'!$B$23:$Z$57,2,FALSE),\" \",VLOOKUP(U14,'S2'!$B$23:$Z$57,3,FALSE)))","v":"- "}]
[]
[]
[]
[null,{"$f":"'S2'!$B$27","v":""},null,null,null,null,null,null,null,null,null,null,null,null,null,null,null,null,null,null,{"$f":"'S2'!$B$28","v":""}]
[null,null,null,null,null,null,null,null,null,null,null,null,null,null,null,"Summe",null,null,null,null,null,null,null,null,null,null,null,null,null,null,null,null,null,null,"Summe"]
[null,"Aufgabe",null,null,{"$f":"IF('S2'!$G$18=\"\",\"\",'S2'!$G$18)","v":1},{"$f":"IF('S2'!$H$18=\"\",\"\",'S2'!$H$18)","v":2},{"$f":"IF('S2'!$I$18=\"\",\"\",'S2'!$I$18)","v":3},{"$f":"IF('S2'!$J$18=\"\",\"\",'S2'!$J$18)","v":""},{"$f":"IF('S2'!$K$18=\"\",\"\",'S2'!$K$18)","v":""},{"$f":"IF('S2'!$L$18=\"\",\"\",'S2'!$L$18)","v":""},{"$f":"IF('S2'!$M$18=\"\",\"\",'S2'!$M$18)","v":""},{"$f":"IF('S2'!$N$18=\"\",\"\",'S2'!$N$18)","v":""},{"$f":"IF('S2'!$O$18=\"\",\"\",'S2'!$O$18)","v":""},{"$f":"IF('S2'!$P$18=\"\",\"\",'S2'!$P$18)","v":""},null,{"$f":"IF(VLOOKUP(B26,'S2'!$B$23:$Z$57,5,FALSE)=\"\",\"\",VLOOKUP(B26,'S2'!$B$23:$Z$57,5,FALSE))","v":0},null,null,null,null,"Aufgabe",null,null,{"$f":"IF('S2'!$G$18=\"\",\"\",'S2'!$G$18)","v":1},{"$f":"IF('S2'!$H$18=\"\",\"\",'S2'!$H$18)","v":2},{"$f":"IF('S2'!$I$18=\"\",\"\",'S2'!$I$18)","v":3},{"$f":"IF('S2'!$J$18=\"\",\"\",'S2'!$J$18)","v":""},{"$f":"IF('S2'!$K$18=\"\",\"\",'S2'!$K$18)","v":""},{"$f":"IF('S2'!$L$18=\"\",\"\",'S2'!$L$18)","v":""},{"$f":"IF('S2'!$M$18=\"\",\"\",'S2'!$M$18)","v":""},{"$f":"IF('S2'!$N$18=\"\",\"\",'S2'!$N$18)","v":""},{"$f":"IF('S2'!$O$18=\"\",\"\",'S2'!$O$18)","v":""},{"$f":"IF('S2'!$P$18=\"\",\"\",'S2'!$P$18)","v":""},null,{"$f":"IF(VLOOKUP(U26,'S2'!$B$23:$Z$57,5,FALSE)=\"\",\"\",VLOOKUP(U26,'S2'!$B$23:$Z$57,5,FALSE))","v":0}]
[null,"erreicht",null,null,{"$f":"IF(VLOOKUP(B26,'S2'!$B$23:$Z$57,6,FALSE)=\"\",\"\",VLOOKUP(B26,'S2'!$B$23:$Z$57,6,FALSE))","v":"."},{"$f":"IF(VLOOKUP(B26,'S2'!$B$23:$Z$57,7,FALSE)=\"\",\"\",VLOOKUP(B26,'S2'!$B$23:$Z$57,7,FALSE))","v":""},{"$f":"IF(VLOOKUP(B26,'S2'!$B$23:$Z$57,8,FALSE)=\"\",\"\",VLOOKUP(B26,'S2'!$B$23:$Z$57,8,FALSE))","v":""},{"$f":"IF(VLOOKUP(B26,'S2'!$B$23:$Z$57,9,FALSE)=\"\",\"\",VLOOKUP(B26,'S2'!$B$23:$Z$57,9,FALSE))","v":""},{"$f":"IF(VLOOKUP(B26,'S2'!$B$23:$Z$57,10,FALSE)=\"\",\"\",VLOOKUP(B26,'S2'!$B$23:$Z$57,10,FALSE))","v":""},{"$f":"IF(VLOOKUP(B26,'S2'!$B$23:$Z$57,11,FALSE)=\"\",\"\",VLOOKUP(B26,'S2'!$B$23:$Z$57,11,FALSE))","v":""},{"$f":"IF(VLOOKUP(B26,'S2'!$B$23:$Z$57,12,FALSE)=\"\",\"\",VLOOKUP(B26,'S2'!$B$23:$Z$57,12,FALSE))","v":""},{"$f":"IF(VLOOKUP(B26,'S2'!$B$23:$Z$57,13,FALSE)=\"\",\"\",VLOOKUP(B26,'S2'!$B$23:$Z$57,13,FALSE))","v":""},{"$f":"IF(VLOOKUP(B26,'S2'!$B$23:$Z$57,14,FALSE)=\"\",\"\",VLOOKUP(B26,'S2'!$B$23:$Z$57,14,FALSE))","v":""},{"$f":"IF(VLOOKUP(B26,'S2'!$B$23:$Z$57,15,FALSE)=\"\",\"\",VLOOKUP(B26,'S2'!$B$23:$Z$57,15,FALSE))","v":""},null,null,null,null,null,null,"erreicht",null,null,{"$f":"IF(VLOOKUP(U26,'S2'!$B$23:$Z$57,6,FALSE)=\"\",\"\",VLOOKUP(U26,'S2'!$B$23:$Z$57,6,FALSE))","v":"."},{"$f":"IF(VLOOKUP(U26,'S2'!$B$23:$Z$57,7,FALSE)=\"\",\"\",VLOOKUP(U26,'S2'!$B$23:$Z$57,7,FALSE))","v":""},{"$f":"IF(VLOOKUP(U26,'S2'!$B$23:$Z$57,8,FALSE)=\"\",\"\",VLOOKUP(U26,'S2'!$B$23:$Z$57,8,FALSE))","v":""},{"$f":"IF(VLOOKUP(U26,'S2'!$B$23:$Z$57,9,FALSE)=\"\",\"\",VLOOKUP(U26,'S2'!$B$23:$Z$57,9,FALSE))","v":""},{"$f":"IF(VLOOKUP(U26,'S2'!$B$23:$Z$57,10,FALSE)=\"\",\"\",VLOOKUP(U26,'S2'!$B$23:$Z$57,10,FALSE))","v":""},{"$f":"IF(VLOOKUP(U26,'S2'!$B$23:$Z$57,11,FALSE)=\"\",\"\",VLOOKUP(U26,'S2'!$B$23:$Z$57,11,FALSE))","v":""},{"$f":"IF(VLOOKUP(U26,'S2'!$B$23:$Z$57,12,FALSE)=\"\",\"\",VLOOKUP(U26,'S2'!$B$23:$Z$57,12,FALSE))","v":""},{"$f":"IF(VLOOKUP(U26,'S2'!$B$23:$Z$57,13,FALSE)=\"\",\"\",VLOOKUP(U26,'S2'!$B$23:$Z$57,13,FALSE))","v":""},{"$f":"IF(VLOOKUP(U26,'S2'!$B$23:$Z$57,14,FALSE)=\"\",\"\",VLOOKUP(U26,'S2'!$B$23:$Z$57,14,FALSE))","v":""},{"$f":"IF(VLOOKUP(U26,'S2'!$B$23:$Z$57,15,FALSE)=\"\",\"\",VLOOKUP(U26,'S2'!$B$23:$Z$57,15,FALSE))","v":""}]
[null,"von",null,null,{"$f":"IF('S2'!$G$21=\"\",\"\",'S2'!$G$21)","v":""},{"$f":"IF('S2'!$H$21=\"\",\"\",'S2'!$H$21)","v":""},{"$f":"IF('S2'!$I$21=\"\",\"\",'S2'!$I$21)","v":""},{"$f":"IF('S2'!$J$21=\"\",\"\",'S2'!$J$21)","v":""},{"$f":"IF('S2'!$K$21=\"\",\"\",'S2'!$K$21)","v":""},{"$f":"IF('S2'!$L$21=\"\",\"\",'S2'!$L$21)","v":""},{"$f":"IF('S2'!$M$21=\"\",\"\",'S2'!$M$21)","v":""},{"$f":"IF('S2'!$N$21=\"\",\"\",'S2'!$N$21)","v":""},{"$f":"IF('S2'!$O$21=\"\",\"\",'S2'!$O$21)","v":""},{"$f":"IF('S2'!$P$21=\"\",\"\",'S2'!$P$21)","v":""},null,"von",null,null,null,null,"von",null,null,{"$f":"IF('S2'!$G$21=\"\",\"\",'S2'!$G$21)","v":""},{"$f":"IF('S2'!$H$21=\"\",\"\",'S2'!$H$21)","v":""},{"$f":"IF('S2'!$I$21=\"\",\"\",'S2'!$I$21)","v":""},{"$f":"IF('S2'!$J$21=\"\",\"\",'S2'!$J$21)","v":""},{"$f":"IF('S2'!$K$21=\"\",\"\",'S2'!$K$21)","v":""},{"$f":"IF('S2'!$L$21=\"\",\"\",'S2'!$L$21)","v":""},{"$f":"IF('S2'!$M$21=\"\",\"\",'S2'!$M$21)","v":""},{"$f":"IF('S2'!$N$21=\"\",\"\",'S2'!$N$21)","v":""},{"$f":"IF('S2'!$O$21=\"\",\"\",'S2'!$O$21)","v":""},{"$f":"IF('S2'!$P$21=\"\",\"\",'S2'!$P$21)","v":""},null,"von"]
[null,null,null,null,null,null,null,null,null,null,null,null,null,null,null,{"$f":"'S2'!$H$12","v":0},null,null,null,null,null,null,null,null,null,null,null,null,null,null,null,null,null,null,{"$f":"'S2'!$H$12","v":0}]
[null,{"$f":"IF('S2'!$Q$18=\"\",\"\",\"Aufgabe\")","v":""},null,null,{"$f":"IF('S2'!$Q$18=\"\",\"\",'S2'!$Q$18)","v":""},{"$f":"IF('S2'!$R$18=\"\",\"\",'S2'!$R$18)","v":""},{"$f":"IF('S2'!$S$18=\"\",\"\",'S2'!$S$18)","v":""},{"$f":"IF('S2'!$T$18=\"\",\"\",'S2'!$T$18)","v":""},{"$f":"IF('S2'!$U$18=\"\",\"\",'S2'!$U$18)","v":""},{"$f":"IF('S2'!$V$18=\"\",\"\",'S2'!$V$18)","v":""},{"$f":"IF('S2'!$W$18=\"\",\"\",'S2'!$W$18)","v":""},{"$f":"IF('S2'!$X$18=\"\",\"\",'S2'!$X$18)","v":""},{"$f":"IF('S2'!$Y$18=\"\",\"\",'S2'!$Y$18)","v":""},{"$f":"IF('S2'!$Z$18=\"\",\"\",'S2'!$Z$18)","v":""},null,null,null,null,null,null,{"$f":"IF('S2'!$Q$18=\"\",\"\",\"Aufgabe\")","v":""},null,null,{"$f":"IF('S2'!$Q$18=\"\",\"\",'S2'!$Q$18)","v":""},{"$f":"IF('S2'!$R$18=\"\",\"\",'S2'!$R$18)","v":""},{"$f":"IF('S2'!$S$18=\"\",\"\",'S2'!$S$18)","v":""},{"$f":"IF('S2'!$T$18=\"\",\"\",'S2'!$T$18)","v":""},{"$f":"IF('S2'!$U$18=\"\",\"\",'S2'!$U$18)","v":""},{"$f":"IF('S2'!$V$18=\"\",\"\",'S2'!$V$18)","v":""},{"$f":"IF('S2'!$W$18=\"\",\"\",'S2'!$W$18)","v":""},{"$f":"IF('S2'!$X$18=\"\",\"\",'S2'!$X$18)","v":""},{"$f":"IF('S2'!$Y$18=\"\",\"\",'S2'!$Y$18)","v":""},{"$f":"IF('S2'!$Z$18=\"\",\"\",'S2'!$Z$18)","v":""}]
[null,{"$f":"IF('S2'!$Q$18=\"\",\"\",\"erreicht\")","v":""},null,null,{"$f":"IF(VLOOKUP(B26,'S2'!$B$23:$Z$57,16,FALSE)=\"\",\"\",VLOOKUP(B26,'S2'!$B$23:$Z$57,16,FALSE))","v":""},{"$f":"IF(VLOOKUP(B26,'S2'!$B$23:$Z$57,17,FALSE)=\"\",\"\",VLOOKUP(B26,'S2'!$B$23:$Z$57,17,FALSE))","v":""},{"$f":"IF(VLOOKUP(B26,'S2'!$B$23:$Z$57,18,FALSE)=\"\",\"\",VLOOKUP(B26,'S2'!$B$23:$Z$57,18,FALSE))","v":""},{"$f":"IF(VLOOKUP(B26,'S2'!$B$23:$Z$57,19,FALSE)=\"\",\"\",VLOOKUP(B26,'S2'!$B$23:$Z$57,19,FALSE))","v":""},{"$f":"IF(VLOOKUP(B26,'S2'!$B$23:$Z$57,20,FALSE)=\"\",\"\",VLOOKUP(B26,'S2'!$B$23:$Z$57,20,FALSE))","v":""},{"$f":"IF(VLOOKUP(B26,'S2'!$B$23:$Z$57,21,FALSE)=\"\",\"\",VLOOKUP(B26,'S2'!$B$23:$Z$57,21,FALSE))","v":""},{"$f":"IF(VLOOKUP(B26,'S2'!$B$23:$Z$57,22,FALSE)=\"\",\"\",VLOOKUP(B26,'S2'!$B$23:$Z$57,22,FALSE))","v":""},{"$f":"IF(VLOOKUP(B26,'S2'!$B$23:$Z$57,23,FALSE)=\"\",\"\",VLOOKUP(B26,'S2'!$B$23:$Z$57,23,FALSE))","v":""},{"$f":"IF(VLOOKUP(B26,'S2'!$B$23:$Z$57,24,FALSE)=\"\",\"\",VLOOKUP(B26,'S2'!$B$23:$Z$57,24,FALSE))","v":""},{"$f":"IF(VLOOKUP(B26,'S2'!$B$23:$Z$57,25,FALSE)=\"\",\"\",VLOOKUP(B26,'S2'!$B$23:$Z$57,25,FALSE))","v":""},null,"Note",null,null,null,null,{"$f":"IF('S2'!$Q$18=\"\",\"\",\"erreicht\")","v":""},null,null,{"$f":"IF(VLOOKUP(U26,'S2'!$B$23:$Z$57,16,FALSE)=\"\",\"\",VLOOKUP(U26,'S2'!$B$23:$Z$57,16,FALSE))","v":""},{"$f":"IF(VLOOKUP(U26,'S2'!$B$23:$Z$57,17,FALSE)=\"\",\"\",VLOOKUP(U26,'S2'!$B$23:$Z$57,17,FALSE))","v":""},{"$f":"IF(VLOOKUP(U26,'S2'!$B$23:$Z$57,18,FALSE)=\"\",\"\",VLOOKUP(U26,'S2'!$B$23:$Z$57,18,FALSE))","v":""},{"$f":"IF(VLOOKUP(U26,'S2'!$B$23:$Z$57,19,FALSE)=\"\",\"\",VLOOKUP(U26,'S2'!$B$23:$Z$57,19,FALSE))","v":""},{"$f":"IF(VLOOKUP(U26,'S2'!$B$23:$Z$57,20,FALSE)=\"\",\"\",VLOOKUP(U26,'S2'!$B$23:$Z$57,20,FALSE))","v":""},{"$f":"IF(VLOOKUP(U26,'S2'!$B$23:$Z$57,21,FALSE)=\"\",\"\",VLOOKUP(U26,'S2'!$B$23:$Z$57,21,FALSE))","v":""},{"$f":"IF(VLOOKUP(U26,'S2'!$B$23:$Z$57,22,FALSE)=\"\",\"\",VLOOKUP(U26,'S2'!$B$23:$Z$57,22,FALSE))","v":""},{"$f":"IF(VLOOKUP(U26,'S2'!$B$23:$Z$57,23,FALSE)=\"\",\"\",VLOOKUP(U26,'S2'!$B$23:$Z$57,23,FALSE))","v":""},{"$f":"IF(VLOOKUP(U26,'S2'!$B$23:$Z$57,24,FALSE)=\"\",\"\",VLOOKUP(U26,'S2'!$B$23:$Z$57,24,FALSE))","v":""},{"$f":"IF(VLOOKUP(U26,'S2'!$B$23:$Z$57,25,FALSE)=\"\",\"\",VLOOKUP(U26,'S2'!$B$23:$Z$57,25,FALSE))","v":""},null,"Note"]
[null,{"$f":"IF('S2'!$Q$18=\"\",\"\",\"von\")","v":""},null,null,{"$f":"IF('S2'!$Q$21=\"\",\"\",'S2'!$Q$21)","v":""},{"$f":"IF('S2'!$R$21=\"\",\"\",'S2'!$R$21)","v":""},{"$f":"IF('S2'!$S$21=\"\",\"\",'S2'!$S$21)","v":""},{"$f":"IF('S2'!$T$21=\"\",\"\",'S2'!$T$21)","v":""},{"$f":"IF('S2'!$U$21=\"\",\"\",'S2'!$U$21)","v":""},{"$f":"IF('S2'!$V$21=\"\",\"\",'S2'!$V$21)","v":""},{"$f":"IF('S2'!$W$21=\"\",\"\",'S2'!$W$21)","v":""},{"$f":"IF('S2'!$X$21=\"\",\"\",'S2'!$X$21)","v":""},{"$f":"IF('S2'!$Y$21=\"\",\"\",'S2'!$Y$21)","v":""},{"$f":"IF('S2'!$Z$21=\"\",\"\",'S2'!$Z$21)","v":""},null,{"$f":"IF(VLOOKUP(B26,'S2'!$B$23:$Z$57,2,FALSE)=\"\",\"\",CONCATENATE(VLOOKUP(B26,'S2'!$B$23:$Z$57,2,FALSE),\" \",VLOOKUP(B26,'S2'!$B$23:$Z$57,3,FALSE)))","v":"- "},null,null,null,null,{"$f":"IF('S2'!$Q$18=\"\",\"\",\"von\")","v":""},null,null,{"$f":"IF('S2'!$Q$21=\"\",\"\",'S2'!$Q$21)","v":""},{"$f":"IF('S2'!$R$21=\"\",\"\",'S2'!$R$21)","v":""},{"$f":"IF('S2'!$S$21=\"\",\"\",'S2'!$S$21)","v":""},{"$f":"IF('S2'!$T$21=\"\",\"\",'S2'!$T$21)","v":""},{"$f":"IF('S2'!$U$21=\"\",\"\",'S2'!$U$21)","v":""},{"$f":"IF('S2'!$V$21=\"\",\"\",'S2'!$V$21)","v":""},{"$f":"IF('S2'!$W$21=\"\",\"\",'S2'!$W$21)","v":""},{"$f":"IF('S2'!$X$21=\"\",\"\",'S2'!$X$21)","v":""},{"$f":"IF('S2'!$Y$21=\"\",\"\",'S2'!$Y$21)","v":""},{"$f":"IF('S2'!$Z$21=\"\",\"\",'S2'!$Z$21)","v":""},null,{"$f":"IF(VLOOKUP(U26,'S2'!$B$23:$Z$57,2,FALSE)=\"\",\"\",CONCATENATE(VLOOKUP(U26,'S2'!$B$23:$Z$57,2,FALSE),\" \",VLOOKUP(U26,'S2'!$B$23:$Z$57,3,FALSE)))","v":"- "}]
[]
[]
[]
[null,{"$f":"'S2'!$B$29","v":""},null,null,null,null,null,null,null,null,null,null,null,null,null,null,null,null,null,null,{"$f":"'S2'!$B$30","v":""}]
[null,null,null,null,null,null,null,null,null,null,null,null,null,null,null,"Summe",null,null,null,null,null,null,null,null,null,null,null,null,null,null,null,null,null,null,"Summe"]
[null,"Aufgabe",null,null,{"$f":"IF('S2'!$G$18=\"\",\"\",'S2'!$G$18)","v":1},{"$f":"IF('S2'!$H$18=\"\",\"\",'S2'!$H$18)","v":2},{"$f":"IF('S2'!$I$18=\"\",\"\",'S2'!$I$18)","v":3},{"$f":"IF('S2'!$J$18=\"\",\"\",'S2'!$J$18)","v":""},{"$f":"IF('S2'!$K$18=\"\",\"\",'S2'!$K$18)","v":""},{"$f":"IF('S2'!$L$18=\"\",\"\",'S2'!$L$18)","v":""},{"$f":"IF('S2'!$M$18=\"\",\"\",'S2'!$M$18)","v":""},{"$f":"IF('S2'!$N$18=\"\",\"\",'S2'!$N$18)","v":""},{"$f":"IF('S2'!$O$18=\"\",\"\",'S2'!$O$18)","v":""},{"$f":"IF('S2'!$P$18=\"\",\"\",'S2'!$P$18)","v":""},null,{"$f":"IF(VLOOKUP(B38,'S2'!$B$23:$Z$57,5,FALSE)=\"\",\"\",VLOOKUP(B38,'S2'!$B$23:$Z$57,5,FALSE))","v":0},null,null,null,null,"Aufgabe",null,null,{"$f":"IF('S2'!$G$18=\"\",\"\",'S2'!$G$18)","v":1},{"$f":"IF('S2'!$H$18=\"\",\"\",'S2'!$H$18)","v":2},{"$f":"IF('S2'!$I$18=\"\",\"\",'S2'!$I$18)","v":3},{"$f":"IF('S2'!$J$18=\"\",\"\",'S2'!$J$18)","v":""},{"$f":"IF('S2'!$K$18=\"\",\"\",'S2'!$K$18)","v":""},{"$f":"IF('S2'!$L$18=\"\",\"\",'S2'!$L$18)","v":""},{"$f":"IF('S2'!$M$18=\"\",\"\",'S2'!$M$18)","v":""},{"$f":"IF('S2'!$N$18=\"\",\"\",'S2'!$N$18)","v":""},{"$f":"IF('S2'!$O$18=\"\",\"\",'S2'!$O$18)","v":""},{"$f":"IF('S2'!$P$18=\"\",\"\",'S2'!$P$18)","v":""},null,{"$f":"IF(VLOOKUP(U38,'S2'!$B$23:$Z$57,5,FALSE)=\"\",\"\",VLOOKUP(U38,'S2'!$B$23:$Z$57,5,FALSE))","v":0}]
[null,"erreicht",null,null,{"$f":"IF(VLOOKUP(B38,'S2'!$B$23:$Z$57,6,FALSE)=\"\",\"\",VLOOKUP(B38,'S2'!$B$23:$Z$57,6,FALSE))","v":"."},{"$f":"IF(VLOOKUP(B38,'S2'!$B$23:$Z$57,7,FALSE)=\"\",\"\",VLOOKUP(B38,'S2'!$B$23:$Z$57,7,FALSE))","v":""},{"$f":"IF(VLOOKUP(B38,'S2'!$B$23:$Z$57,8,FALSE)=\"\",\"\",VLOOKUP(B38,'S2'!$B$23:$Z$57,8,FALSE))","v":""},{"$f":"IF(VLOOKUP(B38,'S2'!$B$23:$Z$57,9,FALSE)=\"\",\"\",VLOOKUP(B38,'S2'!$B$23:$Z$57,9,FALSE))","v":""},{"$f":"IF(VLOOKUP(B38,'S2'!$B$23:$Z$57,10,FALSE)=\"\",\"\",VLOOKUP(B38,'S2'!$B$23:$Z$57,10,FALSE))","v":""},{"$f":"IF(VLOOKUP(B38,'S2'!$B$23:$Z$57,11,FALSE)=\"\",\"\",VLOOKUP(B38,'S2'!$B$23:$Z$57,11,FALSE))","v":""},{"$f":"IF(VLOOKUP(B38,'S2'!$B$23:$Z$57,12,FALSE)=\"\",\"\",VLOOKUP(B38,'S2'!$B$23:$Z$57,12,FALSE))","v":""},{"$f":"IF(VLOOKUP(B38,'S2'!$B$23:$Z$57,13,FALSE)=\"\",\"\",VLOOKUP(B38,'S2'!$B$23:$Z$57,13,FALSE))","v":""},{"$f":"IF(VLOOKUP(B38,'S2'!$B$23:$Z$57,14,FALSE)=\"\",\"\",VLOOKUP(B38,'S2'!$B$23:$Z$57,14,FALSE))","v":""},{"$f":"IF(VLOOKUP(B38,'S2'!$B$23:$Z$57,15,FALSE)=\"\",\"\",VLOOKUP(B38,'S2'!$B$23:$Z$57,15,FALSE))","v":""},null,null,null,null,null,null,"erreicht",null,null,{"$f":"IF(VLOOKUP(U38,'S2'!$B$23:$Z$57,6,FALSE)=\"\",\"\",VLOOKUP(U38,'S2'!$B$23:$Z$57,6,FALSE))","v":"."},{"$f":"IF(VLOOKUP(U38,'S2'!$B$23:$Z$57,7,FALSE)=\"\",\"\",VLOOKUP(U38,'S2'!$B$23:$Z$57,7,FALSE))","v":""},{"$f":"IF(VLOOKUP(U38,'S2'!$B$23:$Z$57,8,FALSE)=\"\",\"\",VLOOKUP(U38,'S2'!$B$23:$Z$57,8,FALSE))","v":""},{"$f":"IF(VLOOKUP(U38,'S2'!$B$23:$Z$57,9,FALSE)=\"\",\"\",VLOOKUP(U38,'S2'!$B$23:$Z$57,9,FALSE))","v":""},{"$f":"IF(VLOOKUP(U38,'S2'!$B$23:$Z$57,10,FALSE)=\"\",\"\",VLOOKUP(U38,'S2'!$B$23:$Z$57,10,FALSE))","v":""},{"$f":"IF(VLOOKUP(U38,'S2'!$B$23:$Z$57,11,FALSE)=\"\",\"\",VLOOKUP(U38,'S2'!$B$23:$Z$57,11,FALSE))","v":""},{"$f":"IF(VLOOKUP(U38,'S2'!$B$23:$Z$57,12,FALSE)=\"\",\"\",VLOOKUP(U38,'S2'!$B$23:$Z$57,12,FALSE))","v":""},{"$f":"IF(VLOOKUP(U38,'S2'!$B$23:$Z$57,13,FALSE)=\"\",\"\",VLOOKUP(U38,'S2'!$B$23:$Z$57,13,FALSE))","v":""},{"$f":"IF(VLOOKUP(U38,'S2'!$B$23:$Z$57,14,FALSE)=\"\",\"\",VLOOKUP(U38,'S2'!$B$23:$Z$57,14,FALSE))","v":""},{"$f":"IF(VLOOKUP(U38,'S2'!$B$23:$Z$57,15,FALSE)=\"\",\"\",VLOOKUP(U38,'S2'!$B$23:$Z$57,15,FALSE))","v":""}]
[null,"von",null,null,{"$f":"IF('S2'!$G$21=\"\",\"\",'S2'!$G$21)","v":""},{"$f":"IF('S2'!$H$21=\"\",\"\",'S2'!$H$21)","v":""},{"$f":"IF('S2'!$I$21=\"\",\"\",'S2'!$I$21)","v":""},{"$f":"IF('S2'!$J$21=\"\",\"\",'S2'!$J$21)","v":""},{"$f":"IF('S2'!$K$21=\"\",\"\",'S2'!$K$21)","v":""},{"$f":"IF('S2'!$L$21=\"\",\"\",'S2'!$L$21)","v":""},{"$f":"IF('S2'!$M$21=\"\",\"\",'S2'!$M$21)","v":""},{"$f":"IF('S2'!$N$21=\"\",\"\",'S2'!$N$21)","v":""},{"$f":"IF('S2'!$O$21=\"\",\"\",'S2'!$O$21)","v":""},{"$f":"IF('S2'!$P$21=\"\",\"\",'S2'!$P$21)","v":""},null,"von",null,null,null,null,"von",null,null,{"$f":"IF('S2'!$G$21=\"\",\"\",'S2'!$G$21)","v":""},{"$f":"IF('S2'!$H$21=\"\",\"\",'S2'!$H$21)","v":""},{"$f":"IF('S2'!$I$21=\"\",\"\",'S2'!$I$21)","v":""},{"$f":"IF('S2'!$J$21=\"\",\"\",'S2'!$J$21)","v":""},{"$f":"IF('S2'!$K$21=\"\",\"\",'S2'!$K$21)","v":""},{"$f":"IF('S2'!$L$21=\"\",\"\",'S2'!$L$21)","v":""},{"$f":"IF('S2'!$M$21=\"\",\"\",'S2'!$M$21)","v":""},{"$f":"IF('S2'!$N$21=\"\",\"\",'S2'!$N$21)","v":""},{"$f":"IF('S2'!$O$21=\"\",\"\",'S2'!$O$21)","v":""},{"$f":"IF('S2'!$P$21=\"\",\"\",'S2'!$P$21)","v":""},null,"von"]
[null,null,null,null,null,null,null,null,null,null,null,null,null,null,null,{"$f":"'S2'!$H$12","v":0},null,null,null,null,null,null,null,null,null,null,null,null,null,null,null,null,null,null,{"$f":"'S2'!$H$12","v":0}]
[null,{"$f":"IF('S2'!$Q$18=\"\",\"\",\"Aufgabe\")","v":""},null,null,{"$f":"IF('S2'!$Q$18=\"\",\"\",'S2'!$Q$18)","v":""},{"$f":"IF('S2'!$R$18=\"\",\"\",'S2'!$R$18)","v":""},{"$f":"IF('S2'!$S$18=\"\",\"\",'S2'!$S$18)","v":""},{"$f":"IF('S2'!$T$18=\"\",\"\",'S2'!$T$18)","v":""},{"$f":"IF('S2'!$U$18=\"\",\"\",'S2'!$U$18)","v":""},{"$f":"IF('S2'!$V$18=\"\",\"\",'S2'!$V$18)","v":""},{"$f":"IF('S2'!$W$18=\"\",\"\",'S2'!$W$18)","v":""},{"$f":"IF('S2'!$X$18=\"\",\"\",'S2'!$X$18)","v":""},{"$f":"IF('S2'!$Y$18=\"\",\"\",'S2'!$Y$18)","v":""},{"$f":"IF('S2'!$Z$18=\"\",\"\",'S2'!$Z$18)","v":""},null,null,null,null,null,null,{"$f":"IF('S2'!$Q$18=\"\",\"\",\"Aufgabe\")","v":""},null,null,{"$f":"IF('S2'!$Q$18=\"\",\"\",'S2'!$Q$18)","v":""},{"$f":"IF('S2'!$R$18=\"\",\"\",'S2'!$R$18)","v":""},{"$f":"IF('S2'!$S$18=\"\",\"\",'S2'!$S$18)","v":""},{"$f":"IF('S2'!$T$18=\"\",\"\",'S2'!$T$18)","v":""},{"$f":"IF('S2'!$U$18=\"\",\"\",'S2'!$U$18)","v":""},{"$f":"IF('S2'!$V$18=\"\",\"\",'S2'!$V$18)","v":""},{"$f":"IF('S2'!$W$18=\"\",\"\",'S2'!$W$18)","v":""},{"$f":"IF('S2'!$X$18=\"\",\"\",'S2'!$X$18)","v":""},{"$f":"IF('S2'!$Y$18=\"\",\"\",'S2'!$Y$18)","v":""},{"$f":"IF('S2'!$Z$18=\"\",\"\",'S2'!$Z$18)","v":""}]
[null,{"$f":"IF('S2'!$Q$18=\"\",\"\",\"erreicht\")","v":""},null,null,{"$f":"IF(VLOOKUP(B38,'S2'!$B$23:$Z$57,16,FALSE)=\"\",\"\",VLOOKUP(B38,'S2'!$B$23:$Z$57,16,FALSE))","v":""},{"$f":"IF(VLOOKUP(B38,'S2'!$B$23:$Z$57,17,FALSE)=\"\",\"\",VLOOKUP(B38,'S2'!$B$23:$Z$57,17,FALSE))","v":""},{"$f":"IF(VLOOKUP(B38,'S2'!$B$23:$Z$57,18,FALSE)=\"\",\"\",VLOOKUP(B38,'S2'!$B$23:$Z$57,18,FALSE))","v":""},{"$f":"IF(VLOOKUP(B38,'S2'!$B$23:$Z$57,19,FALSE)=\"\",\"\",VLOOKUP(B38,'S2'!$B$23:$Z$57,19,FALSE))","v":""},{"$f":"IF(VLOOKUP(B38,'S2'!$B$23:$Z$57,20,FALSE)=\"\",\"\",VLOOKUP(B38,'S2'!$B$23:$Z$57,20,FALSE))","v":""},{"$f":"IF(VLOOKUP(B38,'S2'!$B$23:$Z$57,21,FALSE)=\"\",\"\",VLOOKUP(B38,'S2'!$B$23:$Z$57,21,FALSE))","v":""},{"$f":"IF(VLOOKUP(B38,'S2'!$B$23:$Z$57,22,FALSE)=\"\",\"\",VLOOKUP(B38,'S2'!$B$23:$Z$57,22,FALSE))","v":""},{"$f":"IF(VLOOKUP(B38,'S2'!$B$23:$Z$57,23,FALSE)=\"\",\"\",VLOOKUP(B38,'S2'!$B$23:$Z$57,23,FALSE))","v":""},{"$f":"IF(VLOOKUP(B38,'S2'!$B$23:$Z$57,24,FALSE)=\"\",\"\",VLOOKUP(B38,'S2'!$B$23:$Z$57,24,FALSE))","v":""},{"$f":"IF(VLOOKUP(B38,'S2'!$B$23:$Z$57,25,FALSE)=\"\",\"\",VLOOKUP(B38,'S2'!$B$23:$Z$57,25,FALSE))","v":""},null,"Note",null,null,null,null,{"$f":"IF('S2'!$Q$18=\"\",\"\",\"erreicht\")","v":""},null,null,{"$f":"IF(VLOOKUP(U38,'S2'!$B$23:$Z$57,16,FALSE)=\"\",\"\",VLOOKUP(U38,'S2'!$B$23:$Z$57,16,FALSE))","v":""},{"$f":"IF(VLOOKUP(U38,'S2'!$B$23:$Z$57,17,FALSE)=\"\",\"\",VLOOKUP(U38,'S2'!$B$23:$Z$57,17,FALSE))","v":""},{"$f":"IF(VLOOKUP(U38,'S2'!$B$23:$Z$57,18,FALSE)=\"\",\"\",VLOOKUP(U38,'S2'!$B$23:$Z$57,18,FALSE))","v":""},{"$f":"IF(VLOOKUP(U38,'S2'!$B$23:$Z$57,19,FALSE)=\"\",\"\",VLOOKUP(U38,'S2'!$B$23:$Z$57,19,FALSE))","v":""},{"$f":"IF(VLOOKUP(U38,'S2'!$B$23:$Z$57,20,FALSE)=\"\",\"\",VLOOKUP(U38,'S2'!$B$23:$Z$57,20,FALSE))","v":""},{"$f":"IF(VLOOKUP(U38,'S2'!$B$23:$Z$57,21,FALSE)=\"\",\"\",VLOOKUP(U38,'S2'!$B$23:$Z$57,21,FALSE))","v":""},{"$f":"IF(VLOOKUP(U38,'S2'!$B$23:$Z$57,22,FALSE)=\"\",\"\",VLOOKUP(U38,'S2'!$B$23:$Z$57,22,FALSE))","v":""},{"$f":"IF(VLOOKUP(U38,'S2'!$B$23:$Z$57,23,FALSE)=\"\",\"\",VLOOKUP(U38,'S2'!$B$23:$Z$57,23,FALSE))","v":""},{"$f":"IF(VLOOKUP(U38,'S2'!$B$23:$Z$57,24,FALSE)=\"\",\"\",VLOOKUP(U38,'S2'!$B$23:$Z$57,24,FALSE))","v":""},{"$f":"IF(VLOOKUP(U38,'S2'!$B$23:$Z$57,25,FALSE)=\"\",\"\",VLOOKUP(U38,'S2'!$B$23:$Z$57,25,FALSE))","v":""},null,"Note"]
[null,{"$f":"IF('S2'!$Q$18=\"\",\"\",\"von\")","v":""},null,null,{"$f":"IF('S2'!$Q$21=\"\",\"\",'S2'!$Q$21)","v":""},{"$f":"IF('S2'!$R$21=\"\",\"\",'S2'!$R$21)","v":""},{"$f":"IF('S2'!$S$21=\"\",\"\",'S2'!$S$21)","v":""},{"$f":"IF('S2'!$T$21=\"\",\"\",'S2'!$T$21)","v":""},{"$f":"IF('S2'!$U$21=\"\",\"\",'S2'!$U$21)","v":""},{"$f":"IF('S2'!$V$21=\"\",\"\",'S2'!$V$21)","v":""},{"$f":"IF('S2'!$W$21=\"\",\"\",'S2'!$W$21)","v":""},{"$f":"IF('S2'!$X$21=\"\",\"\",'S2'!$X$21)","v":""},{"$f":"IF('S2'!$Y$21=\"\",\"\",'S2'!$Y$21)","v":""},{"$f":"IF('S2'!$Z$21=\"\",\"\",'S2'!$Z$21)","v":""},null,{"$f":"IF(VLOOKUP(B38,'S2'!$B$23:$Z$57,2,FALSE)=\"\",\"\",CONCATENATE(VLOOKUP(B38,'S2'!$B$23:$Z$57,2,FALSE),\" \",VLOOKUP(B38,'S2'!$B$23:$Z$57,3,FALSE)))","v":"- "},null,null,null,null,{"$f":"IF('S2'!$Q$18=\"\",\"\",\"von\")","v":""},null,null,{"$f":"IF('S2'!$Q$21=\"\",\"\",'S2'!$Q$21)","v":""},{"$f":"IF('S2'!$R$21=\"\",\"\",'S2'!$R$21)","v":""},{"$f":"IF('S2'!$S$21=\"\",\"\",'S2'!$S$21)","v":""},{"$f":"IF('S2'!$T$21=\"\",\"\",'S2'!$T$21)","v":""},{"$f":"IF('S2'!$U$21=\"\",\"\",'S2'!$U$21)","v":""},{"$f":"IF('S2'!$V$21=\"\",\"\",'S2'!$V$21)","v":""},{"$f":"IF('S2'!$W$21=\"\",\"\",'S2'!$W$21)","v":""},{"$f":"IF('S2'!$X$21=\"\",\"\",'S2'!$X$21)","v":""},{"$f":"IF('S2'!$Y$21=\"\",\"\",'S2'!$Y$21)","v":""},{"$f":"IF('S2'!$Z$21=\"\",\"\",'S2'!$Z$21)","v":""},null,{"$f":"IF(VLOOKUP(U38,'S2'!$B$23:$Z$57,2,FALSE)=\"\",\"\",CONCATENATE(VLOOKUP(U38,'S2'!$B$23:$Z$57,2,FALSE),\" \",VLOOKUP(U38,'S2'!$B$23:$Z$57,3,FALSE)))","v":"- "}]
[]
[]
[]
[null,{"$f":"'S2'!$B$31","v":""},null,null,null,null,null,null,null,null,null,null,null,null,null,null,null,null,null,null,{"$f":"'S2'!$B$32","v":""}]
[null,null,null,null,null,null,null,null,null,null,null,null,null,null,null,"Summe",null,null,null,null,null,null,null,null,null,null,null,null,null,null,null,null,null,null,"Summe"]
[null,"Aufgabe",null,null,{"$f":"IF('S2'!$G$18=\"\",\"\",'S2'!$G$18)","v":1},{"$f":"IF('S2'!$H$18=\"\",\"\",'S2'!$H$18)","v":2},{"$f":"IF('S2'!$I$18=\"\",\"\",'S2'!$I$18)","v":3},{"$f":"IF('S2'!$J$18=\"\",\"\",'S2'!$J$18)","v":""},{"$f":"IF('S2'!$K$18=\"\",\"\",'S2'!$K$18)","v":""},{"$f":"IF('S2'!$L$18=\"\",\"\",'S2'!$L$18)","v":""},{"$f":"IF('S2'!$M$18=\"\",\"\",'S2'!$M$18)","v":""},{"$f":"IF('S2'!$N$18=\"\",\"\",'S2'!$N$18)","v":""},{"$f":"IF('S2'!$O$18=\"\",\"\",'S2'!$O$18)","v":""},{"$f":"IF('S2'!$P$18=\"\",\"\",'S2'!$P$18)","v":""},null,{"$f":"IF(VLOOKUP(B50,'S2'!$B$23:$Z$57,5,FALSE)=\"\",\"\",VLOOKUP(B50,'S2'!$B$23:$Z$57,5,FALSE))","v":0},null,null,null,null,"Aufgabe",null,null,{"$f":"IF('S2'!$G$18=\"\",\"\",'S2'!$G$18)","v":1},{"$f":"IF('S2'!$H$18=\"\",\"\",'S2'!$H$18)","v":2},{"$f":"IF('S2'!$I$18=\"\",\"\",'S2'!$I$18)","v":3},{"$f":"IF('S2'!$J$18=\"\",\"\",'S2'!$J$18)","v":""},{"$f":"IF('S2'!$K$18=\"\",\"\",'S2'!$K$18)","v":""},{"$f":"IF('S2'!$L$18=\"\",\"\",'S2'!$L$18)","v":""},{"$f":"IF('S2'!$M$18=\"\",\"\",'S2'!$M$18)","v":""},{"$f":"IF('S2'!$N$18=\"\",\"\",'S2'!$N$18)","v":""},{"$f":"IF('S2'!$O$18=\"\",\"\",'S2'!$O$18)","v":""},{"$f":"IF('S2'!$P$18=\"\",\"\",'S2'!$P$18)","v":""},null,{"$f":"IF(VLOOKUP(U50,'S2'!$B$23:$Z$57,5,FALSE)=\"\",\"\",VLOOKUP(U50,'S2'!$B$23:$Z$57,5,FALSE))","v":0}]
[null,"erreicht",null,null,{"$f":"IF(VLOOKUP(B50,'S2'!$B$23:$Z$57,6,FALSE)=\"\",\"\",VLOOKUP(B50,'S2'!$B$23:$Z$57,6,FALSE))","v":"."},{"$f":"IF(VLOOKUP(B50,'S2'!$B$23:$Z$57,7,FALSE)=\"\",\"\",VLOOKUP(B50,'S2'!$B$23:$Z$57,7,FALSE))","v":""},{"$f":"IF(VLOOKUP(B50,'S2'!$B$23:$Z$57,8,FALSE)=\"\",\"\",VLOOKUP(B50,'S2'!$B$23:$Z$57,8,FALSE))","v":""},{"$f":"IF(VLOOKUP(B50,'S2'!$B$23:$Z$57,9,FALSE)=\"\",\"\",VLOOKUP(B50,'S2'!$B$23:$Z$57,9,FALSE))","v":""},{"$f":"IF(VLOOKUP(B50,'S2'!$B$23:$Z$57,10,FALSE)=\"\",\"\",VLOOKUP(B50,'S2'!$B$23:$Z$57,10,FALSE))","v":""},{"$f":"IF(VLOOKUP(B50,'S2'!$B$23:$Z$57,11,FALSE)=\"\",\"\",VLOOKUP(B50,'S2'!$B$23:$Z$57,11,FALSE))","v":""},{"$f":"IF(VLOOKUP(B50,'S2'!$B$23:$Z$57,12,FALSE)=\"\",\"\",VLOOKUP(B50,'S2'!$B$23:$Z$57,12,FALSE))","v":""},{"$f":"IF(VLOOKUP(B50,'S2'!$B$23:$Z$57,13,FALSE)=\"\",\"\",VLOOKUP(B50,'S2'!$B$23:$Z$57,13,FALSE))","v":""},{"$f":"IF(VLOOKUP(B50,'S2'!$B$23:$Z$57,14,FALSE)=\"\",\"\",VLOOKUP(B50,'S2'!$B$23:$Z$57,14,FALSE))","v":""},{"$f":"IF(VLOOKUP(B50,'S2'!$B$23:$Z$57,15,FALSE)=\"\",\"\",VLOOKUP(B50,'S2'!$B$23:$Z$57,15,FALSE))","v":""},null,null,null,null,null,null,"erreicht",null,null,{"$f":"IF(VLOOKUP(U50,'S2'!$B$23:$Z$57,6,FALSE)=\"\",\"\",VLOOKUP(U50,'S2'!$B$23:$Z$57,6,FALSE))","v":"."},{"$f":"IF(VLOOKUP(U50,'S2'!$B$23:$Z$57,7,FALSE)=\"\",\"\",VLOOKUP(U50,'S2'!$B$23:$Z$57,7,FALSE))","v":""},{"$f":"IF(VLOOKUP(U50,'S2'!$B$23:$Z$57,8,FALSE)=\"\",\"\",VLOOKUP(U50,'S2'!$B$23:$Z$57,8,FALSE))","v":""},{"$f":"IF(VLOOKUP(U50,'S2'!$B$23:$Z$57,9,FALSE)=\"\",\"\",VLOOKUP(U50,'S2'!$B$23:$Z$57,9,FALSE))","v":""},{"$f":"IF(VLOOKUP(U50,'S2'!$B$23:$Z$57,10,FALSE)=\"\",\"\",VLOOKUP(U50,'S2'!$B$23:$Z$57,10,FALSE))","v":""},{"$f":"IF(VLOOKUP(U50,'S2'!$B$23:$Z$57,11,FALSE)=\"\",\"\",VLOOKUP(U50,'S2'!$B$23:$Z$57,11,FALSE))","v":""},{"$f":"IF(VLOOKUP(U50,'S2'!$B$23:$Z$57,12,FALSE)=\"\",\"\",VLOOKUP(U50,'S2'!$B$23:$Z$57,12,FALSE))","v":""},{"$f":"IF(VLOOKUP(U50,'S2'!$B$23:$Z$57,13,FALSE)=\"\",\"\",VLOOKUP(U50,'S2'!$B$23:$Z$57,13,FALSE))","v":""},{"$f":"IF(VLOOKUP(U50,'S2'!$B$23:$Z$57,14,FALSE)=\"\",\"\",VLOOKUP(U50,'S2'!$B$23:$Z$57,14,FALSE))","v":""},{"$f":"IF(VLOOKUP(U50,'S2'!$B$23:$Z$57,15,FALSE)=\"\",\"\",VLOOKUP(U50,'S2'!$B$23:$Z$57,15,FALSE))","v":""}]
[null,"von",null,null,{"$f":"IF('S2'!$G$21=\"\",\"\",'S2'!$G$21)","v":""},{"$f":"IF('S2'!$H$21=\"\",\"\",'S2'!$H$21)","v":""},{"$f":"IF('S2'!$I$21=\"\",\"\",'S2'!$I$21)","v":""},{"$f":"IF('S2'!$J$21=\"\",\"\",'S2'!$J$21)","v":""},{"$f":"IF('S2'!$K$21=\"\",\"\",'S2'!$K$21)","v":""},{"$f":"IF('S2'!$L$21=\"\",\"\",'S2'!$L$21)","v":""},{"$f":"IF('S2'!$M$21=\"\",\"\",'S2'!$M$21)","v":""},{"$f":"IF('S2'!$N$21=\"\",\"\",'S2'!$N$21)","v":""},{"$f":"IF('S2'!$O$21=\"\",\"\",'S2'!$O$21)","v":""},{"$f":"IF('S2'!$P$21=\"\",\"\",'S2'!$P$21)","v":""},null,"von",null,null,null,null,"von",null,null,{"$f":"IF('S2'!$G$21=\"\",\"\",'S2'!$G$21)","v":""},{"$f":"IF('S2'!$H$21=\"\",\"\",'S2'!$H$21)","v":""},{"$f":"IF('S2'!$I$21=\"\",\"\",'S2'!$I$21)","v":""},{"$f":"IF('S2'!$J$21=\"\",\"\",'S2'!$J$21)","v":""},{"$f":"IF('S2'!$K$21=\"\",\"\",'S2'!$K$21)","v":""},{"$f":"IF('S2'!$L$21=\"\",\"\",'S2'!$L$21)","v":""},{"$f":"IF('S2'!$M$21=\"\",\"\",'S2'!$M$21)","v":""},{"$f":"IF('S2'!$N$21=\"\",\"\",'S2'!$N$21)","v":""},{"$f":"IF('S2'!$O$21=\"\",\"\",'S2'!$O$21)","v":""},{"$f":"IF('S2'!$P$21=\"\",\"\",'S2'!$P$21)","v":""},null,"von"]
[null,null,null,null,null,null,null,null,null,null,null,null,null,null,null,{"$f":"'S2'!$H$12","v":0},null,null,null,null,null,null,null,null,null,null,null,null,null,null,null,null,null,null,{"$f":"'S2'!$H$12","v":0}]
[null,{"$f":"IF('S2'!$Q$18=\"\",\"\",\"Aufgabe\")","v":""},null,null,{"$f":"IF('S2'!$Q$18=\"\",\"\",'S2'!$Q$18)","v":""},{"$f":"IF('S2'!$R$18=\"\",\"\",'S2'!$R$18)","v":""},{"$f":"IF('S2'!$S$18=\"\",\"\",'S2'!$S$18)","v":""},{"$f":"IF('S2'!$T$18=\"\",\"\",'S2'!$T$18)","v":""},{"$f":"IF('S2'!$U$18=\"\",\"\",'S2'!$U$18)","v":""},{"$f":"IF('S2'!$V$18=\"\",\"\",'S2'!$V$18)","v":""},{"$f":"IF('S2'!$W$18=\"\",\"\",'S2'!$W$18)","v":""},{"$f":"IF('S2'!$X$18=\"\",\"\",'S2'!$X$18)","v":""},{"$f":"IF('S2'!$Y$18=\"\",\"\",'S2'!$Y$18)","v":""},{"$f":"IF('S2'!$Z$18=\"\",\"\",'S2'!$Z$18)","v":""},null,null,null,null,null,null,{"$f":"IF('S2'!$Q$18=\"\",\"\",\"Aufgabe\")","v":""},null,null,{"$f":"IF('S2'!$Q$18=\"\",\"\",'S2'!$Q$18)","v":""},{"$f":"IF('S2'!$R$18=\"\",\"\",'S2'!$R$18)","v":""},{"$f":"IF('S2'!$S$18=\"\",\"\",'S2'!$S$18)","v":""},{"$f":"IF('S2'!$T$18=\"\",\"\",'S2'!$T$18)","v":""},{"$f":"IF('S2'!$U$18=\"\",\"\",'S2'!$U$18)","v":""},{"$f":"IF('S2'!$V$18=\"\",\"\",'S2'!$V$18)","v":""},{"$f":"IF('S2'!$W$18=\"\",\"\",'S2'!$W$18)","v":""},{"$f":"IF('S2'!$X$18=\"\",\"\",'S2'!$X$18)","v":""},{"$f":"IF('S2'!$Y$18=\"\",\"\",'S2'!$Y$18)","v":""},{"$f":"IF('S2'!$Z$18=\"\",\"\",'S2'!$Z$18)","v":""}]
[null,{"$f":"IF('S2'!$Q$18=\"\",\"\",\"erreicht\")","v":""},null,null,{"$f":"IF(VLOOKUP(B50,'S2'!$B$23:$Z$57,16,FALSE)=\"\",\"\",VLOOKUP(B50,'S2'!$B$23:$Z$57,16,FALSE))","v":""},{"$f":"IF(VLOOKUP(B50,'S2'!$B$23:$Z$57,17,FALSE)=\"\",\"\",VLOOKUP(B50,'S2'!$B$23:$Z$57,17,FALSE))","v":""},{"$f":"IF(VLOOKUP(B50,'S2'!$B$23:$Z$57,18,FALSE)=\"\",\"\",VLOOKUP(B50,'S2'!$B$23:$Z$57,18,FALSE))","v":""},{"$f":"IF(VLOOKUP(B50,'S2'!$B$23:$Z$57,19,FALSE)=\"\",\"\",VLOOKUP(B50,'S2'!$B$23:$Z$57,19,FALSE))","v":""},{"$f":"IF(VLOOKUP(B50,'S2'!$B$23:$Z$57,20,FALSE)=\"\",\"\",VLOOKUP(B50,'S2'!$B$23:$Z$57,20,FALSE))","v":""},{"$f":"IF(VLOOKUP(B50,'S2'!$B$23:$Z$57,21,FALSE)=\"\",\"\",VLOOKUP(B50,'S2'!$B$23:$Z$57,21,FALSE))","v":""},{"$f":"IF(VLOOKUP(B50,'S2'!$B$23:$Z$57,22,FALSE)=\"\",\"\",VLOOKUP(B50,'S2'!$B$23:$Z$57,22,FALSE))","v":""},{"$f":"IF(VLOOKUP(B50,'S2'!$B$23:$Z$57,23,FALSE)=\"\",\"\",VLOOKUP(B50,'S2'!$B$23:$Z$57,23,FALSE))","v":""},{"$f":"IF(VLOOKUP(B50,'S2'!$B$23:$Z$57,24,FALSE)=\"\",\"\",VLOOKUP(B50,'S2'!$B$23:$Z$57,24,FALSE))","v":""},{"$f":"IF(VLOOKUP(B50,'S2'!$B$23:$Z$57,25,FALSE)=\"\",\"\",VLOOKUP(B50,'S2'!$B$23:$Z$57,25,FALSE))","v":""},null,"Note",null,null,null,null,{"$f":"IF('S2'!$Q$18=\"\",\"\",\"erreicht\")","v":""},null,null,{"$f":"IF(VLOOKUP(U50,'S2'!$B$23:$Z$57,16,FALSE)=\"\",\"\",VLOOKUP(U50,'S2'!$B$23:$Z$57,16,FALSE))","v":""},{"$f":"IF(VLOOKUP(U50,'S2'!$B$23:$Z$57,17,FALSE)=\"\",\"\",VLOOKUP(U50,'S2'!$B$23:$Z$57,17,FALSE))","v":""},{"$f":"IF(VLOOKUP(U50,'S2'!$B$23:$Z$57,18,FALSE)=\"\",\"\",VLOOKUP(U50,'S2'!$B$23:$Z$57,18,FALSE))","v":""},{"$f":"IF(VLOOKUP(U50,'S2'!$B$23:$Z$57,19,FALSE)=\"\",\"\",VLOOKUP(U50,'S2'!$B$23:$Z$57,19,FALSE))","v":""},{"$f":"IF(VLOOKUP(U50,'S2'!$B$23:$Z$57,20,FALSE)=\"\",\"\",VLOOKUP(U50,'S2'!$B$23:$Z$57,20,FALSE))","v":""},{"$f":"IF(VLOOKUP(U50,'S2'!$B$23:$Z$57,21,FALSE)=\"\",\"\",VLOOKUP(U50,'S2'!$B$23:$Z$57,21,FALSE))","v":""},{"$f":"IF(VLOOKUP(U50,'S2'!$B$23:$Z$57,22,FALSE)=\"\",\"\",VLOOKUP(U50,'S2'!$B$23:$Z$57,22,FALSE))","v":""},{"$f":"IF(VLOOKUP(U50,'S2'!$B$23:$Z$57,23,FALSE)=\"\",\"\",VLOOKUP(U50,'S2'!$B$23:$Z$57,23,FALSE))","v":""},{"$f":"IF(VLOOKUP(U50,'S2'!$B$23:$Z$57,24,FALSE)=\"\",\"\",VLOOKUP(U50,'S2'!$B$23:$Z$57,24,FALSE))","v":""},{"$f":"IF(VLOOKUP(U50,'S2'!$B$23:$Z$57,25,FALSE)=\"\",\"\",VLOOKUP(U50,'S2'!$B$23:$Z$57,25,FALSE))","v":""},null,"Note"]
[null,{"$f":"IF('S2'!$Q$18=\"\",\"\",\"von\")","v":""},null,null,{"$f":"IF('S2'!$Q$21=\"\",\"\",'S2'!$Q$21)","v":""},{"$f":"IF('S2'!$R$21=\"\",\"\",'S2'!$R$21)","v":""},{"$f":"IF('S2'!$S$21=\"\",\"\",'S2'!$S$21)","v":""},{"$f":"IF('S2'!$T$21=\"\",\"\",'S2'!$T$21)","v":""},{"$f":"IF('S2'!$U$21=\"\",\"\",'S2'!$U$21)","v":""},{"$f":"IF('S2'!$V$21=\"\",\"\",'S2'!$V$21)","v":""},{"$f":"IF('S2'!$W$21=\"\",\"\",'S2'!$W$21)","v":""},{"$f":"IF('S2'!$X$21=\"\",\"\",'S2'!$X$21)","v":""},{"$f":"IF('S2'!$Y$21=\"\",\"\",'S2'!$Y$21)","v":""},{"$f":"IF('S2'!$Z$21=\"\",\"\",'S2'!$Z$21)","v":""},null,{"$f":"IF(VLOOKUP(B50,'S2'!$B$23:$Z$57,2,FALSE)=\"\",\"\",CONCATENATE(VLOOKUP(B50,'S2'!$B$23:$Z$57,2,FALSE),\" \",VLOOKUP(B50,'S2'!$B$23:$Z$57,3,FALSE)))","v":"- "},null,null,null,null,{"$f":"IF('S2'!$Q$18=\"\",\"\",\"von\")","v":""},null,null,{"$f":"IF('S2'!$Q$21=\"\",\"\",'S2'!$Q$21)","v":""},{"$f":"IF('S2'!$R$21=\"\",\"\",'S2'!$R$21)","v":""},{"$f":"IF('S2'!$S$21=\"\",\"\",'S2'!$S$21)","v":""},{"$f":"IF('S2'!$T$21=\"\",\"\",'S2'!$T$21)","v":""},{"$f":"IF('S2'!$U$21=\"\",\"\",'S2'!$U$21)","v":""},{"$f":"IF('S2'!$V$21=\"\",\"\",'S2'!$V$21)","v":""},{"$f":"IF('S2'!$W$21=\"\",\"\",'S2'!$W$21)","v":""},{"$f":"IF('S2'!$X$21=\"\",\"\",'S2'!$X$21)","v":""},{"$f":"IF('S2'!$Y$21=\"\",\"\",'S2'!$Y$21)","v":""},{"$f":"IF('S2'!$Z$21=\"\",\"\",'S2'!$Z$21)","v":""},null,{"$f":"IF(VLOOKUP(U50,'S2'!$B$23:$Z$57,2,FALSE)=\"\",\"\",CONCATENATE(VLOOKUP(U50,'S2'!$B$23:$Z$57,2,FALSE),\" \",VLOOKUP(U50,'S2'!$B$23:$Z$57,3,FALSE)))","v":"- "}]
[]
[]
[]
[null,{"$f":"'S2'!$B$33","v":""},null,null,null,null,null,null,null,null,null,null,null,null,null,null,null,null,null,null,{"$f":"'S2'!$B$34","v":""}]
[null,null,null,null,null,null,null,null,null,null,null,null,null,null,null,"Summe",null,null,null,null,null,null,null,null,null,null,null,null,null,null,null,null,null,null,"Summe"]
[null,"Aufgabe",null,null,{"$f":"IF('S2'!$G$18=\"\",\"\",'S2'!$G$18)","v":1},{"$f":"IF('S2'!$H$18=\"\",\"\",'S2'!$H$18)","v":2},{"$f":"IF('S2'!$I$18=\"\",\"\",'S2'!$I$18)","v":3},{"$f":"IF('S2'!$J$18=\"\",\"\",'S2'!$J$18)","v":""},{"$f":"IF('S2'!$K$18=\"\",\"\",'S2'!$K$18)","v":""},{"$f":"IF('S2'!$L$18=\"\",\"\",'S2'!$L$18)","v":""},{"$f":"IF('S2'!$M$18=\"\",\"\",'S2'!$M$18)","v":""},{"$f":"IF('S2'!$N$18=\"\",\"\",'S2'!$N$18)","v":""},{"$f":"IF('S2'!$O$18=\"\",\"\",'S2'!$O$18)","v":""},{"$f":"IF('S2'!$P$18=\"\",\"\",'S2'!$P$18)","v":""},null,{"$f":"IF(VLOOKUP(B62,'S2'!$B$23:$Z$57,5,FALSE)=\"\",\"\",VLOOKUP(B62,'S2'!$B$23:$Z$57,5,FALSE))","v":0},null,null,null,null,"Aufgabe",null,null,{"$f":"IF('S2'!$G$18=\"\",\"\",'S2'!$G$18)","v":1},{"$f":"IF('S2'!$H$18=\"\",\"\",'S2'!$H$18)","v":2},{"$f":"IF('S2'!$I$18=\"\",\"\",'S2'!$I$18)","v":3},{"$f":"IF('S2'!$J$18=\"\",\"\",'S2'!$J$18)","v":""},{"$f":"IF('S2'!$K$18=\"\",\"\",'S2'!$K$18)","v":""},{"$f":"IF('S2'!$L$18=\"\",\"\",'S2'!$L$18)","v":""},{"$f":"IF('S2'!$M$18=\"\",\"\",'S2'!$M$18)","v":""},{"$f":"IF('S2'!$N$18=\"\",\"\",'S2'!$N$18)","v":""},{"$f":"IF('S2'!$O$18=\"\",\"\",'S2'!$O$18)","v":""},{"$f":"IF('S2'!$P$18=\"\",\"\",'S2'!$P$18)","v":""},null,{"$f":"IF(VLOOKUP(U62,'S2'!$B$23:$Z$57,5,FALSE)=\"\",\"\",VLOOKUP(U62,'S2'!$B$23:$Z$57,5,FALSE))","v":0}]
[null,"erreicht",null,null,{"$f":"IF(VLOOKUP(B62,'S2'!$B$23:$Z$57,6,FALSE)=\"\",\"\",VLOOKUP(B62,'S2'!$B$23:$Z$57,6,FALSE))","v":"."},{"$f":"IF(VLOOKUP(B62,'S2'!$B$23:$Z$57,7,FALSE)=\"\",\"\",VLOOKUP(B62,'S2'!$B$23:$Z$57,7,FALSE))","v":""},{"$f":"IF(VLOOKUP(B62,'S2'!$B$23:$Z$57,8,FALSE)=\"\",\"\",VLOOKUP(B62,'S2'!$B$23:$Z$57,8,FALSE))","v":""},{"$f":"IF(VLOOKUP(B62,'S2'!$B$23:$Z$57,9,FALSE)=\"\",\"\",VLOOKUP(B62,'S2'!$B$23:$Z$57,9,FALSE))","v":""},{"$f":"IF(VLOOKUP(B62,'S2'!$B$23:$Z$57,10,FALSE)=\"\",\"\",VLOOKUP(B62,'S2'!$B$23:$Z$57,10,FALSE))","v":""},{"$f":"IF(VLOOKUP(B62,'S2'!$B$23:$Z$57,11,FALSE)=\"\",\"\",VLOOKUP(B62,'S2'!$B$23:$Z$57,11,FALSE))","v":""},{"$f":"IF(VLOOKUP(B62,'S2'!$B$23:$Z$57,12,FALSE)=\"\",\"\",VLOOKUP(B62,'S2'!$B$23:$Z$57,12,FALSE))","v":""},{"$f":"IF(VLOOKUP(B62,'S2'!$B$23:$Z$57,13,FALSE)=\"\",\"\",VLOOKUP(B62,'S2'!$B$23:$Z$57,13,FALSE))","v":""},{"$f":"IF(VLOOKUP(B62,'S2'!$B$23:$Z$57,14,FALSE)=\"\",\"\",VLOOKUP(B62,'S2'!$B$23:$Z$57,14,FALSE))","v":""},{"$f":"IF(VLOOKUP(B62,'S2'!$B$23:$Z$57,15,FALSE)=\"\",\"\",VLOOKUP(B62,'S2'!$B$23:$Z$57,15,FALSE))","v":""},null,null,null,null,null,null,"erreicht",null,null,{"$f":"IF(VLOOKUP(U62,'S2'!$B$23:$Z$57,6,FALSE)=\"\",\"\",VLOOKUP(U62,'S2'!$B$23:$Z$57,6,FALSE))","v":"."},{"$f":"IF(VLOOKUP(U62,'S2'!$B$23:$Z$57,7,FALSE)=\"\",\"\",VLOOKUP(U62,'S2'!$B$23:$Z$57,7,FALSE))","v":""},{"$f":"IF(VLOOKUP(U62,'S2'!$B$23:$Z$57,8,FALSE)=\"\",\"\",VLOOKUP(U62,'S2'!$B$23:$Z$57,8,FALSE))","v":""},{"$f":"IF(VLOOKUP(U62,'S2'!$B$23:$Z$57,9,FALSE)=\"\",\"\",VLOOKUP(U62,'S2'!$B$23:$Z$57,9,FALSE))","v":""},{"$f":"IF(VLOOKUP(U62,'S2'!$B$23:$Z$57,10,FALSE)=\"\",\"\",VLOOKUP(U62,'S2'!$B$23:$Z$57,10,FALSE))","v":""},{"$f":"IF(VLOOKUP(U62,'S2'!$B$23:$Z$57,11,FALSE)=\"\",\"\",VLOOKUP(U62,'S2'!$B$23:$Z$57,11,FALSE))","v":""},{"$f":"IF(VLOOKUP(U62,'S2'!$B$23:$Z$57,12,FALSE)=\"\",\"\",VLOOKUP(U62,'S2'!$B$23:$Z$57,12,FALSE))","v":""},{"$f":"IF(VLOOKUP(U62,'S2'!$B$23:$Z$57,13,FALSE)=\"\",\"\",VLOOKUP(U62,'S2'!$B$23:$Z$57,13,FALSE))","v":""},{"$f":"IF(VLOOKUP(U62,'S2'!$B$23:$Z$57,14,FALSE)=\"\",\"\",VLOOKUP(U62,'S2'!$B$23:$Z$57,14,FALSE))","v":""},{"$f":"IF(VLOOKUP(U62,'S2'!$B$23:$Z$57,15,FALSE)=\"\",\"\",VLOOKUP(U62,'S2'!$B$23:$Z$57,15,FALSE))","v":""}]
[null,"von",null,null,{"$f":"IF('S2'!$G$21=\"\",\"\",'S2'!$G$21)","v":""},{"$f":"IF('S2'!$H$21=\"\",\"\",'S2'!$H$21)","v":""},{"$f":"IF('S2'!$I$21=\"\",\"\",'S2'!$I$21)","v":""},{"$f":"IF('S2'!$J$21=\"\",\"\",'S2'!$J$21)","v":""},{"$f":"IF('S2'!$K$21=\"\",\"\",'S2'!$K$21)","v":""},{"$f":"IF('S2'!$L$21=\"\",\"\",'S2'!$L$21)","v":""},{"$f":"IF('S2'!$M$21=\"\",\"\",'S2'!$M$21)","v":""},{"$f":"IF('S2'!$N$21=\"\",\"\",'S2'!$N$21)","v":""},{"$f":"IF('S2'!$O$21=\"\",\"\",'S2'!$O$21)","v":""},{"$f":"IF('S2'!$P$21=\"\",\"\",'S2'!$P$21)","v":""},null,"von",null,null,null,null,"von",null,null,{"$f":"IF('S2'!$G$21=\"\",\"\",'S2'!$G$21)","v":""},{"$f":"IF('S2'!$H$21=\"\",\"\",'S2'!$H$21)","v":""},{"$f":"IF('S2'!$I$21=\"\",\"\",'S2'!$I$21)","v":""},{"$f":"IF('S2'!$J$21=\"\",\"\",'S2'!$J$21)","v":""},{"$f":"IF('S2'!$K$21=\"\",\"\",'S2'!$K$21)","v":""},{"$f":"IF('S2'!$L$21=\"\",\"\",'S2'!$L$21)","v":""},{"$f":"IF('S2'!$M$21=\"\",\"\",'S2'!$M$21)","v":""},{"$f":"IF('S2'!$N$21=\"\",\"\",'S2'!$N$21)","v":""},{"$f":"IF('S2'!$O$21=\"\",\"\",'S2'!$O$21)","v":""},{"$f":"IF('S2'!$P$21=\"\",\"\",'S2'!$P$21)","v":""},null,"von"]
[null,null,null,null,null,null,null,null,null,null,null,null,null,null,null,{"$f":"'S2'!$H$12","v":0},null,null,null,null,null,null,null,null,null,null,null,null,null,null,null,null,null,null,{"$f":"'S2'!$H$12","v":0}]
[null,{"$f":"IF('S2'!$Q$18=\"\",\"\",\"Aufgabe\")","v":""},null,null,{"$f":"IF('S2'!$Q$18=\"\",\"\",'S2'!$Q$18)","v":""},{"$f":"IF('S2'!$R$18=\"\",\"\",'S2'!$R$18)","v":""},{"$f":"IF('S2'!$S$18=\"\",\"\",'S2'!$S$18)","v":""},{"$f":"IF('S2'!$T$18=\"\",\"\",'S2'!$T$18)","v":""},{"$f":"IF('S2'!$U$18=\"\",\"\",'S2'!$U$18)","v":""},{"$f":"IF('S2'!$V$18=\"\",\"\",'S2'!$V$18)","v":""},{"$f":"IF('S2'!$W$18=\"\",\"\",'S2'!$W$18)","v":""},{"$f":"IF('S2'!$X$18=\"\",\"\",'S2'!$X$18)","v":""},{"$f":"IF('S2'!$Y$18=\"\",\"\",'S2'!$Y$18)","v":""},{"$f":"IF('S2'!$Z$18=\"\",\"\",'S2'!$Z$18)","v":""},null,null,null,null,null,null,{"$f":"IF('S2'!$Q$18=\"\",\"\",\"Aufgabe\")","v":""},null,null,{"$f":"IF('S2'!$Q$18=\"\",\"\",'S2'!$Q$18)","v":""},{"$f":"IF('S2'!$R$18=\"\",\"\",'S2'!$R$18)","v":""},{"$f":"IF('S2'!$S$18=\"\",\"\",'S2'!$S$18)","v":""},{"$f":"IF('S2'!$T$18=\"\",\"\",'S2'!$T$18)","v":""},{"$f":"IF('S2'!$U$18=\"\",\"\",'S2'!$U$18)","v":""},{"$f":"IF('S2'!$V$18=\"\",\"\",'S2'!$V$18)","v":""},{"$f":"IF('S2'!$W$18=\"\",\"\",'S2'!$W$18)","v":""},{"$f":"IF('S2'!$X$18=\"\",\"\",'S2'!$X$18)","v":""},{"$f":"IF('S2'!$Y$18=\"\",\"\",'S2'!$Y$18)","v":""},{"$f":"IF('S2'!$Z$18=\"\",\"\",'S2'!$Z$18)","v":""}]
[null,{"$f":"IF('S2'!$Q$18=\"\",\"\",\"erreicht\")","v":""},null,null,{"$f":"IF(VLOOKUP(B62,'S2'!$B$23:$Z$57,16,FALSE)=\"\",\"\",VLOOKUP(B62,'S2'!$B$23:$Z$57,16,FALSE))","v":""},{"$f":"IF(VLOOKUP(B62,'S2'!$B$23:$Z$57,17,FALSE)=\"\",\"\",VLOOKUP(B62,'S2'!$B$23:$Z$57,17,FALSE))","v":""},{"$f":"IF(VLOOKUP(B62,'S2'!$B$23:$Z$57,18,FALSE)=\"\",\"\",VLOOKUP(B62,'S2'!$B$23:$Z$57,18,FALSE))","v":""},{"$f":"IF(VLOOKUP(B62,'S2'!$B$23:$Z$57,19,FALSE)=\"\",\"\",VLOOKUP(B62,'S2'!$B$23:$Z$57,19,FALSE))","v":""},{"$f":"IF(VLOOKUP(B62,'S2'!$B$23:$Z$57,20,FALSE)=\"\",\"\",VLOOKUP(B62,'S2'!$B$23:$Z$57,20,FALSE))","v":""},{"$f":"IF(VLOOKUP(B62,'S2'!$B$23:$Z$57,21,FALSE)=\"\",\"\",VLOOKUP(B62,'S2'!$B$23:$Z$57,21,FALSE))","v":""},{"$f":"IF(VLOOKUP(B62,'S2'!$B$23:$Z$57,22,FALSE)=\"\",\"\",VLOOKUP(B62,'S2'!$B$23:$Z$57,22,FALSE))","v":""},{"$f":"IF(VLOOKUP(B62,'S2'!$B$23:$Z$57,23,FALSE)=\"\",\"\",VLOOKUP(B62,'S2'!$B$23:$Z$57,23,FALSE))","v":""},{"$f":"IF(VLOOKUP(B62,'S2'!$B$23:$Z$57,24,FALSE)=\"\",\"\",VLOOKUP(B62,'S2'!$B$23:$Z$57,24,FALSE))","v":""},{"$f":"IF(VLOOKUP(B62,'S2'!$B$23:$Z$57,25,FALSE)=\"\",\"\",VLOOKUP(B62,'S2'!$B$23:$Z$57,25,FALSE))","v":""},null,"Note",null,null,null,null,{"$f":"IF('S2'!$Q$18=\"\",\"\",\"erreicht\")","v":""},null,null,{"$f":"IF(VLOOKUP(U62,'S2'!$B$23:$Z$57,16,FALSE)=\"\",\"\",VLOOKUP(U62,'S2'!$B$23:$Z$57,16,FALSE))","v":""},{"$f":"IF(VLOOKUP(U62,'S2'!$B$23:$Z$57,17,FALSE)=\"\",\"\",VLOOKUP(U62,'S2'!$B$23:$Z$57,17,FALSE))","v":""},{"$f":"IF(VLOOKUP(U62,'S2'!$B$23:$Z$57,18,FALSE)=\"\",\"\",VLOOKUP(U62,'S2'!$B$23:$Z$57,18,FALSE))","v":""},{"$f":"IF(VLOOKUP(U62,'S2'!$B$23:$Z$57,19,FALSE)=\"\",\"\",VLOOKUP(U62,'S2'!$B$23:$Z$57,19,FALSE))","v":""},{"$f":"IF(VLOOKUP(U62,'S2'!$B$23:$Z$57,20,FALSE)=\"\",\"\",VLOOKUP(U62,'S2'!$B$23:$Z$57,20,FALSE))","v":""},{"$f":"IF(VLOOKUP(U62,'S2'!$B$23:$Z$57,21,FALSE)=\"\",\"\",VLOOKUP(U62,'S2'!$B$23:$Z$57,21,FALSE))","v":""},{"$f":"IF(VLOOKUP(U62,'S2'!$B$23:$Z$57,22,FALSE)=\"\",\"\",VLOOKUP(U62,'S2'!$B$23:$Z$57,22,FALSE))","v":""},{"$f":"IF(VLOOKUP(U62,'S2'!$B$23:$Z$57,23,FALSE)=\"\",\"\",VLOOKUP(U62,'S2'!$B$23:$Z$57,23,FALSE))","v":""},{"$f":"IF(VLOOKUP(U62,'S2'!$B$23:$Z$57,24,FALSE)=\"\",\"\",VLOOKUP(U62,'S2'!$B$23:$Z$57,24,FALSE))","v":""},{"$f":"IF(VLOOKUP(U62,'S2'!$B$23:$Z$57,25,FALSE)=\"\",\"\",VLOOKUP(U62,'S2'!$B$23:$Z$57,25,FALSE))","v":""},null,"Note"]
[null,{"$f":"IF('S2'!$Q$18=\"\",\"\",\"von\")","v":""},null,null,{"$f":"IF('S2'!$Q$21=\"\",\"\",'S2'!$Q$21)","v":""},{"$f":"IF('S2'!$R$21=\"\",\"\",'S2'!$R$21)","v":""},{"$f":"IF('S2'!$S$21=\"\",\"\",'S2'!$S$21)","v":""},{"$f":"IF('S2'!$T$21=\"\",\"\",'S2'!$T$21)","v":""},{"$f":"IF('S2'!$U$21=\"\",\"\",'S2'!$U$21)","v":""},{"$f":"IF('S2'!$V$21=\"\",\"\",'S2'!$V$21)","v":""},{"$f":"IF('S2'!$W$21=\"\",\"\",'S2'!$W$21)","v":""},{"$f":"IF('S2'!$X$21=\"\",\"\",'S2'!$X$21)","v":""},{"$f":"IF('S2'!$Y$21=\"\",\"\",'S2'!$Y$21)","v":""},{"$f":"IF('S2'!$Z$21=\"\",\"\",'S2'!$Z$21)","v":""},null,{"$f":"IF(VLOOKUP(B62,'S2'!$B$23:$Z$57,2,FALSE)=\"\",\"\",CONCATENATE(VLOOKUP(B62,'S2'!$B$23:$Z$57,2,FALSE),\" \",VLOOKUP(B62,'S2'!$B$23:$Z$57,3,FALSE)))","v":"- "},null,null,null,null,{"$f":"IF('S2'!$Q$18=\"\",\"\",\"von\")","v":""},null,null,{"$f":"IF('S2'!$Q$21=\"\",\"\",'S2'!$Q$21)","v":""},{"$f":"IF('S2'!$R$21=\"\",\"\",'S2'!$R$21)","v":""},{"$f":"IF('S2'!$S$21=\"\",\"\",'S2'!$S$21)","v":""},{"$f":"IF('S2'!$T$21=\"\",\"\",'S2'!$T$21)","v":""},{"$f":"IF('S2'!$U$21=\"\",\"\",'S2'!$U$21)","v":""},{"$f":"IF('S2'!$V$21=\"\",\"\",'S2'!$V$21)","v":""},{"$f":"IF('S2'!$W$21=\"\",\"\",'S2'!$W$21)","v":""},{"$f":"IF('S2'!$X$21=\"\",\"\",'S2'!$X$21)","v":""},{"$f":"IF('S2'!$Y$21=\"\",\"\",'S2'!$Y$21)","v":""},{"$f":"IF('S2'!$Z$21=\"\",\"\",'S2'!$Z$21)","v":""},null,{"$f":"IF(VLOOKUP(U62,'S2'!$B$23:$Z$57,2,FALSE)=\"\",\"\",CONCATENATE(VLOOKUP(U62,'S2'!$B$23:$Z$57,2,FALSE),\" \",VLOOKUP(U62,'S2'!$B$23:$Z$57,3,FALSE)))","v":"- "}]
[]
[]
[null,{"$f":"'S2'!$B$35","v":""},null,null,null,null,null,null,null,null,null,null,null,null,null,null,null,null,null,null,{"$f":"'S2'!$B$36","v":""}]
[null,null,null,null,null,null,null,null,null,null,null,null,null,null,null,"Summe",null,null,null,null,null,null,null,null,null,null,null,null,null,null,null,null,null,null,"Summe"]
[null,"Aufgabe",null,null,{"$f":"IF('S2'!$G$18=\"\",\"\",'S2'!$G$18)","v":1},{"$f":"IF('S2'!$H$18=\"\",\"\",'S2'!$H$18)","v":2},{"$f":"IF('S2'!$I$18=\"\",\"\",'S2'!$I$18)","v":3},{"$f":"IF('S2'!$J$18=\"\",\"\",'S2'!$J$18)","v":""},{"$f":"IF('S2'!$K$18=\"\",\"\",'S2'!$K$18)","v":""},{"$f":"IF('S2'!$L$18=\"\",\"\",'S2'!$L$18)","v":""},{"$f":"IF('S2'!$M$18=\"\",\"\",'S2'!$M$18)","v":""},{"$f":"IF('S2'!$N$18=\"\",\"\",'S2'!$N$18)","v":""},{"$f":"IF('S2'!$O$18=\"\",\"\",'S2'!$O$18)","v":""},{"$f":"IF('S2'!$P$18=\"\",\"\",'S2'!$P$18)","v":""},null,{"$f":"IF(VLOOKUP(B73,'S2'!$B$23:$Z$57,5,FALSE)=\"\",\"\",VLOOKUP(B73,'S2'!$B$23:$Z$57,5,FALSE))","v":0},null,null,null,null,"Aufgabe",null,null,{"$f":"IF('S2'!$G$18=\"\",\"\",'S2'!$G$18)","v":1},{"$f":"IF('S2'!$H$18=\"\",\"\",'S2'!$H$18)","v":2},{"$f":"IF('S2'!$I$18=\"\",\"\",'S2'!$I$18)","v":3},{"$f":"IF('S2'!$J$18=\"\",\"\",'S2'!$J$18)","v":""},{"$f":"IF('S2'!$K$18=\"\",\"\",'S2'!$K$18)","v":""},{"$f":"IF('S2'!$L$18=\"\",\"\",'S2'!$L$18)","v":""},{"$f":"IF('S2'!$M$18=\"\",\"\",'S2'!$M$18)","v":""},{"$f":"IF('S2'!$N$18=\"\",\"\",'S2'!$N$18)","v":""},{"$f":"IF('S2'!$O$18=\"\",\"\",'S2'!$O$18)","v":""},{"$f":"IF('S2'!$P$18=\"\",\"\",'S2'!$P$18)","v":""},null,{"$f":"IF(VLOOKUP(U73,'S2'!$B$23:$Z$57,5,FALSE)=\"\",\"\",VLOOKUP(U73,'S2'!$B$23:$Z$57,5,FALSE))","v":0}]
[null,"erreicht",null,null,{"$f":"IF(VLOOKUP(B73,'S2'!$B$23:$Z$57,6,FALSE)=\"\",\"\",VLOOKUP(B73,'S2'!$B$23:$Z$57,6,FALSE))","v":"."},{"$f":"IF(VLOOKUP(B73,'S2'!$B$23:$Z$57,7,FALSE)=\"\",\"\",VLOOKUP(B73,'S2'!$B$23:$Z$57,7,FALSE))","v":""},{"$f":"IF(VLOOKUP(B73,'S2'!$B$23:$Z$57,8,FALSE)=\"\",\"\",VLOOKUP(B73,'S2'!$B$23:$Z$57,8,FALSE))","v":""},{"$f":"IF(VLOOKUP(B73,'S2'!$B$23:$Z$57,9,FALSE)=\"\",\"\",VLOOKUP(B73,'S2'!$B$23:$Z$57,9,FALSE))","v":""},{"$f":"IF(VLOOKUP(B73,'S2'!$B$23:$Z$57,10,FALSE)=\"\",\"\",VLOOKUP(B73,'S2'!$B$23:$Z$57,10,FALSE))","v":""},{"$f":"IF(VLOOKUP(B73,'S2'!$B$23:$Z$57,11,FALSE)=\"\",\"\",VLOOKUP(B73,'S2'!$B$23:$Z$57,11,FALSE))","v":""},{"$f":"IF(VLOOKUP(B73,'S2'!$B$23:$Z$57,12,FALSE)=\"\",\"\",VLOOKUP(B73,'S2'!$B$23:$Z$57,12,FALSE))","v":""},{"$f":"IF(VLOOKUP(B73,'S2'!$B$23:$Z$57,13,FALSE)=\"\",\"\",VLOOKUP(B73,'S2'!$B$23:$Z$57,13,FALSE))","v":""},{"$f":"IF(VLOOKUP(B73,'S2'!$B$23:$Z$57,14,FALSE)=\"\",\"\",VLOOKUP(B73,'S2'!$B$23:$Z$57,14,FALSE))","v":""},{"$f":"IF(VLOOKUP(B73,'S2'!$B$23:$Z$57,15,FALSE)=\"\",\"\",VLOOKUP(B73,'S2'!$B$23:$Z$57,15,FALSE))","v":""},null,null,null,null,null,null,"erreicht",null,null,{"$f":"IF(VLOOKUP(U73,'S2'!$B$23:$Z$57,6,FALSE)=\"\",\"\",VLOOKUP(U73,'S2'!$B$23:$Z$57,6,FALSE))","v":"."},{"$f":"IF(VLOOKUP(U73,'S2'!$B$23:$Z$57,7,FALSE)=\"\",\"\",VLOOKUP(U73,'S2'!$B$23:$Z$57,7,FALSE))","v":""},{"$f":"IF(VLOOKUP(U73,'S2'!$B$23:$Z$57,8,FALSE)=\"\",\"\",VLOOKUP(U73,'S2'!$B$23:$Z$57,8,FALSE))","v":""},{"$f":"IF(VLOOKUP(U73,'S2'!$B$23:$Z$57,9,FALSE)=\"\",\"\",VLOOKUP(U73,'S2'!$B$23:$Z$57,9,FALSE))","v":""},{"$f":"IF(VLOOKUP(U73,'S2'!$B$23:$Z$57,10,FALSE)=\"\",\"\",VLOOKUP(U73,'S2'!$B$23:$Z$57,10,FALSE))","v":""},{"$f":"IF(VLOOKUP(U73,'S2'!$B$23:$Z$57,11,FALSE)=\"\",\"\",VLOOKUP(U73,'S2'!$B$23:$Z$57,11,FALSE))","v":""},{"$f":"IF(VLOOKUP(U73,'S2'!$B$23:$Z$57,12,FALSE)=\"\",\"\",VLOOKUP(U73,'S2'!$B$23:$Z$57,12,FALSE))","v":""},{"$f":"IF(VLOOKUP(U73,'S2'!$B$23:$Z$57,13,FALSE)=\"\",\"\",VLOOKUP(U73,'S2'!$B$23:$Z$57,13,FALSE))","v":""},{"$f":"IF(VLOOKUP(U73,'S2'!$B$23:$Z$57,14,FALSE)=\"\",\"\",VLOOKUP(U73,'S2'!$B$23:$Z$57,14,FALSE))","v":""},{"$f":"IF(VLOOKUP(U73,'S2'!$B$23:$Z$57,15,FALSE)=\"\",\"\",VLOOKUP(U73,'S2'!$B$23:$Z$57,15,FALSE))","v":""}]
[null,"von",null,null,{"$f":"IF('S2'!$G$21=\"\",\"\",'S2'!$G$21)","v":""},{"$f":"IF('S2'!$H$21=\"\",\"\",'S2'!$H$21)","v":""},{"$f":"IF('S2'!$I$21=\"\",\"\",'S2'!$I$21)","v":""},{"$f":"IF('S2'!$J$21=\"\",\"\",'S2'!$J$21)","v":""},{"$f":"IF('S2'!$K$21=\"\",\"\",'S2'!$K$21)","v":""},{"$f":"IF('S2'!$L$21=\"\",\"\",'S2'!$L$21)","v":""},{"$f":"IF('S2'!$M$21=\"\",\"\",'S2'!$M$21)","v":""},{"$f":"IF('S2'!$N$21=\"\",\"\",'S2'!$N$21)","v":""},{"$f":"IF('S2'!$O$21=\"\",\"\",'S2'!$O$21)","v":""},{"$f":"IF('S2'!$P$21=\"\",\"\",'S2'!$P$21)","v":""},null,"von",null,null,null,null,"von",null,null,{"$f":"IF('S2'!$G$21=\"\",\"\",'S2'!$G$21)","v":""},{"$f":"IF('S2'!$H$21=\"\",\"\",'S2'!$H$21)","v":""},{"$f":"IF('S2'!$I$21=\"\",\"\",'S2'!$I$21)","v":""},{"$f":"IF('S2'!$J$21=\"\",\"\",'S2'!$J$21)","v":""},{"$f":"IF('S2'!$K$21=\"\",\"\",'S2'!$K$21)","v":""},{"$f":"IF('S2'!$L$21=\"\",\"\",'S2'!$L$21)","v":""},{"$f":"IF('S2'!$M$21=\"\",\"\",'S2'!$M$21)","v":""},{"$f":"IF('S2'!$N$21=\"\",\"\",'S2'!$N$21)","v":""},{"$f":"IF('S2'!$O$21=\"\",\"\",'S2'!$O$21)","v":""},{"$f":"IF('S2'!$P$21=\"\",\"\",'S2'!$P$21)","v":""},null,"von"]
[null,null,null,null,null,null,null,null,null,null,null,null,null,null,null,{"$f":"'S2'!$H$12","v":0},null,null,null,null,null,null,null,null,null,null,null,null,null,null,null,null,null,null,{"$f":"'S2'!$H$12","v":0}]
[null,{"$f":"IF('S2'!$Q$18=\"\",\"\",\"Aufgabe\")","v":""},null,null,{"$f":"IF('S2'!$Q$18=\"\",\"\",'S2'!$Q$18)","v":""},{"$f":"IF('S2'!$R$18=\"\",\"\",'S2'!$R$18)","v":""},{"$f":"IF('S2'!$S$18=\"\",\"\",'S2'!$S$18)","v":""},{"$f":"IF('S2'!$T$18=\"\",\"\",'S2'!$T$18)","v":""},{"$f":"IF('S2'!$U$18=\"\",\"\",'S2'!$U$18)","v":""},{"$f":"IF('S2'!$V$18=\"\",\"\",'S2'!$V$18)","v":""},{"$f":"IF('S2'!$W$18=\"\",\"\",'S2'!$W$18)","v":""},{"$f":"IF('S2'!$X$18=\"\",\"\",'S2'!$X$18)","v":""},{"$f":"IF('S2'!$Y$18=\"\",\"\",'S2'!$Y$18)","v":""},{"$f":"IF('S2'!$Z$18=\"\",\"\",'S2'!$Z$18)","v":""},null,null,null,null,null,null,{"$f":"IF('S2'!$Q$18=\"\",\"\",\"Aufgabe\")","v":""},null,null,{"$f":"IF('S2'!$Q$18=\"\",\"\",'S2'!$Q$18)","v":""},{"$f":"IF('S2'!$R$18=\"\",\"\",'S2'!$R$18)","v":""},{"$f":"IF('S2'!$S$18=\"\",\"\",'S2'!$S$18)","v":""},{"$f":"IF('S2'!$T$18=\"\",\"\",'S2'!$T$18)","v":""},{"$f":"IF('S2'!$U$18=\"\",\"\",'S2'!$U$18)","v":""},{"$f":"IF('S2'!$V$18=\"\",\"\",'S2'!$V$18)","v":""},{"$f":"IF('S2'!$W$18=\"\",\"\",'S2'!$W$18)","v":""},{"$f":"IF('S2'!$X$18=\"\",\"\",'S2'!$X$18)","v":""},{"$f":"IF('S2'!$Y$18=\"\",\"\",'S2'!$Y$18)","v":""},{"$f":"IF('S2'!$Z$18=\"\",\"\",'S2'!$Z$18)","v":""}]
[null,{"$f":"IF('S2'!$Q$18=\"\",\"\",\"erreicht\")","v":""},null,null,{"$f":"IF(VLOOKUP(B73,'S2'!$B$23:$Z$57,16,FALSE)=\"\",\"\",VLOOKUP(B73,'S2'!$B$23:$Z$57,16,FALSE))","v":""},{"$f":"IF(VLOOKUP(B73,'S2'!$B$23:$Z$57,17,FALSE)=\"\",\"\",VLOOKUP(B73,'S2'!$B$23:$Z$57,17,FALSE))","v":""},{"$f":"IF(VLOOKUP(B73,'S2'!$B$23:$Z$57,18,FALSE)=\"\",\"\",VLOOKUP(B73,'S2'!$B$23:$Z$57,18,FALSE))","v":""},{"$f":"IF(VLOOKUP(B73,'S2'!$B$23:$Z$57,19,FALSE)=\"\",\"\",VLOOKUP(B73,'S2'!$B$23:$Z$57,19,FALSE))","v":""},{"$f":"IF(VLOOKUP(B73,'S2'!$B$23:$Z$57,20,FALSE)=\"\",\"\",VLOOKUP(B73,'S2'!$B$23:$Z$57,20,FALSE))","v":""},{"$f":"IF(VLOOKUP(B73,'S2'!$B$23:$Z$57,21,FALSE)=\"\",\"\",VLOOKUP(B73,'S2'!$B$23:$Z$57,21,FALSE))","v":""},{"$f":"IF(VLOOKUP(B73,'S2'!$B$23:$Z$57,22,FALSE)=\"\",\"\",VLOOKUP(B73,'S2'!$B$23:$Z$57,22,FALSE))","v":""},{"$f":"IF(VLOOKUP(B73,'S2'!$B$23:$Z$57,23,FALSE)=\"\",\"\",VLOOKUP(B73,'S2'!$B$23:$Z$57,23,FALSE))","v":""},{"$f":"IF(VLOOKUP(B73,'S2'!$B$23:$Z$57,24,FALSE)=\"\",\"\",VLOOKUP(B73,'S2'!$B$23:$Z$57,24,FALSE))","v":""},{"$f":"IF(VLOOKUP(B73,'S2'!$B$23:$Z$57,25,FALSE)=\"\",\"\",VLOOKUP(B73,'S2'!$B$23:$Z$57,25,FALSE))","v":""},null,"Note",null,null,null,null,{"$f":"IF('S2'!$Q$18=\"\",\"\",\"erreicht\")","v":""},null,null,{"$f":"IF(VLOOKUP(U73,'S2'!$B$23:$Z$57,16,FALSE)=\"\",\"\",VLOOKUP(U73,'S2'!$B$23:$Z$57,16,FALSE))","v":""},{"$f":"IF(VLOOKUP(U73,'S2'!$B$23:$Z$57,17,FALSE)=\"\",\"\",VLOOKUP(U73,'S2'!$B$23:$Z$57,17,FALSE))","v":""},{"$f":"IF(VLOOKUP(U73,'S2'!$B$23:$Z$57,18,FALSE)=\"\",\"\",VLOOKUP(U73,'S2'!$B$23:$Z$57,18,FALSE))","v":""},{"$f":"IF(VLOOKUP(U73,'S2'!$B$23:$Z$57,19,FALSE)=\"\",\"\",VLOOKUP(U73,'S2'!$B$23:$Z$57,19,FALSE))","v":""},{"$f":"IF(VLOOKUP(U73,'S2'!$B$23:$Z$57,20,FALSE)=\"\",\"\",VLOOKUP(U73,'S2'!$B$23:$Z$57,20,FALSE))","v":""},{"$f":"IF(VLOOKUP(U73,'S2'!$B$23:$Z$57,21,FALSE)=\"\",\"\",VLOOKUP(U73,'S2'!$B$23:$Z$57,21,FALSE))","v":""},{"$f":"IF(VLOOKUP(U73,'S2'!$B$23:$Z$57,22,FALSE)=\"\",\"\",VLOOKUP(U73,'S2'!$B$23:$Z$57,22,FALSE))","v":""},{"$f":"IF(VLOOKUP(U73,'S2'!$B$23:$Z$57,23,FALSE)=\"\",\"\",VLOOKUP(U73,'S2'!$B$23:$Z$57,23,FALSE))","v":""},{"$f":"IF(VLOOKUP(U73,'S2'!$B$23:$Z$57,24,FALSE)=\"\",\"\",VLOOKUP(U73,'S2'!$B$23:$Z$57,24,FALSE))","v":""},{"$f":"IF(VLOOKUP(U73,'S2'!$B$23:$Z$57,25,FALSE)=\"\",\"\",VLOOKUP(U73,'S2'!$B$23:$Z$57,25,FALSE))","v":""},null,"Note"]
[null,{"$f":"IF('S2'!$Q$18=\"\",\"\",\"von\")","v":""},null,null,{"$f":"IF('S2'!$Q$21=\"\",\"\",'S2'!$Q$21)","v":""},{"$f":"IF('S2'!$R$21=\"\",\"\",'S2'!$R$21)","v":""},{"$f":"IF('S2'!$S$21=\"\",\"\",'S2'!$S$21)","v":""},{"$f":"IF('S2'!$T$21=\"\",\"\",'S2'!$T$21)","v":""},{"$f":"IF('S2'!$U$21=\"\",\"\",'S2'!$U$21)","v":""},{"$f":"IF('S2'!$V$21=\"\",\"\",'S2'!$V$21)","v":""},{"$f":"IF('S2'!$W$21=\"\",\"\",'S2'!$W$21)","v":""},{"$f":"IF('S2'!$X$21=\"\",\"\",'S2'!$X$21)","v":""},{"$f":"IF('S2'!$Y$21=\"\",\"\",'S2'!$Y$21)","v":""},{"$f":"IF('S2'!$Z$21=\"\",\"\",'S2'!$Z$21)","v":""},null,{"$f":"IF(VLOOKUP(B73,'S2'!$B$23:$Z$57,2,FALSE)=\"\",\"\",CONCATENATE(VLOOKUP(B73,'S2'!$B$23:$Z$57,2,FALSE),\" \",VLOOKUP(B73,'S2'!$B$23:$Z$57,3,FALSE)))","v":"- "},null,null,null,null,{"$f":"IF('S2'!$Q$18=\"\",\"\",\"von\")","v":""},null,null,{"$f":"IF('S2'!$Q$21=\"\",\"\",'S2'!$Q$21)","v":""},{"$f":"IF('S2'!$R$21=\"\",\"\",'S2'!$R$21)","v":""},{"$f":"IF('S2'!$S$21=\"\",\"\",'S2'!$S$21)","v":""},{"$f":"IF('S2'!$T$21=\"\",\"\",'S2'!$T$21)","v":""},{"$f":"IF('S2'!$U$21=\"\",\"\",'S2'!$U$21)","v":""},{"$f":"IF('S2'!$V$21=\"\",\"\",'S2'!$V$21)","v":""},{"$f":"IF('S2'!$W$21=\"\",\"\",'S2'!$W$21)","v":""},{"$f":"IF('S2'!$X$21=\"\",\"\",'S2'!$X$21)","v":""},{"$f":"IF('S2'!$Y$21=\"\",\"\",'S2'!$Y$21)","v":""},{"$f":"IF('S2'!$Z$21=\"\",\"\",'S2'!$Z$21)","v":""},null,{"$f":"IF(VLOOKUP(U73,'S2'!$B$23:$Z$57,2,FALSE)=\"\",\"\",CONCATENATE(VLOOKUP(U73,'S2'!$B$23:$Z$57,2,FALSE),\" \",VLOOKUP(U73,'S2'!$B$23:$Z$57,3,FALSE)))","v":"- "}]
[]
[]
[]
[null,{"$f":"'S2'!$B$37","v":""},null,null,null,null,null,null,null,null,null,null,null,null,null,null,null,null,null,null,{"$f":"'S2'!$B$38","v":""}]
[null,null,null,null,null,null,null,null,null,null,null,null,null,null,null,"Summe",null,null,null,null,null,null,null,null,null,null,null,null,null,null,null,null,null,null,"Summe"]
[null,"Aufgabe",null,null,{"$f":"IF('S2'!$G$18=\"\",\"\",'S2'!$G$18)","v":1},{"$f":"IF('S2'!$H$18=\"\",\"\",'S2'!$H$18)","v":2},{"$f":"IF('S2'!$I$18=\"\",\"\",'S2'!$I$18)","v":3},{"$f":"IF('S2'!$J$18=\"\",\"\",'S2'!$J$18)","v":""},{"$f":"IF('S2'!$K$18=\"\",\"\",'S2'!$K$18)","v":""},{"$f":"IF('S2'!$L$18=\"\",\"\",'S2'!$L$18)","v":""},{"$f":"IF('S2'!$M$18=\"\",\"\",'S2'!$M$18)","v":""},{"$f":"IF('S2'!$N$18=\"\",\"\",'S2'!$N$18)","v":""},{"$f":"IF('S2'!$O$18=\"\",\"\",'S2'!$O$18)","v":""},{"$f":"IF('S2'!$P$18=\"\",\"\",'S2'!$P$18)","v":""},null,{"$f":"IF(VLOOKUP(B85,'S2'!$B$23:$Z$57,5,FALSE)=\"\",\"\",VLOOKUP(B85,'S2'!$B$23:$Z$57,5,FALSE))","v":0},null,null,null,null,"Aufgabe",null,null,{"$f":"IF('S2'!$G$18=\"\",\"\",'S2'!$G$18)","v":1},{"$f":"IF('S2'!$H$18=\"\",\"\",'S2'!$H$18)","v":2},{"$f":"IF('S2'!$I$18=\"\",\"\",'S2'!$I$18)","v":3},{"$f":"IF('S2'!$J$18=\"\",\"\",'S2'!$J$18)","v":""},{"$f":"IF('S2'!$K$18=\"\",\"\",'S2'!$K$18)","v":""},{"$f":"IF('S2'!$L$18=\"\",\"\",'S2'!$L$18)","v":""},{"$f":"IF('S2'!$M$18=\"\",\"\",'S2'!$M$18)","v":""},{"$f":"IF('S2'!$N$18=\"\",\"\",'S2'!$N$18)","v":""},{"$f":"IF('S2'!$O$18=\"\",\"\",'S2'!$O$18)","v":""},{"$f":"IF('S2'!$P$18=\"\",\"\",'S2'!$P$18)","v":""},null,{"$f":"IF(VLOOKUP(U85,'S2'!$B$23:$Z$57,5,FALSE)=\"\",\"\",VLOOKUP(U85,'S2'!$B$23:$Z$57,5,FALSE))","v":0}]
[null,"erreicht",null,null,{"$f":"IF(VLOOKUP(B85,'S2'!$B$23:$Z$57,6,FALSE)=\"\",\"\",VLOOKUP(B85,'S2'!$B$23:$Z$57,6,FALSE))","v":"."},{"$f":"IF(VLOOKUP(B85,'S2'!$B$23:$Z$57,7,FALSE)=\"\",\"\",VLOOKUP(B85,'S2'!$B$23:$Z$57,7,FALSE))","v":""},{"$f":"IF(VLOOKUP(B85,'S2'!$B$23:$Z$57,8,FALSE)=\"\",\"\",VLOOKUP(B85,'S2'!$B$23:$Z$57,8,FALSE))","v":""},{"$f":"IF(VLOOKUP(B85,'S2'!$B$23:$Z$57,9,FALSE)=\"\",\"\",VLOOKUP(B85,'S2'!$B$23:$Z$57,9,FALSE))","v":""},{"$f":"IF(VLOOKUP(B85,'S2'!$B$23:$Z$57,10,FALSE)=\"\",\"\",VLOOKUP(B85,'S2'!$B$23:$Z$57,10,FALSE))","v":""},{"$f":"IF(VLOOKUP(B85,'S2'!$B$23:$Z$57,11,FALSE)=\"\",\"\",VLOOKUP(B85,'S2'!$B$23:$Z$57,11,FALSE))","v":""},{"$f":"IF(VLOOKUP(B85,'S2'!$B$23:$Z$57,12,FALSE)=\"\",\"\",VLOOKUP(B85,'S2'!$B$23:$Z$57,12,FALSE))","v":""},{"$f":"IF(VLOOKUP(B85,'S2'!$B$23:$Z$57,13,FALSE)=\"\",\"\",VLOOKUP(B85,'S2'!$B$23:$Z$57,13,FALSE))","v":""},{"$f":"IF(VLOOKUP(B85,'S2'!$B$23:$Z$57,14,FALSE)=\"\",\"\",VLOOKUP(B85,'S2'!$B$23:$Z$57,14,FALSE))","v":""},{"$f":"IF(VLOOKUP(B85,'S2'!$B$23:$Z$57,15,FALSE)=\"\",\"\",VLOOKUP(B85,'S2'!$B$23:$Z$57,15,FALSE))","v":""},null,null,null,null,null,null,"erreicht",null,null,{"$f":"IF(VLOOKUP(U85,'S2'!$B$23:$Z$57,6,FALSE)=\"\",\"\",VLOOKUP(U85,'S2'!$B$23:$Z$57,6,FALSE))","v":"."},{"$f":"IF(VLOOKUP(U85,'S2'!$B$23:$Z$57,7,FALSE)=\"\",\"\",VLOOKUP(U85,'S2'!$B$23:$Z$57,7,FALSE))","v":""},{"$f":"IF(VLOOKUP(U85,'S2'!$B$23:$Z$57,8,FALSE)=\"\",\"\",VLOOKUP(U85,'S2'!$B$23:$Z$57,8,FALSE))","v":""},{"$f":"IF(VLOOKUP(U85,'S2'!$B$23:$Z$57,9,FALSE)=\"\",\"\",VLOOKUP(U85,'S2'!$B$23:$Z$57,9,FALSE))","v":""},{"$f":"IF(VLOOKUP(U85,'S2'!$B$23:$Z$57,10,FALSE)=\"\",\"\",VLOOKUP(U85,'S2'!$B$23:$Z$57,10,FALSE))","v":""},{"$f":"IF(VLOOKUP(U85,'S2'!$B$23:$Z$57,11,FALSE)=\"\",\"\",VLOOKUP(U85,'S2'!$B$23:$Z$57,11,FALSE))","v":""},{"$f":"IF(VLOOKUP(U85,'S2'!$B$23:$Z$57,12,FALSE)=\"\",\"\",VLOOKUP(U85,'S2'!$B$23:$Z$57,12,FALSE))","v":""},{"$f":"IF(VLOOKUP(U85,'S2'!$B$23:$Z$57,13,FALSE)=\"\",\"\",VLOOKUP(U85,'S2'!$B$23:$Z$57,13,FALSE))","v":""},{"$f":"IF(VLOOKUP(U85,'S2'!$B$23:$Z$57,14,FALSE)=\"\",\"\",VLOOKUP(U85,'S2'!$B$23:$Z$57,14,FALSE))","v":""},{"$f":"IF(VLOOKUP(U85,'S2'!$B$23:$Z$57,15,FALSE)=\"\",\"\",VLOOKUP(U85,'S2'!$B$23:$Z$57,15,FALSE))","v":""}]
[null,"von",null,null,{"$f":"IF('S2'!$G$21=\"\",\"\",'S2'!$G$21)","v":""},{"$f":"IF('S2'!$H$21=\"\",\"\",'S2'!$H$21)","v":""},{"$f":"IF('S2'!$I$21=\"\",\"\",'S2'!$I$21)","v":""},{"$f":"IF('S2'!$J$21=\"\",\"\",'S2'!$J$21)","v":""},{"$f":"IF('S2'!$K$21=\"\",\"\",'S2'!$K$21)","v":""},{"$f":"IF('S2'!$L$21=\"\",\"\",'S2'!$L$21)","v":""},{"$f":"IF('S2'!$M$21=\"\",\"\",'S2'!$M$21)","v":""},{"$f":"IF('S2'!$N$21=\"\",\"\",'S2'!$N$21)","v":""},{"$f":"IF('S2'!$O$21=\"\",\"\",'S2'!$O$21)","v":""},{"$f":"IF('S2'!$P$21=\"\",\"\",'S2'!$P$21)","v":""},null,"von",null,null,null,null,"von",null,null,{"$f":"IF('S2'!$G$21=\"\",\"\",'S2'!$G$21)","v":""},{"$f":"IF('S2'!$H$21=\"\",\"\",'S2'!$H$21)","v":""},{"$f":"IF('S2'!$I$21=\"\",\"\",'S2'!$I$21)","v":""},{"$f":"IF('S2'!$J$21=\"\",\"\",'S2'!$J$21)","v":""},{"$f":"IF('S2'!$K$21=\"\",\"\",'S2'!$K$21)","v":""},{"$f":"IF('S2'!$L$21=\"\",\"\",'S2'!$L$21)","v":""},{"$f":"IF('S2'!$M$21=\"\",\"\",'S2'!$M$21)","v":""},{"$f":"IF('S2'!$N$21=\"\",\"\",'S2'!$N$21)","v":""},{"$f":"IF('S2'!$O$21=\"\",\"\",'S2'!$O$21)","v":""},{"$f":"IF('S2'!$P$21=\"\",\"\",'S2'!$P$21)","v":""},null,"von"]
[null,null,null,null,null,null,null,null,null,null,null,null,null,null,null,{"$f":"'S2'!$H$12","v":0},null,null,null,null,null,null,null,null,null,null,null,null,null,null,null,null,null,null,{"$f":"'S2'!$H$12","v":0}]
[null,{"$f":"IF('S2'!$Q$18=\"\",\"\",\"Aufgabe\")","v":""},null,null,{"$f":"IF('S2'!$Q$18=\"\",\"\",'S2'!$Q$18)","v":""},{"$f":"IF('S2'!$R$18=\"\",\"\",'S2'!$R$18)","v":""},{"$f":"IF('S2'!$S$18=\"\",\"\",'S2'!$S$18)","v":""},{"$f":"IF('S2'!$T$18=\"\",\"\",'S2'!$T$18)","v":""},{"$f":"IF('S2'!$U$18=\"\",\"\",'S2'!$U$18)","v":""},{"$f":"IF('S2'!$V$18=\"\",\"\",'S2'!$V$18)","v":""},{"$f":"IF('S2'!$W$18=\"\",\"\",'S2'!$W$18)","v":""},{"$f":"IF('S2'!$X$18=\"\",\"\",'S2'!$X$18)","v":""},{"$f":"IF('S2'!$Y$18=\"\",\"\",'S2'!$Y$18)","v":""},{"$f":"IF('S2'!$Z$18=\"\",\"\",'S2'!$Z$18)","v":""},null,null,null,null,null,null,{"$f":"IF('S2'!$Q$18=\"\",\"\",\"Aufgabe\")","v":""},null,null,{"$f":"IF('S2'!$Q$18=\"\",\"\",'S2'!$Q$18)","v":""},{"$f":"IF('S2'!$R$18=\"\",\"\",'S2'!$R$18)","v":""},{"$f":"IF('S2'!$S$18=\"\",\"\",'S2'!$S$18)","v":""},{"$f":"IF('S2'!$T$18=\"\",\"\",'S2'!$T$18)","v":""},{"$f":"IF('S2'!$U$18=\"\",\"\",'S2'!$U$18)","v":""},{"$f":"IF('S2'!$V$18=\"\",\"\",'S2'!$V$18)","v":""},{"$f":"IF('S2'!$W$18=\"\",\"\",'S2'!$W$18)","v":""},{"$f":"IF('S2'!$X$18=\"\",\"\",'S2'!$X$18)","v":""},{"$f":"IF('S2'!$Y$18=\"\",\"\",'S2'!$Y$18)","v":""},{"$f":"IF('S2'!$Z$18=\"\",\"\",'S2'!$Z$18)","v":""}]
[null,{"$f":"IF('S2'!$Q$18=\"\",\"\",\"erreicht\")","v":""},null,null,{"$f":"IF(VLOOKUP(B85,'S2'!$B$23:$Z$57,16,FALSE)=\"\",\"\",VLOOKUP(B85,'S2'!$B$23:$Z$57,16,FALSE))","v":""},{"$f":"IF(VLOOKUP(B85,'S2'!$B$23:$Z$57,17,FALSE)=\"\",\"\",VLOOKUP(B85,'S2'!$B$23:$Z$57,17,FALSE))","v":""},{"$f":"IF(VLOOKUP(B85,'S2'!$B$23:$Z$57,18,FALSE)=\"\",\"\",VLOOKUP(B85,'S2'!$B$23:$Z$57,18,FALSE))","v":""},{"$f":"IF(VLOOKUP(B85,'S2'!$B$23:$Z$57,19,FALSE)=\"\",\"\",VLOOKUP(B85,'S2'!$B$23:$Z$57,19,FALSE))","v":""},{"$f":"IF(VLOOKUP(B85,'S2'!$B$23:$Z$57,20,FALSE)=\"\",\"\",VLOOKUP(B85,'S2'!$B$23:$Z$57,20,FALSE))","v":""},{"$f":"IF(VLOOKUP(B85,'S2'!$B$23:$Z$57,21,FALSE)=\"\",\"\",VLOOKUP(B85,'S2'!$B$23:$Z$57,21,FALSE))","v":""},{"$f":"IF(VLOOKUP(B85,'S2'!$B$23:$Z$57,22,FALSE)=\"\",\"\",VLOOKUP(B85,'S2'!$B$23:$Z$57,22,FALSE))","v":""},{"$f":"IF(VLOOKUP(B85,'S2'!$B$23:$Z$57,23,FALSE)=\"\",\"\",VLOOKUP(B85,'S2'!$B$23:$Z$57,23,FALSE))","v":""},{"$f":"IF(VLOOKUP(B85,'S2'!$B$23:$Z$57,24,FALSE)=\"\",\"\",VLOOKUP(B85,'S2'!$B$23:$Z$57,24,FALSE))","v":""},{"$f":"IF(VLOOKUP(B85,'S2'!$B$23:$Z$57,25,FALSE)=\"\",\"\",VLOOKUP(B85,'S2'!$B$23:$Z$57,25,FALSE))","v":""},null,"Note",null,null,null,null,{"$f":"IF('S2'!$Q$18=\"\",\"\",\"erreicht\")","v":""},null,null,{"$f":"IF(VLOOKUP(U85,'S2'!$B$23:$Z$57,16,FALSE)=\"\",\"\",VLOOKUP(U85,'S2'!$B$23:$Z$57,16,FALSE))","v":""},{"$f":"IF(VLOOKUP(U85,'S2'!$B$23:$Z$57,17,FALSE)=\"\",\"\",VLOOKUP(U85,'S2'!$B$23:$Z$57,17,FALSE))","v":""},{"$f":"IF(VLOOKUP(U85,'S2'!$B$23:$Z$57,18,FALSE)=\"\",\"\",VLOOKUP(U85,'S2'!$B$23:$Z$57,18,FALSE))","v":""},{"$f":"IF(VLOOKUP(U85,'S2'!$B$23:$Z$57,19,FALSE)=\"\",\"\",VLOOKUP(U85,'S2'!$B$23:$Z$57,19,FALSE))","v":""},{"$f":"IF(VLOOKUP(U85,'S2'!$B$23:$Z$57,20,FALSE)=\"\",\"\",VLOOKUP(U85,'S2'!$B$23:$Z$57,20,FALSE))","v":""},{"$f":"IF(VLOOKUP(U85,'S2'!$B$23:$Z$57,21,FALSE)=\"\",\"\",VLOOKUP(U85,'S2'!$B$23:$Z$57,21,FALSE))","v":""},{"$f":"IF(VLOOKUP(U85,'S2'!$B$23:$Z$57,22,FALSE)=\"\",\"\",VLOOKUP(U85,'S2'!$B$23:$Z$57,22,FALSE))","v":""},{"$f":"IF(VLOOKUP(U85,'S2'!$B$23:$Z$57,23,FALSE)=\"\",\"\",VLOOKUP(U85,'S2'!$B$23:$Z$57,23,FALSE))","v":""},{"$f":"IF(VLOOKUP(U85,'S2'!$B$23:$Z$57,24,FALSE)=\"\",\"\",VLOOKUP(U85,'S2'!$B$23:$Z$57,24,FALSE))","v":""},{"$f":"IF(VLOOKUP(U85,'S2'!$B$23:$Z$57,25,FALSE)=\"\",\"\",VLOOKUP(U85,'S2'!$B$23:$Z$57,25,FALSE))","v":""},null,"Note"]
[null,{"$f":"IF('S2'!$Q$18=\"\",\"\",\"von\")","v":""},null,null,{"$f":"IF('S2'!$Q$21=\"\",\"\",'S2'!$Q$21)","v":""},{"$f":"IF('S2'!$R$21=\"\",\"\",'S2'!$R$21)","v":""},{"$f":"IF('S2'!$S$21=\"\",\"\",'S2'!$S$21)","v":""},{"$f":"IF('S2'!$T$21=\"\",\"\",'S2'!$T$21)","v":""},{"$f":"IF('S2'!$U$21=\"\",\"\",'S2'!$U$21)","v":""},{"$f":"IF('S2'!$V$21=\"\",\"\",'S2'!$V$21)","v":""},{"$f":"IF('S2'!$W$21=\"\",\"\",'S2'!$W$21)","v":""},{"$f":"IF('S2'!$X$21=\"\",\"\",'S2'!$X$21)","v":""},{"$f":"IF('S2'!$Y$21=\"\",\"\",'S2'!$Y$21)","v":""},{"$f":"IF('S2'!$Z$21=\"\",\"\",'S2'!$Z$21)","v":""},null,{"$f":"IF(VLOOKUP(B85,'S2'!$B$23:$Z$57,2,FALSE)=\"\",\"\",CONCATENATE(VLOOKUP(B85,'S2'!$B$23:$Z$57,2,FALSE),\" \",VLOOKUP(B85,'S2'!$B$23:$Z$57,3,FALSE)))","v":"- "},null,null,null,null,{"$f":"IF('S2'!$Q$18=\"\",\"\",\"von\")","v":""},null,null,{"$f":"IF('S2'!$Q$21=\"\",\"\",'S2'!$Q$21)","v":""},{"$f":"IF('S2'!$R$21=\"\",\"\",'S2'!$R$21)","v":""},{"$f":"IF('S2'!$S$21=\"\",\"\",'S2'!$S$21)","v":""},{"$f":"IF('S2'!$T$21=\"\",\"\",'S2'!$T$21)","v":""},{"$f":"IF('S2'!$U$21=\"\",\"\",'S2'!$U$21)","v":""},{"$f":"IF('S2'!$V$21=\"\",\"\",'S2'!$V$21)","v":""},{"$f":"IF('S2'!$W$21=\"\",\"\",'S2'!$W$21)","v":""},{"$f":"IF('S2'!$X$21=\"\",\"\",'S2'!$X$21)","v":""},{"$f":"IF('S2'!$Y$21=\"\",\"\",'S2'!$Y$21)","v":""},{"$f":"IF('S2'!$Z$21=\"\",\"\",'S2'!$Z$21)","v":""},null,{"$f":"IF(VLOOKUP(U85,'S2'!$B$23:$Z$57,2,FALSE)=\"\",\"\",CONCATENATE(VLOOKUP(U85,'S2'!$B$23:$Z$57,2,FALSE),\" \",VLOOKUP(U85,'S2'!$B$23:$Z$57,3,FALSE)))","v":"- "}]
[]
[]
[]
[null,{"$f":"'S2'!$B$39","v":""},null,null,null,null,null,null,null,null,null,null,null,null,null,null,null,null,null,null,{"$f":"'S2'!$B$40","v":""}]
[null,null,null,null,null,null,null,null,null,null,null,null,null,null,null,"Summe",null,null,null,null,null,null,null,null,null,null,null,null,null,null,null,null,null,null,"Summe"]
[null,"Aufgabe",null,null,{"$f":"IF('S2'!$G$18=\"\",\"\",'S2'!$G$18)","v":1},{"$f":"IF('S2'!$H$18=\"\",\"\",'S2'!$H$18)","v":2},{"$f":"IF('S2'!$I$18=\"\",\"\",'S2'!$I$18)","v":3},{"$f":"IF('S2'!$J$18=\"\",\"\",'S2'!$J$18)","v":""},{"$f":"IF('S2'!$K$18=\"\",\"\",'S2'!$K$18)","v":""},{"$f":"IF('S2'!$L$18=\"\",\"\",'S2'!$L$18)","v":""},{"$f":"IF('S2'!$M$18=\"\",\"\",'S2'!$M$18)","v":""},{"$f":"IF('S2'!$N$18=\"\",\"\",'S2'!$N$18)","v":""},{"$f":"IF('S2'!$O$18=\"\",\"\",'S2'!$O$18)","v":""},{"$f":"IF('S2'!$P$18=\"\",\"\",'S2'!$P$18)","v":""},null,{"$f":"IF(VLOOKUP(B97,'S2'!$B$23:$Z$57,5,FALSE)=\"\",\"\",VLOOKUP(B97,'S2'!$B$23:$Z$57,5,FALSE))","v":0},null,null,null,null,"Aufgabe",null,null,{"$f":"IF('S2'!$G$18=\"\",\"\",'S2'!$G$18)","v":1},{"$f":"IF('S2'!$H$18=\"\",\"\",'S2'!$H$18)","v":2},{"$f":"IF('S2'!$I$18=\"\",\"\",'S2'!$I$18)","v":3},{"$f":"IF('S2'!$J$18=\"\",\"\",'S2'!$J$18)","v":""},{"$f":"IF('S2'!$K$18=\"\",\"\",'S2'!$K$18)","v":""},{"$f":"IF('S2'!$L$18=\"\",\"\",'S2'!$L$18)","v":""},{"$f":"IF('S2'!$M$18=\"\",\"\",'S2'!$M$18)","v":""},{"$f":"IF('S2'!$N$18=\"\",\"\",'S2'!$N$18)","v":""},{"$f":"IF('S2'!$O$18=\"\",\"\",'S2'!$O$18)","v":""},{"$f":"IF('S2'!$P$18=\"\",\"\",'S2'!$P$18)","v":""},null,{"$f":"IF(VLOOKUP(U97,'S2'!$B$23:$Z$57,5,FALSE)=\"\",\"\",VLOOKUP(U97,'S2'!$B$23:$Z$57,5,FALSE))","v":0}]
[null,"erreicht",null,null,{"$f":"IF(VLOOKUP(B97,'S2'!$B$23:$Z$57,6,FALSE)=\"\",\"\",VLOOKUP(B97,'S2'!$B$23:$Z$57,6,FALSE))","v":"."},{"$f":"IF(VLOOKUP(B97,'S2'!$B$23:$Z$57,7,FALSE)=\"\",\"\",VLOOKUP(B97,'S2'!$B$23:$Z$57,7,FALSE))","v":""},{"$f":"IF(VLOOKUP(B97,'S2'!$B$23:$Z$57,8,FALSE)=\"\",\"\",VLOOKUP(B97,'S2'!$B$23:$Z$57,8,FALSE))","v":""},{"$f":"IF(VLOOKUP(B97,'S2'!$B$23:$Z$57,9,FALSE)=\"\",\"\",VLOOKUP(B97,'S2'!$B$23:$Z$57,9,FALSE))","v":""},{"$f":"IF(VLOOKUP(B97,'S2'!$B$23:$Z$57,10,FALSE)=\"\",\"\",VLOOKUP(B97,'S2'!$B$23:$Z$57,10,FALSE))","v":""},{"$f":"IF(VLOOKUP(B97,'S2'!$B$23:$Z$57,11,FALSE)=\"\",\"\",VLOOKUP(B97,'S2'!$B$23:$Z$57,11,FALSE))","v":""},{"$f":"IF(VLOOKUP(B97,'S2'!$B$23:$Z$57,12,FALSE)=\"\",\"\",VLOOKUP(B97,'S2'!$B$23:$Z$57,12,FALSE))","v":""},{"$f":"IF(VLOOKUP(B97,'S2'!$B$23:$Z$57,13,FALSE)=\"\",\"\",VLOOKUP(B97,'S2'!$B$23:$Z$57,13,FALSE))","v":""},{"$f":"IF(VLOOKUP(B97,'S2'!$B$23:$Z$57,14,FALSE)=\"\",\"\",VLOOKUP(B97,'S2'!$B$23:$Z$57,14,FALSE))","v":""},{"$f":"IF(VLOOKUP(B97,'S2'!$B$23:$Z$57,15,FALSE)=\"\",\"\",VLOOKUP(B97,'S2'!$B$23:$Z$57,15,FALSE))","v":""},null,null,null,null,null,null,"erreicht",null,null,{"$f":"IF(VLOOKUP(U97,'S2'!$B$23:$Z$57,6,FALSE)=\"\",\"\",VLOOKUP(U97,'S2'!$B$23:$Z$57,6,FALSE))","v":"."},{"$f":"IF(VLOOKUP(U97,'S2'!$B$23:$Z$57,7,FALSE)=\"\",\"\",VLOOKUP(U97,'S2'!$B$23:$Z$57,7,FALSE))","v":""},{"$f":"IF(VLOOKUP(U97,'S2'!$B$23:$Z$57,8,FALSE)=\"\",\"\",VLOOKUP(U97,'S2'!$B$23:$Z$57,8,FALSE))","v":""},{"$f":"IF(VLOOKUP(U97,'S2'!$B$23:$Z$57,9,FALSE)=\"\",\"\",VLOOKUP(U97,'S2'!$B$23:$Z$57,9,FALSE))","v":""},{"$f":"IF(VLOOKUP(U97,'S2'!$B$23:$Z$57,10,FALSE)=\"\",\"\",VLOOKUP(U97,'S2'!$B$23:$Z$57,10,FALSE))","v":""},{"$f":"IF(VLOOKUP(U97,'S2'!$B$23:$Z$57,11,FALSE)=\"\",\"\",VLOOKUP(U97,'S2'!$B$23:$Z$57,11,FALSE))","v":""},{"$f":"IF(VLOOKUP(U97,'S2'!$B$23:$Z$57,12,FALSE)=\"\",\"\",VLOOKUP(U97,'S2'!$B$23:$Z$57,12,FALSE))","v":""},{"$f":"IF(VLOOKUP(U97,'S2'!$B$23:$Z$57,13,FALSE)=\"\",\"\",VLOOKUP(U97,'S2'!$B$23:$Z$57,13,FALSE))","v":""},{"$f":"IF(VLOOKUP(U97,'S2'!$B$23:$Z$57,14,FALSE)=\"\",\"\",VLOOKUP(U97,'S2'!$B$23:$Z$57,14,FALSE))","v":""},{"$f":"IF(VLOOKUP(U97,'S2'!$B$23:$Z$57,15,FALSE)=\"\",\"\",VLOOKUP(U97,'S2'!$B$23:$Z$57,15,FALSE))","v":""}]
[null,"von",null,null,{"$f":"IF('S2'!$G$21=\"\",\"\",'S2'!$G$21)","v":""},{"$f":"IF('S2'!$H$21=\"\",\"\",'S2'!$H$21)","v":""},{"$f":"IF('S2'!$I$21=\"\",\"\",'S2'!$I$21)","v":""},{"$f":"IF('S2'!$J$21=\"\",\"\",'S2'!$J$21)","v":""},{"$f":"IF('S2'!$K$21=\"\",\"\",'S2'!$K$21)","v":""},{"$f":"IF('S2'!$L$21=\"\",\"\",'S2'!$L$21)","v":""},{"$f":"IF('S2'!$M$21=\"\",\"\",'S2'!$M$21)","v":""},{"$f":"IF('S2'!$N$21=\"\",\"\",'S2'!$N$21)","v":""},{"$f":"IF('S2'!$O$21=\"\",\"\",'S2'!$O$21)","v":""},{"$f":"IF('S2'!$P$21=\"\",\"\",'S2'!$P$21)","v":""},null,"von",null,null,null,null,"von",null,null,{"$f":"IF('S2'!$G$21=\"\",\"\",'S2'!$G$21)","v":""},{"$f":"IF('S2'!$H$21=\"\",\"\",'S2'!$H$21)","v":""},{"$f":"IF('S2'!$I$21=\"\",\"\",'S2'!$I$21)","v":""},{"$f":"IF('S2'!$J$21=\"\",\"\",'S2'!$J$21)","v":""},{"$f":"IF('S2'!$K$21=\"\",\"\",'S2'!$K$21)","v":""},{"$f":"IF('S2'!$L$21=\"\",\"\",'S2'!$L$21)","v":""},{"$f":"IF('S2'!$M$21=\"\",\"\",'S2'!$M$21)","v":""},{"$f":"IF('S2'!$N$21=\"\",\"\",'S2'!$N$21)","v":""},{"$f":"IF('S2'!$O$21=\"\",\"\",'S2'!$O$21)","v":""},{"$f":"IF('S2'!$P$21=\"\",\"\",'S2'!$P$21)","v":""},null,"von"]
[null,null,null,null,null,null,null,null,null,null,null,null,null,null,null,{"$f":"'S2'!$H$12","v":0},null,null,null,null,null,null,null,null,null,null,null,null,null,null,null,null,null,null,{"$f":"'S2'!$H$12","v":0}]
[null,{"$f":"IF('S2'!$Q$18=\"\",\"\",\"Aufgabe\")","v":""},null,null,{"$f":"IF('S2'!$Q$18=\"\",\"\",'S2'!$Q$18)","v":""},{"$f":"IF('S2'!$R$18=\"\",\"\",'S2'!$R$18)","v":""},{"$f":"IF('S2'!$S$18=\"\",\"\",'S2'!$S$18)","v":""},{"$f":"IF('S2'!$T$18=\"\",\"\",'S2'!$T$18)","v":""},{"$f":"IF('S2'!$U$18=\"\",\"\",'S2'!$U$18)","v":""},{"$f":"IF('S2'!$V$18=\"\",\"\",'S2'!$V$18)","v":""},{"$f":"IF('S2'!$W$18=\"\",\"\",'S2'!$W$18)","v":""},{"$f":"IF('S2'!$X$18=\"\",\"\",'S2'!$X$18)","v":""},{"$f":"IF('S2'!$Y$18=\"\",\"\",'S2'!$Y$18)","v":""},{"$f":"IF('S2'!$Z$18=\"\",\"\",'S2'!$Z$18)","v":""},null,null,null,null,null,null,{"$f":"IF('S2'!$Q$18=\"\",\"\",\"Aufgabe\")","v":""},null,null,{"$f":"IF('S2'!$Q$18=\"\",\"\",'S2'!$Q$18)","v":""},{"$f":"IF('S2'!$R$18=\"\",\"\",'S2'!$R$18)","v":""},{"$f":"IF('S2'!$S$18=\"\",\"\",'S2'!$S$18)","v":""},{"$f":"IF('S2'!$T$18=\"\",\"\",'S2'!$T$18)","v":""},{"$f":"IF('S2'!$U$18=\"\",\"\",'S2'!$U$18)","v":""},{"$f":"IF('S2'!$V$18=\"\",\"\",'S2'!$V$18)","v":""},{"$f":"IF('S2'!$W$18=\"\",\"\",'S2'!$W$18)","v":""},{"$f":"IF('S2'!$X$18=\"\",\"\",'S2'!$X$18)","v":""},{"$f":"IF('S2'!$Y$18=\"\",\"\",'S2'!$Y$18)","v":""},{"$f":"IF('S2'!$Z$18=\"\",\"\",'S2'!$Z$18)","v":""}]
[null,{"$f":"IF('S2'!$Q$18=\"\",\"\",\"erreicht\")","v":""},null,null,{"$f":"IF(VLOOKUP(B97,'S2'!$B$23:$Z$57,16,FALSE)=\"\",\"\",VLOOKUP(B97,'S2'!$B$23:$Z$57,16,FALSE))","v":""},{"$f":"IF(VLOOKUP(B97,'S2'!$B$23:$Z$57,17,FALSE)=\"\",\"\",VLOOKUP(B97,'S2'!$B$23:$Z$57,17,FALSE))","v":""},{"$f":"IF(VLOOKUP(B97,'S2'!$B$23:$Z$57,18,FALSE)=\"\",\"\",VLOOKUP(B97,'S2'!$B$23:$Z$57,18,FALSE))","v":""},{"$f":"IF(VLOOKUP(B97,'S2'!$B$23:$Z$57,19,FALSE)=\"\",\"\",VLOOKUP(B97,'S2'!$B$23:$Z$57,19,FALSE))","v":""},{"$f":"IF(VLOOKUP(B97,'S2'!$B$23:$Z$57,20,FALSE)=\"\",\"\",VLOOKUP(B97,'S2'!$B$23:$Z$57,20,FALSE))","v":""},{"$f":"IF(VLOOKUP(B97,'S2'!$B$23:$Z$57,21,FALSE)=\"\",\"\",VLOOKUP(B97,'S2'!$B$23:$Z$57,21,FALSE))","v":""},{"$f":"IF(VLOOKUP(B97,'S2'!$B$23:$Z$57,22,FALSE)=\"\",\"\",VLOOKUP(B97,'S2'!$B$23:$Z$57,22,FALSE))","v":""},{"$f":"IF(VLOOKUP(B97,'S2'!$B$23:$Z$57,23,FALSE)=\"\",\"\",VLOOKUP(B97,'S2'!$B$23:$Z$57,23,FALSE))","v":""},{"$f":"IF(VLOOKUP(B97,'S2'!$B$23:$Z$57,24,FALSE)=\"\",\"\",VLOOKUP(B97,'S2'!$B$23:$Z$57,24,FALSE))","v":""},{"$f":"IF(VLOOKUP(B97,'S2'!$B$23:$Z$57,25,FALSE)=\"\",\"\",VLOOKUP(B97,'S2'!$B$23:$Z$57,25,FALSE))","v":""},null,"Note",null,null,null,null,{"$f":"IF('S2'!$Q$18=\"\",\"\",\"erreicht\")","v":""},null,null,{"$f":"IF(VLOOKUP(U97,'S2'!$B$23:$Z$57,16,FALSE)=\"\",\"\",VLOOKUP(U97,'S2'!$B$23:$Z$57,16,FALSE))","v":""},{"$f":"IF(VLOOKUP(U97,'S2'!$B$23:$Z$57,17,FALSE)=\"\",\"\",VLOOKUP(U97,'S2'!$B$23:$Z$57,17,FALSE))","v":""},{"$f":"IF(VLOOKUP(U97,'S2'!$B$23:$Z$57,18,FALSE)=\"\",\"\",VLOOKUP(U97,'S2'!$B$23:$Z$57,18,FALSE))","v":""},{"$f":"IF(VLOOKUP(U97,'S2'!$B$23:$Z$57,19,FALSE)=\"\",\"\",VLOOKUP(U97,'S2'!$B$23:$Z$57,19,FALSE))","v":""},{"$f":"IF(VLOOKUP(U97,'S2'!$B$23:$Z$57,20,FALSE)=\"\",\"\",VLOOKUP(U97,'S2'!$B$23:$Z$57,20,FALSE))","v":""},{"$f":"IF(VLOOKUP(U97,'S2'!$B$23:$Z$57,21,FALSE)=\"\",\"\",VLOOKUP(U97,'S2'!$B$23:$Z$57,21,FALSE))","v":""},{"$f":"IF(VLOOKUP(U97,'S2'!$B$23:$Z$57,22,FALSE)=\"\",\"\",VLOOKUP(U97,'S2'!$B$23:$Z$57,22,FALSE))","v":""},{"$f":"IF(VLOOKUP(U97,'S2'!$B$23:$Z$57,23,FALSE)=\"\",\"\",VLOOKUP(U97,'S2'!$B$23:$Z$57,23,FALSE))","v":""},{"$f":"IF(VLOOKUP(U97,'S2'!$B$23:$Z$57,24,FALSE)=\"\",\"\",VLOOKUP(U97,'S2'!$B$23:$Z$57,24,FALSE))","v":""},{"$f":"IF(VLOOKUP(U97,'S2'!$B$23:$Z$57,25,FALSE)=\"\",\"\",VLOOKUP(U97,'S2'!$B$23:$Z$57,25,FALSE))","v":""},null,"Note"]
[null,{"$f":"IF('S2'!$Q$18=\"\",\"\",\"von\")","v":""},null,null,{"$f":"IF('S2'!$Q$21=\"\",\"\",'S2'!$Q$21)","v":""},{"$f":"IF('S2'!$R$21=\"\",\"\",'S2'!$R$21)","v":""},{"$f":"IF('S2'!$S$21=\"\",\"\",'S2'!$S$21)","v":""},{"$f":"IF('S2'!$T$21=\"\",\"\",'S2'!$T$21)","v":""},{"$f":"IF('S2'!$U$21=\"\",\"\",'S2'!$U$21)","v":""},{"$f":"IF('S2'!$V$21=\"\",\"\",'S2'!$V$21)","v":""},{"$f":"IF('S2'!$W$21=\"\",\"\",'S2'!$W$21)","v":""},{"$f":"IF('S2'!$X$21=\"\",\"\",'S2'!$X$21)","v":""},{"$f":"IF('S2'!$Y$21=\"\",\"\",'S2'!$Y$21)","v":""},{"$f":"IF('S2'!$Z$21=\"\",\"\",'S2'!$Z$21)","v":""},null,{"$f":"IF(VLOOKUP(B97,'S2'!$B$23:$Z$57,2,FALSE)=\"\",\"\",CONCATENATE(VLOOKUP(B97,'S2'!$B$23:$Z$57,2,FALSE),\" \",VLOOKUP(B97,'S2'!$B$23:$Z$57,3,FALSE)))","v":"- "},null,null,null,null,{"$f":"IF('S2'!$Q$18=\"\",\"\",\"von\")","v":""},null,null,{"$f":"IF('S2'!$Q$21=\"\",\"\",'S2'!$Q$21)","v":""},{"$f":"IF('S2'!$R$21=\"\",\"\",'S2'!$R$21)","v":""},{"$f":"IF('S2'!$S$21=\"\",\"\",'S2'!$S$21)","v":""},{"$f":"IF('S2'!$T$21=\"\",\"\",'S2'!$T$21)","v":""},{"$f":"IF('S2'!$U$21=\"\",\"\",'S2'!$U$21)","v":""},{"$f":"IF('S2'!$V$21=\"\",\"\",'S2'!$V$21)","v":""},{"$f":"IF('S2'!$W$21=\"\",\"\",'S2'!$W$21)","v":""},{"$f":"IF('S2'!$X$21=\"\",\"\",'S2'!$X$21)","v":""},{"$f":"IF('S2'!$Y$21=\"\",\"\",'S2'!$Y$21)","v":""},{"$f":"IF('S2'!$Z$21=\"\",\"\",'S2'!$Z$21)","v":""},null,{"$f":"IF(VLOOKUP(U97,'S2'!$B$23:$Z$57,2,FALSE)=\"\",\"\",CONCATENATE(VLOOKUP(U97,'S2'!$B$23:$Z$57,2,FALSE),\" \",VLOOKUP(U97,'S2'!$B$23:$Z$57,3,FALSE)))","v":"- "}]
[]
[]
[]
[null,{"$f":"'S2'!$B$41","v":""},null,null,null,null,null,null,null,null,null,null,null,null,null,null,null,null,null,null,{"$f":"'S2'!$B$42","v":""}]
[null,null,null,null,null,null,null,null,null,null,null,null,null,null,null,"Summe",null,null,null,null,null,null,null,null,null,null,null,null,null,null,null,null,null,null,"Summe"]
[null,"Aufgabe",null,null,{"$f":"IF('S2'!$G$18=\"\",\"\",'S2'!$G$18)","v":1},{"$f":"IF('S2'!$H$18=\"\",\"\",'S2'!$H$18)","v":2},{"$f":"IF('S2'!$I$18=\"\",\"\",'S2'!$I$18)","v":3},{"$f":"IF('S2'!$J$18=\"\",\"\",'S2'!$J$18)","v":""},{"$f":"IF('S2'!$K$18=\"\",\"\",'S2'!$K$18)","v":""},{"$f":"IF('S2'!$L$18=\"\",\"\",'S2'!$L$18)","v":""},{"$f":"IF('S2'!$M$18=\"\",\"\",'S2'!$M$18)","v":""},{"$f":"IF('S2'!$N$18=\"\",\"\",'S2'!$N$18)","v":""},{"$f":"IF('S2'!$O$18=\"\",\"\",'S2'!$O$18)","v":""},{"$f":"IF('S2'!$P$18=\"\",\"\",'S2'!$P$18)","v":""},null,{"$f":"IF(VLOOKUP(B109,'S2'!$B$23:$Z$57,5,FALSE)=\"\",\"\",VLOOKUP(B109,'S2'!$B$23:$Z$57,5,FALSE))","v":0},null,null,null,null,"Aufgabe",null,null,{"$f":"IF('S2'!$G$18=\"\",\"\",'S2'!$G$18)","v":1},{"$f":"IF('S2'!$H$18=\"\",\"\",'S2'!$H$18)","v":2},{"$f":"IF('S2'!$I$18=\"\",\"\",'S2'!$I$18)","v":3},{"$f":"IF('S2'!$J$18=\"\",\"\",'S2'!$J$18)","v":""},{"$f":"IF('S2'!$K$18=\"\",\"\",'S2'!$K$18)","v":""},{"$f":"IF('S2'!$L$18=\"\",\"\",'S2'!$L$18)","v":""},{"$f":"IF('S2'!$M$18=\"\",\"\",'S2'!$M$18)","v":""},{"$f":"IF('S2'!$N$18=\"\",\"\",'S2'!$N$18)","v":""},{"$f":"IF('S2'!$O$18=\"\",\"\",'S2'!$O$18)","v":""},{"$f":"IF('S2'!$P$18=\"\",\"\",'S2'!$P$18)","v":""},null,{"$f":"IF(VLOOKUP(U109,'S2'!$B$23:$Z$57,5,FALSE)=\"\",\"\",VLOOKUP(U109,'S2'!$B$23:$Z$57,5,FALSE))","v":0}]
[null,"erreicht",null,null,{"$f":"IF(VLOOKUP(B109,'S2'!$B$23:$Z$57,6,FALSE)=\"\",\"\",VLOOKUP(B109,'S2'!$B$23:$Z$57,6,FALSE))","v":"."},{"$f":"IF(VLOOKUP(B109,'S2'!$B$23:$Z$57,7,FALSE)=\"\",\"\",VLOOKUP(B109,'S2'!$B$23:$Z$57,7,FALSE))","v":""},{"$f":"IF(VLOOKUP(B109,'S2'!$B$23:$Z$57,8,FALSE)=\"\",\"\",VLOOKUP(B109,'S2'!$B$23:$Z$57,8,FALSE))","v":""},{"$f":"IF(VLOOKUP(B109,'S2'!$B$23:$Z$57,9,FALSE)=\"\",\"\",VLOOKUP(B109,'S2'!$B$23:$Z$57,9,FALSE))","v":""},{"$f":"IF(VLOOKUP(B109,'S2'!$B$23:$Z$57,10,FALSE)=\"\",\"\",VLOOKUP(B109,'S2'!$B$23:$Z$57,10,FALSE))","v":""},{"$f":"IF(VLOOKUP(B109,'S2'!$B$23:$Z$57,11,FALSE)=\"\",\"\",VLOOKUP(B109,'S2'!$B$23:$Z$57,11,FALSE))","v":""},{"$f":"IF(VLOOKUP(B109,'S2'!$B$23:$Z$57,12,FALSE)=\"\",\"\",VLOOKUP(B109,'S2'!$B$23:$Z$57,12,FALSE))","v":""},{"$f":"IF(VLOOKUP(B109,'S2'!$B$23:$Z$57,13,FALSE)=\"\",\"\",VLOOKUP(B109,'S2'!$B$23:$Z$57,13,FALSE))","v":""},{"$f":"IF(VLOOKUP(B109,'S2'!$B$23:$Z$57,14,FALSE)=\"\",\"\",VLOOKUP(B109,'S2'!$B$23:$Z$57,14,FALSE))","v":""},{"$f":"IF(VLOOKUP(B109,'S2'!$B$23:$Z$57,15,FALSE)=\"\",\"\",VLOOKUP(B109,'S2'!$B$23:$Z$57,15,FALSE))","v":""},null,null,null,null,null,null,"erreicht",null,null,{"$f":"IF(VLOOKUP(U109,'S2'!$B$23:$Z$57,6,FALSE)=\"\",\"\",VLOOKUP(U109,'S2'!$B$23:$Z$57,6,FALSE))","v":"."},{"$f":"IF(VLOOKUP(U109,'S2'!$B$23:$Z$57,7,FALSE)=\"\",\"\",VLOOKUP(U109,'S2'!$B$23:$Z$57,7,FALSE))","v":""},{"$f":"IF(VLOOKUP(U109,'S2'!$B$23:$Z$57,8,FALSE)=\"\",\"\",VLOOKUP(U109,'S2'!$B$23:$Z$57,8,FALSE))","v":""},{"$f":"IF(VLOOKUP(U109,'S2'!$B$23:$Z$57,9,FALSE)=\"\",\"\",VLOOKUP(U109,'S2'!$B$23:$Z$57,9,FALSE))","v":""},{"$f":"IF(VLOOKUP(U109,'S2'!$B$23:$Z$57,10,FALSE)=\"\",\"\",VLOOKUP(U109,'S2'!$B$23:$Z$57,10,FALSE))","v":""},{"$f":"IF(VLOOKUP(U109,'S2'!$B$23:$Z$57,11,FALSE)=\"\",\"\",VLOOKUP(U109,'S2'!$B$23:$Z$57,11,FALSE))","v":""},{"$f":"IF(VLOOKUP(U109,'S2'!$B$23:$Z$57,12,FALSE)=\"\",\"\",VLOOKUP(U109,'S2'!$B$23:$Z$57,12,FALSE))","v":""},{"$f":"IF(VLOOKUP(U109,'S2'!$B$23:$Z$57,13,FALSE)=\"\",\"\",VLOOKUP(U109,'S2'!$B$23:$Z$57,13,FALSE))","v":""},{"$f":"IF(VLOOKUP(U109,'S2'!$B$23:$Z$57,14,FALSE)=\"\",\"\",VLOOKUP(U109,'S2'!$B$23:$Z$57,14,FALSE))","v":""},{"$f":"IF(VLOOKUP(U109,'S2'!$B$23:$Z$57,15,FALSE)=\"\",\"\",VLOOKUP(U109,'S2'!$B$23:$Z$57,15,FALSE))","v":""}]
[null,"von",null,null,{"$f":"IF('S2'!$G$21=\"\",\"\",'S2'!$G$21)","v":""},{"$f":"IF('S2'!$H$21=\"\",\"\",'S2'!$H$21)","v":""},{"$f":"IF('S2'!$I$21=\"\",\"\",'S2'!$I$21)","v":""},{"$f":"IF('S2'!$J$21=\"\",\"\",'S2'!$J$21)","v":""},{"$f":"IF('S2'!$K$21=\"\",\"\",'S2'!$K$21)","v":""},{"$f":"IF('S2'!$L$21=\"\",\"\",'S2'!$L$21)","v":""},{"$f":"IF('S2'!$M$21=\"\",\"\",'S2'!$M$21)","v":""},{"$f":"IF('S2'!$N$21=\"\",\"\",'S2'!$N$21)","v":""},{"$f":"IF('S2'!$O$21=\"\",\"\",'S2'!$O$21)","v":""},{"$f":"IF('S2'!$P$21=\"\",\"\",'S2'!$P$21)","v":""},null,"von",null,null,null,null,"von",null,null,{"$f":"IF('S2'!$G$21=\"\",\"\",'S2'!$G$21)","v":""},{"$f":"IF('S2'!$H$21=\"\",\"\",'S2'!$H$21)","v":""},{"$f":"IF('S2'!$I$21=\"\",\"\",'S2'!$I$21)","v":""},{"$f":"IF('S2'!$J$21=\"\",\"\",'S2'!$J$21)","v":""},{"$f":"IF('S2'!$K$21=\"\",\"\",'S2'!$K$21)","v":""},{"$f":"IF('S2'!$L$21=\"\",\"\",'S2'!$L$21)","v":""},{"$f":"IF('S2'!$M$21=\"\",\"\",'S2'!$M$21)","v":""},{"$f":"IF('S2'!$N$21=\"\",\"\",'S2'!$N$21)","v":""},{"$f":"IF('S2'!$O$21=\"\",\"\",'S2'!$O$21)","v":""},{"$f":"IF('S2'!$P$21=\"\",\"\",'S2'!$P$21)","v":""},null,"von"]
[null,null,null,null,null,null,null,null,null,null,null,null,null,null,null,{"$f":"'S2'!$H$12","v":0},null,null,null,null,null,null,null,null,null,null,null,null,null,null,null,null,null,null,{"$f":"'S2'!$H$12","v":0}]
[null,{"$f":"IF('S2'!$Q$18=\"\",\"\",\"Aufgabe\")","v":""},null,null,{"$f":"IF('S2'!$Q$18=\"\",\"\",'S2'!$Q$18)","v":""},{"$f":"IF('S2'!$R$18=\"\",\"\",'S2'!$R$18)","v":""},{"$f":"IF('S2'!$S$18=\"\",\"\",'S2'!$S$18)","v":""},{"$f":"IF('S2'!$T$18=\"\",\"\",'S2'!$T$18)","v":""},{"$f":"IF('S2'!$U$18=\"\",\"\",'S2'!$U$18)","v":""},{"$f":"IF('S2'!$V$18=\"\",\"\",'S2'!$V$18)","v":""},{"$f":"IF('S2'!$W$18=\"\",\"\",'S2'!$W$18)","v":""},{"$f":"IF('S2'!$X$18=\"\",\"\",'S2'!$X$18)","v":""},{"$f":"IF('S2'!$Y$18=\"\",\"\",'S2'!$Y$18)","v":""},{"$f":"IF('S2'!$Z$18=\"\",\"\",'S2'!$Z$18)","v":""},null,null,null,null,null,null,{"$f":"IF('S2'!$Q$18=\"\",\"\",\"Aufgabe\")","v":""},null,null,{"$f":"IF('S2'!$Q$18=\"\",\"\",'S2'!$Q$18)","v":""},{"$f":"IF('S2'!$R$18=\"\",\"\",'S2'!$R$18)","v":""},{"$f":"IF('S2'!$S$18=\"\",\"\",'S2'!$S$18)","v":""},{"$f":"IF('S2'!$T$18=\"\",\"\",'S2'!$T$18)","v":""},{"$f":"IF('S2'!$U$18=\"\",\"\",'S2'!$U$18)","v":""},{"$f":"IF('S2'!$V$18=\"\",\"\",'S2'!$V$18)","v":""},{"$f":"IF('S2'!$W$18=\"\",\"\",'S2'!$W$18)","v":""},{"$f":"IF('S2'!$X$18=\"\",\"\",'S2'!$X$18)","v":""},{"$f":"IF('S2'!$Y$18=\"\",\"\",'S2'!$Y$18)","v":""},{"$f":"IF('S2'!$Z$18=\"\",\"\",'S2'!$Z$18)","v":""}]
[null,{"$f":"IF('S2'!$Q$18=\"\",\"\",\"erreicht\")","v":""},null,null,{"$f":"IF(VLOOKUP(B109,'S2'!$B$23:$Z$57,16,FALSE)=\"\",\"\",VLOOKUP(B109,'S2'!$B$23:$Z$57,16,FALSE))","v":""},{"$f":"IF(VLOOKUP(B109,'S2'!$B$23:$Z$57,17,FALSE)=\"\",\"\",VLOOKUP(B109,'S2'!$B$23:$Z$57,17,FALSE))","v":""},{"$f":"IF(VLOOKUP(B109,'S2'!$B$23:$Z$57,18,FALSE)=\"\",\"\",VLOOKUP(B109,'S2'!$B$23:$Z$57,18,FALSE))","v":""},{"$f":"IF(VLOOKUP(B109,'S2'!$B$23:$Z$57,19,FALSE)=\"\",\"\",VLOOKUP(B109,'S2'!$B$23:$Z$57,19,FALSE))","v":""},{"$f":"IF(VLOOKUP(B109,'S2'!$B$23:$Z$57,20,FALSE)=\"\",\"\",VLOOKUP(B109,'S2'!$B$23:$Z$57,20,FALSE))","v":""},{"$f":"IF(VLOOKUP(B109,'S2'!$B$23:$Z$57,21,FALSE)=\"\",\"\",VLOOKUP(B109,'S2'!$B$23:$Z$57,21,FALSE))","v":""},{"$f":"IF(VLOOKUP(B109,'S2'!$B$23:$Z$57,22,FALSE)=\"\",\"\",VLOOKUP(B109,'S2'!$B$23:$Z$57,22,FALSE))","v":""},{"$f":"IF(VLOOKUP(B109,'S2'!$B$23:$Z$57,23,FALSE)=\"\",\"\",VLOOKUP(B109,'S2'!$B$23:$Z$57,23,FALSE))","v":""},{"$f":"IF(VLOOKUP(B109,'S2'!$B$23:$Z$57,24,FALSE)=\"\",\"\",VLOOKUP(B109,'S2'!$B$23:$Z$57,24,FALSE))","v":""},{"$f":"IF(VLOOKUP(B109,'S2'!$B$23:$Z$57,25,FALSE)=\"\",\"\",VLOOKUP(B109,'S2'!$B$23:$Z$57,25,FALSE))","v":""},null,"Note",null,null,null,null,{"$f":"IF('S2'!$Q$18=\"\",\"\",\"erreicht\")","v":""},null,null,{"$f":"IF(VLOOKUP(U109,'S2'!$B$23:$Z$57,16,FALSE)=\"\",\"\",VLOOKUP(U109,'S2'!$B$23:$Z$57,16,FALSE))","v":""},{"$f":"IF(VLOOKUP(U109,'S2'!$B$23:$Z$57,17,FALSE)=\"\",\"\",VLOOKUP(U109,'S2'!$B$23:$Z$57,17,FALSE))","v":""},{"$f":"IF(VLOOKUP(U109,'S2'!$B$23:$Z$57,18,FALSE)=\"\",\"\",VLOOKUP(U109,'S2'!$B$23:$Z$57,18,FALSE))","v":""},{"$f":"IF(VLOOKUP(U109,'S2'!$B$23:$Z$57,19,FALSE)=\"\",\"\",VLOOKUP(U109,'S2'!$B$23:$Z$57,19,FALSE))","v":""},{"$f":"IF(VLOOKUP(U109,'S2'!$B$23:$Z$57,20,FALSE)=\"\",\"\",VLOOKUP(U109,'S2'!$B$23:$Z$57,20,FALSE))","v":""},{"$f":"IF(VLOOKUP(U109,'S2'!$B$23:$Z$57,21,FALSE)=\"\",\"\",VLOOKUP(U109,'S2'!$B$23:$Z$57,21,FALSE))","v":""},{"$f":"IF(VLOOKUP(U109,'S2'!$B$23:$Z$57,22,FALSE)=\"\",\"\",VLOOKUP(U109,'S2'!$B$23:$Z$57,22,FALSE))","v":""},{"$f":"IF(VLOOKUP(U109,'S2'!$B$23:$Z$57,23,FALSE)=\"\",\"\",VLOOKUP(U109,'S2'!$B$23:$Z$57,23,FALSE))","v":""},{"$f":"IF(VLOOKUP(U109,'S2'!$B$23:$Z$57,24,FALSE)=\"\",\"\",VLOOKUP(U109,'S2'!$B$23:$Z$57,24,FALSE))","v":""},{"$f":"IF(VLOOKUP(U109,'S2'!$B$23:$Z$57,25,FALSE)=\"\",\"\",VLOOKUP(U109,'S2'!$B$23:$Z$57,25,FALSE))","v":""},null,"Note"]
[null,{"$f":"IF('S2'!$Q$18=\"\",\"\",\"von\")","v":""},null,null,{"$f":"IF('S2'!$Q$21=\"\",\"\",'S2'!$Q$21)","v":""},{"$f":"IF('S2'!$R$21=\"\",\"\",'S2'!$R$21)","v":""},{"$f":"IF('S2'!$S$21=\"\",\"\",'S2'!$S$21)","v":""},{"$f":"IF('S2'!$T$21=\"\",\"\",'S2'!$T$21)","v":""},{"$f":"IF('S2'!$U$21=\"\",\"\",'S2'!$U$21)","v":""},{"$f":"IF('S2'!$V$21=\"\",\"\",'S2'!$V$21)","v":""},{"$f":"IF('S2'!$W$21=\"\",\"\",'S2'!$W$21)","v":""},{"$f":"IF('S2'!$X$21=\"\",\"\",'S2'!$X$21)","v":""},{"$f":"IF('S2'!$Y$21=\"\",\"\",'S2'!$Y$21)","v":""},{"$f":"IF('S2'!$Z$21=\"\",\"\",'S2'!$Z$21)","v":""},null,{"$f":"IF(VLOOKUP(B109,'S2'!$B$23:$Z$57,2,FALSE)=\"\",\"\",CONCATENATE(VLOOKUP(B109,'S2'!$B$23:$Z$57,2,FALSE),\" \",VLOOKUP(B109,'S2'!$B$23:$Z$57,3,FALSE)))","v":"- "},null,null,null,null,{"$f":"IF('S2'!$Q$18=\"\",\"\",\"von\")","v":""},null,null,{"$f":"IF('S2'!$Q$21=\"\",\"\",'S2'!$Q$21)","v":""},{"$f":"IF('S2'!$R$21=\"\",\"\",'S2'!$R$21)","v":""},{"$f":"IF('S2'!$S$21=\"\",\"\",'S2'!$S$21)","v":""},{"$f":"IF('S2'!$T$21=\"\",\"\",'S2'!$T$21)","v":""},{"$f":"IF('S2'!$U$21=\"\",\"\",'S2'!$U$21)","v":""},{"$f":"IF('S2'!$V$21=\"\",\"\",'S2'!$V$21)","v":""},{"$f":"IF('S2'!$W$21=\"\",\"\",'S2'!$W$21)","v":""},{"$f":"IF('S2'!$X$21=\"\",\"\",'S2'!$X$21)","v":""},{"$f":"IF('S2'!$Y$21=\"\",\"\",'S2'!$Y$21)","v":""},{"$f":"IF('S2'!$Z$21=\"\",\"\",'S2'!$Z$21)","v":""},null,{"$f":"IF(VLOOKUP(U109,'S2'!$B$23:$Z$57,2,FALSE)=\"\",\"\",CONCATENATE(VLOOKUP(U109,'S2'!$B$23:$Z$57,2,FALSE),\" \",VLOOKUP(U109,'S2'!$B$23:$Z$57,3,FALSE)))","v":"- "}]
[]
[]
[]
[null,{"$f":"'S2'!$B$43","v":""},null,null,null,null,null,null,null,null,null,null,null,null,null,null,null,null,null,null,{"$f":"'S2'!$B$44","v":""}]
[null,null,null,null,null,null,null,null,null,null,null,null,null,null,null,"Summe",null,null,null,null,null,null,null,null,null,null,null,null,null,null,null,null,null,null,"Summe"]
[null,"Aufgabe",null,null,{"$f":"IF('S2'!$G$18=\"\",\"\",'S2'!$G$18)","v":1},{"$f":"IF('S2'!$H$18=\"\",\"\",'S2'!$H$18)","v":2},{"$f":"IF('S2'!$I$18=\"\",\"\",'S2'!$I$18)","v":3},{"$f":"IF('S2'!$J$18=\"\",\"\",'S2'!$J$18)","v":""},{"$f":"IF('S2'!$K$18=\"\",\"\",'S2'!$K$18)","v":""},{"$f":"IF('S2'!$L$18=\"\",\"\",'S2'!$L$18)","v":""},{"$f":"IF('S2'!$M$18=\"\",\"\",'S2'!$M$18)","v":""},{"$f":"IF('S2'!$N$18=\"\",\"\",'S2'!$N$18)","v":""},{"$f":"IF('S2'!$O$18=\"\",\"\",'S2'!$O$18)","v":""},{"$f":"IF('S2'!$P$18=\"\",\"\",'S2'!$P$18)","v":""},null,{"$f":"IF(VLOOKUP(B121,'S2'!$B$23:$Z$57,5,FALSE)=\"\",\"\",VLOOKUP(B121,'S2'!$B$23:$Z$57,5,FALSE))","v":0},null,null,null,null,"Aufgabe",null,null,{"$f":"IF('S2'!$G$18=\"\",\"\",'S2'!$G$18)","v":1},{"$f":"IF('S2'!$H$18=\"\",\"\",'S2'!$H$18)","v":2},{"$f":"IF('S2'!$I$18=\"\",\"\",'S2'!$I$18)","v":3},{"$f":"IF('S2'!$J$18=\"\",\"\",'S2'!$J$18)","v":""},{"$f":"IF('S2'!$K$18=\"\",\"\",'S2'!$K$18)","v":""},{"$f":"IF('S2'!$L$18=\"\",\"\",'S2'!$L$18)","v":""},{"$f":"IF('S2'!$M$18=\"\",\"\",'S2'!$M$18)","v":""},{"$f":"IF('S2'!$N$18=\"\",\"\",'S2'!$N$18)","v":""},{"$f":"IF('S2'!$O$18=\"\",\"\",'S2'!$O$18)","v":""},{"$f":"IF('S2'!$P$18=\"\",\"\",'S2'!$P$18)","v":""},null,{"$f":"IF(VLOOKUP(U121,'S2'!$B$23:$Z$57,5,FALSE)=\"\",\"\",VLOOKUP(U121,'S2'!$B$23:$Z$57,5,FALSE))","v":0}]
[null,"erreicht",null,null,{"$f":"IF(VLOOKUP(B121,'S2'!$B$23:$Z$57,6,FALSE)=\"\",\"\",VLOOKUP(B121,'S2'!$B$23:$Z$57,6,FALSE))","v":"."},{"$f":"IF(VLOOKUP(B121,'S2'!$B$23:$Z$57,7,FALSE)=\"\",\"\",VLOOKUP(B121,'S2'!$B$23:$Z$57,7,FALSE))","v":""},{"$f":"IF(VLOOKUP(B121,'S2'!$B$23:$Z$57,8,FALSE)=\"\",\"\",VLOOKUP(B121,'S2'!$B$23:$Z$57,8,FALSE))","v":""},{"$f":"IF(VLOOKUP(B121,'S2'!$B$23:$Z$57,9,FALSE)=\"\",\"\",VLOOKUP(B121,'S2'!$B$23:$Z$57,9,FALSE))","v":""},{"$f":"IF(VLOOKUP(B121,'S2'!$B$23:$Z$57,10,FALSE)=\"\",\"\",VLOOKUP(B121,'S2'!$B$23:$Z$57,10,FALSE))","v":""},{"$f":"IF(VLOOKUP(B121,'S2'!$B$23:$Z$57,11,FALSE)=\"\",\"\",VLOOKUP(B121,'S2'!$B$23:$Z$57,11,FALSE))","v":""},{"$f":"IF(VLOOKUP(B121,'S2'!$B$23:$Z$57,12,FALSE)=\"\",\"\",VLOOKUP(B121,'S2'!$B$23:$Z$57,12,FALSE))","v":""},{"$f":"IF(VLOOKUP(B121,'S2'!$B$23:$Z$57,13,FALSE)=\"\",\"\",VLOOKUP(B121,'S2'!$B$23:$Z$57,13,FALSE))","v":""},{"$f":"IF(VLOOKUP(B121,'S2'!$B$23:$Z$57,14,FALSE)=\"\",\"\",VLOOKUP(B121,'S2'!$B$23:$Z$57,14,FALSE))","v":""},{"$f":"IF(VLOOKUP(B121,'S2'!$B$23:$Z$57,15,FALSE)=\"\",\"\",VLOOKUP(B121,'S2'!$B$23:$Z$57,15,FALSE))","v":""},null,null,null,null,null,null,"erreicht",null,null,{"$f":"IF(VLOOKUP(U121,'S2'!$B$23:$Z$57,6,FALSE)=\"\",\"\",VLOOKUP(U121,'S2'!$B$23:$Z$57,6,FALSE))","v":"."},{"$f":"IF(VLOOKUP(U121,'S2'!$B$23:$Z$57,7,FALSE)=\"\",\"\",VLOOKUP(U121,'S2'!$B$23:$Z$57,7,FALSE))","v":""},{"$f":"IF(VLOOKUP(U121,'S2'!$B$23:$Z$57,8,FALSE)=\"\",\"\",VLOOKUP(U121,'S2'!$B$23:$Z$57,8,FALSE))","v":""},{"$f":"IF(VLOOKUP(U121,'S2'!$B$23:$Z$57,9,FALSE)=\"\",\"\",VLOOKUP(U121,'S2'!$B$23:$Z$57,9,FALSE))","v":""},{"$f":"IF(VLOOKUP(U121,'S2'!$B$23:$Z$57,10,FALSE)=\"\",\"\",VLOOKUP(U121,'S2'!$B$23:$Z$57,10,FALSE))","v":""},{"$f":"IF(VLOOKUP(U121,'S2'!$B$23:$Z$57,11,FALSE)=\"\",\"\",VLOOKUP(U121,'S2'!$B$23:$Z$57,11,FALSE))","v":""},{"$f":"IF(VLOOKUP(U121,'S2'!$B$23:$Z$57,12,FALSE)=\"\",\"\",VLOOKUP(U121,'S2'!$B$23:$Z$57,12,FALSE))","v":""},{"$f":"IF(VLOOKUP(U121,'S2'!$B$23:$Z$57,13,FALSE)=\"\",\"\",VLOOKUP(U121,'S2'!$B$23:$Z$57,13,FALSE))","v":""},{"$f":"IF(VLOOKUP(U121,'S2'!$B$23:$Z$57,14,FALSE)=\"\",\"\",VLOOKUP(U121,'S2'!$B$23:$Z$57,14,FALSE))","v":""},{"$f":"IF(VLOOKUP(U121,'S2'!$B$23:$Z$57,15,FALSE)=\"\",\"\",VLOOKUP(U121,'S2'!$B$23:$Z$57,15,FALSE))","v":""}]
[null,"von",null,null,{"$f":"IF('S2'!$G$21=\"\",\"\",'S2'!$G$21)","v":""},{"$f":"IF('S2'!$H$21=\"\",\"\",'S2'!$H$21)","v":""},{"$f":"IF('S2'!$I$21=\"\",\"\",'S2'!$I$21)","v":""},{"$f":"IF('S2'!$J$21=\"\",\"\",'S2'!$J$21)","v":""},{"$f":"IF('S2'!$K$21=\"\",\"\",'S2'!$K$21)","v":""},{"$f":"IF('S2'!$L$21=\"\",\"\",'S2'!$L$21)","v":""},{"$f":"IF('S2'!$M$21=\"\",\"\",'S2'!$M$21)","v":""},{"$f":"IF('S2'!$N$21=\"\",\"\",'S2'!$N$21)","v":""},{"$f":"IF('S2'!$O$21=\"\",\"\",'S2'!$O$21)","v":""},{"$f":"IF('S2'!$P$21=\"\",\"\",'S2'!$P$21)","v":""},null,"von",null,null,null,null,"von",null,null,{"$f":"IF('S2'!$G$21=\"\",\"\",'S2'!$G$21)","v":""},{"$f":"IF('S2'!$H$21=\"\",\"\",'S2'!$H$21)","v":""},{"$f":"IF('S2'!$I$21=\"\",\"\",'S2'!$I$21)","v":""},{"$f":"IF('S2'!$J$21=\"\",\"\",'S2'!$J$21)","v":""},{"$f":"IF('S2'!$K$21=\"\",\"\",'S2'!$K$21)","v":""},{"$f":"IF('S2'!$L$21=\"\",\"\",'S2'!$L$21)","v":""},{"$f":"IF('S2'!$M$21=\"\",\"\",'S2'!$M$21)","v":""},{"$f":"IF('S2'!$N$21=\"\",\"\",'S2'!$N$21)","v":""},{"$f":"IF('S2'!$O$21=\"\",\"\",'S2'!$O$21)","v":""},{"$f":"IF('S2'!$P$21=\"\",\"\",'S2'!$P$21)","v":""},null,"von"]
[null,null,null,null,null,null,null,null,null,null,null,null,null,null,null,{"$f":"'S2'!$H$12","v":0},null,null,null,null,null,null,null,null,null,null,null,null,null,null,null,null,null,null,{"$f":"'S2'!$H$12","v":0}]
[null,{"$f":"IF('S2'!$Q$18=\"\",\"\",\"Aufgabe\")","v":""},null,null,{"$f":"IF('S2'!$Q$18=\"\",\"\",'S2'!$Q$18)","v":""},{"$f":"IF('S2'!$R$18=\"\",\"\",'S2'!$R$18)","v":""},{"$f":"IF('S2'!$S$18=\"\",\"\",'S2'!$S$18)","v":""},{"$f":"IF('S2'!$T$18=\"\",\"\",'S2'!$T$18)","v":""},{"$f":"IF('S2'!$U$18=\"\",\"\",'S2'!$U$18)","v":""},{"$f":"IF('S2'!$V$18=\"\",\"\",'S2'!$V$18)","v":""},{"$f":"IF('S2'!$W$18=\"\",\"\",'S2'!$W$18)","v":""},{"$f":"IF('S2'!$X$18=\"\",\"\",'S2'!$X$18)","v":""},{"$f":"IF('S2'!$Y$18=\"\",\"\",'S2'!$Y$18)","v":""},{"$f":"IF('S2'!$Z$18=\"\",\"\",'S2'!$Z$18)","v":""},null,null,null,null,null,null,{"$f":"IF('S2'!$Q$18=\"\",\"\",\"Aufgabe\")","v":""},null,null,{"$f":"IF('S2'!$Q$18=\"\",\"\",'S2'!$Q$18)","v":""},{"$f":"IF('S2'!$R$18=\"\",\"\",'S2'!$R$18)","v":""},{"$f":"IF('S2'!$S$18=\"\",\"\",'S2'!$S$18)","v":""},{"$f":"IF('S2'!$T$18=\"\",\"\",'S2'!$T$18)","v":""},{"$f":"IF('S2'!$U$18=\"\",\"\",'S2'!$U$18)","v":""},{"$f":"IF('S2'!$V$18=\"\",\"\",'S2'!$V$18)","v":""},{"$f":"IF('S2'!$W$18=\"\",\"\",'S2'!$W$18)","v":""},{"$f":"IF('S2'!$X$18=\"\",\"\",'S2'!$X$18)","v":""},{"$f":"IF('S2'!$Y$18=\"\",\"\",'S2'!$Y$18)","v":""},{"$f":"IF('S2'!$Z$18=\"\",\"\",'S2'!$Z$18)","v":""}]
[null,{"$f":"IF('S2'!$Q$18=\"\",\"\",\"erreicht\")","v":""},null,null,{"$f":"IF(VLOOKUP(B121,'S2'!$B$23:$Z$57,16,FALSE)=\"\",\"\",VLOOKUP(B121,'S2'!$B$23:$Z$57,16,FALSE))","v":""},{"$f":"IF(VLOOKUP(B121,'S2'!$B$23:$Z$57,17,FALSE)=\"\",\"\",VLOOKUP(B121,'S2'!$B$23:$Z$57,17,FALSE))","v":""},{"$f":"IF(VLOOKUP(B121,'S2'!$B$23:$Z$57,18,FALSE)=\"\",\"\",VLOOKUP(B121,'S2'!$B$23:$Z$57,18,FALSE))","v":""},{"$f":"IF(VLOOKUP(B121,'S2'!$B$23:$Z$57,19,FALSE)=\"\",\"\",VLOOKUP(B121,'S2'!$B$23:$Z$57,19,FALSE))","v":""},{"$f":"IF(VLOOKUP(B121,'S2'!$B$23:$Z$57,20,FALSE)=\"\",\"\",VLOOKUP(B121,'S2'!$B$23:$Z$57,20,FALSE))","v":""},{"$f":"IF(VLOOKUP(B121,'S2'!$B$23:$Z$57,21,FALSE)=\"\",\"\",VLOOKUP(B121,'S2'!$B$23:$Z$57,21,FALSE))","v":""},{"$f":"IF(VLOOKUP(B121,'S2'!$B$23:$Z$57,22,FALSE)=\"\",\"\",VLOOKUP(B121,'S2'!$B$23:$Z$57,22,FALSE))","v":""},{"$f":"IF(VLOOKUP(B121,'S2'!$B$23:$Z$57,23,FALSE)=\"\",\"\",VLOOKUP(B121,'S2'!$B$23:$Z$57,23,FALSE))","v":""},{"$f":"IF(VLOOKUP(B121,'S2'!$B$23:$Z$57,24,FALSE)=\"\",\"\",VLOOKUP(B121,'S2'!$B$23:$Z$57,24,FALSE))","v":""},{"$f":"IF(VLOOKUP(B121,'S2'!$B$23:$Z$57,25,FALSE)=\"\",\"\",VLOOKUP(B121,'S2'!$B$23:$Z$57,25,FALSE))","v":""},null,"Note",null,null,null,null,{"$f":"IF('S2'!$Q$18=\"\",\"\",\"erreicht\")","v":""},null,null,{"$f":"IF(VLOOKUP(U121,'S2'!$B$23:$Z$57,16,FALSE)=\"\",\"\",VLOOKUP(U121,'S2'!$B$23:$Z$57,16,FALSE))","v":""},{"$f":"IF(VLOOKUP(U121,'S2'!$B$23:$Z$57,17,FALSE)=\"\",\"\",VLOOKUP(U121,'S2'!$B$23:$Z$57,17,FALSE))","v":""},{"$f":"IF(VLOOKUP(U121,'S2'!$B$23:$Z$57,18,FALSE)=\"\",\"\",VLOOKUP(U121,'S2'!$B$23:$Z$57,18,FALSE))","v":""},{"$f":"IF(VLOOKUP(U121,'S2'!$B$23:$Z$57,19,FALSE)=\"\",\"\",VLOOKUP(U121,'S2'!$B$23:$Z$57,19,FALSE))","v":""},{"$f":"IF(VLOOKUP(U121,'S2'!$B$23:$Z$57,20,FALSE)=\"\",\"\",VLOOKUP(U121,'S2'!$B$23:$Z$57,20,FALSE))","v":""},{"$f":"IF(VLOOKUP(U121,'S2'!$B$23:$Z$57,21,FALSE)=\"\",\"\",VLOOKUP(U121,'S2'!$B$23:$Z$57,21,FALSE))","v":""},{"$f":"IF(VLOOKUP(U121,'S2'!$B$23:$Z$57,22,FALSE)=\"\",\"\",VLOOKUP(U121,'S2'!$B$23:$Z$57,22,FALSE))","v":""},{"$f":"IF(VLOOKUP(U121,'S2'!$B$23:$Z$57,23,FALSE)=\"\",\"\",VLOOKUP(U121,'S2'!$B$23:$Z$57,23,FALSE))","v":""},{"$f":"IF(VLOOKUP(U121,'S2'!$B$23:$Z$57,24,FALSE)=\"\",\"\",VLOOKUP(U121,'S2'!$B$23:$Z$57,24,FALSE))","v":""},{"$f":"IF(VLOOKUP(U121,'S2'!$B$23:$Z$57,25,FALSE)=\"\",\"\",VLOOKUP(U121,'S2'!$B$23:$Z$57,25,FALSE))","v":""},null,"Note"]
[null,{"$f":"IF('S2'!$Q$18=\"\",\"\",\"von\")","v":""},null,null,{"$f":"IF('S2'!$Q$21=\"\",\"\",'S2'!$Q$21)","v":""},{"$f":"IF('S2'!$R$21=\"\",\"\",'S2'!$R$21)","v":""},{"$f":"IF('S2'!$S$21=\"\",\"\",'S2'!$S$21)","v":""},{"$f":"IF('S2'!$T$21=\"\",\"\",'S2'!$T$21)","v":""},{"$f":"IF('S2'!$U$21=\"\",\"\",'S2'!$U$21)","v":""},{"$f":"IF('S2'!$V$21=\"\",\"\",'S2'!$V$21)","v":""},{"$f":"IF('S2'!$W$21=\"\",\"\",'S2'!$W$21)","v":""},{"$f":"IF('S2'!$X$21=\"\",\"\",'S2'!$X$21)","v":""},{"$f":"IF('S2'!$Y$21=\"\",\"\",'S2'!$Y$21)","v":""},{"$f":"IF('S2'!$Z$21=\"\",\"\",'S2'!$Z$21)","v":""},null,{"$f":"IF(VLOOKUP(B121,'S2'!$B$23:$Z$57,2,FALSE)=\"\",\"\",CONCATENATE(VLOOKUP(B121,'S2'!$B$23:$Z$57,2,FALSE),\" \",VLOOKUP(B121,'S2'!$B$23:$Z$57,3,FALSE)))","v":"- "},null,null,null,null,{"$f":"IF('S2'!$Q$18=\"\",\"\",\"von\")","v":""},null,null,{"$f":"IF('S2'!$Q$21=\"\",\"\",'S2'!$Q$21)","v":""},{"$f":"IF('S2'!$R$21=\"\",\"\",'S2'!$R$21)","v":""},{"$f":"IF('S2'!$S$21=\"\",\"\",'S2'!$S$21)","v":""},{"$f":"IF('S2'!$T$21=\"\",\"\",'S2'!$T$21)","v":""},{"$f":"IF('S2'!$U$21=\"\",\"\",'S2'!$U$21)","v":""},{"$f":"IF('S2'!$V$21=\"\",\"\",'S2'!$V$21)","v":""},{"$f":"IF('S2'!$W$21=\"\",\"\",'S2'!$W$21)","v":""},{"$f":"IF('S2'!$X$21=\"\",\"\",'S2'!$X$21)","v":""},{"$f":"IF('S2'!$Y$21=\"\",\"\",'S2'!$Y$21)","v":""},{"$f":"IF('S2'!$Z$21=\"\",\"\",'S2'!$Z$21)","v":""},null,{"$f":"IF(VLOOKUP(U121,'S2'!$B$23:$Z$57,2,FALSE)=\"\",\"\",CONCATENATE(VLOOKUP(U121,'S2'!$B$23:$Z$57,2,FALSE),\" \",VLOOKUP(U121,'S2'!$B$23:$Z$57,3,FALSE)))","v":"- "}]
[]
[]
[]
[null,{"$f":"'S2'!$B$45","v":""},null,null,null,null,null,null,null,null,null,null,null,null,null,null,null,null,null,null,{"$f":"'S2'!$B$46","v":""}]
[null,null,null,null,null,null,null,null,null,null,null,null,null,null,null,"Summe",null,null,null,null,null,null,null,null,null,null,null,null,null,null,null,null,null,null,"Summe"]
[null,"Aufgabe",null,null,{"$f":"IF('S2'!$G$18=\"\",\"\",'S2'!$G$18)","v":1},{"$f":"IF('S2'!$H$18=\"\",\"\",'S2'!$H$18)","v":2},{"$f":"IF('S2'!$I$18=\"\",\"\",'S2'!$I$18)","v":3},{"$f":"IF('S2'!$J$18=\"\",\"\",'S2'!$J$18)","v":""},{"$f":"IF('S2'!$K$18=\"\",\"\",'S2'!$K$18)","v":""},{"$f":"IF('S2'!$L$18=\"\",\"\",'S2'!$L$18)","v":""},{"$f":"IF('S2'!$M$18=\"\",\"\",'S2'!$M$18)","v":""},{"$f":"IF('S2'!$N$18=\"\",\"\",'S2'!$N$18)","v":""},{"$f":"IF('S2'!$O$18=\"\",\"\",'S2'!$O$18)","v":""},{"$f":"IF('S2'!$P$18=\"\",\"\",'S2'!$P$18)","v":""},null,{"$f":"IF(VLOOKUP(B133,'S2'!$B$23:$Z$57,5,FALSE)=\"\",\"\",VLOOKUP(B133,'S2'!$B$23:$Z$57,5,FALSE))","v":0},null,null,null,null,"Aufgabe",null,null,{"$f":"IF('S2'!$G$18=\"\",\"\",'S2'!$G$18)","v":1},{"$f":"IF('S2'!$H$18=\"\",\"\",'S2'!$H$18)","v":2},{"$f":"IF('S2'!$I$18=\"\",\"\",'S2'!$I$18)","v":3},{"$f":"IF('S2'!$J$18=\"\",\"\",'S2'!$J$18)","v":""},{"$f":"IF('S2'!$K$18=\"\",\"\",'S2'!$K$18)","v":""},{"$f":"IF('S2'!$L$18=\"\",\"\",'S2'!$L$18)","v":""},{"$f":"IF('S2'!$M$18=\"\",\"\",'S2'!$M$18)","v":""},{"$f":"IF('S2'!$N$18=\"\",\"\",'S2'!$N$18)","v":""},{"$f":"IF('S2'!$O$18=\"\",\"\",'S2'!$O$18)","v":""},{"$f":"IF('S2'!$P$18=\"\",\"\",'S2'!$P$18)","v":""},null,{"$f":"IF(VLOOKUP(U133,'S2'!$B$23:$Z$57,5,FALSE)=\"\",\"\",VLOOKUP(U133,'S2'!$B$23:$Z$57,5,FALSE))","v":0}]
[null,"erreicht",null,null,{"$f":"IF(VLOOKUP(B133,'S2'!$B$23:$Z$57,6,FALSE)=\"\",\"\",VLOOKUP(B133,'S2'!$B$23:$Z$57,6,FALSE))","v":"."},{"$f":"IF(VLOOKUP(B133,'S2'!$B$23:$Z$57,7,FALSE)=\"\",\"\",VLOOKUP(B133,'S2'!$B$23:$Z$57,7,FALSE))","v":""},{"$f":"IF(VLOOKUP(B133,'S2'!$B$23:$Z$57,8,FALSE)=\"\",\"\",VLOOKUP(B133,'S2'!$B$23:$Z$57,8,FALSE))","v":""},{"$f":"IF(VLOOKUP(B133,'S2'!$B$23:$Z$57,9,FALSE)=\"\",\"\",VLOOKUP(B133,'S2'!$B$23:$Z$57,9,FALSE))","v":""},{"$f":"IF(VLOOKUP(B133,'S2'!$B$23:$Z$57,10,FALSE)=\"\",\"\",VLOOKUP(B133,'S2'!$B$23:$Z$57,10,FALSE))","v":""},{"$f":"IF(VLOOKUP(B133,'S2'!$B$23:$Z$57,11,FALSE)=\"\",\"\",VLOOKUP(B133,'S2'!$B$23:$Z$57,11,FALSE))","v":""},{"$f":"IF(VLOOKUP(B133,'S2'!$B$23:$Z$57,12,FALSE)=\"\",\"\",VLOOKUP(B133,'S2'!$B$23:$Z$57,12,FALSE))","v":""},{"$f":"IF(VLOOKUP(B133,'S2'!$B$23:$Z$57,13,FALSE)=\"\",\"\",VLOOKUP(B133,'S2'!$B$23:$Z$57,13,FALSE))","v":""},{"$f":"IF(VLOOKUP(B133,'S2'!$B$23:$Z$57,14,FALSE)=\"\",\"\",VLOOKUP(B133,'S2'!$B$23:$Z$57,14,FALSE))","v":""},{"$f":"IF(VLOOKUP(B133,'S2'!$B$23:$Z$57,15,FALSE)=\"\",\"\",VLOOKUP(B133,'S2'!$B$23:$Z$57,15,FALSE))","v":""},null,null,null,null,null,null,"erreicht",null,null,{"$f":"IF(VLOOKUP(U133,'S2'!$B$23:$Z$57,6,FALSE)=\"\",\"\",VLOOKUP(U133,'S2'!$B$23:$Z$57,6,FALSE))","v":"."},{"$f":"IF(VLOOKUP(U133,'S2'!$B$23:$Z$57,7,FALSE)=\"\",\"\",VLOOKUP(U133,'S2'!$B$23:$Z$57,7,FALSE))","v":""},{"$f":"IF(VLOOKUP(U133,'S2'!$B$23:$Z$57,8,FALSE)=\"\",\"\",VLOOKUP(U133,'S2'!$B$23:$Z$57,8,FALSE))","v":""},{"$f":"IF(VLOOKUP(U133,'S2'!$B$23:$Z$57,9,FALSE)=\"\",\"\",VLOOKUP(U133,'S2'!$B$23:$Z$57,9,FALSE))","v":""},{"$f":"IF(VLOOKUP(U133,'S2'!$B$23:$Z$57,10,FALSE)=\"\",\"\",VLOOKUP(U133,'S2'!$B$23:$Z$57,10,FALSE))","v":""},{"$f":"IF(VLOOKUP(U133,'S2'!$B$23:$Z$57,11,FALSE)=\"\",\"\",VLOOKUP(U133,'S2'!$B$23:$Z$57,11,FALSE))","v":""},{"$f":"IF(VLOOKUP(U133,'S2'!$B$23:$Z$57,12,FALSE)=\"\",\"\",VLOOKUP(U133,'S2'!$B$23:$Z$57,12,FALSE))","v":""},{"$f":"IF(VLOOKUP(U133,'S2'!$B$23:$Z$57,13,FALSE)=\"\",\"\",VLOOKUP(U133,'S2'!$B$23:$Z$57,13,FALSE))","v":""},{"$f":"IF(VLOOKUP(U133,'S2'!$B$23:$Z$57,14,FALSE)=\"\",\"\",VLOOKUP(U133,'S2'!$B$23:$Z$57,14,FALSE))","v":""},{"$f":"IF(VLOOKUP(U133,'S2'!$B$23:$Z$57,15,FALSE)=\"\",\"\",VLOOKUP(U133,'S2'!$B$23:$Z$57,15,FALSE))","v":""}]
[null,"von",null,null,{"$f":"IF('S2'!$G$21=\"\",\"\",'S2'!$G$21)","v":""},{"$f":"IF('S2'!$H$21=\"\",\"\",'S2'!$H$21)","v":""},{"$f":"IF('S2'!$I$21=\"\",\"\",'S2'!$I$21)","v":""},{"$f":"IF('S2'!$J$21=\"\",\"\",'S2'!$J$21)","v":""},{"$f":"IF('S2'!$K$21=\"\",\"\",'S2'!$K$21)","v":""},{"$f":"IF('S2'!$L$21=\"\",\"\",'S2'!$L$21)","v":""},{"$f":"IF('S2'!$M$21=\"\",\"\",'S2'!$M$21)","v":""},{"$f":"IF('S2'!$N$21=\"\",\"\",'S2'!$N$21)","v":""},{"$f":"IF('S2'!$O$21=\"\",\"\",'S2'!$O$21)","v":""},{"$f":"IF('S2'!$P$21=\"\",\"\",'S2'!$P$21)","v":""},null,"von",null,null,null,null,"von",null,null,{"$f":"IF('S2'!$G$21=\"\",\"\",'S2'!$G$21)","v":""},{"$f":"IF('S2'!$H$21=\"\",\"\",'S2'!$H$21)","v":""},{"$f":"IF('S2'!$I$21=\"\",\"\",'S2'!$I$21)","v":""},{"$f":"IF('S2'!$J$21=\"\",\"\",'S2'!$J$21)","v":""},{"$f":"IF('S2'!$K$21=\"\",\"\",'S2'!$K$21)","v":""},{"$f":"IF('S2'!$L$21=\"\",\"\",'S2'!$L$21)","v":""},{"$f":"IF('S2'!$M$21=\"\",\"\",'S2'!$M$21)","v":""},{"$f":"IF('S2'!$N$21=\"\",\"\",'S2'!$N$21)","v":""},{"$f":"IF('S2'!$O$21=\"\",\"\",'S2'!$O$21)","v":""},{"$f":"IF('S2'!$P$21=\"\",\"\",'S2'!$P$21)","v":""},null,"von"]
[null,null,null,null,null,null,null,null,null,null,null,null,null,null,null,{"$f":"'S2'!$H$12","v":0},null,null,null,null,null,null,null,null,null,null,null,null,null,null,null,null,null,null,{"$f":"'S2'!$H$12","v":0}]
[null,{"$f":"IF('S2'!$Q$18=\"\",\"\",\"Aufgabe\")","v":""},null,null,{"$f":"IF('S2'!$Q$18=\"\",\"\",'S2'!$Q$18)","v":""},{"$f":"IF('S2'!$R$18=\"\",\"\",'S2'!$R$18)","v":""},{"$f":"IF('S2'!$S$18=\"\",\"\",'S2'!$S$18)","v":""},{"$f":"IF('S2'!$T$18=\"\",\"\",'S2'!$T$18)","v":""},{"$f":"IF('S2'!$U$18=\"\",\"\",'S2'!$U$18)","v":""},{"$f":"IF('S2'!$V$18=\"\",\"\",'S2'!$V$18)","v":""},{"$f":"IF('S2'!$W$18=\"\",\"\",'S2'!$W$18)","v":""},{"$f":"IF('S2'!$X$18=\"\",\"\",'S2'!$X$18)","v":""},{"$f":"IF('S2'!$Y$18=\"\",\"\",'S2'!$Y$18)","v":""},{"$f":"IF('S2'!$Z$18=\"\",\"\",'S2'!$Z$18)","v":""},null,null,null,null,null,null,{"$f":"IF('S2'!$Q$18=\"\",\"\",\"Aufgabe\")","v":""},null,null,{"$f":"IF('S2'!$Q$18=\"\",\"\",'S2'!$Q$18)","v":""},{"$f":"IF('S2'!$R$18=\"\",\"\",'S2'!$R$18)","v":""},{"$f":"IF('S2'!$S$18=\"\",\"\",'S2'!$S$18)","v":""},{"$f":"IF('S2'!$T$18=\"\",\"\",'S2'!$T$18)","v":""},{"$f":"IF('S2'!$U$18=\"\",\"\",'S2'!$U$18)","v":""},{"$f":"IF('S2'!$V$18=\"\",\"\",'S2'!$V$18)","v":""},{"$f":"IF('S2'!$W$18=\"\",\"\",'S2'!$W$18)","v":""},{"$f":"IF('S2'!$X$18=\"\",\"\",'S2'!$X$18)","v":""},{"$f":"IF('S2'!$Y$18=\"\",\"\",'S2'!$Y$18)","v":""},{"$f":"IF('S2'!$Z$18=\"\",\"\",'S2'!$Z$18)","v":""}]
[null,{"$f":"IF('S2'!$Q$18=\"\",\"\",\"erreicht\")","v":""},null,null,{"$f":"IF(VLOOKUP(B133,'S2'!$B$23:$Z$57,16,FALSE)=\"\",\"\",VLOOKUP(B133,'S2'!$B$23:$Z$57,16,FALSE))","v":""},{"$f":"IF(VLOOKUP(B133,'S2'!$B$23:$Z$57,17,FALSE)=\"\",\"\",VLOOKUP(B133,'S2'!$B$23:$Z$57,17,FALSE))","v":""},{"$f":"IF(VLOOKUP(B133,'S2'!$B$23:$Z$57,18,FALSE)=\"\",\"\",VLOOKUP(B133,'S2'!$B$23:$Z$57,18,FALSE))","v":""},{"$f":"IF(VLOOKUP(B133,'S2'!$B$23:$Z$57,19,FALSE)=\"\",\"\",VLOOKUP(B133,'S2'!$B$23:$Z$57,19,FALSE))","v":""},{"$f":"IF(VLOOKUP(B133,'S2'!$B$23:$Z$57,20,FALSE)=\"\",\"\",VLOOKUP(B133,'S2'!$B$23:$Z$57,20,FALSE))","v":""},{"$f":"IF(VLOOKUP(B133,'S2'!$B$23:$Z$57,21,FALSE)=\"\",\"\",VLOOKUP(B133,'S2'!$B$23:$Z$57,21,FALSE))","v":""},{"$f":"IF(VLOOKUP(B133,'S2'!$B$23:$Z$57,22,FALSE)=\"\",\"\",VLOOKUP(B133,'S2'!$B$23:$Z$57,22,FALSE))","v":""},{"$f":"IF(VLOOKUP(B133,'S2'!$B$23:$Z$57,23,FALSE)=\"\",\"\",VLOOKUP(B133,'S2'!$B$23:$Z$57,23,FALSE))","v":""},{"$f":"IF(VLOOKUP(B133,'S2'!$B$23:$Z$57,24,FALSE)=\"\",\"\",VLOOKUP(B133,'S2'!$B$23:$Z$57,24,FALSE))","v":""},{"$f":"IF(VLOOKUP(B133,'S2'!$B$23:$Z$57,25,FALSE)=\"\",\"\",VLOOKUP(B133,'S2'!$B$23:$Z$57,25,FALSE))","v":""},null,"Note",null,null,null,null,{"$f":"IF('S2'!$Q$18=\"\",\"\",\"erreicht\")","v":""},null,null,{"$f":"IF(VLOOKUP(U133,'S2'!$B$23:$Z$57,16,FALSE)=\"\",\"\",VLOOKUP(U133,'S2'!$B$23:$Z$57,16,FALSE))","v":""},{"$f":"IF(VLOOKUP(U133,'S2'!$B$23:$Z$57,17,FALSE)=\"\",\"\",VLOOKUP(U133,'S2'!$B$23:$Z$57,17,FALSE))","v":""},{"$f":"IF(VLOOKUP(U133,'S2'!$B$23:$Z$57,18,FALSE)=\"\",\"\",VLOOKUP(U133,'S2'!$B$23:$Z$57,18,FALSE))","v":""},{"$f":"IF(VLOOKUP(U133,'S2'!$B$23:$Z$57,19,FALSE)=\"\",\"\",VLOOKUP(U133,'S2'!$B$23:$Z$57,19,FALSE))","v":""},{"$f":"IF(VLOOKUP(U133,'S2'!$B$23:$Z$57,20,FALSE)=\"\",\"\",VLOOKUP(U133,'S2'!$B$23:$Z$57,20,FALSE))","v":""},{"$f":"IF(VLOOKUP(U133,'S2'!$B$23:$Z$57,21,FALSE)=\"\",\"\",VLOOKUP(U133,'S2'!$B$23:$Z$57,21,FALSE))","v":""},{"$f":"IF(VLOOKUP(U133,'S2'!$B$23:$Z$57,22,FALSE)=\"\",\"\",VLOOKUP(U133,'S2'!$B$23:$Z$57,22,FALSE))","v":""},{"$f":"IF(VLOOKUP(U133,'S2'!$B$23:$Z$57,23,FALSE)=\"\",\"\",VLOOKUP(U133,'S2'!$B$23:$Z$57,23,FALSE))","v":""},{"$f":"IF(VLOOKUP(U133,'S2'!$B$23:$Z$57,24,FALSE)=\"\",\"\",VLOOKUP(U133,'S2'!$B$23:$Z$57,24,FALSE))","v":""},{"$f":"IF(VLOOKUP(U133,'S2'!$B$23:$Z$57,25,FALSE)=\"\",\"\",VLOOKUP(U133,'S2'!$B$23:$Z$57,25,FALSE))","v":""},null,"Note"]
[null,{"$f":"IF('S2'!$Q$18=\"\",\"\",\"von\")","v":""},null,null,{"$f":"IF('S2'!$Q$21=\"\",\"\",'S2'!$Q$21)","v":""},{"$f":"IF('S2'!$R$21=\"\",\"\",'S2'!$R$21)","v":""},{"$f":"IF('S2'!$S$21=\"\",\"\",'S2'!$S$21)","v":""},{"$f":"IF('S2'!$T$21=\"\",\"\",'S2'!$T$21)","v":""},{"$f":"IF('S2'!$U$21=\"\",\"\",'S2'!$U$21)","v":""},{"$f":"IF('S2'!$V$21=\"\",\"\",'S2'!$V$21)","v":""},{"$f":"IF('S2'!$W$21=\"\",\"\",'S2'!$W$21)","v":""},{"$f":"IF('S2'!$X$21=\"\",\"\",'S2'!$X$21)","v":""},{"$f":"IF('S2'!$Y$21=\"\",\"\",'S2'!$Y$21)","v":""},{"$f":"IF('S2'!$Z$21=\"\",\"\",'S2'!$Z$21)","v":""},null,{"$f":"IF(VLOOKUP(B133,'S2'!$B$23:$Z$57,2,FALSE)=\"\",\"\",CONCATENATE(VLOOKUP(B133,'S2'!$B$23:$Z$57,2,FALSE),\" \",VLOOKUP(B133,'S2'!$B$23:$Z$57,3,FALSE)))","v":"- "},null,null,null,null,{"$f":"IF('S2'!$Q$18=\"\",\"\",\"von\")","v":""},null,null,{"$f":"IF('S2'!$Q$21=\"\",\"\",'S2'!$Q$21)","v":""},{"$f":"IF('S2'!$R$21=\"\",\"\",'S2'!$R$21)","v":""},{"$f":"IF('S2'!$S$21=\"\",\"\",'S2'!$S$21)","v":""},{"$f":"IF('S2'!$T$21=\"\",\"\",'S2'!$T$21)","v":""},{"$f":"IF('S2'!$U$21=\"\",\"\",'S2'!$U$21)","v":""},{"$f":"IF('S2'!$V$21=\"\",\"\",'S2'!$V$21)","v":""},{"$f":"IF('S2'!$W$21=\"\",\"\",'S2'!$W$21)","v":""},{"$f":"IF('S2'!$X$21=\"\",\"\",'S2'!$X$21)","v":""},{"$f":"IF('S2'!$Y$21=\"\",\"\",'S2'!$Y$21)","v":""},{"$f":"IF('S2'!$Z$21=\"\",\"\",'S2'!$Z$21)","v":""},null,{"$f":"IF(VLOOKUP(U133,'S2'!$B$23:$Z$57,2,FALSE)=\"\",\"\",CONCATENATE(VLOOKUP(U133,'S2'!$B$23:$Z$57,2,FALSE),\" \",VLOOKUP(U133,'S2'!$B$23:$Z$57,3,FALSE)))","v":"- "}]
[]
[]
[null,{"$f":"'S2'!$B$47","v":""},null,null,null,null,null,null,null,null,null,null,null,null,null,null,null,null,null,null,{"$f":"'S2'!$B$48","v":""}]
[null,null,null,null,null,null,null,null,null,null,null,null,null,null,null,"Summe",null,null,null,null,null,null,null,null,null,null,null,null,null,null,null,null,null,null,"Summe"]
[null,"Aufgabe",null,null,{"$f":"IF('S2'!$G$18=\"\",\"\",'S2'!$G$18)","v":1},{"$f":"IF('S2'!$H$18=\"\",\"\",'S2'!$H$18)","v":2},{"$f":"IF('S2'!$I$18=\"\",\"\",'S2'!$I$18)","v":3},{"$f":"IF('S2'!$J$18=\"\",\"\",'S2'!$J$18)","v":""},{"$f":"IF('S2'!$K$18=\"\",\"\",'S2'!$K$18)","v":""},{"$f":"IF('S2'!$L$18=\"\",\"\",'S2'!$L$18)","v":""},{"$f":"IF('S2'!$M$18=\"\",\"\",'S2'!$M$18)","v":""},{"$f":"IF('S2'!$N$18=\"\",\"\",'S2'!$N$18)","v":""},{"$f":"IF('S2'!$O$18=\"\",\"\",'S2'!$O$18)","v":""},{"$f":"IF('S2'!$P$18=\"\",\"\",'S2'!$P$18)","v":""},null,{"$f":"IF(VLOOKUP(B144,'S2'!$B$23:$Z$57,5,FALSE)=\"\",\"\",VLOOKUP(B144,'S2'!$B$23:$Z$57,5,FALSE))","v":0},null,null,null,null,"Aufgabe",null,null,{"$f":"IF('S2'!$G$18=\"\",\"\",'S2'!$G$18)","v":1},{"$f":"IF('S2'!$H$18=\"\",\"\",'S2'!$H$18)","v":2},{"$f":"IF('S2'!$I$18=\"\",\"\",'S2'!$I$18)","v":3},{"$f":"IF('S2'!$J$18=\"\",\"\",'S2'!$J$18)","v":""},{"$f":"IF('S2'!$K$18=\"\",\"\",'S2'!$K$18)","v":""},{"$f":"IF('S2'!$L$18=\"\",\"\",'S2'!$L$18)","v":""},{"$f":"IF('S2'!$M$18=\"\",\"\",'S2'!$M$18)","v":""},{"$f":"IF('S2'!$N$18=\"\",\"\",'S2'!$N$18)","v":""},{"$f":"IF('S2'!$O$18=\"\",\"\",'S2'!$O$18)","v":""},{"$f":"IF('S2'!$P$18=\"\",\"\",'S2'!$P$18)","v":""},null,{"$f":"IF(VLOOKUP(U144,'S2'!$B$23:$Z$57,5,FALSE)=\"\",\"\",VLOOKUP(U144,'S2'!$B$23:$Z$57,5,FALSE))","v":0}]
[null,"erreicht",null,null,{"$f":"IF(VLOOKUP(B144,'S2'!$B$23:$Z$57,6,FALSE)=\"\",\"\",VLOOKUP(B144,'S2'!$B$23:$Z$57,6,FALSE))","v":"."},{"$f":"IF(VLOOKUP(B144,'S2'!$B$23:$Z$57,7,FALSE)=\"\",\"\",VLOOKUP(B144,'S2'!$B$23:$Z$57,7,FALSE))","v":""},{"$f":"IF(VLOOKUP(B144,'S2'!$B$23:$Z$57,8,FALSE)=\"\",\"\",VLOOKUP(B144,'S2'!$B$23:$Z$57,8,FALSE))","v":""},{"$f":"IF(VLOOKUP(B144,'S2'!$B$23:$Z$57,9,FALSE)=\"\",\"\",VLOOKUP(B144,'S2'!$B$23:$Z$57,9,FALSE))","v":""},{"$f":"IF(VLOOKUP(B144,'S2'!$B$23:$Z$57,10,FALSE)=\"\",\"\",VLOOKUP(B144,'S2'!$B$23:$Z$57,10,FALSE))","v":""},{"$f":"IF(VLOOKUP(B144,'S2'!$B$23:$Z$57,11,FALSE)=\"\",\"\",VLOOKUP(B144,'S2'!$B$23:$Z$57,11,FALSE))","v":""},{"$f":"IF(VLOOKUP(B144,'S2'!$B$23:$Z$57,12,FALSE)=\"\",\"\",VLOOKUP(B144,'S2'!$B$23:$Z$57,12,FALSE))","v":""},{"$f":"IF(VLOOKUP(B144,'S2'!$B$23:$Z$57,13,FALSE)=\"\",\"\",VLOOKUP(B144,'S2'!$B$23:$Z$57,13,FALSE))","v":""},{"$f":"IF(VLOOKUP(B144,'S2'!$B$23:$Z$57,14,FALSE)=\"\",\"\",VLOOKUP(B144,'S2'!$B$23:$Z$57,14,FALSE))","v":""},{"$f":"IF(VLOOKUP(B144,'S2'!$B$23:$Z$57,15,FALSE)=\"\",\"\",VLOOKUP(B144,'S2'!$B$23:$Z$57,15,FALSE))","v":""},null,null,null,null,null,null,"erreicht",null,null,{"$f":"IF(VLOOKUP(U144,'S2'!$B$23:$Z$57,6,FALSE)=\"\",\"\",VLOOKUP(U144,'S2'!$B$23:$Z$57,6,FALSE))","v":"."},{"$f":"IF(VLOOKUP(U144,'S2'!$B$23:$Z$57,7,FALSE)=\"\",\"\",VLOOKUP(U144,'S2'!$B$23:$Z$57,7,FALSE))","v":""},{"$f":"IF(VLOOKUP(U144,'S2'!$B$23:$Z$57,8,FALSE)=\"\",\"\",VLOOKUP(U144,'S2'!$B$23:$Z$57,8,FALSE))","v":""},{"$f":"IF(VLOOKUP(U144,'S2'!$B$23:$Z$57,9,FALSE)=\"\",\"\",VLOOKUP(U144,'S2'!$B$23:$Z$57,9,FALSE))","v":""},{"$f":"IF(VLOOKUP(U144,'S2'!$B$23:$Z$57,10,FALSE)=\"\",\"\",VLOOKUP(U144,'S2'!$B$23:$Z$57,10,FALSE))","v":""},{"$f":"IF(VLOOKUP(U144,'S2'!$B$23:$Z$57,11,FALSE)=\"\",\"\",VLOOKUP(U144,'S2'!$B$23:$Z$57,11,FALSE))","v":""},{"$f":"IF(VLOOKUP(U144,'S2'!$B$23:$Z$57,12,FALSE)=\"\",\"\",VLOOKUP(U144,'S2'!$B$23:$Z$57,12,FALSE))","v":""},{"$f":"IF(VLOOKUP(U144,'S2'!$B$23:$Z$57,13,FALSE)=\"\",\"\",VLOOKUP(U144,'S2'!$B$23:$Z$57,13,FALSE))","v":""},{"$f":"IF(VLOOKUP(U144,'S2'!$B$23:$Z$57,14,FALSE)=\"\",\"\",VLOOKUP(U144,'S2'!$B$23:$Z$57,14,FALSE))","v":""},{"$f":"IF(VLOOKUP(U144,'S2'!$B$23:$Z$57,15,FALSE)=\"\",\"\",VLOOKUP(U144,'S2'!$B$23:$Z$57,15,FALSE))","v":""}]
[null,"von",null,null,{"$f":"IF('S2'!$G$21=\"\",\"\",'S2'!$G$21)","v":""},{"$f":"IF('S2'!$H$21=\"\",\"\",'S2'!$H$21)","v":""},{"$f":"IF('S2'!$I$21=\"\",\"\",'S2'!$I$21)","v":""},{"$f":"IF('S2'!$J$21=\"\",\"\",'S2'!$J$21)","v":""},{"$f":"IF('S2'!$K$21=\"\",\"\",'S2'!$K$21)","v":""},{"$f":"IF('S2'!$L$21=\"\",\"\",'S2'!$L$21)","v":""},{"$f":"IF('S2'!$M$21=\"\",\"\",'S2'!$M$21)","v":""},{"$f":"IF('S2'!$N$21=\"\",\"\",'S2'!$N$21)","v":""},{"$f":"IF('S2'!$O$21=\"\",\"\",'S2'!$O$21)","v":""},{"$f":"IF('S2'!$P$21=\"\",\"\",'S2'!$P$21)","v":""},null,"von",null,null,null,null,"von",null,null,{"$f":"IF('S2'!$G$21=\"\",\"\",'S2'!$G$21)","v":""},{"$f":"IF('S2'!$H$21=\"\",\"\",'S2'!$H$21)","v":""},{"$f":"IF('S2'!$I$21=\"\",\"\",'S2'!$I$21)","v":""},{"$f":"IF('S2'!$J$21=\"\",\"\",'S2'!$J$21)","v":""},{"$f":"IF('S2'!$K$21=\"\",\"\",'S2'!$K$21)","v":""},{"$f":"IF('S2'!$L$21=\"\",\"\",'S2'!$L$21)","v":""},{"$f":"IF('S2'!$M$21=\"\",\"\",'S2'!$M$21)","v":""},{"$f":"IF('S2'!$N$21=\"\",\"\",'S2'!$N$21)","v":""},{"$f":"IF('S2'!$O$21=\"\",\"\",'S2'!$O$21)","v":""},{"$f":"IF('S2'!$P$21=\"\",\"\",'S2'!$P$21)","v":""},null,"von"]
[null,null,null,null,null,null,null,null,null,null,null,null,null,null,null,{"$f":"'S2'!$H$12","v":0},null,null,null,null,null,null,null,null,null,null,null,null,null,null,null,null,null,null,{"$f":"'S2'!$H$12","v":0}]
[null,{"$f":"IF('S2'!$Q$18=\"\",\"\",\"Aufgabe\")","v":""},null,null,{"$f":"IF('S2'!$Q$18=\"\",\"\",'S2'!$Q$18)","v":""},{"$f":"IF('S2'!$R$18=\"\",\"\",'S2'!$R$18)","v":""},{"$f":"IF('S2'!$S$18=\"\",\"\",'S2'!$S$18)","v":""},{"$f":"IF('S2'!$T$18=\"\",\"\",'S2'!$T$18)","v":""},{"$f":"IF('S2'!$U$18=\"\",\"\",'S2'!$U$18)","v":""},{"$f":"IF('S2'!$V$18=\"\",\"\",'S2'!$V$18)","v":""},{"$f":"IF('S2'!$W$18=\"\",\"\",'S2'!$W$18)","v":""},{"$f":"IF('S2'!$X$18=\"\",\"\",'S2'!$X$18)","v":""},{"$f":"IF('S2'!$Y$18=\"\",\"\",'S2'!$Y$18)","v":""},{"$f":"IF('S2'!$Z$18=\"\",\"\",'S2'!$Z$18)","v":""},null,null,null,null,null,null,{"$f":"IF('S2'!$Q$18=\"\",\"\",\"Aufgabe\")","v":""},null,null,{"$f":"IF('S2'!$Q$18=\"\",\"\",'S2'!$Q$18)","v":""},{"$f":"IF('S2'!$R$18=\"\",\"\",'S2'!$R$18)","v":""},{"$f":"IF('S2'!$S$18=\"\",\"\",'S2'!$S$18)","v":""},{"$f":"IF('S2'!$T$18=\"\",\"\",'S2'!$T$18)","v":""},{"$f":"IF('S2'!$U$18=\"\",\"\",'S2'!$U$18)","v":""},{"$f":"IF('S2'!$V$18=\"\",\"\",'S2'!$V$18)","v":""},{"$f":"IF('S2'!$W$18=\"\",\"\",'S2'!$W$18)","v":""},{"$f":"IF('S2'!$X$18=\"\",\"\",'S2'!$X$18)","v":""},{"$f":"IF('S2'!$Y$18=\"\",\"\",'S2'!$Y$18)","v":""},{"$f":"IF('S2'!$Z$18=\"\",\"\",'S2'!$Z$18)","v":""}]
[null,{"$f":"IF('S2'!$Q$18=\"\",\"\",\"erreicht\")","v":""},null,null,{"$f":"IF(VLOOKUP(B144,'S2'!$B$23:$Z$57,16,FALSE)=\"\",\"\",VLOOKUP(B144,'S2'!$B$23:$Z$57,16,FALSE))","v":""},{"$f":"IF(VLOOKUP(B144,'S2'!$B$23:$Z$57,17,FALSE)=\"\",\"\",VLOOKUP(B144,'S2'!$B$23:$Z$57,17,FALSE))","v":""},{"$f":"IF(VLOOKUP(B144,'S2'!$B$23:$Z$57,18,FALSE)=\"\",\"\",VLOOKUP(B144,'S2'!$B$23:$Z$57,18,FALSE))","v":""},{"$f":"IF(VLOOKUP(B144,'S2'!$B$23:$Z$57,19,FALSE)=\"\",\"\",VLOOKUP(B144,'S2'!$B$23:$Z$57,19,FALSE))","v":""},{"$f":"IF(VLOOKUP(B144,'S2'!$B$23:$Z$57,20,FALSE)=\"\",\"\",VLOOKUP(B144,'S2'!$B$23:$Z$57,20,FALSE))","v":""},{"$f":"IF(VLOOKUP(B144,'S2'!$B$23:$Z$57,21,FALSE)=\"\",\"\",VLOOKUP(B144,'S2'!$B$23:$Z$57,21,FALSE))","v":""},{"$f":"IF(VLOOKUP(B144,'S2'!$B$23:$Z$57,22,FALSE)=\"\",\"\",VLOOKUP(B144,'S2'!$B$23:$Z$57,22,FALSE))","v":""},{"$f":"IF(VLOOKUP(B144,'S2'!$B$23:$Z$57,23,FALSE)=\"\",\"\",VLOOKUP(B144,'S2'!$B$23:$Z$57,23,FALSE))","v":""},{"$f":"IF(VLOOKUP(B144,'S2'!$B$23:$Z$57,24,FALSE)=\"\",\"\",VLOOKUP(B144,'S2'!$B$23:$Z$57,24,FALSE))","v":""},{"$f":"IF(VLOOKUP(B144,'S2'!$B$23:$Z$57,25,FALSE)=\"\",\"\",VLOOKUP(B144,'S2'!$B$23:$Z$57,25,FALSE))","v":""},null,"Note",null,null,null,null,{"$f":"IF('S2'!$Q$18=\"\",\"\",\"erreicht\")","v":""},null,null,{"$f":"IF(VLOOKUP(U144,'S2'!$B$23:$Z$57,16,FALSE)=\"\",\"\",VLOOKUP(U144,'S2'!$B$23:$Z$57,16,FALSE))","v":""},{"$f":"IF(VLOOKUP(U144,'S2'!$B$23:$Z$57,17,FALSE)=\"\",\"\",VLOOKUP(U144,'S2'!$B$23:$Z$57,17,FALSE))","v":""},{"$f":"IF(VLOOKUP(U144,'S2'!$B$23:$Z$57,18,FALSE)=\"\",\"\",VLOOKUP(U144,'S2'!$B$23:$Z$57,18,FALSE))","v":""},{"$f":"IF(VLOOKUP(U144,'S2'!$B$23:$Z$57,19,FALSE)=\"\",\"\",VLOOKUP(U144,'S2'!$B$23:$Z$57,19,FALSE))","v":""},{"$f":"IF(VLOOKUP(U144,'S2'!$B$23:$Z$57,20,FALSE)=\"\",\"\",VLOOKUP(U144,'S2'!$B$23:$Z$57,20,FALSE))","v":""},{"$f":"IF(VLOOKUP(U144,'S2'!$B$23:$Z$57,21,FALSE)=\"\",\"\",VLOOKUP(U144,'S2'!$B$23:$Z$57,21,FALSE))","v":""},{"$f":"IF(VLOOKUP(U144,'S2'!$B$23:$Z$57,22,FALSE)=\"\",\"\",VLOOKUP(U144,'S2'!$B$23:$Z$57,22,FALSE))","v":""},{"$f":"IF(VLOOKUP(U144,'S2'!$B$23:$Z$57,23,FALSE)=\"\",\"\",VLOOKUP(U144,'S2'!$B$23:$Z$57,23,FALSE))","v":""},{"$f":"IF(VLOOKUP(U144,'S2'!$B$23:$Z$57,24,FALSE)=\"\",\"\",VLOOKUP(U144,'S2'!$B$23:$Z$57,24,FALSE))","v":""},{"$f":"IF(VLOOKUP(U144,'S2'!$B$23:$Z$57,25,FALSE)=\"\",\"\",VLOOKUP(U144,'S2'!$B$23:$Z$57,25,FALSE))","v":""},null,"Note"]
[null,{"$f":"IF('S2'!$Q$18=\"\",\"\",\"von\")","v":""},null,null,{"$f":"IF('S2'!$Q$21=\"\",\"\",'S2'!$Q$21)","v":""},{"$f":"IF('S2'!$R$21=\"\",\"\",'S2'!$R$21)","v":""},{"$f":"IF('S2'!$S$21=\"\",\"\",'S2'!$S$21)","v":""},{"$f":"IF('S2'!$T$21=\"\",\"\",'S2'!$T$21)","v":""},{"$f":"IF('S2'!$U$21=\"\",\"\",'S2'!$U$21)","v":""},{"$f":"IF('S2'!$V$21=\"\",\"\",'S2'!$V$21)","v":""},{"$f":"IF('S2'!$W$21=\"\",\"\",'S2'!$W$21)","v":""},{"$f":"IF('S2'!$X$21=\"\",\"\",'S2'!$X$21)","v":""},{"$f":"IF('S2'!$Y$21=\"\",\"\",'S2'!$Y$21)","v":""},{"$f":"IF('S2'!$Z$21=\"\",\"\",'S2'!$Z$21)","v":""},null,{"$f":"IF(VLOOKUP(B144,'S2'!$B$23:$Z$57,2,FALSE)=\"\",\"\",CONCATENATE(VLOOKUP(B144,'S2'!$B$23:$Z$57,2,FALSE),\" \",VLOOKUP(B144,'S2'!$B$23:$Z$57,3,FALSE)))","v":"- "},null,null,null,null,{"$f":"IF('S2'!$Q$18=\"\",\"\",\"von\")","v":""},null,null,{"$f":"IF('S2'!$Q$21=\"\",\"\",'S2'!$Q$21)","v":""},{"$f":"IF('S2'!$R$21=\"\",\"\",'S2'!$R$21)","v":""},{"$f":"IF('S2'!$S$21=\"\",\"\",'S2'!$S$21)","v":""},{"$f":"IF('S2'!$T$21=\"\",\"\",'S2'!$T$21)","v":""},{"$f":"IF('S2'!$U$21=\"\",\"\",'S2'!$U$21)","v":""},{"$f":"IF('S2'!$V$21=\"\",\"\",'S2'!$V$21)","v":""},{"$f":"IF('S2'!$W$21=\"\",\"\",'S2'!$W$21)","v":""},{"$f":"IF('S2'!$X$21=\"\",\"\",'S2'!$X$21)","v":""},{"$f":"IF('S2'!$Y$21=\"\",\"\",'S2'!$Y$21)","v":""},{"$f":"IF('S2'!$Z$21=\"\",\"\",'S2'!$Z$21)","v":""},null,{"$f":"IF(VLOOKUP(U144,'S2'!$B$23:$Z$57,2,FALSE)=\"\",\"\",CONCATENATE(VLOOKUP(U144,'S2'!$B$23:$Z$57,2,FALSE),\" \",VLOOKUP(U144,'S2'!$B$23:$Z$57,3,FALSE)))","v":"- "}]
[]
[]
[]
[null,{"$f":"'S2'!$B$49","v":""},null,null,null,null,null,null,null,null,null,null,null,null,null,null,null,null,null,null,{"$f":"'S2'!$B$50","v":""}]
[null,null,null,null,null,null,null,null,null,null,null,null,null,null,null,"Summe",null,null,null,null,null,null,null,null,null,null,null,null,null,null,null,null,null,null,"Summe"]
[null,"Aufgabe",null,null,{"$f":"IF('S2'!$G$18=\"\",\"\",'S2'!$G$18)","v":1},{"$f":"IF('S2'!$H$18=\"\",\"\",'S2'!$H$18)","v":2},{"$f":"IF('S2'!$I$18=\"\",\"\",'S2'!$I$18)","v":3},{"$f":"IF('S2'!$J$18=\"\",\"\",'S2'!$J$18)","v":""},{"$f":"IF('S2'!$K$18=\"\",\"\",'S2'!$K$18)","v":""},{"$f":"IF('S2'!$L$18=\"\",\"\",'S2'!$L$18)","v":""},{"$f":"IF('S2'!$M$18=\"\",\"\",'S2'!$M$18)","v":""},{"$f":"IF('S2'!$N$18=\"\",\"\",'S2'!$N$18)","v":""},{"$f":"IF('S2'!$O$18=\"\",\"\",'S2'!$O$18)","v":""},{"$f":"IF('S2'!$P$18=\"\",\"\",'S2'!$P$18)","v":""},null,{"$f":"IF(VLOOKUP(B156,'S2'!$B$23:$Z$57,5,FALSE)=\"\",\"\",VLOOKUP(B156,'S2'!$B$23:$Z$57,5,FALSE))","v":0},null,null,null,null,"Aufgabe",null,null,{"$f":"IF('S2'!$G$18=\"\",\"\",'S2'!$G$18)","v":1},{"$f":"IF('S2'!$H$18=\"\",\"\",'S2'!$H$18)","v":2},{"$f":"IF('S2'!$I$18=\"\",\"\",'S2'!$I$18)","v":3},{"$f":"IF('S2'!$J$18=\"\",\"\",'S2'!$J$18)","v":""},{"$f":"IF('S2'!$K$18=\"\",\"\",'S2'!$K$18)","v":""},{"$f":"IF('S2'!$L$18=\"\",\"\",'S2'!$L$18)","v":""},{"$f":"IF('S2'!$M$18=\"\",\"\",'S2'!$M$18)","v":""},{"$f":"IF('S2'!$N$18=\"\",\"\",'S2'!$N$18)","v":""},{"$f":"IF('S2'!$O$18=\"\",\"\",'S2'!$O$18)","v":""},{"$f":"IF('S2'!$P$18=\"\",\"\",'S2'!$P$18)","v":""},null,{"$f":"IF(VLOOKUP(U156,'S2'!$B$23:$Z$57,5,FALSE)=\"\",\"\",VLOOKUP(U156,'S2'!$B$23:$Z$57,5,FALSE))","v":0}]
[null,"erreicht",null,null,{"$f":"IF(VLOOKUP(B156,'S2'!$B$23:$Z$57,6,FALSE)=\"\",\"\",VLOOKUP(B156,'S2'!$B$23:$Z$57,6,FALSE))","v":"."},{"$f":"IF(VLOOKUP(B156,'S2'!$B$23:$Z$57,7,FALSE)=\"\",\"\",VLOOKUP(B156,'S2'!$B$23:$Z$57,7,FALSE))","v":""},{"$f":"IF(VLOOKUP(B156,'S2'!$B$23:$Z$57,8,FALSE)=\"\",\"\",VLOOKUP(B156,'S2'!$B$23:$Z$57,8,FALSE))","v":""},{"$f":"IF(VLOOKUP(B156,'S2'!$B$23:$Z$57,9,FALSE)=\"\",\"\",VLOOKUP(B156,'S2'!$B$23:$Z$57,9,FALSE))","v":""},{"$f":"IF(VLOOKUP(B156,'S2'!$B$23:$Z$57,10,FALSE)=\"\",\"\",VLOOKUP(B156,'S2'!$B$23:$Z$57,10,FALSE))","v":""},{"$f":"IF(VLOOKUP(B156,'S2'!$B$23:$Z$57,11,FALSE)=\"\",\"\",VLOOKUP(B156,'S2'!$B$23:$Z$57,11,FALSE))","v":""},{"$f":"IF(VLOOKUP(B156,'S2'!$B$23:$Z$57,12,FALSE)=\"\",\"\",VLOOKUP(B156,'S2'!$B$23:$Z$57,12,FALSE))","v":""},{"$f":"IF(VLOOKUP(B156,'S2'!$B$23:$Z$57,13,FALSE)=\"\",\"\",VLOOKUP(B156,'S2'!$B$23:$Z$57,13,FALSE))","v":""},{"$f":"IF(VLOOKUP(B156,'S2'!$B$23:$Z$57,14,FALSE)=\"\",\"\",VLOOKUP(B156,'S2'!$B$23:$Z$57,14,FALSE))","v":""},{"$f":"IF(VLOOKUP(B156,'S2'!$B$23:$Z$57,15,FALSE)=\"\",\"\",VLOOKUP(B156,'S2'!$B$23:$Z$57,15,FALSE))","v":""},null,null,null,null,null,null,"erreicht",null,null,{"$f":"IF(VLOOKUP(U156,'S2'!$B$23:$Z$57,6,FALSE)=\"\",\"\",VLOOKUP(U156,'S2'!$B$23:$Z$57,6,FALSE))","v":"."},{"$f":"IF(VLOOKUP(U156,'S2'!$B$23:$Z$57,7,FALSE)=\"\",\"\",VLOOKUP(U156,'S2'!$B$23:$Z$57,7,FALSE))","v":""},{"$f":"IF(VLOOKUP(U156,'S2'!$B$23:$Z$57,8,FALSE)=\"\",\"\",VLOOKUP(U156,'S2'!$B$23:$Z$57,8,FALSE))","v":""},{"$f":"IF(VLOOKUP(U156,'S2'!$B$23:$Z$57,9,FALSE)=\"\",\"\",VLOOKUP(U156,'S2'!$B$23:$Z$57,9,FALSE))","v":""},{"$f":"IF(VLOOKUP(U156,'S2'!$B$23:$Z$57,10,FALSE)=\"\",\"\",VLOOKUP(U156,'S2'!$B$23:$Z$57,10,FALSE))","v":""},{"$f":"IF(VLOOKUP(U156,'S2'!$B$23:$Z$57,11,FALSE)=\"\",\"\",VLOOKUP(U156,'S2'!$B$23:$Z$57,11,FALSE))","v":""},{"$f":"IF(VLOOKUP(U156,'S2'!$B$23:$Z$57,12,FALSE)=\"\",\"\",VLOOKUP(U156,'S2'!$B$23:$Z$57,12,FALSE))","v":""},{"$f":"IF(VLOOKUP(U156,'S2'!$B$23:$Z$57,13,FALSE)=\"\",\"\",VLOOKUP(U156,'S2'!$B$23:$Z$57,13,FALSE))","v":""},{"$f":"IF(VLOOKUP(U156,'S2'!$B$23:$Z$57,14,FALSE)=\"\",\"\",VLOOKUP(U156,'S2'!$B$23:$Z$57,14,FALSE))","v":""},{"$f":"IF(VLOOKUP(U156,'S2'!$B$23:$Z$57,15,FALSE)=\"\",\"\",VLOOKUP(U156,'S2'!$B$23:$Z$57,15,FALSE))","v":""}]
[null,"von",null,null,{"$f":"IF('S2'!$G$21=\"\",\"\",'S2'!$G$21)","v":""},{"$f":"IF('S2'!$H$21=\"\",\"\",'S2'!$H$21)","v":""},{"$f":"IF('S2'!$I$21=\"\",\"\",'S2'!$I$21)","v":""},{"$f":"IF('S2'!$J$21=\"\",\"\",'S2'!$J$21)","v":""},{"$f":"IF('S2'!$K$21=\"\",\"\",'S2'!$K$21)","v":""},{"$f":"IF('S2'!$L$21=\"\",\"\",'S2'!$L$21)","v":""},{"$f":"IF('S2'!$M$21=\"\",\"\",'S2'!$M$21)","v":""},{"$f":"IF('S2'!$N$21=\"\",\"\",'S2'!$N$21)","v":""},{"$f":"IF('S2'!$O$21=\"\",\"\",'S2'!$O$21)","v":""},{"$f":"IF('S2'!$P$21=\"\",\"\",'S2'!$P$21)","v":""},null,"von",null,null,null,null,"von",null,null,{"$f":"IF('S2'!$G$21=\"\",\"\",'S2'!$G$21)","v":""},{"$f":"IF('S2'!$H$21=\"\",\"\",'S2'!$H$21)","v":""},{"$f":"IF('S2'!$I$21=\"\",\"\",'S2'!$I$21)","v":""},{"$f":"IF('S2'!$J$21=\"\",\"\",'S2'!$J$21)","v":""},{"$f":"IF('S2'!$K$21=\"\",\"\",'S2'!$K$21)","v":""},{"$f":"IF('S2'!$L$21=\"\",\"\",'S2'!$L$21)","v":""},{"$f":"IF('S2'!$M$21=\"\",\"\",'S2'!$M$21)","v":""},{"$f":"IF('S2'!$N$21=\"\",\"\",'S2'!$N$21)","v":""},{"$f":"IF('S2'!$O$21=\"\",\"\",'S2'!$O$21)","v":""},{"$f":"IF('S2'!$P$21=\"\",\"\",'S2'!$P$21)","v":""},null,"von"]
[null,null,null,null,null,null,null,null,null,null,null,null,null,null,null,{"$f":"'S2'!$H$12","v":0},null,null,null,null,null,null,null,null,null,null,null,null,null,null,null,null,null,null,{"$f":"'S2'!$H$12","v":0}]
[null,{"$f":"IF('S2'!$Q$18=\"\",\"\",\"Aufgabe\")","v":""},null,null,{"$f":"IF('S2'!$Q$18=\"\",\"\",'S2'!$Q$18)","v":""},{"$f":"IF('S2'!$R$18=\"\",\"\",'S2'!$R$18)","v":""},{"$f":"IF('S2'!$S$18=\"\",\"\",'S2'!$S$18)","v":""},{"$f":"IF('S2'!$T$18=\"\",\"\",'S2'!$T$18)","v":""},{"$f":"IF('S2'!$U$18=\"\",\"\",'S2'!$U$18)","v":""},{"$f":"IF('S2'!$V$18=\"\",\"\",'S2'!$V$18)","v":""},{"$f":"IF('S2'!$W$18=\"\",\"\",'S2'!$W$18)","v":""},{"$f":"IF('S2'!$X$18=\"\",\"\",'S2'!$X$18)","v":""},{"$f":"IF('S2'!$Y$18=\"\",\"\",'S2'!$Y$18)","v":""},{"$f":"IF('S2'!$Z$18=\"\",\"\",'S2'!$Z$18)","v":""},null,null,null,null,null,null,{"$f":"IF('S2'!$Q$18=\"\",\"\",\"Aufgabe\")","v":""},null,null,{"$f":"IF('S2'!$Q$18=\"\",\"\",'S2'!$Q$18)","v":""},{"$f":"IF('S2'!$R$18=\"\",\"\",'S2'!$R$18)","v":""},{"$f":"IF('S2'!$S$18=\"\",\"\",'S2'!$S$18)","v":""},{"$f":"IF('S2'!$T$18=\"\",\"\",'S2'!$T$18)","v":""},{"$f":"IF('S2'!$U$18=\"\",\"\",'S2'!$U$18)","v":""},{"$f":"IF('S2'!$V$18=\"\",\"\",'S2'!$V$18)","v":""},{"$f":"IF('S2'!$W$18=\"\",\"\",'S2'!$W$18)","v":""},{"$f":"IF('S2'!$X$18=\"\",\"\",'S2'!$X$18)","v":""},{"$f":"IF('S2'!$Y$18=\"\",\"\",'S2'!$Y$18)","v":""},{"$f":"IF('S2'!$Z$18=\"\",\"\",'S2'!$Z$18)","v":""}]
[null,{"$f":"IF('S2'!$Q$18=\"\",\"\",\"erreicht\")","v":""},null,null,{"$f":"IF(VLOOKUP(B156,'S2'!$B$23:$Z$57,16,FALSE)=\"\",\"\",VLOOKUP(B156,'S2'!$B$23:$Z$57,16,FALSE))","v":""},{"$f":"IF(VLOOKUP(B156,'S2'!$B$23:$Z$57,17,FALSE)=\"\",\"\",VLOOKUP(B156,'S2'!$B$23:$Z$57,17,FALSE))","v":""},{"$f":"IF(VLOOKUP(B156,'S2'!$B$23:$Z$57,18,FALSE)=\"\",\"\",VLOOKUP(B156,'S2'!$B$23:$Z$57,18,FALSE))","v":""},{"$f":"IF(VLOOKUP(B156,'S2'!$B$23:$Z$57,19,FALSE)=\"\",\"\",VLOOKUP(B156,'S2'!$B$23:$Z$57,19,FALSE))","v":""},{"$f":"IF(VLOOKUP(B156,'S2'!$B$23:$Z$57,20,FALSE)=\"\",\"\",VLOOKUP(B156,'S2'!$B$23:$Z$57,20,FALSE))","v":""},{"$f":"IF(VLOOKUP(B156,'S2'!$B$23:$Z$57,21,FALSE)=\"\",\"\",VLOOKUP(B156,'S2'!$B$23:$Z$57,21,FALSE))","v":""},{"$f":"IF(VLOOKUP(B156,'S2'!$B$23:$Z$57,22,FALSE)=\"\",\"\",VLOOKUP(B156,'S2'!$B$23:$Z$57,22,FALSE))","v":""},{"$f":"IF(VLOOKUP(B156,'S2'!$B$23:$Z$57,23,FALSE)=\"\",\"\",VLOOKUP(B156,'S2'!$B$23:$Z$57,23,FALSE))","v":""},{"$f":"IF(VLOOKUP(B156,'S2'!$B$23:$Z$57,24,FALSE)=\"\",\"\",VLOOKUP(B156,'S2'!$B$23:$Z$57,24,FALSE))","v":""},{"$f":"IF(VLOOKUP(B156,'S2'!$B$23:$Z$57,25,FALSE)=\"\",\"\",VLOOKUP(B156,'S2'!$B$23:$Z$57,25,FALSE))","v":""},null,"Note",null,null,null,null,{"$f":"IF('S2'!$Q$18=\"\",\"\",\"erreicht\")","v":""},null,null,{"$f":"IF(VLOOKUP(U156,'S2'!$B$23:$Z$57,16,FALSE)=\"\",\"\",VLOOKUP(U156,'S2'!$B$23:$Z$57,16,FALSE))","v":""},{"$f":"IF(VLOOKUP(U156,'S2'!$B$23:$Z$57,17,FALSE)=\"\",\"\",VLOOKUP(U156,'S2'!$B$23:$Z$57,17,FALSE))","v":""},{"$f":"IF(VLOOKUP(U156,'S2'!$B$23:$Z$57,18,FALSE)=\"\",\"\",VLOOKUP(U156,'S2'!$B$23:$Z$57,18,FALSE))","v":""},{"$f":"IF(VLOOKUP(U156,'S2'!$B$23:$Z$57,19,FALSE)=\"\",\"\",VLOOKUP(U156,'S2'!$B$23:$Z$57,19,FALSE))","v":""},{"$f":"IF(VLOOKUP(U156,'S2'!$B$23:$Z$57,20,FALSE)=\"\",\"\",VLOOKUP(U156,'S2'!$B$23:$Z$57,20,FALSE))","v":""},{"$f":"IF(VLOOKUP(U156,'S2'!$B$23:$Z$57,21,FALSE)=\"\",\"\",VLOOKUP(U156,'S2'!$B$23:$Z$57,21,FALSE))","v":""},{"$f":"IF(VLOOKUP(U156,'S2'!$B$23:$Z$57,22,FALSE)=\"\",\"\",VLOOKUP(U156,'S2'!$B$23:$Z$57,22,FALSE))","v":""},{"$f":"IF(VLOOKUP(U156,'S2'!$B$23:$Z$57,23,FALSE)=\"\",\"\",VLOOKUP(U156,'S2'!$B$23:$Z$57,23,FALSE))","v":""},{"$f":"IF(VLOOKUP(U156,'S2'!$B$23:$Z$57,24,FALSE)=\"\",\"\",VLOOKUP(U156,'S2'!$B$23:$Z$57,24,FALSE))","v":""},{"$f":"IF(VLOOKUP(U156,'S2'!$B$23:$Z$57,25,FALSE)=\"\",\"\",VLOOKUP(U156,'S2'!$B$23:$Z$57,25,FALSE))","v":""},null,"Note"]
[null,{"$f":"IF('S2'!$Q$18=\"\",\"\",\"von\")","v":""},null,null,{"$f":"IF('S2'!$Q$21=\"\",\"\",'S2'!$Q$21)","v":""},{"$f":"IF('S2'!$R$21=\"\",\"\",'S2'!$R$21)","v":""},{"$f":"IF('S2'!$S$21=\"\",\"\",'S2'!$S$21)","v":""},{"$f":"IF('S2'!$T$21=\"\",\"\",'S2'!$T$21)","v":""},{"$f":"IF('S2'!$U$21=\"\",\"\",'S2'!$U$21)","v":""},{"$f":"IF('S2'!$V$21=\"\",\"\",'S2'!$V$21)","v":""},{"$f":"IF('S2'!$W$21=\"\",\"\",'S2'!$W$21)","v":""},{"$f":"IF('S2'!$X$21=\"\",\"\",'S2'!$X$21)","v":""},{"$f":"IF('S2'!$Y$21=\"\",\"\",'S2'!$Y$21)","v":""},{"$f":"IF('S2'!$Z$21=\"\",\"\",'S2'!$Z$21)","v":""},null,{"$f":"IF(VLOOKUP(B156,'S2'!$B$23:$Z$57,2,FALSE)=\"\",\"\",CONCATENATE(VLOOKUP(B156,'S2'!$B$23:$Z$57,2,FALSE),\" \",VLOOKUP(B156,'S2'!$B$23:$Z$57,3,FALSE)))","v":"- "},null,null,null,null,{"$f":"IF('S2'!$Q$18=\"\",\"\",\"von\")","v":""},null,null,{"$f":"IF('S2'!$Q$21=\"\",\"\",'S2'!$Q$21)","v":""},{"$f":"IF('S2'!$R$21=\"\",\"\",'S2'!$R$21)","v":""},{"$f":"IF('S2'!$S$21=\"\",\"\",'S2'!$S$21)","v":""},{"$f":"IF('S2'!$T$21=\"\",\"\",'S2'!$T$21)","v":""},{"$f":"IF('S2'!$U$21=\"\",\"\",'S2'!$U$21)","v":""},{"$f":"IF('S2'!$V$21=\"\",\"\",'S2'!$V$21)","v":""},{"$f":"IF('S2'!$W$21=\"\",\"\",'S2'!$W$21)","v":""},{"$f":"IF('S2'!$X$21=\"\",\"\",'S2'!$X$21)","v":""},{"$f":"IF('S2'!$Y$21=\"\",\"\",'S2'!$Y$21)","v":""},{"$f":"IF('S2'!$Z$21=\"\",\"\",'S2'!$Z$21)","v":""},null,{"$f":"IF(VLOOKUP(U156,'S2'!$B$23:$Z$57,2,FALSE)=\"\",\"\",CONCATENATE(VLOOKUP(U156,'S2'!$B$23:$Z$57,2,FALSE),\" \",VLOOKUP(U156,'S2'!$B$23:$Z$57,3,FALSE)))","v":"- "}]
[]
[]
[]
[null,{"$f":"'S2'!$B$51","v":""},null,null,null,null,null,null,null,null,null,null,null,null,null,null,null,null,null,null,{"$f":"'S2'!$B$52","v":""}]
[null,null,null,null,null,null,null,null,null,null,null,null,null,null,null,"Summe",null,null,null,null,null,null,null,null,null,null,null,null,null,null,null,null,null,null,"Summe"]
[null,"Aufgabe",null,null,{"$f":"IF('S2'!$G$18=\"\",\"\",'S2'!$G$18)","v":1},{"$f":"IF('S2'!$H$18=\"\",\"\",'S2'!$H$18)","v":2},{"$f":"IF('S2'!$I$18=\"\",\"\",'S2'!$I$18)","v":3},{"$f":"IF('S2'!$J$18=\"\",\"\",'S2'!$J$18)","v":""},{"$f":"IF('S2'!$K$18=\"\",\"\",'S2'!$K$18)","v":""},{"$f":"IF('S2'!$L$18=\"\",\"\",'S2'!$L$18)","v":""},{"$f":"IF('S2'!$M$18=\"\",\"\",'S2'!$M$18)","v":""},{"$f":"IF('S2'!$N$18=\"\",\"\",'S2'!$N$18)","v":""},{"$f":"IF('S2'!$O$18=\"\",\"\",'S2'!$O$18)","v":""},{"$f":"IF('S2'!$P$18=\"\",\"\",'S2'!$P$18)","v":""},null,{"$f":"IF(VLOOKUP(B168,'S2'!$B$23:$Z$57,5,FALSE)=\"\",\"\",VLOOKUP(B168,'S2'!$B$23:$Z$57,5,FALSE))","v":0},null,null,null,null,"Aufgabe",null,null,{"$f":"IF('S2'!$G$18=\"\",\"\",'S2'!$G$18)","v":1},{"$f":"IF('S2'!$H$18=\"\",\"\",'S2'!$H$18)","v":2},{"$f":"IF('S2'!$I$18=\"\",\"\",'S2'!$I$18)","v":3},{"$f":"IF('S2'!$J$18=\"\",\"\",'S2'!$J$18)","v":""},{"$f":"IF('S2'!$K$18=\"\",\"\",'S2'!$K$18)","v":""},{"$f":"IF('S2'!$L$18=\"\",\"\",'S2'!$L$18)","v":""},{"$f":"IF('S2'!$M$18=\"\",\"\",'S2'!$M$18)","v":""},{"$f":"IF('S2'!$N$18=\"\",\"\",'S2'!$N$18)","v":""},{"$f":"IF('S2'!$O$18=\"\",\"\",'S2'!$O$18)","v":""},{"$f":"IF('S2'!$P$18=\"\",\"\",'S2'!$P$18)","v":""},null,{"$f":"IF(VLOOKUP(U168,'S2'!$B$23:$Z$57,5,FALSE)=\"\",\"\",VLOOKUP(U168,'S2'!$B$23:$Z$57,5,FALSE))","v":0}]
[null,"erreicht",null,null,{"$f":"IF(VLOOKUP(B168,'S2'!$B$23:$Z$57,6,FALSE)=\"\",\"\",VLOOKUP(B168,'S2'!$B$23:$Z$57,6,FALSE))","v":"."},{"$f":"IF(VLOOKUP(B168,'S2'!$B$23:$Z$57,7,FALSE)=\"\",\"\",VLOOKUP(B168,'S2'!$B$23:$Z$57,7,FALSE))","v":""},{"$f":"IF(VLOOKUP(B168,'S2'!$B$23:$Z$57,8,FALSE)=\"\",\"\",VLOOKUP(B168,'S2'!$B$23:$Z$57,8,FALSE))","v":""},{"$f":"IF(VLOOKUP(B168,'S2'!$B$23:$Z$57,9,FALSE)=\"\",\"\",VLOOKUP(B168,'S2'!$B$23:$Z$57,9,FALSE))","v":""},{"$f":"IF(VLOOKUP(B168,'S2'!$B$23:$Z$57,10,FALSE)=\"\",\"\",VLOOKUP(B168,'S2'!$B$23:$Z$57,10,FALSE))","v":""},{"$f":"IF(VLOOKUP(B168,'S2'!$B$23:$Z$57,11,FALSE)=\"\",\"\",VLOOKUP(B168,'S2'!$B$23:$Z$57,11,FALSE))","v":""},{"$f":"IF(VLOOKUP(B168,'S2'!$B$23:$Z$57,12,FALSE)=\"\",\"\",VLOOKUP(B168,'S2'!$B$23:$Z$57,12,FALSE))","v":""},{"$f":"IF(VLOOKUP(B168,'S2'!$B$23:$Z$57,13,FALSE)=\"\",\"\",VLOOKUP(B168,'S2'!$B$23:$Z$57,13,FALSE))","v":""},{"$f":"IF(VLOOKUP(B168,'S2'!$B$23:$Z$57,14,FALSE)=\"\",\"\",VLOOKUP(B168,'S2'!$B$23:$Z$57,14,FALSE))","v":""},{"$f":"IF(VLOOKUP(B168,'S2'!$B$23:$Z$57,15,FALSE)=\"\",\"\",VLOOKUP(B168,'S2'!$B$23:$Z$57,15,FALSE))","v":""},null,null,null,null,null,null,"erreicht",null,null,{"$f":"IF(VLOOKUP(U168,'S2'!$B$23:$Z$57,6,FALSE)=\"\",\"\",VLOOKUP(U168,'S2'!$B$23:$Z$57,6,FALSE))","v":"."},{"$f":"IF(VLOOKUP(U168,'S2'!$B$23:$Z$57,7,FALSE)=\"\",\"\",VLOOKUP(U168,'S2'!$B$23:$Z$57,7,FALSE))","v":""},{"$f":"IF(VLOOKUP(U168,'S2'!$B$23:$Z$57,8,FALSE)=\"\",\"\",VLOOKUP(U168,'S2'!$B$23:$Z$57,8,FALSE))","v":""},{"$f":"IF(VLOOKUP(U168,'S2'!$B$23:$Z$57,9,FALSE)=\"\",\"\",VLOOKUP(U168,'S2'!$B$23:$Z$57,9,FALSE))","v":""},{"$f":"IF(VLOOKUP(U168,'S2'!$B$23:$Z$57,10,FALSE)=\"\",\"\",VLOOKUP(U168,'S2'!$B$23:$Z$57,10,FALSE))","v":""},{"$f":"IF(VLOOKUP(U168,'S2'!$B$23:$Z$57,11,FALSE)=\"\",\"\",VLOOKUP(U168,'S2'!$B$23:$Z$57,11,FALSE))","v":""},{"$f":"IF(VLOOKUP(U168,'S2'!$B$23:$Z$57,12,FALSE)=\"\",\"\",VLOOKUP(U168,'S2'!$B$23:$Z$57,12,FALSE))","v":""},{"$f":"IF(VLOOKUP(U168,'S2'!$B$23:$Z$57,13,FALSE)=\"\",\"\",VLOOKUP(U168,'S2'!$B$23:$Z$57,13,FALSE))","v":""},{"$f":"IF(VLOOKUP(U168,'S2'!$B$23:$Z$57,14,FALSE)=\"\",\"\",VLOOKUP(U168,'S2'!$B$23:$Z$57,14,FALSE))","v":""},{"$f":"IF(VLOOKUP(U168,'S2'!$B$23:$Z$57,15,FALSE)=\"\",\"\",VLOOKUP(U168,'S2'!$B$23:$Z$57,15,FALSE))","v":""}]
[null,"von",null,null,{"$f":"IF('S2'!$G$21=\"\",\"\",'S2'!$G$21)","v":""},{"$f":"IF('S2'!$H$21=\"\",\"\",'S2'!$H$21)","v":""},{"$f":"IF('S2'!$I$21=\"\",\"\",'S2'!$I$21)","v":""},{"$f":"IF('S2'!$J$21=\"\",\"\",'S2'!$J$21)","v":""},{"$f":"IF('S2'!$K$21=\"\",\"\",'S2'!$K$21)","v":""},{"$f":"IF('S2'!$L$21=\"\",\"\",'S2'!$L$21)","v":""},{"$f":"IF('S2'!$M$21=\"\",\"\",'S2'!$M$21)","v":""},{"$f":"IF('S2'!$N$21=\"\",\"\",'S2'!$N$21)","v":""},{"$f":"IF('S2'!$O$21=\"\",\"\",'S2'!$O$21)","v":""},{"$f":"IF('S2'!$P$21=\"\",\"\",'S2'!$P$21)","v":""},null,"von",null,null,null,null,"von",null,null,{"$f":"IF('S2'!$G$21=\"\",\"\",'S2'!$G$21)","v":""},{"$f":"IF('S2'!$H$21=\"\",\"\",'S2'!$H$21)","v":""},{"$f":"IF('S2'!$I$21=\"\",\"\",'S2'!$I$21)","v":""},{"$f":"IF('S2'!$J$21=\"\",\"\",'S2'!$J$21)","v":""},{"$f":"IF('S2'!$K$21=\"\",\"\",'S2'!$K$21)","v":""},{"$f":"IF('S2'!$L$21=\"\",\"\",'S2'!$L$21)","v":""},{"$f":"IF('S2'!$M$21=\"\",\"\",'S2'!$M$21)","v":""},{"$f":"IF('S2'!$N$21=\"\",\"\",'S2'!$N$21)","v":""},{"$f":"IF('S2'!$O$21=\"\",\"\",'S2'!$O$21)","v":""},{"$f":"IF('S2'!$P$21=\"\",\"\",'S2'!$P$21)","v":""},null,"von"]
[null,null,null,null,null,null,null,null,null,null,null,null,null,null,null,{"$f":"'S2'!$H$12","v":0},null,null,null,null,null,null,null,null,null,null,null,null,null,null,null,null,null,null,{"$f":"'S2'!$H$12","v":0}]
[null,{"$f":"IF('S2'!$Q$18=\"\",\"\",\"Aufgabe\")","v":""},null,null,{"$f":"IF('S2'!$Q$18=\"\",\"\",'S2'!$Q$18)","v":""},{"$f":"IF('S2'!$R$18=\"\",\"\",'S2'!$R$18)","v":""},{"$f":"IF('S2'!$S$18=\"\",\"\",'S2'!$S$18)","v":""},{"$f":"IF('S2'!$T$18=\"\",\"\",'S2'!$T$18)","v":""},{"$f":"IF('S2'!$U$18=\"\",\"\",'S2'!$U$18)","v":""},{"$f":"IF('S2'!$V$18=\"\",\"\",'S2'!$V$18)","v":""},{"$f":"IF('S2'!$W$18=\"\",\"\",'S2'!$W$18)","v":""},{"$f":"IF('S2'!$X$18=\"\",\"\",'S2'!$X$18)","v":""},{"$f":"IF('S2'!$Y$18=\"\",\"\",'S2'!$Y$18)","v":""},{"$f":"IF('S2'!$Z$18=\"\",\"\",'S2'!$Z$18)","v":""},null,null,null,null,null,null,{"$f":"IF('S2'!$Q$18=\"\",\"\",\"Aufgabe\")","v":""},null,null,{"$f":"IF('S2'!$Q$18=\"\",\"\",'S2'!$Q$18)","v":""},{"$f":"IF('S2'!$R$18=\"\",\"\",'S2'!$R$18)","v":""},{"$f":"IF('S2'!$S$18=\"\",\"\",'S2'!$S$18)","v":""},{"$f":"IF('S2'!$T$18=\"\",\"\",'S2'!$T$18)","v":""},{"$f":"IF('S2'!$U$18=\"\",\"\",'S2'!$U$18)","v":""},{"$f":"IF('S2'!$V$18=\"\",\"\",'S2'!$V$18)","v":""},{"$f":"IF('S2'!$W$18=\"\",\"\",'S2'!$W$18)","v":""},{"$f":"IF('S2'!$X$18=\"\",\"\",'S2'!$X$18)","v":""},{"$f":"IF('S2'!$Y$18=\"\",\"\",'S2'!$Y$18)","v":""},{"$f":"IF('S2'!$Z$18=\"\",\"\",'S2'!$Z$18)","v":""}]
[null,{"$f":"IF('S2'!$Q$18=\"\",\"\",\"erreicht\")","v":""},null,null,{"$f":"IF(VLOOKUP(B168,'S2'!$B$23:$Z$57,16,FALSE)=\"\",\"\",VLOOKUP(B168,'S2'!$B$23:$Z$57,16,FALSE))","v":""},{"$f":"IF(VLOOKUP(B168,'S2'!$B$23:$Z$57,17,FALSE)=\"\",\"\",VLOOKUP(B168,'S2'!$B$23:$Z$57,17,FALSE))","v":""},{"$f":"IF(VLOOKUP(B168,'S2'!$B$23:$Z$57,18,FALSE)=\"\",\"\",VLOOKUP(B168,'S2'!$B$23:$Z$57,18,FALSE))","v":""},{"$f":"IF(VLOOKUP(B168,'S2'!$B$23:$Z$57,19,FALSE)=\"\",\"\",VLOOKUP(B168,'S2'!$B$23:$Z$57,19,FALSE))","v":""},{"$f":"IF(VLOOKUP(B168,'S2'!$B$23:$Z$57,20,FALSE)=\"\",\"\",VLOOKUP(B168,'S2'!$B$23:$Z$57,20,FALSE))","v":""},{"$f":"IF(VLOOKUP(B168,'S2'!$B$23:$Z$57,21,FALSE)=\"\",\"\",VLOOKUP(B168,'S2'!$B$23:$Z$57,21,FALSE))","v":""},{"$f":"IF(VLOOKUP(B168,'S2'!$B$23:$Z$57,22,FALSE)=\"\",\"\",VLOOKUP(B168,'S2'!$B$23:$Z$57,22,FALSE))","v":""},{"$f":"IF(VLOOKUP(B168,'S2'!$B$23:$Z$57,23,FALSE)=\"\",\"\",VLOOKUP(B168,'S2'!$B$23:$Z$57,23,FALSE))","v":""},{"$f":"IF(VLOOKUP(B168,'S2'!$B$23:$Z$57,24,FALSE)=\"\",\"\",VLOOKUP(B168,'S2'!$B$23:$Z$57,24,FALSE))","v":""},{"$f":"IF(VLOOKUP(B168,'S2'!$B$23:$Z$57,25,FALSE)=\"\",\"\",VLOOKUP(B168,'S2'!$B$23:$Z$57,25,FALSE))","v":""},null,"Note",null,null,null,null,{"$f":"IF('S2'!$Q$18=\"\",\"\",\"erreicht\")","v":""},null,null,{"$f":"IF(VLOOKUP(U168,'S2'!$B$23:$Z$57,16,FALSE)=\"\",\"\",VLOOKUP(U168,'S2'!$B$23:$Z$57,16,FALSE))","v":""},{"$f":"IF(VLOOKUP(U168,'S2'!$B$23:$Z$57,17,FALSE)=\"\",\"\",VLOOKUP(U168,'S2'!$B$23:$Z$57,17,FALSE))","v":""},{"$f":"IF(VLOOKUP(U168,'S2'!$B$23:$Z$57,18,FALSE)=\"\",\"\",VLOOKUP(U168,'S2'!$B$23:$Z$57,18,FALSE))","v":""},{"$f":"IF(VLOOKUP(U168,'S2'!$B$23:$Z$57,19,FALSE)=\"\",\"\",VLOOKUP(U168,'S2'!$B$23:$Z$57,19,FALSE))","v":""},{"$f":"IF(VLOOKUP(U168,'S2'!$B$23:$Z$57,20,FALSE)=\"\",\"\",VLOOKUP(U168,'S2'!$B$23:$Z$57,20,FALSE))","v":""},{"$f":"IF(VLOOKUP(U168,'S2'!$B$23:$Z$57,21,FALSE)=\"\",\"\",VLOOKUP(U168,'S2'!$B$23:$Z$57,21,FALSE))","v":""},{"$f":"IF(VLOOKUP(U168,'S2'!$B$23:$Z$57,22,FALSE)=\"\",\"\",VLOOKUP(U168,'S2'!$B$23:$Z$57,22,FALSE))","v":""},{"$f":"IF(VLOOKUP(U168,'S2'!$B$23:$Z$57,23,FALSE)=\"\",\"\",VLOOKUP(U168,'S2'!$B$23:$Z$57,23,FALSE))","v":""},{"$f":"IF(VLOOKUP(U168,'S2'!$B$23:$Z$57,24,FALSE)=\"\",\"\",VLOOKUP(U168,'S2'!$B$23:$Z$57,24,FALSE))","v":""},{"$f":"IF(VLOOKUP(U168,'S2'!$B$23:$Z$57,25,FALSE)=\"\",\"\",VLOOKUP(U168,'S2'!$B$23:$Z$57,25,FALSE))","v":""},null,"Note"]
[null,{"$f":"IF('S2'!$Q$18=\"\",\"\",\"von\")","v":""},null,null,{"$f":"IF('S2'!$Q$21=\"\",\"\",'S2'!$Q$21)","v":""},{"$f":"IF('S2'!$R$21=\"\",\"\",'S2'!$R$21)","v":""},{"$f":"IF('S2'!$S$21=\"\",\"\",'S2'!$S$21)","v":""},{"$f":"IF('S2'!$T$21=\"\",\"\",'S2'!$T$21)","v":""},{"$f":"IF('S2'!$U$21=\"\",\"\",'S2'!$U$21)","v":""},{"$f":"IF('S2'!$V$21=\"\",\"\",'S2'!$V$21)","v":""},{"$f":"IF('S2'!$W$21=\"\",\"\",'S2'!$W$21)","v":""},{"$f":"IF('S2'!$X$21=\"\",\"\",'S2'!$X$21)","v":""},{"$f":"IF('S2'!$Y$21=\"\",\"\",'S2'!$Y$21)","v":""},{"$f":"IF('S2'!$Z$21=\"\",\"\",'S2'!$Z$21)","v":""},null,{"$f":"IF(VLOOKUP(B168,'S2'!$B$23:$Z$57,2,FALSE)=\"\",\"\",CONCATENATE(VLOOKUP(B168,'S2'!$B$23:$Z$57,2,FALSE),\" \",VLOOKUP(B168,'S2'!$B$23:$Z$57,3,FALSE)))","v":"- "},null,null,null,null,{"$f":"IF('S2'!$Q$18=\"\",\"\",\"von\")","v":""},null,null,{"$f":"IF('S2'!$Q$21=\"\",\"\",'S2'!$Q$21)","v":""},{"$f":"IF('S2'!$R$21=\"\",\"\",'S2'!$R$21)","v":""},{"$f":"IF('S2'!$S$21=\"\",\"\",'S2'!$S$21)","v":""},{"$f":"IF('S2'!$T$21=\"\",\"\",'S2'!$T$21)","v":""},{"$f":"IF('S2'!$U$21=\"\",\"\",'S2'!$U$21)","v":""},{"$f":"IF('S2'!$V$21=\"\",\"\",'S2'!$V$21)","v":""},{"$f":"IF('S2'!$W$21=\"\",\"\",'S2'!$W$21)","v":""},{"$f":"IF('S2'!$X$21=\"\",\"\",'S2'!$X$21)","v":""},{"$f":"IF('S2'!$Y$21=\"\",\"\",'S2'!$Y$21)","v":""},{"$f":"IF('S2'!$Z$21=\"\",\"\",'S2'!$Z$21)","v":""},null,{"$f":"IF(VLOOKUP(U168,'S2'!$B$23:$Z$57,2,FALSE)=\"\",\"\",CONCATENATE(VLOOKUP(U168,'S2'!$B$23:$Z$57,2,FALSE),\" \",VLOOKUP(U168,'S2'!$B$23:$Z$57,3,FALSE)))","v":"- "}]
[]
[]
[]
[null,{"$f":"'S2'!$B$53","v":""},null,null,null,null,null,null,null,null,null,null,null,null,null,null,null,null,null,null,{"$f":"'S2'!$B$54","v":""}]
[null,null,null,null,null,null,null,null,null,null,null,null,null,null,null,"Summe",null,null,null,null,null,null,null,null,null,null,null,null,null,null,null,null,null,null,"Summe"]
[null,"Aufgabe",null,null,{"$f":"IF('S2'!$G$18=\"\",\"\",'S2'!$G$18)","v":1},{"$f":"IF('S2'!$H$18=\"\",\"\",'S2'!$H$18)","v":2},{"$f":"IF('S2'!$I$18=\"\",\"\",'S2'!$I$18)","v":3},{"$f":"IF('S2'!$J$18=\"\",\"\",'S2'!$J$18)","v":""},{"$f":"IF('S2'!$K$18=\"\",\"\",'S2'!$K$18)","v":""},{"$f":"IF('S2'!$L$18=\"\",\"\",'S2'!$L$18)","v":""},{"$f":"IF('S2'!$M$18=\"\",\"\",'S2'!$M$18)","v":""},{"$f":"IF('S2'!$N$18=\"\",\"\",'S2'!$N$18)","v":""},{"$f":"IF('S2'!$O$18=\"\",\"\",'S2'!$O$18)","v":""},{"$f":"IF('S2'!$P$18=\"\",\"\",'S2'!$P$18)","v":""},null,{"$f":"IF(VLOOKUP(B180,'S2'!$B$23:$Z$57,5,FALSE)=\"\",\"\",VLOOKUP(B180,'S2'!$B$23:$Z$57,5,FALSE))","v":0},null,null,null,null,"Aufgabe",null,null,{"$f":"IF('S2'!$G$18=\"\",\"\",'S2'!$G$18)","v":1},{"$f":"IF('S2'!$H$18=\"\",\"\",'S2'!$H$18)","v":2},{"$f":"IF('S2'!$I$18=\"\",\"\",'S2'!$I$18)","v":3},{"$f":"IF('S2'!$J$18=\"\",\"\",'S2'!$J$18)","v":""},{"$f":"IF('S2'!$K$18=\"\",\"\",'S2'!$K$18)","v":""},{"$f":"IF('S2'!$L$18=\"\",\"\",'S2'!$L$18)","v":""},{"$f":"IF('S2'!$M$18=\"\",\"\",'S2'!$M$18)","v":""},{"$f":"IF('S2'!$N$18=\"\",\"\",'S2'!$N$18)","v":""},{"$f":"IF('S2'!$O$18=\"\",\"\",'S2'!$O$18)","v":""},{"$f":"IF('S2'!$P$18=\"\",\"\",'S2'!$P$18)","v":""},null,{"$f":"IF(VLOOKUP(U180,'S2'!$B$23:$Z$57,5,FALSE)=\"\",\"\",VLOOKUP(U180,'S2'!$B$23:$Z$57,5,FALSE))","v":0}]
[null,"erreicht",null,null,{"$f":"IF(VLOOKUP(B180,'S2'!$B$23:$Z$57,6,FALSE)=\"\",\"\",VLOOKUP(B180,'S2'!$B$23:$Z$57,6,FALSE))","v":"."},{"$f":"IF(VLOOKUP(B180,'S2'!$B$23:$Z$57,7,FALSE)=\"\",\"\",VLOOKUP(B180,'S2'!$B$23:$Z$57,7,FALSE))","v":""},{"$f":"IF(VLOOKUP(B180,'S2'!$B$23:$Z$57,8,FALSE)=\"\",\"\",VLOOKUP(B180,'S2'!$B$23:$Z$57,8,FALSE))","v":""},{"$f":"IF(VLOOKUP(B180,'S2'!$B$23:$Z$57,9,FALSE)=\"\",\"\",VLOOKUP(B180,'S2'!$B$23:$Z$57,9,FALSE))","v":""},{"$f":"IF(VLOOKUP(B180,'S2'!$B$23:$Z$57,10,FALSE)=\"\",\"\",VLOOKUP(B180,'S2'!$B$23:$Z$57,10,FALSE))","v":""},{"$f":"IF(VLOOKUP(B180,'S2'!$B$23:$Z$57,11,FALSE)=\"\",\"\",VLOOKUP(B180,'S2'!$B$23:$Z$57,11,FALSE))","v":""},{"$f":"IF(VLOOKUP(B180,'S2'!$B$23:$Z$57,12,FALSE)=\"\",\"\",VLOOKUP(B180,'S2'!$B$23:$Z$57,12,FALSE))","v":""},{"$f":"IF(VLOOKUP(B180,'S2'!$B$23:$Z$57,13,FALSE)=\"\",\"\",VLOOKUP(B180,'S2'!$B$23:$Z$57,13,FALSE))","v":""},{"$f":"IF(VLOOKUP(B180,'S2'!$B$23:$Z$57,14,FALSE)=\"\",\"\",VLOOKUP(B180,'S2'!$B$23:$Z$57,14,FALSE))","v":""},{"$f":"IF(VLOOKUP(B180,'S2'!$B$23:$Z$57,15,FALSE)=\"\",\"\",VLOOKUP(B180,'S2'!$B$23:$Z$57,15,FALSE))","v":""},null,null,null,null,null,null,"erreicht",null,null,{"$f":"IF(VLOOKUP(U180,'S2'!$B$23:$Z$57,6,FALSE)=\"\",\"\",VLOOKUP(U180,'S2'!$B$23:$Z$57,6,FALSE))","v":"."},{"$f":"IF(VLOOKUP(U180,'S2'!$B$23:$Z$57,7,FALSE)=\"\",\"\",VLOOKUP(U180,'S2'!$B$23:$Z$57,7,FALSE))","v":""},{"$f":"IF(VLOOKUP(U180,'S2'!$B$23:$Z$57,8,FALSE)=\"\",\"\",VLOOKUP(U180,'S2'!$B$23:$Z$57,8,FALSE))","v":""},{"$f":"IF(VLOOKUP(U180,'S2'!$B$23:$Z$57,9,FALSE)=\"\",\"\",VLOOKUP(U180,'S2'!$B$23:$Z$57,9,FALSE))","v":""},{"$f":"IF(VLOOKUP(U180,'S2'!$B$23:$Z$57,10,FALSE)=\"\",\"\",VLOOKUP(U180,'S2'!$B$23:$Z$57,10,FALSE))","v":""},{"$f":"IF(VLOOKUP(U180,'S2'!$B$23:$Z$57,11,FALSE)=\"\",\"\",VLOOKUP(U180,'S2'!$B$23:$Z$57,11,FALSE))","v":""},{"$f":"IF(VLOOKUP(U180,'S2'!$B$23:$Z$57,12,FALSE)=\"\",\"\",VLOOKUP(U180,'S2'!$B$23:$Z$57,12,FALSE))","v":""},{"$f":"IF(VLOOKUP(U180,'S2'!$B$23:$Z$57,13,FALSE)=\"\",\"\",VLOOKUP(U180,'S2'!$B$23:$Z$57,13,FALSE))","v":""},{"$f":"IF(VLOOKUP(U180,'S2'!$B$23:$Z$57,14,FALSE)=\"\",\"\",VLOOKUP(U180,'S2'!$B$23:$Z$57,14,FALSE))","v":""},{"$f":"IF(VLOOKUP(U180,'S2'!$B$23:$Z$57,15,FALSE)=\"\",\"\",VLOOKUP(U180,'S2'!$B$23:$Z$57,15,FALSE))","v":""}]
[null,"von",null,null,{"$f":"IF('S2'!$G$21=\"\",\"\",'S2'!$G$21)","v":""},{"$f":"IF('S2'!$H$21=\"\",\"\",'S2'!$H$21)","v":""},{"$f":"IF('S2'!$I$21=\"\",\"\",'S2'!$I$21)","v":""},{"$f":"IF('S2'!$J$21=\"\",\"\",'S2'!$J$21)","v":""},{"$f":"IF('S2'!$K$21=\"\",\"\",'S2'!$K$21)","v":""},{"$f":"IF('S2'!$L$21=\"\",\"\",'S2'!$L$21)","v":""},{"$f":"IF('S2'!$M$21=\"\",\"\",'S2'!$M$21)","v":""},{"$f":"IF('S2'!$N$21=\"\",\"\",'S2'!$N$21)","v":""},{"$f":"IF('S2'!$O$21=\"\",\"\",'S2'!$O$21)","v":""},{"$f":"IF('S2'!$P$21=\"\",\"\",'S2'!$P$21)","v":""},null,"von",null,null,null,null,"von",null,null,{"$f":"IF('S2'!$G$21=\"\",\"\",'S2'!$G$21)","v":""},{"$f":"IF('S2'!$H$21=\"\",\"\",'S2'!$H$21)","v":""},{"$f":"IF('S2'!$I$21=\"\",\"\",'S2'!$I$21)","v":""},{"$f":"IF('S2'!$J$21=\"\",\"\",'S2'!$J$21)","v":""},{"$f":"IF('S2'!$K$21=\"\",\"\",'S2'!$K$21)","v":""},{"$f":"IF('S2'!$L$21=\"\",\"\",'S2'!$L$21)","v":""},{"$f":"IF('S2'!$M$21=\"\",\"\",'S2'!$M$21)","v":""},{"$f":"IF('S2'!$N$21=\"\",\"\",'S2'!$N$21)","v":""},{"$f":"IF('S2'!$O$21=\"\",\"\",'S2'!$O$21)","v":""},{"$f":"IF('S2'!$P$21=\"\",\"\",'S2'!$P$21)","v":""},null,"von"]
[null,null,null,null,null,null,null,null,null,null,null,null,null,null,null,{"$f":"'S2'!$H$12","v":0},null,null,null,null,null,null,null,null,null,null,null,null,null,null,null,null,null,null,{"$f":"'S2'!$H$12","v":0}]
[null,{"$f":"IF('S2'!$Q$18=\"\",\"\",\"Aufgabe\")","v":""},null,null,{"$f":"IF('S2'!$Q$18=\"\",\"\",'S2'!$Q$18)","v":""},{"$f":"IF('S2'!$R$18=\"\",\"\",'S2'!$R$18)","v":""},{"$f":"IF('S2'!$S$18=\"\",\"\",'S2'!$S$18)","v":""},{"$f":"IF('S2'!$T$18=\"\",\"\",'S2'!$T$18)","v":""},{"$f":"IF('S2'!$U$18=\"\",\"\",'S2'!$U$18)","v":""},{"$f":"IF('S2'!$V$18=\"\",\"\",'S2'!$V$18)","v":""},{"$f":"IF('S2'!$W$18=\"\",\"\",'S2'!$W$18)","v":""},{"$f":"IF('S2'!$X$18=\"\",\"\",'S2'!$X$18)","v":""},{"$f":"IF('S2'!$Y$18=\"\",\"\",'S2'!$Y$18)","v":""},{"$f":"IF('S2'!$Z$18=\"\",\"\",'S2'!$Z$18)","v":""},null,null,null,null,null,null,{"$f":"IF('S2'!$Q$18=\"\",\"\",\"Aufgabe\")","v":""},null,null,{"$f":"IF('S2'!$Q$18=\"\",\"\",'S2'!$Q$18)","v":""},{"$f":"IF('S2'!$R$18=\"\",\"\",'S2'!$R$18)","v":""},{"$f":"IF('S2'!$S$18=\"\",\"\",'S2'!$S$18)","v":""},{"$f":"IF('S2'!$T$18=\"\",\"\",'S2'!$T$18)","v":""},{"$f":"IF('S2'!$U$18=\"\",\"\",'S2'!$U$18)","v":""},{"$f":"IF('S2'!$V$18=\"\",\"\",'S2'!$V$18)","v":""},{"$f":"IF('S2'!$W$18=\"\",\"\",'S2'!$W$18)","v":""},{"$f":"IF('S2'!$X$18=\"\",\"\",'S2'!$X$18)","v":""},{"$f":"IF('S2'!$Y$18=\"\",\"\",'S2'!$Y$18)","v":""},{"$f":"IF('S2'!$Z$18=\"\",\"\",'S2'!$Z$18)","v":""}]
[null,{"$f":"IF('S2'!$Q$18=\"\",\"\",\"erreicht\")","v":""},null,null,{"$f":"IF(VLOOKUP(B180,'S2'!$B$23:$Z$57,16,FALSE)=\"\",\"\",VLOOKUP(B180,'S2'!$B$23:$Z$57,16,FALSE))","v":""},{"$f":"IF(VLOOKUP(B180,'S2'!$B$23:$Z$57,17,FALSE)=\"\",\"\",VLOOKUP(B180,'S2'!$B$23:$Z$57,17,FALSE))","v":""},{"$f":"IF(VLOOKUP(B180,'S2'!$B$23:$Z$57,18,FALSE)=\"\",\"\",VLOOKUP(B180,'S2'!$B$23:$Z$57,18,FALSE))","v":""},{"$f":"IF(VLOOKUP(B180,'S2'!$B$23:$Z$57,19,FALSE)=\"\",\"\",VLOOKUP(B180,'S2'!$B$23:$Z$57,19,FALSE))","v":""},{"$f":"IF(VLOOKUP(B180,'S2'!$B$23:$Z$57,20,FALSE)=\"\",\"\",VLOOKUP(B180,'S2'!$B$23:$Z$57,20,FALSE))","v":""},{"$f":"IF(VLOOKUP(B180,'S2'!$B$23:$Z$57,21,FALSE)=\"\",\"\",VLOOKUP(B180,'S2'!$B$23:$Z$57,21,FALSE))","v":""},{"$f":"IF(VLOOKUP(B180,'S2'!$B$23:$Z$57,22,FALSE)=\"\",\"\",VLOOKUP(B180,'S2'!$B$23:$Z$57,22,FALSE))","v":""},{"$f":"IF(VLOOKUP(B180,'S2'!$B$23:$Z$57,23,FALSE)=\"\",\"\",VLOOKUP(B180,'S2'!$B$23:$Z$57,23,FALSE))","v":""},{"$f":"IF(VLOOKUP(B180,'S2'!$B$23:$Z$57,24,FALSE)=\"\",\"\",VLOOKUP(B180,'S2'!$B$23:$Z$57,24,FALSE))","v":""},{"$f":"IF(VLOOKUP(B180,'S2'!$B$23:$Z$57,25,FALSE)=\"\",\"\",VLOOKUP(B180,'S2'!$B$23:$Z$57,25,FALSE))","v":""},null,"Note",null,null,null,null,{"$f":"IF('S2'!$Q$18=\"\",\"\",\"erreicht\")","v":""},null,null,{"$f":"IF(VLOOKUP(U180,'S2'!$B$23:$Z$57,16,FALSE)=\"\",\"\",VLOOKUP(U180,'S2'!$B$23:$Z$57,16,FALSE))","v":""},{"$f":"IF(VLOOKUP(U180,'S2'!$B$23:$Z$57,17,FALSE)=\"\",\"\",VLOOKUP(U180,'S2'!$B$23:$Z$57,17,FALSE))","v":""},{"$f":"IF(VLOOKUP(U180,'S2'!$B$23:$Z$57,18,FALSE)=\"\",\"\",VLOOKUP(U180,'S2'!$B$23:$Z$57,18,FALSE))","v":""},{"$f":"IF(VLOOKUP(U180,'S2'!$B$23:$Z$57,19,FALSE)=\"\",\"\",VLOOKUP(U180,'S2'!$B$23:$Z$57,19,FALSE))","v":""},{"$f":"IF(VLOOKUP(U180,'S2'!$B$23:$Z$57,20,FALSE)=\"\",\"\",VLOOKUP(U180,'S2'!$B$23:$Z$57,20,FALSE))","v":""},{"$f":"IF(VLOOKUP(U180,'S2'!$B$23:$Z$57,21,FALSE)=\"\",\"\",VLOOKUP(U180,'S2'!$B$23:$Z$57,21,FALSE))","v":""},{"$f":"IF(VLOOKUP(U180,'S2'!$B$23:$Z$57,22,FALSE)=\"\",\"\",VLOOKUP(U180,'S2'!$B$23:$Z$57,22,FALSE))","v":""},{"$f":"IF(VLOOKUP(U180,'S2'!$B$23:$Z$57,23,FALSE)=\"\",\"\",VLOOKUP(U180,'S2'!$B$23:$Z$57,23,FALSE))","v":""},{"$f":"IF(VLOOKUP(U180,'S2'!$B$23:$Z$57,24,FALSE)=\"\",\"\",VLOOKUP(U180,'S2'!$B$23:$Z$57,24,FALSE))","v":""},{"$f":"IF(VLOOKUP(U180,'S2'!$B$23:$Z$57,25,FALSE)=\"\",\"\",VLOOKUP(U180,'S2'!$B$23:$Z$57,25,FALSE))","v":""},null,"Note"]
[null,{"$f":"IF('S2'!$Q$18=\"\",\"\",\"von\")","v":""},null,null,{"$f":"IF('S2'!$Q$21=\"\",\"\",'S2'!$Q$21)","v":""},{"$f":"IF('S2'!$R$21=\"\",\"\",'S2'!$R$21)","v":""},{"$f":"IF('S2'!$S$21=\"\",\"\",'S2'!$S$21)","v":""},{"$f":"IF('S2'!$T$21=\"\",\"\",'S2'!$T$21)","v":""},{"$f":"IF('S2'!$U$21=\"\",\"\",'S2'!$U$21)","v":""},{"$f":"IF('S2'!$V$21=\"\",\"\",'S2'!$V$21)","v":""},{"$f":"IF('S2'!$W$21=\"\",\"\",'S2'!$W$21)","v":""},{"$f":"IF('S2'!$X$21=\"\",\"\",'S2'!$X$21)","v":""},{"$f":"IF('S2'!$Y$21=\"\",\"\",'S2'!$Y$21)","v":""},{"$f":"IF('S2'!$Z$21=\"\",\"\",'S2'!$Z$21)","v":""},null,{"$f":"IF(VLOOKUP(B180,'S2'!$B$23:$Z$57,2,FALSE)=\"\",\"\",CONCATENATE(VLOOKUP(B180,'S2'!$B$23:$Z$57,2,FALSE),\" \",VLOOKUP(B180,'S2'!$B$23:$Z$57,3,FALSE)))","v":"- "},null,null,null,null,{"$f":"IF('S2'!$Q$18=\"\",\"\",\"von\")","v":""},null,null,{"$f":"IF('S2'!$Q$21=\"\",\"\",'S2'!$Q$21)","v":""},{"$f":"IF('S2'!$R$21=\"\",\"\",'S2'!$R$21)","v":""},{"$f":"IF('S2'!$S$21=\"\",\"\",'S2'!$S$21)","v":""},{"$f":"IF('S2'!$T$21=\"\",\"\",'S2'!$T$21)","v":""},{"$f":"IF('S2'!$U$21=\"\",\"\",'S2'!$U$21)","v":""},{"$f":"IF('S2'!$V$21=\"\",\"\",'S2'!$V$21)","v":""},{"$f":"IF('S2'!$W$21=\"\",\"\",'S2'!$W$21)","v":""},{"$f":"IF('S2'!$X$21=\"\",\"\",'S2'!$X$21)","v":""},{"$f":"IF('S2'!$Y$21=\"\",\"\",'S2'!$Y$21)","v":""},{"$f":"IF('S2'!$Z$21=\"\",\"\",'S2'!$Z$21)","v":""},null,{"$f":"IF(VLOOKUP(U180,'S2'!$B$23:$Z$57,2,FALSE)=\"\",\"\",CONCATENATE(VLOOKUP(U180,'S2'!$B$23:$Z$57,2,FALSE),\" \",VLOOKUP(U180,'S2'!$B$23:$Z$57,3,FALSE)))","v":"- "}]
[]
[]
[]
[null,{"$f":"'S2'!$B$55","v":""},null,null,null,null,null,null,null,null,null,null,null,null,null,null,null,null,null,null,{"$f":"'S2'!$B$56","v":""}]
[null,null,null,null,null,null,null,null,null,null,null,null,null,null,null,"Summe",null,null,null,null,null,null,null,null,null,null,null,null,null,null,null,null,null,null,"Summe"]
[null,"Aufgabe",null,null,{"$f":"IF('S2'!$G$18=\"\",\"\",'S2'!$G$18)","v":1},{"$f":"IF('S2'!$H$18=\"\",\"\",'S2'!$H$18)","v":2},{"$f":"IF('S2'!$I$18=\"\",\"\",'S2'!$I$18)","v":3},{"$f":"IF('S2'!$J$18=\"\",\"\",'S2'!$J$18)","v":""},{"$f":"IF('S2'!$K$18=\"\",\"\",'S2'!$K$18)","v":""},{"$f":"IF('S2'!$L$18=\"\",\"\",'S2'!$L$18)","v":""},{"$f":"IF('S2'!$M$18=\"\",\"\",'S2'!$M$18)","v":""},{"$f":"IF('S2'!$N$18=\"\",\"\",'S2'!$N$18)","v":""},{"$f":"IF('S2'!$O$18=\"\",\"\",'S2'!$O$18)","v":""},{"$f":"IF('S2'!$P$18=\"\",\"\",'S2'!$P$18)","v":""},null,{"$f":"IF(VLOOKUP(B192,'S2'!$B$23:$Z$57,5,FALSE)=\"\",\"\",VLOOKUP(B192,'S2'!$B$23:$Z$57,5,FALSE))","v":0},null,null,null,null,"Aufgabe",null,null,{"$f":"IF('S2'!$G$18=\"\",\"\",'S2'!$G$18)","v":1},{"$f":"IF('S2'!$H$18=\"\",\"\",'S2'!$H$18)","v":2},{"$f":"IF('S2'!$I$18=\"\",\"\",'S2'!$I$18)","v":3},{"$f":"IF('S2'!$J$18=\"\",\"\",'S2'!$J$18)","v":""},{"$f":"IF('S2'!$K$18=\"\",\"\",'S2'!$K$18)","v":""},{"$f":"IF('S2'!$L$18=\"\",\"\",'S2'!$L$18)","v":""},{"$f":"IF('S2'!$M$18=\"\",\"\",'S2'!$M$18)","v":""},{"$f":"IF('S2'!$N$18=\"\",\"\",'S2'!$N$18)","v":""},{"$f":"IF('S2'!$O$18=\"\",\"\",'S2'!$O$18)","v":""},{"$f":"IF('S2'!$P$18=\"\",\"\",'S2'!$P$18)","v":""},null,{"$f":"IF(VLOOKUP(U192,'S2'!$B$23:$Z$57,5,FALSE)=\"\",\"\",VLOOKUP(U192,'S2'!$B$23:$Z$57,5,FALSE))","v":0}]
[null,"erreicht",null,null,{"$f":"IF(VLOOKUP(B192,'S2'!$B$23:$Z$57,6,FALSE)=\"\",\"\",VLOOKUP(B192,'S2'!$B$23:$Z$57,6,FALSE))","v":"."},{"$f":"IF(VLOOKUP(B192,'S2'!$B$23:$Z$57,7,FALSE)=\"\",\"\",VLOOKUP(B192,'S2'!$B$23:$Z$57,7,FALSE))","v":""},{"$f":"IF(VLOOKUP(B192,'S2'!$B$23:$Z$57,8,FALSE)=\"\",\"\",VLOOKUP(B192,'S2'!$B$23:$Z$57,8,FALSE))","v":""},{"$f":"IF(VLOOKUP(B192,'S2'!$B$23:$Z$57,9,FALSE)=\"\",\"\",VLOOKUP(B192,'S2'!$B$23:$Z$57,9,FALSE))","v":""},{"$f":"IF(VLOOKUP(B192,'S2'!$B$23:$Z$57,10,FALSE)=\"\",\"\",VLOOKUP(B192,'S2'!$B$23:$Z$57,10,FALSE))","v":""},{"$f":"IF(VLOOKUP(B192,'S2'!$B$23:$Z$57,11,FALSE)=\"\",\"\",VLOOKUP(B192,'S2'!$B$23:$Z$57,11,FALSE))","v":""},{"$f":"IF(VLOOKUP(B192,'S2'!$B$23:$Z$57,12,FALSE)=\"\",\"\",VLOOKUP(B192,'S2'!$B$23:$Z$57,12,FALSE))","v":""},{"$f":"IF(VLOOKUP(B192,'S2'!$B$23:$Z$57,13,FALSE)=\"\",\"\",VLOOKUP(B192,'S2'!$B$23:$Z$57,13,FALSE))","v":""},{"$f":"IF(VLOOKUP(B192,'S2'!$B$23:$Z$57,14,FALSE)=\"\",\"\",VLOOKUP(B192,'S2'!$B$23:$Z$57,14,FALSE))","v":""},{"$f":"IF(VLOOKUP(B192,'S2'!$B$23:$Z$57,15,FALSE)=\"\",\"\",VLOOKUP(B192,'S2'!$B$23:$Z$57,15,FALSE))","v":""},null,null,null,null,null,null,"erreicht",null,null,{"$f":"IF(VLOOKUP(U192,'S2'!$B$23:$Z$57,6,FALSE)=\"\",\"\",VLOOKUP(U192,'S2'!$B$23:$Z$57,6,FALSE))","v":"."},{"$f":"IF(VLOOKUP(U192,'S2'!$B$23:$Z$57,7,FALSE)=\"\",\"\",VLOOKUP(U192,'S2'!$B$23:$Z$57,7,FALSE))","v":""},{"$f":"IF(VLOOKUP(U192,'S2'!$B$23:$Z$57,8,FALSE)=\"\",\"\",VLOOKUP(U192,'S2'!$B$23:$Z$57,8,FALSE))","v":""},{"$f":"IF(VLOOKUP(U192,'S2'!$B$23:$Z$57,9,FALSE)=\"\",\"\",VLOOKUP(U192,'S2'!$B$23:$Z$57,9,FALSE))","v":""},{"$f":"IF(VLOOKUP(U192,'S2'!$B$23:$Z$57,10,FALSE)=\"\",\"\",VLOOKUP(U192,'S2'!$B$23:$Z$57,10,FALSE))","v":""},{"$f":"IF(VLOOKUP(U192,'S2'!$B$23:$Z$57,11,FALSE)=\"\",\"\",VLOOKUP(U192,'S2'!$B$23:$Z$57,11,FALSE))","v":""},{"$f":"IF(VLOOKUP(U192,'S2'!$B$23:$Z$57,12,FALSE)=\"\",\"\",VLOOKUP(U192,'S2'!$B$23:$Z$57,12,FALSE))","v":""},{"$f":"IF(VLOOKUP(U192,'S2'!$B$23:$Z$57,13,FALSE)=\"\",\"\",VLOOKUP(U192,'S2'!$B$23:$Z$57,13,FALSE))","v":""},{"$f":"IF(VLOOKUP(U192,'S2'!$B$23:$Z$57,14,FALSE)=\"\",\"\",VLOOKUP(U192,'S2'!$B$23:$Z$57,14,FALSE))","v":""},{"$f":"IF(VLOOKUP(U192,'S2'!$B$23:$Z$57,15,FALSE)=\"\",\"\",VLOOKUP(U192,'S2'!$B$23:$Z$57,15,FALSE))","v":""}]
[null,"von",null,null,{"$f":"IF('S2'!$G$21=\"\",\"\",'S2'!$G$21)","v":""},{"$f":"IF('S2'!$H$21=\"\",\"\",'S2'!$H$21)","v":""},{"$f":"IF('S2'!$I$21=\"\",\"\",'S2'!$I$21)","v":""},{"$f":"IF('S2'!$J$21=\"\",\"\",'S2'!$J$21)","v":""},{"$f":"IF('S2'!$K$21=\"\",\"\",'S2'!$K$21)","v":""},{"$f":"IF('S2'!$L$21=\"\",\"\",'S2'!$L$21)","v":""},{"$f":"IF('S2'!$M$21=\"\",\"\",'S2'!$M$21)","v":""},{"$f":"IF('S2'!$N$21=\"\",\"\",'S2'!$N$21)","v":""},{"$f":"IF('S2'!$O$21=\"\",\"\",'S2'!$O$21)","v":""},{"$f":"IF('S2'!$P$21=\"\",\"\",'S2'!$P$21)","v":""},null,"von",null,null,null,null,"von",null,null,{"$f":"IF('S2'!$G$21=\"\",\"\",'S2'!$G$21)","v":""},{"$f":"IF('S2'!$H$21=\"\",\"\",'S2'!$H$21)","v":""},{"$f":"IF('S2'!$I$21=\"\",\"\",'S2'!$I$21)","v":""},{"$f":"IF('S2'!$J$21=\"\",\"\",'S2'!$J$21)","v":""},{"$f":"IF('S2'!$K$21=\"\",\"\",'S2'!$K$21)","v":""},{"$f":"IF('S2'!$L$21=\"\",\"\",'S2'!$L$21)","v":""},{"$f":"IF('S2'!$M$21=\"\",\"\",'S2'!$M$21)","v":""},{"$f":"IF('S2'!$N$21=\"\",\"\",'S2'!$N$21)","v":""},{"$f":"IF('S2'!$O$21=\"\",\"\",'S2'!$O$21)","v":""},{"$f":"IF('S2'!$P$21=\"\",\"\",'S2'!$P$21)","v":""},null,"von"]
[null,null,null,null,null,null,null,null,null,null,null,null,null,null,null,{"$f":"'S2'!$H$12","v":0},null,null,null,null,null,null,null,null,null,null,null,null,null,null,null,null,null,null,{"$f":"'S2'!$H$12","v":0}]
[null,{"$f":"IF('S2'!$Q$18=\"\",\"\",\"Aufgabe\")","v":""},null,null,{"$f":"IF('S2'!$Q$18=\"\",\"\",'S2'!$Q$18)","v":""},{"$f":"IF('S2'!$R$18=\"\",\"\",'S2'!$R$18)","v":""},{"$f":"IF('S2'!$S$18=\"\",\"\",'S2'!$S$18)","v":""},{"$f":"IF('S2'!$T$18=\"\",\"\",'S2'!$T$18)","v":""},{"$f":"IF('S2'!$U$18=\"\",\"\",'S2'!$U$18)","v":""},{"$f":"IF('S2'!$V$18=\"\",\"\",'S2'!$V$18)","v":""},{"$f":"IF('S2'!$W$18=\"\",\"\",'S2'!$W$18)","v":""},{"$f":"IF('S2'!$X$18=\"\",\"\",'S2'!$X$18)","v":""},{"$f":"IF('S2'!$Y$18=\"\",\"\",'S2'!$Y$18)","v":""},{"$f":"IF('S2'!$Z$18=\"\",\"\",'S2'!$Z$18)","v":""},null,null,null,null,null,null,{"$f":"IF('S2'!$Q$18=\"\",\"\",\"Aufgabe\")","v":""},null,null,{"$f":"IF('S2'!$Q$18=\"\",\"\",'S2'!$Q$18)","v":""},{"$f":"IF('S2'!$R$18=\"\",\"\",'S2'!$R$18)","v":""},{"$f":"IF('S2'!$S$18=\"\",\"\",'S2'!$S$18)","v":""},{"$f":"IF('S2'!$T$18=\"\",\"\",'S2'!$T$18)","v":""},{"$f":"IF('S2'!$U$18=\"\",\"\",'S2'!$U$18)","v":""},{"$f":"IF('S2'!$V$18=\"\",\"\",'S2'!$V$18)","v":""},{"$f":"IF('S2'!$W$18=\"\",\"\",'S2'!$W$18)","v":""},{"$f":"IF('S2'!$X$18=\"\",\"\",'S2'!$X$18)","v":""},{"$f":"IF('S2'!$Y$18=\"\",\"\",'S2'!$Y$18)","v":""},{"$f":"IF('S2'!$Z$18=\"\",\"\",'S2'!$Z$18)","v":""}]
[null,{"$f":"IF('S2'!$Q$18=\"\",\"\",\"erreicht\")","v":""},null,null,{"$f":"IF(VLOOKUP(B192,'S2'!$B$23:$Z$57,16,FALSE)=\"\",\"\",VLOOKUP(B192,'S2'!$B$23:$Z$57,16,FALSE))","v":""},{"$f":"IF(VLOOKUP(B192,'S2'!$B$23:$Z$57,17,FALSE)=\"\",\"\",VLOOKUP(B192,'S2'!$B$23:$Z$57,17,FALSE))","v":""},{"$f":"IF(VLOOKUP(B192,'S2'!$B$23:$Z$57,18,FALSE)=\"\",\"\",VLOOKUP(B192,'S2'!$B$23:$Z$57,18,FALSE))","v":""},{"$f":"IF(VLOOKUP(B192,'S2'!$B$23:$Z$57,19,FALSE)=\"\",\"\",VLOOKUP(B192,'S2'!$B$23:$Z$57,19,FALSE))","v":""},{"$f":"IF(VLOOKUP(B192,'S2'!$B$23:$Z$57,20,FALSE)=\"\",\"\",VLOOKUP(B192,'S2'!$B$23:$Z$57,20,FALSE))","v":""},{"$f":"IF(VLOOKUP(B192,'S2'!$B$23:$Z$57,21,FALSE)=\"\",\"\",VLOOKUP(B192,'S2'!$B$23:$Z$57,21,FALSE))","v":""},{"$f":"IF(VLOOKUP(B192,'S2'!$B$23:$Z$57,22,FALSE)=\"\",\"\",VLOOKUP(B192,'S2'!$B$23:$Z$57,22,FALSE))","v":""},{"$f":"IF(VLOOKUP(B192,'S2'!$B$23:$Z$57,23,FALSE)=\"\",\"\",VLOOKUP(B192,'S2'!$B$23:$Z$57,23,FALSE))","v":""},{"$f":"IF(VLOOKUP(B192,'S2'!$B$23:$Z$57,24,FALSE)=\"\",\"\",VLOOKUP(B192,'S2'!$B$23:$Z$57,24,FALSE))","v":""},{"$f":"IF(VLOOKUP(B192,'S2'!$B$23:$Z$57,25,FALSE)=\"\",\"\",VLOOKUP(B192,'S2'!$B$23:$Z$57,25,FALSE))","v":""},null,"Note",null,null,null,null,{"$f":"IF('S2'!$Q$18=\"\",\"\",\"erreicht\")","v":""},null,null,{"$f":"IF(VLOOKUP(U192,'S2'!$B$23:$Z$57,16,FALSE)=\"\",\"\",VLOOKUP(U192,'S2'!$B$23:$Z$57,16,FALSE))","v":""},{"$f":"IF(VLOOKUP(U192,'S2'!$B$23:$Z$57,17,FALSE)=\"\",\"\",VLOOKUP(U192,'S2'!$B$23:$Z$57,17,FALSE))","v":""},{"$f":"IF(VLOOKUP(U192,'S2'!$B$23:$Z$57,18,FALSE)=\"\",\"\",VLOOKUP(U192,'S2'!$B$23:$Z$57,18,FALSE))","v":""},{"$f":"IF(VLOOKUP(U192,'S2'!$B$23:$Z$57,19,FALSE)=\"\",\"\",VLOOKUP(U192,'S2'!$B$23:$Z$57,19,FALSE))","v":""},{"$f":"IF(VLOOKUP(U192,'S2'!$B$23:$Z$57,20,FALSE)=\"\",\"\",VLOOKUP(U192,'S2'!$B$23:$Z$57,20,FALSE))","v":""},{"$f":"IF(VLOOKUP(U192,'S2'!$B$23:$Z$57,21,FALSE)=\"\",\"\",VLOOKUP(U192,'S2'!$B$23:$Z$57,21,FALSE))","v":""},{"$f":"IF(VLOOKUP(U192,'S2'!$B$23:$Z$57,22,FALSE)=\"\",\"\",VLOOKUP(U192,'S2'!$B$23:$Z$57,22,FALSE))","v":""},{"$f":"IF(VLOOKUP(U192,'S2'!$B$23:$Z$57,23,FALSE)=\"\",\"\",VLOOKUP(U192,'S2'!$B$23:$Z$57,23,FALSE))","v":""},{"$f":"IF(VLOOKUP(U192,'S2'!$B$23:$Z$57,24,FALSE)=\"\",\"\",VLOOKUP(U192,'S2'!$B$23:$Z$57,24,FALSE))","v":""},{"$f":"IF(VLOOKUP(U192,'S2'!$B$23:$Z$57,25,FALSE)=\"\",\"\",VLOOKUP(U192,'S2'!$B$23:$Z$57,25,FALSE))","v":""},null,"Note"]
[null,{"$f":"IF('S2'!$Q$18=\"\",\"\",\"von\")","v":""},null,null,{"$f":"IF('S2'!$Q$21=\"\",\"\",'S2'!$Q$21)","v":""},{"$f":"IF('S2'!$R$21=\"\",\"\",'S2'!$R$21)","v":""},{"$f":"IF('S2'!$S$21=\"\",\"\",'S2'!$S$21)","v":""},{"$f":"IF('S2'!$T$21=\"\",\"\",'S2'!$T$21)","v":""},{"$f":"IF('S2'!$U$21=\"\",\"\",'S2'!$U$21)","v":""},{"$f":"IF('S2'!$V$21=\"\",\"\",'S2'!$V$21)","v":""},{"$f":"IF('S2'!$W$21=\"\",\"\",'S2'!$W$21)","v":""},{"$f":"IF('S2'!$X$21=\"\",\"\",'S2'!$X$21)","v":""},{"$f":"IF('S2'!$Y$21=\"\",\"\",'S2'!$Y$21)","v":""},{"$f":"IF('S2'!$Z$21=\"\",\"\",'S2'!$Z$21)","v":""},null,{"$f":"IF(VLOOKUP(B192,'S2'!$B$23:$Z$57,2,FALSE)=\"\",\"\",CONCATENATE(VLOOKUP(B192,'S2'!$B$23:$Z$57,2,FALSE),\" \",VLOOKUP(B192,'S2'!$B$23:$Z$57,3,FALSE)))","v":"- "},null,null,null,null,{"$f":"IF('S2'!$Q$18=\"\",\"\",\"von\")","v":""},null,null,{"$f":"IF('S2'!$Q$21=\"\",\"\",'S2'!$Q$21)","v":""},{"$f":"IF('S2'!$R$21=\"\",\"\",'S2'!$R$21)","v":""},{"$f":"IF('S2'!$S$21=\"\",\"\",'S2'!$S$21)","v":""},{"$f":"IF('S2'!$T$21=\"\",\"\",'S2'!$T$21)","v":""},{"$f":"IF('S2'!$U$21=\"\",\"\",'S2'!$U$21)","v":""},{"$f":"IF('S2'!$V$21=\"\",\"\",'S2'!$V$21)","v":""},{"$f":"IF('S2'!$W$21=\"\",\"\",'S2'!$W$21)","v":""},{"$f":"IF('S2'!$X$21=\"\",\"\",'S2'!$X$21)","v":""},{"$f":"IF('S2'!$Y$21=\"\",\"\",'S2'!$Y$21)","v":""},{"$f":"IF('S2'!$Z$21=\"\",\"\",'S2'!$Z$21)","v":""},null,{"$f":"IF(VLOOKUP(U192,'S2'!$B$23:$Z$57,2,FALSE)=\"\",\"\",CONCATENATE(VLOOKUP(U192,'S2'!$B$23:$Z$57,2,FALSE),\" \",VLOOKUP(U192,'S2'!$B$23:$Z$57,3,FALSE)))","v":"- "}]
[]
[]
[]
[null,{"$f":"'S2'!$B$57","v":""}]
[null,null,null,null,null,null,null,null,null,null,null,null,null,null,null,"Summe"]
[null,"Aufgabe",null,null,{"$f":"IF('S2'!$G$18=\"\",\"\",'S2'!$G$18)","v":1},{"$f":"IF('S2'!$H$18=\"\",\"\",'S2'!$H$18)","v":2},{"$f":"IF('S2'!$I$18=\"\",\"\",'S2'!$I$18)","v":3},{"$f":"IF('S2'!$J$18=\"\",\"\",'S2'!$J$18)","v":""},{"$f":"IF('S2'!$K$18=\"\",\"\",'S2'!$K$18)","v":""},{"$f":"IF('S2'!$L$18=\"\",\"\",'S2'!$L$18)","v":""},{"$f":"IF('S2'!$M$18=\"\",\"\",'S2'!$M$18)","v":""},{"$f":"IF('S2'!$N$18=\"\",\"\",'S2'!$N$18)","v":""},{"$f":"IF('S2'!$O$18=\"\",\"\",'S2'!$O$18)","v":""},{"$f":"IF('S2'!$P$18=\"\",\"\",'S2'!$P$18)","v":""},null,{"$f":"IF(VLOOKUP(B204,'S2'!$B$23:$Z$57,5,FALSE)=\"\",\"\",VLOOKUP(B204,'S2'!$B$23:$Z$57,5,FALSE))","v":0}]
[null,"erreicht",null,null,{"$f":"IF(VLOOKUP(B204,'S2'!$B$23:$Z$57,6,FALSE)=\"\",\"\",VLOOKUP(B204,'S2'!$B$23:$Z$57,6,FALSE))","v":"."},{"$f":"IF(VLOOKUP(B204,'S2'!$B$23:$Z$57,7,FALSE)=\"\",\"\",VLOOKUP(B204,'S2'!$B$23:$Z$57,7,FALSE))","v":""},{"$f":"IF(VLOOKUP(B204,'S2'!$B$23:$Z$57,8,FALSE)=\"\",\"\",VLOOKUP(B204,'S2'!$B$23:$Z$57,8,FALSE))","v":""},{"$f":"IF(VLOOKUP(B204,'S2'!$B$23:$Z$57,9,FALSE)=\"\",\"\",VLOOKUP(B204,'S2'!$B$23:$Z$57,9,FALSE))","v":""},{"$f":"IF(VLOOKUP(B204,'S2'!$B$23:$Z$57,10,FALSE)=\"\",\"\",VLOOKUP(B204,'S2'!$B$23:$Z$57,10,FALSE))","v":""},{"$f":"IF(VLOOKUP(B204,'S2'!$B$23:$Z$57,11,FALSE)=\"\",\"\",VLOOKUP(B204,'S2'!$B$23:$Z$57,11,FALSE))","v":""},{"$f":"IF(VLOOKUP(B204,'S2'!$B$23:$Z$57,12,FALSE)=\"\",\"\",VLOOKUP(B204,'S2'!$B$23:$Z$57,12,FALSE))","v":""},{"$f":"IF(VLOOKUP(B204,'S2'!$B$23:$Z$57,13,FALSE)=\"\",\"\",VLOOKUP(B204,'S2'!$B$23:$Z$57,13,FALSE))","v":""},{"$f":"IF(VLOOKUP(B204,'S2'!$B$23:$Z$57,14,FALSE)=\"\",\"\",VLOOKUP(B204,'S2'!$B$23:$Z$57,14,FALSE))","v":""},{"$f":"IF(VLOOKUP(B204,'S2'!$B$23:$Z$57,15,FALSE)=\"\",\"\",VLOOKUP(B204,'S2'!$B$23:$Z$57,15,FALSE))","v":""}]
[null,"von",null,null,{"$f":"IF('S2'!$G$21=\"\",\"\",'S2'!$G$21)","v":""},{"$f":"IF('S2'!$H$21=\"\",\"\",'S2'!$H$21)","v":""},{"$f":"IF('S2'!$I$21=\"\",\"\",'S2'!$I$21)","v":""},{"$f":"IF('S2'!$J$21=\"\",\"\",'S2'!$J$21)","v":""},{"$f":"IF('S2'!$K$21=\"\",\"\",'S2'!$K$21)","v":""},{"$f":"IF('S2'!$L$21=\"\",\"\",'S2'!$L$21)","v":""},{"$f":"IF('S2'!$M$21=\"\",\"\",'S2'!$M$21)","v":""},{"$f":"IF('S2'!$N$21=\"\",\"\",'S2'!$N$21)","v":""},{"$f":"IF('S2'!$O$21=\"\",\"\",'S2'!$O$21)","v":""},{"$f":"IF('S2'!$P$21=\"\",\"\",'S2'!$P$21)","v":""},null,"von"]
[null,null,null,null,null,null,null,null,null,null,null,null,null,null,null,{"$f":"'S2'!$H$12","v":0}]
[null,{"$f":"IF('S2'!$Q$18=\"\",\"\",\"Aufgabe\")","v":""},null,null,{"$f":"IF('S2'!$Q$18=\"\",\"\",'S2'!$Q$18)","v":""},{"$f":"IF('S2'!$R$18=\"\",\"\",'S2'!$R$18)","v":""},{"$f":"IF('S2'!$S$18=\"\",\"\",'S2'!$S$18)","v":""},{"$f":"IF('S2'!$T$18=\"\",\"\",'S2'!$T$18)","v":""},{"$f":"IF('S2'!$U$18=\"\",\"\",'S2'!$U$18)","v":""},{"$f":"IF('S2'!$V$18=\"\",\"\",'S2'!$V$18)","v":""},{"$f":"IF('S2'!$W$18=\"\",\"\",'S2'!$W$18)","v":""},{"$f":"IF('S2'!$X$18=\"\",\"\",'S2'!$X$18)","v":""},{"$f":"IF('S2'!$Y$18=\"\",\"\",'S2'!$Y$18)","v":""},{"$f":"IF('S2'!$Z$18=\"\",\"\",'S2'!$Z$18)","v":""}]
[null,{"$f":"IF('S2'!$Q$18=\"\",\"\",\"erreicht\")","v":""},null,null,{"$f":"IF(VLOOKUP(B204,'S2'!$B$23:$Z$57,16,FALSE)=\"\",\"\",VLOOKUP(B204,'S2'!$B$23:$Z$57,16,FALSE))","v":""},{"$f":"IF(VLOOKUP(B204,'S2'!$B$23:$Z$57,17,FALSE)=\"\",\"\",VLOOKUP(B204,'S2'!$B$23:$Z$57,17,FALSE))","v":""},{"$f":"IF(VLOOKUP(B204,'S2'!$B$23:$Z$57,18,FALSE)=\"\",\"\",VLOOKUP(B204,'S2'!$B$23:$Z$57,18,FALSE))","v":""},{"$f":"IF(VLOOKUP(B204,'S2'!$B$23:$Z$57,19,FALSE)=\"\",\"\",VLOOKUP(B204,'S2'!$B$23:$Z$57,19,FALSE))","v":""},{"$f":"IF(VLOOKUP(B204,'S2'!$B$23:$Z$57,20,FALSE)=\"\",\"\",VLOOKUP(B204,'S2'!$B$23:$Z$57,20,FALSE))","v":""},{"$f":"IF(VLOOKUP(B204,'S2'!$B$23:$Z$57,21,FALSE)=\"\",\"\",VLOOKUP(B204,'S2'!$B$23:$Z$57,21,FALSE))","v":""},{"$f":"IF(VLOOKUP(B204,'S2'!$B$23:$Z$57,22,FALSE)=\"\",\"\",VLOOKUP(B204,'S2'!$B$23:$Z$57,22,FALSE))","v":""},{"$f":"IF(VLOOKUP(B204,'S2'!$B$23:$Z$57,23,FALSE)=\"\",\"\",VLOOKUP(B204,'S2'!$B$23:$Z$57,23,FALSE))","v":""},{"$f":"IF(VLOOKUP(B204,'S2'!$B$23:$Z$57,24,FALSE)=\"\",\"\",VLOOKUP(B204,'S2'!$B$23:$Z$57,24,FALSE))","v":""},{"$f":"IF(VLOOKUP(B204,'S2'!$B$23:$Z$57,25,FALSE)=\"\",\"\",VLOOKUP(B204,'S2'!$B$23:$Z$57,25,FALSE))","v":""},null,"Note"]
[null,{"$f":"IF('S2'!$Q$18=\"\",\"\",\"von\")","v":""},null,null,{"$f":"IF('S2'!$Q$21=\"\",\"\",'S2'!$Q$21)","v":""},{"$f":"IF('S2'!$R$21=\"\",\"\",'S2'!$R$21)","v":""},{"$f":"IF('S2'!$S$21=\"\",\"\",'S2'!$S$21)","v":""},{"$f":"IF('S2'!$T$21=\"\",\"\",'S2'!$T$21)","v":""},{"$f":"IF('S2'!$U$21=\"\",\"\",'S2'!$U$21)","v":""},{"$f":"IF('S2'!$V$21=\"\",\"\",'S2'!$V$21)","v":""},{"$f":"IF('S2'!$W$21=\"\",\"\",'S2'!$W$21)","v":""},{"$f":"IF('S2'!$X$21=\"\",\"\",'S2'!$X$21)","v":""},{"$f":"IF('S2'!$Y$21=\"\",\"\",'S2'!$Y$21)","v":""},{"$f":"IF('S2'!$Z$21=\"\",\"\",'S2'!$Z$21)","v":""},null,{"$f":"IF(VLOOKUP(B204,'S2'!$B$23:$Z$57,2,FALSE)=\"\",\"\",CONCATENATE(VLOOKUP(B204,'S2'!$B$23:$Z$57,2,FALSE),\" \",VLOOKUP(B204,'S2'!$B$23:$Z$57,3,FALSE)))","v":"- "}]

{"sheet":"L2","index":15,"n_rows":57,"n_cols":27,"rows_kept":57,"cut":false,"hidden":false,"merged":[[12,2,12,3],[13,2,13,3],[14,2,15,11],[0,1,4,3],[2,6,4,6],[8,2,8,11],[9,2,9,3],[10,2,10,3],[11,2,11,3]]}
[null,{"$f":"Dateneingabe!A1","v":"Mustergymnasium\nMusterstraße 1\n12345 Musterstadt"}]
[null,null,null,null,null,"Schuljahr:",{"$f":"Dateneingabe!F2","v":0}]
[null,null,null,null,null,null,{"$f":"Dateneingabe!F3","v":0},null,null,null,null,null,null,null,null,null,null,null,null,null,null,null,null,null,null,null,1]
[null,null,null,null,null,"Klasse:"]
[]
[]
[null,{"$f":"'S2'!B7","v":"Schriftliche Arbeit 2"}]
[]
[null,"Art der Arbeit:",{"$f":"'S2'!C9","v":0}]
[null,"Geschrieben am:",{"$f":"'S2'!C10","v":"00:00:00"}]
[null,"Arbeitszeit:",{"$f":"'S2'!C11","v":0}]
[null,"Zurückgegeben am:",{"$f":"'S2'!C12","v":"00:00:00"},null,null,"Gewichtung der Arbeit:",null,null,{"$f":"'S2'!T12","v":1}]
[null,"Dem Direktorat vorgelegt:",{"$f":"'S2'!C13","v":"00:00:00"}]
[null,"Notenlisteneintrag am:",{"$f":"'S2'!C14","v":"00:00:00"}]
[null,"Lehrstoff:",{"$f":"'S2'!C15","v":0}]
[]
[]
[]
[null,"Name","Note",null,null,null,null,"Auswertung Häufigkeit"]
[null,null,null,null,null,null,null,"Note","Anzahl"]
[]
[null,null,null,null,null,null,null,"0",{"$f":"'S2'!AF25","v":0}]
[1,{"$f":"'S2'!B23","v":""},{"$f":"'S2'!C23","v":"-"},null,null,null,null,1,{"$f":"'S2'!AF26","v":0}]
[2,{"$f":"'S2'!B24","v":""},{"$f":"'S2'!C24","v":"-"},null,null,null,null,2,{"$f":"'S2'!AF27","v":0}]
[3,{"$f":"'S2'!B25","v":""},{"$f":"'S2'!C25","v":"-"},null,null,null,null,3,{"$f":"'S2'!AF28","v":0}]
[4,{"$f":"'S2'!B26","v":""},{"$f":"'S2'!C26","v":"-"},null,null,null,null,4,{"$f":"'S2'!AF29","v":0}]
[5,{"$f":"'S2'!B27","v":""},{"$f":"'S2'!C27","v":"-"},null,null,null,null,5,{"$f":"'S2'!AF30","v":0}]
[6,{"$f":"'S2'!B28","v":""},{"$f":"'S2'!C28","v":"-"},null,null,null,null,6,{"$f":"'S2'!AF31","v":0}]
[7,{"$f":"'S2'!B29","v":""},{"$f":"'S2'!C29","v":"-"},null,null,null,null,7,{"$f":"'S2'!AF32","v":0}]
[8,{"$f":"'S2'!B30","v":""},{"$f":"'S2'!C30","v":"-"},null,null,null,null,8,{"$f":"'S2'!AF33","v":0}]
[9,{"$f":"'S2'!B31","v":""},{"$f":"'S2'!C31","v":"-"},null,null,null,null,9,{"$f":"'S2'!AF34","v":0}]
[10,{"$f":"'S2'!B32","v":""},{"$f":"'S2'!C32","v":"-"},null,null,null,null,10,{"$f":"'S2'!AF35","v":0}]
[11,{"$f":"'S2'!B33","v":""},{"$f":"'S2'!C33","v":"-"},null,null,null,null,11,{"$f":"'S2'!AF36","v":0}]
[12,{"$f":"'S2'!B34","v":""},{"$f":"'S2'!C34","v":"-"},null,null,null,null,12,{"$f":"'S2'!AF37","v":0}]
[13,{"$f":"'S2'!B35","v":""},{"$f":"'S2'!C35","v":"-"},null,null,null,null,13,{"$f":"'S2'!AF38","v":0}]
[14,{"$f":"'S2'!B36","v":""},{"$f":"'S2'!C36","v":"-"},null,null,null,null,14,{"$f":"'S2'!AF39","v":0}]
[15,{"$f":"'S2'!B37","v":""},{"$f":"'S2'!C37","v":"-"},null,null,null,null,15,{"$f":"'S2'!AF40","v":0}]
[16,{"$f":"'S2'!B38","v":""},{"$f":"'S2'!C38","v":"-"}]
[17,{"$f":"'S2'!B39","v":""},{"$f":"'S2'!C39","v":"-"}]
[18,{"$f":"'S2'!B40","v":""},{"$f":"'S2'!C40","v":"-"}]
[19,{"$f":"'S2'!B41","v":""},{"$f":"'S2'!C41","v":"-"}]
[20,{"$f":"'S2'!B42","v":""},{"$f":"'S2'!C42","v":"-"}]
[21,{"$f":"'S2'!B43","v":""},{"$f":"'S2'!C43","v":"-"}]
[22,{"$f":"'S2'!B44","v":""},{"$f":"'S2'!C44","v":"-"}]
[23,{"$f":"'S2'!B45","v":""},{"$f":"'S2'!C45","v":"-"}]
[24,{"$f":"'S2'!B46","v":""},{"$f":"'S2'!C46","v":"-"}]
[25,{"$f":"'S2'!B47","v":""},{"$f":"'S2'!C47","v":"-"}]
[26,{"$f":"'S2'!B48","v":""},{"$f":"'S2'!C48","v":"-"}]
[27,{"$f":"'S2'!B49","v":""},{"$f":"'S2'!C49","v":"-"}]
[28,{"$f":"'S2'!B50","v":""},{"$f":"'S2'!C50","v":"-"}]
[29,{"$f":"'S2'!B51","v":""},{"$f":"'S2'!C51","v":"-"}]
[30,{"$f":"'S2'!B52","v":""},{"$f":"'S2'!C52","v":"-"}]
[31,{"$f":"'S2'!B53","v":""},{"$f":"'S2'!C53","v":"-"}]
[32,{"$f":"'S2'!B54","v":""},{"$f":"'S2'!C54","v":"-"}]
[33,{"$f":"'S2'!B55","v":""},{"$f":"'S2'!C55","v":"-"},null,null,null,"Notendurchschnitt:",null,{"$f":"'S2'!AD60","v":"-"}]
[34,{"$f":"'S2'!B56","v":""},{"$f":"'S2'!C56","v":"-"}]
[35,{"$f":"'S2'!B57","v":""},{"$f":"'S2'!C57","v":"-"},null,null,null,"% 5er und 6er",null,{"$f":"'S2'!AD62","v":"0 %"}]

{"sheet":"M2","index":16,"n_rows":37,"n_cols":27,"rows_kept":37,"cut":false,"hidden":false,"merged":[[32,18,32,19],[4,17,4,23],[16,18,16,22],[18,15,19,23],[26,11,26,13],[26,14,26,16],[26,17,26,19],[26,20,26,22],[26,23,26,25],[6,12,6,23],[8,16,8,20],[10,15,10,20],[12,17,12,22],[14,20,14,23],[0,11,0,26]]}
[null,null,null,null,null,null,null,null,null,null,null,{"$f":"Dateneingabe!I28","v":0}]
[]
[null,null,null,null,null,null,null,null,null,null,null,"ABA",null,{"$f":"Dateneingabe!F6","v":0},null,null,null,null,null,null,null,"Schuljahr",null,null,{"$f":"Dateneingabe!F2","v":0}]
[]
[null,null,null,null,null,null,null,null,null,null,null,null,"Schülerarbeiten",null,null,null,null,"________________________"]
[]
[null,null,null,null,null,null,null,null,null,null,null,null,"_________________________________"]
[]
[null,null,null,null,null,null,null,null,null,null,null,"Geschrieben am:",null,null,null,null,{"$f":"'S2'!C10","v":"00:00:00"}]
[]
[null,null,null,null,null,null,null,null,null,null,null,"Arbeitszeit: ",null,null,null,{"$f":"'S2'!C11","v":0}]
[]
[null,null,null,null,null,null,null,null,null,null,null,"Zurückgegeben am:",null,null,null,null,null,{"$f":"'S2'!C12","v":"00:00:00"}]
[]
[null,null,null,null,null,null,null,null,null,null,null,"Dem Direktorat vorgelegt am:",null,null,null,null,null,null,null,null,{"$f":"'S2'!C13","v":"00:00:00"}]
[]
[null,null,null,null,null,null,null,null,null,null,null,"Notenlisteneintrag am: ",null,null,null,null,null,null,{"$f":"'S2'!C14","v":"00:00:00"}]
[]
[null,null,null,null,null,null,null,null,null,null,null,"Lehrstoff:",null,null,null,{"$f":"'S2'!C15","v":0}]
[]
[]
[null,null,null,null,null,null,null,null,null,null,null,"Nicht mitgeschrieben haben:",null,null,null,null,null,null,null,"_________________"]
[]
[]
[null,null,null,null,null,null,null,null,null,null,null,"Notenstatistik:"]
[]
[null,null,null,null,null,null,null,null,null,null,null,1,null,null,2,null,null,3,null,null,4,null,null,5,null,null,6]
[null,null,null,null,null,null,null,null,null,null,null,15,14,13,12,11,10,9,8,7,6,5,4,3,2,1,0]
[null,null,null,null,null,null,null,null,null,null,null,{"$f":"'S2'!$AF40","v":0},{"$f":"'S2'!$AF39","v":0},{"$f":"'S2'!$AF38","v":0},{"$f":"'S2'!$AF37","v":0},{"$f":"'S2'!$AF36","v":0},{"$f":"'S2'!$AF35","v":0},{"$f":"'S2'!$AF34","v":0},{"$f":"'S2'!$AF33","v":0},{"$f":"'S2'!$AF32","v":0},{"$f":"'S2'!$AF31","v":0},{"$f":"'S2'!$AF30","v":0},{"$f":"'S2'!$AF29","v":0},{"$f":"'S2'!$AF28","v":0},{"$f":"'S2'!$AF27","v":0},{"$f":"'S2'!$AF26","v":0},{"$f":"'S2'!$AF25","v":0}]
[]
[null,null,null,null,null,null,null,null,null,null,null,"Punktedurchschnitt:",null,null,null,null,null,null,{"$f":"'S2'!AD60","v":"-"}]
[]
[null,null,null,null,null,null,null,null,null,null,null,"Anteil Note 5 und 6:",null,null,null,null,null,null,{"$f":"'S2'!AD62","v":"0 %"}]
[]
[]
[]
[null,null,null,null,null,null,null,null,null,null,null,"Unterschrift: __________________________"]

{"sheet":"E3","index":17,"n_rows":212,"n_cols":35,"rows_kept":212,"cut":false,"hidden":false,"merged":[[2,15,2,17],[2,34,2,36],[3,15,3,17],[3,34,3,36],[5,15,5,17],[5,34,5,36],[6,15,6,17],[6,34,6,36],[8,15,8,17],[8,34,8,36],[9,15,9,17],[9,34,9,36],[14,15,14,17],[14,34,14,36],[15,15,15,17],[15,34,15,36],[17,15,17,17],[17,34,17,36],[18,15,18,17],[18,34,18,36],[20,15,20,17],[20,34,20,36],[21,15,21,17],[21,34,21,36],[26,15,26,17],[26,34,26,36],[27,15,27,17],[27,34,27,36],[29,15,29,17],[29,34,29,36],[30,15,30,17],[30,34,30,36],[32,15,32,17],[32,34,32,36],[33,15,33,17],[33,34,33,36],[38,15,38,17],[38,34,38,36],[39,15,39,17],[39,34,39,36],[41,15,41,17],[41,34,41,36],[42,15,42,17],[42,34,42,36],[44,15,44,17],[44,34,44,36],[45,15,45,17],[45,34,45,36],[50,15,50,17],[50,34,50,36],[51,15,51,17],[51,34,51,36],[53,15,53,17],[53,34,53,36],[54,15,54,17],[54,34,54,36],[56,15,56,17],[56,34,56,36],[57,15,57,17],[57,34,57,36],[62,15,62,17],[62,34,62,36],[63,15,63,17],[63,34,63,36],[65,15,65,17],[65,34,65,36],[66,15,66,17],[66,34,66,36],[68,15,68,17],[68,34,68,36],[69,15,69,17],[69,34,69,36],[73,15,73,17],[73,34,73,36],[74,15,74,17],[74,34,74,36],[76,15,76,17],[76,34,76,36],[77,15,77,17],[77,34,77,36],[79,15,79,17],[79,34,79,36],[80,15,80,17],[80,34,80,36],[85,15,85,17],[85,34,85,36],[86,15,86,17],[86,34,86,36],[88,15,88,17],[88,34,88,36],[89,15,89,17],[89,34,89,36],[91,15,91,17],[91,34,91,36],[92,15,92,17],[92,34,92,36],[97,15,97,17],[97,34,97,36],[98,15,98,17],[98,34,98,36],[100,15,100,17],[100,34,100,36],[101,15,101,17],[101,34,101,36],[103,15,103,17],[103,34,103,36],[104,15,104,17],[104,34,104,36],[109,15,109,17],[109,34,109,36],[110,15,110,17],[110,34,110,36],[112,15,112,17],[112,34,112,36],[113,15,113,17],[113,34,113,36],[115,15,115,17],[115,34,115,36],[116,15,116,17],[116,34,116,36],[121,15,121,17],[121,34,121,36],[122,15,122,17],[122,34,122,36],[124,15,124,17],[124,34,124,36],[125,15,125,17],[125,34,125,36],[127,15,127,17],[127,34,127,36],[128,15,128,17],[128,34,128,36],[133,15,133,17],[133,34,133,36],[134,15,134,17],[134,34,134,36],[136,15,136,17],[136,34,136,36],[137,15,137,17],[137,34,137,36],[139,15,139,17],[139,34,139,36],[140,15,140,17],[140,34,140,36],[144,15,144,17],[144,34,144,36],[145,15,145,17],[145,34,145,36],[147,15,147,17],[147,34,147,36],[148,15,148,17],[148,34,148,36],[150,15,150,17],[150,34,150,36],[151,15,151,17],[151,34,151,36],[156,15,156,17],[156,34,156,36],[157,15,157,17],[157,34,157,36],[159,15,159,17],[159,34,159,36],[160,15,160,17],[160,34,160,36],[162,15,162,17],[162,34,162,36],[163,15,163,17],[163,34,163,36],[168,15,168,17],[168,34,168,36],[169,15,169,17],[169,34,169,36],[171,15,171,17],[171,34,171,36],[172,15,172,17],[172,34,172,36],[174,15,174,17],[174,34,174,36],[175,15,175,17],[175,34,175,36],[180,15,180,17],[180,34,180,36],[181,15,181,17],[181,34,181,36],[183,15,183,17],[183,34,183,36],[184,15,184,17],[184,34,184,36],[186,15,186,17],[186,34,186,36],[187,15,187,17],[187,34,187,36],[192,15,192,17],[192,34,192,36],[193,15,193,17],[193,34,193,36],[195,15,195,17],[195,34,195,36],[196,15,196,17],[196,34,196,36],[198,15,198,17],[198,34,198,36],[199,15,199,17],[199,34,199,36],[204,15,204,17],[204,34,204,36],[205,15,205,17],[205,34,205,36],[207,15,207,17],[207,34,207,36],[208,15,208,17],[208,34,208,36],[210,15,210,17],[210,34,210,36],[211,15,211,17],[211,34,211,36]]}
[]
[null,{"$f":"'S3'!$B$23","v":""},null,null,null,null,null,null,null,null,null,null,null,null,null,null,null,null,null,null,{"$f":"'S3'!$B$24","v":""}]
[null,null,null,null,null,null,null,null,null,null,null,null,null,null,null,"Summe",null,null,null,null,null,null,null,null,null,null,null,null,null,null,null,null,null,null,"Summe"]
[null,"Aufgabe",null,null,{"$f":"IF('S3'!$G$18=\"\",\"\",'S3'!$G$18)","v":1},{"$f":"IF('S3'!$H$18=\"\",\"\",'S3'!$H$18)","v":2},{"$f":"IF('S3'!$I$18=\"\",\"\",'S3'!$I$18)","v":3},{"$f":"IF('S3'!$J$18=\"\",\"\",'S3'!$J$18)","v":""},{"$f":"IF('S3'!$K$18=\"\",\"\",'S3'!$K$18)","v":""},{"$f":"IF('S3'!$L$18=\"\",\"\",'S3'!$L$18)","v":""},{"$f":"IF('S3'!$M$18=\"\",\"\",'S3'!$M$18)","v":""},{"$f":"IF('S3'!$N$18=\"\",\"\",'S3'!$N$18)","v":""},{"$f":"IF('S3'!$O$18=\"\",\"\",'S3'!$O$18)","v":""},{"$f":"IF('S3'!$P$18=\"\",\"\",'S3'!$P$18)","v":""},null,{"$f":"IF(VLOOKUP(B2,'S3'!$B$23:$Z$57,5,FALSE)=\"\",\"\",VLOOKUP(B2,'S3'!$B$23:$Z$57,5,FALSE))","v":0},null,null,null,null,"Aufgabe",null,null,{"$f":"IF('S3'!$G$18=\"\",\"\",'S3'!$G$18)","v":1},{"$f":"IF('S3'!$H$18=\"\",\"\",'S3'!$H$18)","v":2},{"$f":"IF('S3'!$I$18=\"\",\"\",'S3'!$I$18)","v":3},{"$f":"IF('S3'!$J$18=\"\",\"\",'S3'!$J$18)","v":""},{"$f":"IF('S3'!$K$18=\"\",\"\",'S3'!$K$18)","v":""},{"$f":"IF('S3'!$L$18=\"\",\"\",'S3'!$L$18)","v":""},{"$f":"IF('S3'!$M$18=\"\",\"\",'S3'!$M$18)","v":""},{"$f":"IF('S3'!$N$18=\"\",\"\",'S3'!$N$18)","v":""},{"$f":"IF('S3'!$O$18=\"\",\"\",'S3'!$O$18)","v":""},{"$f":"IF('S3'!$P$18=\"\",\"\",'S3'!$P$18)","v":""},null,{"$f":"IF(VLOOKUP(U2,'S3'!$B$23:$Z$57,5,FALSE)=\"\",\"\",VLOOKUP(U2,'S3'!$B$23:$Z$57,5,FALSE))","v":0}]
[null,"erreicht",null,null,{"$f":"IF(VLOOKUP(B2,'S3'!$B$23:$Z$57,6,FALSE)=\"\",\"\",VLOOKUP(B2,'S3'!$B$23:$Z$57,6,FALSE))","v":"."},{"$f":"IF(VLOOKUP(B2,'S3'!$B$23:$Z$57,7,FALSE)=\"\",\"\",VLOOKUP(B2,'S3'!$B$23:$Z$57,7,FALSE))","v":""},{"$f":"IF(VLOOKUP(B2,'S3'!$B$23:$Z$57,8,FALSE)=\"\",\"\",VLOOKUP(B2,'S3'!$B$23:$Z$57,8,FALSE))","v":""},{"$f":"IF(VLOOKUP(B2,'S3'!$B$23:$Z$57,9,FALSE)=\"\",\"\",VLOOKUP(B2,'S3'!$B$23:$Z$57,9,FALSE))","v":""},{"$f":"IF(VLOOKUP(B2,'S3'!$B$23:$Z$57,10,FALSE)=\"\",\"\",VLOOKUP(B2,'S3'!$B$23:$Z$57,10,FALSE))","v":""},{"$f":"IF(VLOOKUP(B2,'S3'!$B$23:$Z$57,11,FALSE)=\"\",\"\",VLOOKUP(B2,'S3'!$B$23:$Z$57,11,FALSE))","v":""},{"$f":"IF(VLOOKUP(B2,'S3'!$B$23:$Z$57,12,FALSE)=\"\",\"\",VLOOKUP(B2,'S3'!$B$23:$Z$57,12,FALSE))","v":""},{"$f":"IF(VLOOKUP(B2,'S3'!$B$23:$Z$57,13,FALSE)=\"\",\"\",VLOOKUP(B2,'S3'!$B$23:$Z$57,13,FALSE))","v":""},{"$f":"IF(VLOOKUP(B2,'S3'!$B$23:$Z$57,14,FALSE)=\"\",\"\",VLOOKUP(B2,'S3'!$B$23:$Z$57,14,FALSE))","v":""},{"$f":"IF(VLOOKUP(B2,'S3'!$B$23:$Z$57,15,FALSE)=\"\",\"\",VLOOKUP(B2,'S3'!$B$23:$Z$57,15,FALSE))","v":""},null,null,null,null,null,null,"erreicht",null,null,{"$f":"IF(VLOOKUP(U2,'S3'!$B$23:$Z$57,6,FALSE)=\"\",\"\",VLOOKUP(U2,'S3'!$B$23:$Z$57,6,FALSE))","v":"."},{"$f":"IF(VLOOKUP(U2,'S3'!$B$23:$Z$57,7,FALSE)=\"\",\"\",VLOOKUP(U2,'S3'!$B$23:$Z$57,7,FALSE))","v":""},{"$f":"IF(VLOOKUP(U2,'S3'!$B$23:$Z$57,8,FALSE)=\"\",\"\",VLOOKUP(U2,'S3'!$B$23:$Z$57,8,FALSE))","v":""},{"$f":"IF(VLOOKUP(U2,'S3'!$B$23:$Z$57,9,FALSE)=\"\",\"\",VLOOKUP(U2,'S3'!$B$23:$Z$57,9,FALSE))","v":""},{"$f":"IF(VLOOKUP(U2,'S3'!$B$23:$Z$57,10,FALSE)=\"\",\"\",VLOOKUP(U2,'S3'!$B$23:$Z$57,10,FALSE))","v":""},{"$f":"IF(VLOOKUP(U2,'S3'!$B$23:$Z$57,11,FALSE)=\"\",\"\",VLOOKUP(U2,'S3'!$B$23:$Z$57,11,FALSE))","v":""},{"$f":"IF(VLOOKUP(U2,'S3'!$B$23:$Z$57,12,FALSE)=\"\",\"\",VLOOKUP(U2,'S3'!$B$23:$Z$57,12,FALSE))","v":""},{"$f":"IF(VLOOKUP(U2,'S3'!$B$23:$Z$57,13,FALSE)=\"\",\"\",VLOOKUP(U2,'S3'!$B$23:$Z$57,13,FALSE))","v":""},{"$f":"IF(VLOOKUP(U2,'S3'!$B$23:$Z$57,14,FALSE)=\"\",\"\",VLOOKUP(U2,'S3'!$B$23:$Z$57,14,FALSE))","v":""},{"$f":"IF(VLOOKUP(U2,'S3'!$B$23:$Z$57,15,FALSE)=\"\",\"\",VLOOKUP(U2,'S3'!$B$23:$Z$57,15,FALSE))","v":""}]
[null,"von",null,null,{"$f":"IF('S3'!$G$21=\"\",\"\",'S3'!$G$21)","v":""},{"$f":"IF('S3'!$H$21=\"\",\"\",'S3'!$H$21)","v":""},{"$f":"IF('S3'!$I$21=\"\",\"\",'S3'!$I$21)","v":""},{"$f":"IF('S3'!$J$21=\"\",\"\",'S3'!$J$21)","v":""},{"$f":"IF('S3'!$K$21=\"\",\"\",'S3'!$K$21)","v":""},{"$f":"IF('S3'!$L$21=\"\",\"\",'S3'!$L$21)","v":""},{"$f":"IF('S3'!$M$21=\"\",\"\",'S3'!$M$21)","v":""},{"$f":"IF('S3'!$N$21=\"\",\"\",'S3'!$N$21)","v":""},{"$f":"IF('S3'!$O$21=\"\",\"\",'S3'!$O$21)","v":""},{"$f":"IF('S3'!$P$21=\"\",\"\",'S3'!$P$21)","v":""},null,"von",null,null,null,null,"von",null,null,{"$f":"IF('S3'!$G$21=\"\",\"\",'S3'!$G$21)","v":""},{"$f":"IF('S3'!$H$21=\"\",\"\",'S3'!$H$21)","v":""},{"$f":"IF('S3'!$I$21=\"\",\"\",'S3'!$I$21)","v":""},{"$f":"IF('S3'!$J$21=\"\",\"\",'S3'!$J$21)","v":""},{"$f":"IF('S3'!$K$21=\"\",\"\",'S3'!$K$21)","v":""},{"$f":"IF('S3'!$L$21=\"\",\"\",'S3'!$L$21)","v":""},{"$f":"IF('S3'!$M$21=\"\",\"\",'S3'!$M$21)","v":""},{"$f":"IF('S3'!$N$21=\"\",\"\",'S3'!$N$21)","v":""},{"$f":"IF('S3'!$O$21=\"\",\"\",'S3'!$O$21)","v":""},{"$f":"IF('S3'!$P$21=\"\",\"\",'S3'!$P$21)","v":""},null,"von"]
[null,null,null,null,null,null,null,null,null,null,null,null,null,null,null,{"$f":"'S3'!$H$12","v":0},null,null,null,null,null,null,null,null,null,null,null,null,null,null,null,null,null,null,{"$f":"'S3'!$H$12","v":0}]
[null,{"$f":"IF('S3'!$Q$18=\"\",\"\",\"Aufgabe\")","v":""},null,null,{"$f":"IF('S3'!$Q$18=\"\",\"\",'S3'!$Q$18)","v":""},{"$f":"IF('S3'!$R$18=\"\",\"\",'S3'!$R$18)","v":""},{"$f":"IF('S3'!$S$18=\"\",\"\",'S3'!$S$18)","v":""},{"$f":"IF('S3'!$T$18=\"\",\"\",'S3'!$T$18)","v":""},{"$f":"IF('S3'!$U$18=\"\",\"\",'S3'!$U$18)","v":""},{"$f":"IF('S3'!$V$18=\"\",\"\",'S3'!$V$18)","v":""},{"$f":"IF('S3'!$W$18=\"\",\"\",'S3'!$W$18)","v":""},{"$f":"IF('S3'!$X$18=\"\",\"\",'S3'!$X$18)","v":""},{"$f":"IF('S3'!$Y$18=\"\",\"\",'S3'!$Y$18)","v":""},{"$f":"IF('S3'!$Z$18=\"\",\"\",'S3'!$Z$18)","v":""},null,null,null,null,null,null,{"$f":"IF('S3'!$Q$18=\"\",\"\",\"Aufgabe\")","v":""},null,null,{"$f":"IF('S3'!$Q$18=\"\",\"\",'S3'!$Q$18)","v":""},{"$f":"IF('S3'!$R$18=\"\",\"\",'S3'!$R$18)","v":""},{"$f":"IF('S3'!$S$18=\"\",\"\",'S3'!$S$18)","v":""},{"$f":"IF('S3'!$T$18=\"\",\"\",'S3'!$T$18)","v":""},{"$f":"IF('S3'!$U$18=\"\",\"\",'S3'!$U$18)","v":""},{"$f":"IF('S3'!$V$18=\"\",\"\",'S3'!$V$18)","v":""},{"$f":"IF('S3'!$W$18=\"\",\"\",'S3'!$W$18)","v":""},{"$f":"IF('S3'!$X$18=\"\",\"\",'S3'!$X$18)","v":""},{"$f":"IF('S3'!$Y$18=\"\",\"\",'S3'!$Y$18)","v":""},{"$f":"IF('S3'!$Z$18=\"\",\"\",'S3'!$Z$18)","v":""}]
[null,{"$f":"IF('S3'!$Q$18=\"\",\"\",\"erreicht\")","v":""},null,null,{"$f":"IF(VLOOKUP(B2,'S3'!$B$23:$Z$57,16,FALSE)=\"\",\"\",VLOOKUP(B2,'S3'!$B$23:$Z$57,16,FALSE))","v":""},{"$f":"IF(VLOOKUP(B2,'S3'!$B$23:$Z$57,17,FALSE)=\"\",\"\",VLOOKUP(B2,'S3'!$B$23:$Z$57,17,FALSE))","v":""},{"$f":"IF(VLOOKUP(B2,'S3'!$B$23:$Z$57,18,FALSE)=\"\",\"\",VLOOKUP(B2,'S3'!$B$23:$Z$57,18,FALSE))","v":""},{"$f":"IF(VLOOKUP(B2,'S3'!$B$23:$Z$57,19,FALSE)=\"\",\"\",VLOOKUP(B2,'S3'!$B$23:$Z$57,19,FALSE))","v":""},{"$f":"IF(VLOOKUP(B2,'S3'!$B$23:$Z$57,20,FALSE)=\"\",\"\",VLOOKUP(B2,'S3'!$B$23:$Z$57,20,FALSE))","v":""},{"$f":"IF(VLOOKUP(B2,'S3'!$B$23:$Z$57,21,FALSE)=\"\",\"\",VLOOKUP(B2,'S3'!$B$23:$Z$57,21,FALSE))","v":""},{"$f":"IF(VLOOKUP(B2,'S3'!$B$23:$Z$57,22,FALSE)=\"\",\"\",VLOOKUP(B2,'S3'!$B$23:$Z$57,22,FALSE))","v":""},{"$f":"IF(VLOOKUP(B2,'S3'!$B$23:$Z$57,23,FALSE)=\"\",\"\",VLOOKUP(B2,'S3'!$B$23:$Z$57,23,FALSE))","v":""},{"$f":"IF(VLOOKUP(B2,'S3'!$B$23:$Z$57,24,FALSE)=\"\",\"\",VLOOKUP(B2,'S3'!$B$23:$Z$57,24,FALSE))","v":""},{"$f":"IF(VLOOKUP(B2,'S3'!$B$23:$Z$57,25,FALSE)=\"\",\"\",VLOOKUP(B2,'S3'!$B$23:$Z$57,25,FALSE))","v":""},null,"Note",null,null,null,null,{"$f":"IF('S3'!$Q$18=\"\",\"\",\"erreicht\")","v":""},null,null,{"$f":"IF(VLOOKUP(U2,'S3'!$B$23:$Z$57,16,FALSE)=\"\",\"\",VLOOKUP(U2,'S3'!$B$23:$Z$57,16,FALSE))","v":""},{"$f":"IF(VLOOKUP(U2,'S3'!$B$23:$Z$57,17,FALSE)=\"\",\"\",VLOOKUP(U2,'S3'!$B$23:$Z$57,17,FALSE))","v":""},{"$f":"IF(VLOOKUP(U2,'S3'!$B$23:$Z$57,18,FALSE)=\"\",\"\",VLOOKUP(U2,'S3'!$B$23:$Z$57,18,FALSE))","v":""},{"$f":"IF(VLOOKUP(U2,'S3'!$B$23:$Z$57,19,FALSE)=\"\",\"\",VLOOKUP(U2,'S3'!$B$23:$Z$57,19,FALSE))","v":""},{"$f":"IF(VLOOKUP(U2,'S3'!$B$23:$Z$57,20,FALSE)=\"\",\"\",VLOOKUP(U2,'S3'!$B$23:$Z$57,20,FALSE))","v":""},{"$f":"IF(VLOOKUP(U2,'S3'!$B$23:$Z$57,21,FALSE)=\"\",\"\",VLOOKUP(U2,'S3'!$B$23:$Z$57,21,FALSE))","v":""},{"$f":"IF(VLOOKUP(U2,'S3'!$B$23:$Z$57,22,FALSE)=\"\",\"\",VLOOKUP(U2,'S3'!$B$23:$Z$57,22,FALSE))","v":""},{"$f":"IF(VLOOKUP(U2,'S3'!$B$23:$Z$57,23,FALSE)=\"\",\"\",VLOOKUP(U2,'S3'!$B$23:$Z$57,23,FALSE))","v":""},{"$f":"IF(VLOOKUP(U2,'S3'!$B$23:$Z$57,24,FALSE)=\"\",\"\",VLOOKUP(U2,'S3'!$B$23:$Z$57,24,FALSE))","v":""},{"$f":"IF(VLOOKUP(U2,'S3'!$B$23:$Z$57,25,FALSE)=\"\",\"\",VLOOKUP(U2,'S3'!$B$23:$Z$57,25,FALSE))","v":""},null,"Note"]
[null,{"$f":"IF('S3'!$Q$18=\"\",\"\",\"von\")","v":""},null,null,{"$f":"IF('S3'!$Q$21=\"\",\"\",'S3'!$Q$21)","v":""},{"$f":"IF('S3'!$R$21=\"\",\"\",'S3'!$R$21)","v":""},{"$f":"IF('S3'!$S$21=\"\",\"\",'S3'!$S$21)","v":""},{"$f":"IF('S3'!$T$21=\"\",\"\",'S3'!$T$21)","v":""},{"$f":"IF('S3'!$U$21=\"\",\"\",'S3'!$U$21)","v":""},{"$f":"IF('S3'!$V$21=\"\",\"\",'S3'!$V$21)","v":""},{"$f":"IF('S3'!$W$21=\"\",\"\",'S3'!$W$21)","v":""},{"$f":"IF('S3'!$X$21=\"\",\"\",'S3'!$X$21)","v":""},{"$f":"IF('S3'!$Y$21=\"\",\"\",'S3'!$Y$21)","v":""},{"$f":"IF('S3'!$Z$21=\"\",\"\",'S3'!$Z$21)","v":""},null,{"$f":"IF(VLOOKUP(B2,'S3'!$B$23:$Z$57,2,FALSE)=\"\",\"\",CONCATENATE(VLOOKUP(B2,'S3'!$B$23:$Z$57,2,FALSE),\" \",VLOOKUP(B2,'S3'!$B$23:$Z$57,3,FALSE)))","v":"- "},null,null,null,null,{"$f":"IF('S3'!$Q$18=\"\",\"\",\"von\")","v":""},null,null,{"$f":"IF('S3'!$Q$21=\"\",\"\",'S3'!$Q$21)","v":""},{"$f":"IF('S3'!$R$21=\"\",\"\",'S3'!$R$21)","v":""},{"$f":"IF('S3'!$S$21=\"\",\"\",'S3'!$S$21)","v":""},{"$f":"IF('S3'!$T$21=\"\",\"\",'S3'!$T$21)","v":""},{"$f":"IF('S3'!$U$21=\"\",\"\",'S3'!$U$21)","v":""},{"$f":"IF('S3'!$V$21=\"\",\"\",'S3'!$V$21)","v":""},{"$f":"IF('S3'!$W$21=\"\",\"\",'S3'!$W$21)","v":""},{"$f":"IF('S3'!$X$21=\"\",\"\",'S3'!$X$21)","v":""},{"$f":"IF('S3'!$Y$21=\"\",\"\",'S3'!$Y$21)","v":""},{"$f":"IF('S3'!$Z$21=\"\",\"\",'S3'!$Z$21)","v":""},null,{"$f":"IF(VLOOKUP(U2,'S3'!$B$23:$Z$57,2,FALSE)=\"\",\"\",CONCATENATE(VLOOKUP(U2,'S3'!$B$23:$Z$57,2,FALSE),\" \",VLOOKUP(U2,'S3'!$B$23:$Z$57,3,FALSE)))","v":"- "}]
[]
[]
[]
[null,{"$f":"'S3'!$B$25","v":""},null,null,null,null,null,null,null,null,null,null,null,null,null,null,null,null,null,null,{"$f":"'S3'!$B$26","v":""}]
[null,null,null,null,null,null,null,null,null,null,null,null,null,null,null,"Summe",null,null,null,null,null,null,null,null,null,null,null,null,null,null,null,null,null,null,"Summe"]
[null,"Aufgabe",null,null,{"$f":"IF('S3'!$G$18=\"\",\"\",'S3'!$G$18)","v":1},{"$f":"IF('S3'!$H$18=\"\",\"\",'S3'!$H$18)","v":2},{"$f":"IF('S3'!$I$18=\"\",\"\",'S3'!$I$18)","v":3},{"$f":"IF('S3'!$J$18=\"\",\"\",'S3'!$J$18)","v":""},{"$f":"IF('S3'!$K$18=\"\",\"\",'S3'!$K$18)","v":""},{"$f":"IF('S3'!$L$18=\"\",\"\",'S3'!$L$18)","v":""},{"$f":"IF('S3'!$M$18=\"\",\"\",'S3'!$M$18)","v":""},{"$f":"IF('S3'!$N$18=\"\",\"\",'S3'!$N$18)","v":""},{"$f":"IF('S3'!$O$18=\"\",\"\",'S3'!$O$18)","v":""},{"$f":"IF('S3'!$P$18=\"\",\"\",'S3'!$P$18)","v":""},null,{"$f":"IF(VLOOKUP(B14,'S3'!$B$23:$Z$57,5,FALSE)=\"\",\"\",VLOOKUP(B14,'S3'!$B$23:$Z$57,5,FALSE))","v":0},null,null,null,null,"Aufgabe",null,null,{"$f":"IF('S3'!$G$18=\"\",\"\",'S3'!$G$18)","v":1},{"$f":"IF('S3'!$H$18=\"\",\"\",'S3'!$H$18)","v":2},{"$f":"IF('S3'!$I$18=\"\",\"\",'S3'!$I$18)","v":3},{"$f":"IF('S3'!$J$18=\"\",\"\",'S3'!$J$18)","v":""},{"$f":"IF('S3'!$K$18=\"\",\"\",'S3'!$K$18)","v":""},{"$f":"IF('S3'!$L$18=\"\",\"\",'S3'!$L$18)","v":""},{"$f":"IF('S3'!$M$18=\"\",\"\",'S3'!$M$18)","v":""},{"$f":"IF('S3'!$N$18=\"\",\"\",'S3'!$N$18)","v":""},{"$f":"IF('S3'!$O$18=\"\",\"\",'S3'!$O$18)","v":""},{"$f":"IF('S3'!$P$18=\"\",\"\",'S3'!$P$18)","v":""},null,{"$f":"IF(VLOOKUP(U14,'S3'!$B$23:$Z$57,5,FALSE)=\"\",\"\",VLOOKUP(U14,'S3'!$B$23:$Z$57,5,FALSE))","v":0}]
[null,"erreicht",null,null,{"$f":"IF(VLOOKUP(B14,'S3'!$B$23:$Z$57,6,FALSE)=\"\",\"\",VLOOKUP(B14,'S3'!$B$23:$Z$57,6,FALSE))","v":"."},{"$f":"IF(VLOOKUP(B14,'S3'!$B$23:$Z$57,7,FALSE)=\"\",\"\",VLOOKUP(B14,'S3'!$B$23:$Z$57,7,FALSE))","v":""},{"$f":"IF(VLOOKUP(B14,'S3'!$B$23:$Z$57,8,FALSE)=\"\",\"\",VLOOKUP(B14,'S3'!$B$23:$Z$57,8,FALSE))","v":""},{"$f":"IF(VLOOKUP(B14,'S3'!$B$23:$Z$57,9,FALSE)=\"\",\"\",VLOOKUP(B14,'S3'!$B$23:$Z$57,9,FALSE))","v":""},{"$f":"IF(VLOOKUP(B14,'S3'!$B$23:$Z$57,10,FALSE)=\"\",\"\",VLOOKUP(B14,'S3'!$B$23:$Z$57,10,FALSE))","v":""},{"$f":"IF(VLOOKUP(B14,'S3'!$B$23:$Z$57,11,FALSE)=\"\",\"\",VLOOKUP(B14,'S3'!$B$23:$Z$57,11,FALSE))","v":""},{"$f":"IF(VLOOKUP(B14,'S3'!$B$23:$Z$57,12,FALSE)=\"\",\"\",VLOOKUP(B14,'S3'!$B$23:$Z$57,12,FALSE))","v":""},{"$f":"IF(VLOOKUP(B14,'S3'!$B$23:$Z$57,13,FALSE)=\"\",\"\",VLOOKUP(B14,'S3'!$B$23:$Z$57,13,FALSE))","v":""},{"$f":"IF(VLOOKUP(B14,'S3'!$B$23:$Z$57,14,FALSE)=\"\",\"\",VLOOKUP(B14,'S3'!$B$23:$Z$57,14,FALSE))","v":""},{"$f":"IF(VLOOKUP(B14,'S3'!$B$23:$Z$57,15,FALSE)=\"\",\"\",VLOOKUP(B14,'S3'!$B$23:$Z$57,15,FALSE))","v":""},null,null,null,null,null,null,"erreicht",null,null,{"$f":"IF(VLOOKUP(U14,'S3'!$B$23:$Z$57,6,FALSE)=\"\",\"\",VLOOKUP(U14,'S3'!$B$23:$Z$57,6,FALSE))","v":"."},{"$f":"IF(VLOOKUP(U14,'S3'!$B$23:$Z$57,7,FALSE)=\"\",\"\",VLOOKUP(U14,'S3'!$B$23:$Z$57,7,FALSE))","v":""},{"$f":"IF(VLOOKUP(U14,'S3'!$B$23:$Z$57,8,FALSE)=\"\",\"\",VLOOKUP(U14,'S3'!$B$23:$Z$57,8,FALSE))","v":""},{"$f":"IF(VLOOKUP(U14,'S3'!$B$23:$Z$57,9,FALSE)=\"\",\"\",VLOOKUP(U14,'S3'!$B$23:$Z$57,9,FALSE))","v":""},{"$f":"IF(VLOOKUP(U14,'S3'!$B$23:$Z$57,10,FALSE)=\"\",\"\",VLOOKUP(U14,'S3'!$B$23:$Z$57,10,FALSE))","v":""},{"$f":"IF(VLOOKUP(U14,'S3'!$B$23:$Z$57,11,FALSE)=\"\",\"\",VLOOKUP(U14,'S3'!$B$23:$Z$57,11,FALSE))","v":""},{"$f":"IF(VLOOKUP(U14,'S3'!$B$23:$Z$57,12,FALSE)=\"\",\"\",VLOOKUP(U14,'S3'!$B$23:$Z$57,12,FALSE))","v":""},{"$f":"IF(VLOOKUP(U14,'S3'!$B$23:$Z$57,13,FALSE)=\"\",\"\",VLOOKUP(U14,'S3'!$B$23:$Z$57,13,FALSE))","v":""},{"$f":"IF(VLOOKUP(U14,'S3'!$B$23:$Z$57,14,FALSE)=\"\",\"\",VLOOKUP(U14,'S3'!$B$23:$Z$57,14,FALSE))","v":""},{"$f":"IF(VLOOKUP(U14,'S3'!$B$23:$Z$57,15,FALSE)=\"\",\"\",VLOOKUP(U14,'S3'!$B$23:$Z$57,15,FALSE))","v":""}]
[null,"von",null,null,{"$f":"IF('S3'!$G$21=\"\",\"\",'S3'!$G$21)","v":""},{"$f":"IF('S3'!$H$21=\"\",\"\",'S3'!$H$21)","v":""},{"$f":"IF('S3'!$I$21=\"\",\"\",'S3'!$I$21)","v":""},{"$f":"IF('S3'!$J$21=\"\",\"\",'S3'!$J$21)","v":""},{"$f":"IF('S3'!$K$21=\"\",\"\",'S3'!$K$21)","v":""},{"$f":"IF('S3'!$L$21=\"\",\"\",'S3'!$L$21)","v":""},{"$f":"IF('S3'!$M$21=\"\",\"\",'S3'!$M$21)","v":""},{"$f":"IF('S3'!$N$21=\"\",\"\",'S3'!$N$21)","v":""},{"$f":"IF('S3'!$O$21=\"\",\"\",'S3'!$O$21)","v":""},{"$f":"IF('S3'!$P$21=\"\",\"\",'S3'!$P$21)","v":""},null,"von",null,null,null,null,"von",null,null,{"$f":"IF('S3'!$G$21=\"\",\"\",'S3'!$G$21)","v":""},{"$f":"IF('S3'!$H$21=\"\",\"\",'S3'!$H$21)","v":""},{"$f":"IF('S3'!$I$21=\"\",\"\",'S3'!$I$21)","v":""},{"$f":"IF('S3'!$J$21=\"\",\"\",'S3'!$J$21)","v":""},{"$f":"IF('S3'!$K$21=\"\",\"\",'S3'!$K$21)","v":""},{"$f":"IF('S3'!$L$21=\"\",\"\",'S3'!$L$21)","v":""},{"$f":"IF('S3'!$M$21=\"\",\"\",'S3'!$M$21)","v":""},{"$f":"IF('S3'!$N$21=\"\",\"\",'S3'!$N$21)","v":""},{"$f":"IF('S3'!$O$21=\"\",\"\",'S3'!$O$21)","v":""},{"$f":"IF('S3'!$P$21=\"\",\"\",'S3'!$P$21)","v":""},null,"von"]
[null,null,null,null,null,null,null,null,null,null,null,null,null,null,null,{"$f":"'S3'!$H$12","v":0},null,null,null,null,null,null,null,null,null,null,null,null,null,null,null,null,null,null,{"$f":"'S3'!$H$12","v":0}]
[null,{"$f":"IF('S3'!$Q$18=\"\",\"\",\"Aufgabe\")","v":""},null,null,{"$f":"IF('S3'!$Q$18=\"\",\"\",'S3'!$Q$18)","v":""},{"$f":"IF('S3'!$R$18=\"\",\"\",'S3'!$R$18)","v":""},{"$f":"IF('S3'!$S$18=\"\",\"\",'S3'!$S$18)","v":""},{"$f":"IF('S3'!$T$18=\"\",\"\",'S3'!$T$18)","v":""},{"$f":"IF('S3'!$U$18=\"\",\"\",'S3'!$U$18)","v":""},{"$f":"IF('S3'!$V$18=\"\",\"\",'S3'!$V$18)","v":""},{"$f":"IF('S3'!$W$18=\"\",\"\",'S3'!$W$18)","v":""},{"$f":"IF('S3'!$X$18=\"\",\"\",'S3'!$X$18)","v":""},{"$f":"IF('S3'!$Y$18=\"\",\"\",'S3'!$Y$18)","v":""},{"$f":"IF('S3'!$Z$18=\"\",\"\",'S3'!$Z$18)","v":""},null,null,null,null,null,null,{"$f":"IF('S3'!$Q$18=\"\",\"\",\"Aufgabe\")","v":""},null,null,{"$f":"IF('S3'!$Q$18=\"\",\"\",'S3'!$Q$18)","v":""},{"$f":"IF('S3'!$R$18=\"\",\"\",'S3'!$R$18)","v":""},{"$f":"IF('S3'!$S$18=\"\",\"\",'S3'!$S$18)","v":""},{"$f":"IF('S3'!$T$18=\"\",\"\",'S3'!$T$18)","v":""},{"$f":"IF('S3'!$U$18=\"\",\"\",'S3'!$U$18)","v":""},{"$f":"IF('S3'!$V$18=\"\",\"\",'S3'!$V$18)","v":""},{"$f":"IF('S3'!$W$18=\"\",\"\",'S3'!$W$18)","v":""},{"$f":"IF('S3'!$X$18=\"\",\"\",'S3'!$X$18)","v":""},{"$f":"IF('S3'!$Y$18=\"\",\"\",'S3'!$Y$18)","v":""},{"$f":"IF('S3'!$Z$18=\"\",\"\",'S3'!$Z$18)","v":""}]
[null,{"$f":"IF('S3'!$Q$18=\"\",\"\",\"erreicht\")","v":""},null,null,{"$f":"IF(VLOOKUP(B14,'S3'!$B$23:$Z$57,16,FALSE)=\"\",\"\",VLOOKUP(B14,'S3'!$B$23:$Z$57,16,FALSE))","v":""},{"$f":"IF(VLOOKUP(B14,'S3'!$B$23:$Z$57,17,FALSE)=\"\",\"\",VLOOKUP(B14,'S3'!$B$23:$Z$57,17,FALSE))","v":""},{"$f":"IF(VLOOKUP(B14,'S3'!$B$23:$Z$57,18,FALSE)=\"\",\"\",VLOOKUP(B14,'S3'!$B$23:$Z$57,18,FALSE))","v":""},{"$f":"IF(VLOOKUP(B14,'S3'!$B$23:$Z$57,19,FALSE)=\"\",\"\",VLOOKUP(B14,'S3'!$B$23:$Z$57,19,FALSE))","v":""},{"$f":"IF(VLOOKUP(B14,'S3'!$B$23:$Z$57,20,FALSE)=\"\",\"\",VLOOKUP(B14,'S3'!$B$23:$Z$57,20,FALSE))","v":""},{"$f":"IF(VLOOKUP(B14,'S3'!$B$23:$Z$57,21,FALSE)=\"\",\"\",VLOOKUP(B14,'S3'!$B$23:$Z$57,21,FALSE))","v":""},{"$f":"IF(VLOOKUP(B14,'S3'!$B$23:$Z$57,22,FALSE)=\"\",\"\",VLOOKUP(B14,'S3'!$B$23:$Z$57,22,FALSE))","v":""},{"$f":"IF(VLOOKUP(B14,'S3'!$B$23:$Z$57,23,FALSE)=\"\",\"\",VLOOKUP(B14,'S3'!$B$23:$Z$57,23,FALSE))","v":""},{"$f":"IF(VLOOKUP(B14,'S3'!$B$23:$Z$57,24,FALSE)=\"\",\"\",VLOOKUP(B14,'S3'!$B$23:$Z$57,24,FALSE))","v":""},{"$f":"IF(VLOOKUP(B14,'S3'!$B$23:$Z$57,25,FALSE)=\"\",\"\",VLOOKUP(B14,'S3'!$B$23:$Z$57,25,FALSE))","v":""},null,"Note",null,null,null,null,{"$f":"IF('S3'!$Q$18=\"\",\"\",\"erreicht\")","v":""},null,null,{"$f":"IF(VLOOKUP(U14,'S3'!$B$23:$Z$57,16,FALSE)=\"\",\"\",VLOOKUP(U14,'S3'!$B$23:$Z$57,16,FALSE))","v":""},{"$f":"IF(VLOOKUP(U14,'S3'!$B$23:$Z$57,17,FALSE)=\"\",\"\",VLOOKUP(U14,'S3'!$B$23:$Z$57,17,FALSE))","v":""},{"$f":"IF(VLOOKUP(U14,'S3'!$B$23:$Z$57,18,FALSE)=\"\",\"\",VLOOKUP(U14,'S3'!$B$23:$Z$57,18,FALSE))","v":""},{"$f":"IF(VLOOKUP(U14,'S3'!$B$23:$Z$57,19,FALSE)=\"\",\"\",VLOOKUP(U14,'S3'!$B$23:$Z$57,19,FALSE))","v":""},{"$f":"IF(VLOOKUP(U14,'S3'!$B$23:$Z$57,20,FALSE)=\"\",\"\",VLOOKUP(U14,'S3'!$B$23:$Z$57,20,FALSE))","v":""},{"$f":"IF(VLOOKUP(U14,'S3'!$B$23:$Z$57,21,FALSE)=\"\",\"\",VLOOKUP(U14,'S3'!$B$23:$Z$57,21,FALSE))","v":""},{"$f":"IF(VLOOKUP(U14,'S3'!$B$23:$Z$57,22,FALSE)=\"\",\"\",VLOOKUP(U14,'S3'!$B$23:$Z$57,22,FALSE))","v":""},{"$f":"IF(VLOOKUP(U14,'S3'!$B$23:$Z$57,23,FALSE)=\"\",\"\",VLOOKUP(U14,'S3'!$B$23:$Z$57,23,FALSE))","v":""},{"$f":"IF(VLOOKUP(U14,'S3'!$B$23:$Z$57,24,FALSE)=\"\",\"\",VLOOKUP(U14,'S3'!$B$23:$Z$57,24,FALSE))","v":""},{"$f":"IF(VLOOKUP(U14,'S3'!$B$23:$Z$57,25,FALSE)=\"\",\"\",VLOOKUP(U14,'S3'!$B$23:$Z$57,25,FALSE))","v":""},null,"Note"]
[null,{"$f":"IF('S3'!$Q$18=\"\",\"\",\"von\")","v":""},null,null,{"$f":"IF('S3'!$Q$21=\"\",\"\",'S3'!$Q$21)","v":""},{"$f":"IF('S3'!$R$21=\"\",\"\",'S3'!$R$21)","v":""},{"$f":"IF('S3'!$S$21=\"\",\"\",'S3'!$S$21)","v":""},{"$f":"IF('S3'!$T$21=\"\",\"\",'S3'!$T$21)","v":""},{"$f":"IF('S3'!$U$21=\"\",\"\",'S3'!$U$21)","v":""},{"$f":"IF('S3'!$V$21=\"\",\"\",'S3'!$V$21)","v":""},{"$f":"IF('S3'!$W$21=\"\",\"\",'S3'!$W$21)","v":""},{"$f":"IF('S3'!$X$21=\"\",\"\",'S3'!$X$21)","v":""},{"$f":"IF('S3'!$Y$21=\"\",\"\",'S3'!$Y$21)","v":""},{"$f":"IF('S3'!$Z$21=\"\",\"\",'S3'!$Z$21)","v":""},null,{"$f":"IF(VLOOKUP(B14,'S3'!$B$23:$Z$57,2,FALSE)=\"\",\"\",CONCATENATE(VLOOKUP(B14,'S3'!$B$23:$Z$57,2,FALSE),\" \",VLOOKUP(B14,'S3'!$B$23:$Z$57,3,FALSE)))","v":"- "},null,null,null,null,{"$f":"IF('S3'!$Q$18=\"\",\"\",\"von\")","v":""},null,null,{"$f":"IF('S3'!$Q$21=\"\",\"\",'S3'!$Q$21)","v":""},{"$f":"IF('S3'!$R$21=\"\",\"\",'S3'!$R$21)","v":""},{"$f":"IF('S3'!$S$21=\"\",\"\",'S3'!$S$21)","v":""},{"$f":"IF('S3'!$T$21=\"\",\"\",'S3'!$T$21)","v":""},{"$f":"IF('S3'!$U$21=\"\",\"\",'S3'!$U$21)","v":""},{"$f":"IF('S3'!$V$21=\"\",\"\",'S3'!$V$21)","v":""},{"$f":"IF('S3'!$W$21=\"\",\"\",'S3'!$W$21)","v":""},{"$f":"IF('S3'!$X$21=\"\",\"\",'S3'!$X$21)","v":""},{"$f":"IF('S3'!$Y$21=\"\",\"\",'S3'!$Y$21)","v":""},{"$f":"IF('S3'!$Z$21=\"\",\"\",'S3'!$Z$21)","v":""},null,{"$f":"IF(VLOOKUP(U14,'S3'!$B$23:$Z$57,2,FALSE)=\"\",\"\",CONCATENATE(VLOOKUP(U14,'S3'!$B$23:$Z$57,2,FALSE),\" \",VLOOKUP(U14,'S3'!$B$23:$Z$57,3,FALSE)))","v":"- "}]
[]
[]
[]
[null,{"$f":"'S3'!$B$27","v":""},null,null,null,null,null,null,null,null,null,null,null,null,null,null,null,null,null,null,{"$f":"'S3'!$B$28","v":""}]
[null,null,null,null,null,null,null,null,null,null,null,null,null,null,null,"Summe",null,null,null,null,null,null,null,null,null,null,null,null,null,null,null,null,null,null,"Summe"]
[null,"Aufgabe",null,null,{"$f":"IF('S3'!$G$18=\"\",\"\",'S3'!$G$18)","v":1},{"$f":"IF('S3'!$H$18=\"\",\"\",'S3'!$H$18)","v":2},{"$f":"IF('S3'!$I$18=\"\",\"\",'S3'!$I$18)","v":3},{"$f":"IF('S3'!$J$18=\"\",\"\",'S3'!$J$18)","v":""},{"$f":"IF('S3'!$K$18=\"\",\"\",'S3'!$K$18)","v":""},{"$f":"IF('S3'!$L$18=\"\",\"\",'S3'!$L$18)","v":""},{"$f":"IF('S3'!$M$18=\"\",\"\",'S3'!$M$18)","v":""},{"$f":"IF('S3'!$N$18=\"\",\"\",'S3'!$N$18)","v":""},{"$f":"IF('S3'!$O$18=\"\",\"\",'S3'!$O$18)","v":""},{"$f":"IF('S3'!$P$18=\"\",\"\",'S3'!$P$18)","v":""},null,{"$f":"IF(VLOOKUP(B26,'S3'!$B$23:$Z$57,5,FALSE)=\"\",\"\",VLOOKUP(B26,'S3'!$B$23:$Z$57,5,FALSE))","v":0},null,null,null,null,"Aufgabe",null,null,{"$f":"IF('S3'!$G$18=\"\",\"\",'S3'!$G$18)","v":1},{"$f":"IF('S3'!$H$18=\"\",\"\",'S3'!$H$18)","v":2},{"$f":"IF('S3'!$I$18=\"\",\"\",'S3'!$I$18)","v":3},{"$f":"IF('S3'!$J$18=\"\",\"\",'S3'!$J$18)","v":""},{"$f":"IF('S3'!$K$18=\"\",\"\",'S3'!$K$18)","v":""},{"$f":"IF('S3'!$L$18=\"\",\"\",'S3'!$L$18)","v":""},{"$f":"IF('S3'!$M$18=\"\",\"\",'S3'!$M$18)","v":""},{"$f":"IF('S3'!$N$18=\"\",\"\",'S3'!$N$18)","v":""},{"$f":"IF('S3'!$O$18=\"\",\"\",'S3'!$O$18)","v":""},{"$f":"IF('S3'!$P$18=\"\",\"\",'S3'!$P$18)","v":""},null,{"$f":"IF(VLOOKUP(U26,'S3'!$B$23:$Z$57,5,FALSE)=\"\",\"\",VLOOKUP(U26,'S3'!$B$23:$Z$57,5,FALSE))","v":0}]
[null,"erreicht",null,null,{"$f":"IF(VLOOKUP(B26,'S3'!$B$23:$Z$57,6,FALSE)=\"\",\"\",VLOOKUP(B26,'S3'!$B$23:$Z$57,6,FALSE))","v":"."},{"$f":"IF(VLOOKUP(B26,'S3'!$B$23:$Z$57,7,FALSE)=\"\",\"\",VLOOKUP(B26,'S3'!$B$23:$Z$57,7,FALSE))","v":""},{"$f":"IF(VLOOKUP(B26,'S3'!$B$23:$Z$57,8,FALSE)=\"\",\"\",VLOOKUP(B26,'S3'!$B$23:$Z$57,8,FALSE))","v":""},{"$f":"IF(VLOOKUP(B26,'S3'!$B$23:$Z$57,9,FALSE)=\"\",\"\",VLOOKUP(B26,'S3'!$B$23:$Z$57,9,FALSE))","v":""},{"$f":"IF(VLOOKUP(B26,'S3'!$B$23:$Z$57,10,FALSE)=\"\",\"\",VLOOKUP(B26,'S3'!$B$23:$Z$57,10,FALSE))","v":""},{"$f":"IF(VLOOKUP(B26,'S3'!$B$23:$Z$57,11,FALSE)=\"\",\"\",VLOOKUP(B26,'S3'!$B$23:$Z$57,11,FALSE))","v":""},{"$f":"IF(VLOOKUP(B26,'S3'!$B$23:$Z$57,12,FALSE)=\"\",\"\",VLOOKUP(B26,'S3'!$B$23:$Z$57,12,FALSE))","v":""},{"$f":"IF(VLOOKUP(B26,'S3'!$B$23:$Z$57,13,FALSE)=\"\",\"\",VLOOKUP(B26,'S3'!$B$23:$Z$57,13,FALSE))","v":""},{"$f":"IF(VLOOKUP(B26,'S3'!$B$23:$Z$57,14,FALSE)=\"\",\"\",VLOOKUP(B26,'S3'!$B$23:$Z$57,14,FALSE))","v":""},{"$f":"IF(VLOOKUP(B26,'S3'!$B$23:$Z$57,15,FALSE)=\"\",\"\",VLOOKUP(B26,'S3'!$B$23:$Z$57,15,FALSE))","v":""},null,null,null,null,null,null,"erreicht",null,null,{"$f":"IF(VLOOKUP(U26,'S3'!$B$23:$Z$57,6,FALSE)=\"\",\"\",VLOOKUP(U26,'S3'!$B$23:$Z$57,6,FALSE))","v":"."},{"$f":"IF(VLOOKUP(U26,'S3'!$B$23:$Z$57,7,FALSE)=\"\",\"\",VLOOKUP(U26,'S3'!$B$23:$Z$57,7,FALSE))","v":""},{"$f":"IF(VLOOKUP(U26,'S3'!$B$23:$Z$57,8,FALSE)=\"\",\"\",VLOOKUP(U26,'S3'!$B$23:$Z$57,8,FALSE))","v":""},{"$f":"IF(VLOOKUP(U26,'S3'!$B$23:$Z$57,9,FALSE)=\"\",\"\",VLOOKUP(U26,'S3'!$B$23:$Z$57,9,FALSE))","v":""},{"$f":"IF(VLOOKUP(U26,'S3'!$B$23:$Z$57,10,FALSE)=\"\",\"\",VLOOKUP(U26,'S3'!$B$23:$Z$57,10,FALSE))","v":""},{"$f":"IF(VLOOKUP(U26,'S3'!$B$23:$Z$57,11,FALSE)=\"\",\"\",VLOOKUP(U26,'S3'!$B$23:$Z$57,11,FALSE))","v":""},{"$f":"IF(VLOOKUP(U26,'S3'!$B$23:$Z$57,12,FALSE)=\"\",\"\",VLOOKUP(U26,'S3'!$B$23:$Z$57,12,FALSE))","v":""},{"$f":"IF(VLOOKUP(U26,'S3'!$B$23:$Z$57,13,FALSE)=\"\",\"\",VLOOKUP(U26,'S3'!$B$23:$Z$57,13,FALSE))","v":""},{"$f":"IF(VLOOKUP(U26,'S3'!$B$23:$Z$57,14,FALSE)=\"\",\"\",VLOOKUP(U26,'S3'!$B$23:$Z$57,14,FALSE))","v":""},{"$f":"IF(VLOOKUP(U26,'S3'!$B$23:$Z$57,15,FALSE)=\"\",\"\",VLOOKUP(U26,'S3'!$B$23:$Z$57,15,FALSE))","v":""}]
[null,"von",null,null,{"$f":"IF('S3'!$G$21=\"\",\"\",'S3'!$G$21)","v":""},{"$f":"IF('S3'!$H$21=\"\",\"\",'S3'!$H$21)","v":""},{"$f":"IF('S3'!$I$21=\"\",\"\",'S3'!$I$21)","v":""},{"$f":"IF('S3'!$J$21=\"\",\"\",'S3'!$J$21)","v":""},{"$f":"IF('S3'!$K$21=\"\",\"\",'S3'!$K$21)","v":""},{"$f":"IF('S3'!$L$21=\"\",\"\",'S3'!$L$21)","v":""},{"$f":"IF('S3'!$M$21=\"\",\"\",'S3'!$M$21)","v":""},{"$f":"IF('S3'!$N$21=\"\",\"\",'S3'!$N$21)","v":""},{"$f":"IF('S3'!$O$21=\"\",\"\",'S3'!$O$21)","v":""},{"$f":"IF('S3'!$P$21=\"\",\"\",'S3'!$P$21)","v":""},null,"von",null,null,null,null,"von",null,null,{"$f":"IF('S3'!$G$21=\"\",\"\",'S3'!$G$21)","v":""},{"$f":"IF('S3'!$H$21=\"\",\"\",'S3'!$H$21)","v":""},{"$f":"IF('S3'!$I$21=\"\",\"\",'S3'!$I$21)","v":""},{"$f":"IF('S3'!$J$21=\"\",\"\",'S3'!$J$21)","v":""},{"$f":"IF('S3'!$K$21=\"\",\"\",'S3'!$K$21)","v":""},{"$f":"IF('S3'!$L$21=\"\",\"\",'S3'!$L$21)","v":""},{"$f":"IF('S3'!$M$21=\"\",\"\",'S3'!$M$21)","v":""},{"$f":"IF('S3'!$N$21=\"\",\"\",'S3'!$N$21)","v":""},{"$f":"IF('S3'!$O$21=\"\",\"\",'S3'!$O$21)","v":""},{"$f":"IF('S3'!$P$21=\"\",\"\",'S3'!$P$21)","v":""},null,"von"]
[null,null,null,null,null,null,null,null,null,null,null,null,null,null,null,{"$f":"'S3'!$H$12","v":0},null,null,null,null,null,null,null,null,null,null,null,null,null,null,null,null,null,null,{"$f":"'S3'!$H$12","v":0}]
[null,{"$f":"IF('S3'!$Q$18=\"\",\"\",\"Aufgabe\")","v":""},null,null,{"$f":"IF('S3'!$Q$18=\"\",\"\",'S3'!$Q$18)","v":""},{"$f":"IF('S3'!$R$18=\"\",\"\",'S3'!$R$18)","v":""},{"$f":"IF('S3'!$S$18=\"\",\"\",'S3'!$S$18)","v":""},{"$f":"IF('S3'!$T$18=\"\",\"\",'S3'!$T$18)","v":""},{"$f":"IF('S3'!$U$18=\"\",\"\",'S3'!$U$18)","v":""},{"$f":"IF('S3'!$V$18=\"\",\"\",'S3'!$V$18)","v":""},{"$f":"IF('S3'!$W$18=\"\",\"\",'S3'!$W$18)","v":""},{"$f":"IF('S3'!$X$18=\"\",\"\",'S3'!$X$18)","v":""},{"$f":"IF('S3'!$Y$18=\"\",\"\",'S3'!$Y$18)","v":""},{"$f":"IF('S3'!$Z$18=\"\",\"\",'S3'!$Z$18)","v":""},null,null,null,null,null,null,{"$f":"IF('S3'!$Q$18=\"\",\"\",\"Aufgabe\")","v":""},null,null,{"$f":"IF('S3'!$Q$18=\"\",\"\",'S3'!$Q$18)","v":""},{"$f":"IF('S3'!$R$18=\"\",\"\",'S3'!$R$18)","v":""},{"$f":"IF('S3'!$S$18=\"\",\"\",'S3'!$S$18)","v":""},{"$f":"IF('S3'!$T$18=\"\",\"\",'S3'!$T$18)","v":""},{"$f":"IF('S3'!$U$18=\"\",\"\",'S3'!$U$18)","v":""},{"$f":"IF('S3'!$V$18=\"\",\"\",'S3'!$V$18)","v":""},{"$f":"IF('S3'!$W$18=\"\",\"\",'S3'!$W$18)","v":""},{"$f":"IF('S3'!$X$18=\"\",\"\",'S3'!$X$18)","v":""},{"$f":"IF('S3'!$Y$18=\"\",\"\",'S3'!$Y$18)","v":""},{"$f":"IF('S3'!$Z$18=\"\",\"\",'S3'!$Z$18)","v":""}]
[null,{"$f":"IF('S3'!$Q$18=\"\",\"\",\"erreicht\")","v":""},null,null,{"$f":"IF(VLOOKUP(B26,'S3'!$B$23:$Z$57,16,FALSE)=\"\",\"\",VLOOKUP(B26,'S3'!$B$23:$Z$57,16,FALSE))","v":""},{"$f":"IF(VLOOKUP(B26,'S3'!$B$23:$Z$57,17,FALSE)=\"\",\"\",VLOOKUP(B26,'S3'!$B$23:$Z$57,17,FALSE))","v":""},{"$f":"IF(VLOOKUP(B26,'S3'!$B$23:$Z$57,18,FALSE)=\"\",\"\",VLOOKUP(B26,'S3'!$B$23:$Z$57,18,FALSE))","v":""},{"$f":"IF(VLOOKUP(B26,'S3'!$B$23:$Z$57,19,FALSE)=\"\",\"\",VLOOKUP(B26,'S3'!$B$23:$Z$57,19,FALSE))","v":""},{"$f":"IF(VLOOKUP(B26,'S3'!$B$23:$Z$57,20,FALSE)=\"\",\"\",VLOOKUP(B26,'S3'!$B$23:$Z$57,20,FALSE))","v":""},{"$f":"IF(VLOOKUP(B26,'S3'!$B$23:$Z$57,21,FALSE)=\"\",\"\",VLOOKUP(B26,'S3'!$B$23:$Z$57,21,FALSE))","v":""},{"$f":"IF(VLOOKUP(B26,'S3'!$B$23:$Z$57,22,FALSE)=\"\",\"\",VLOOKUP(B26,'S3'!$B$23:$Z$57,22,FALSE))","v":""},{"$f":"IF(VLOOKUP(B26,'S3'!$B$23:$Z$57,23,FALSE)=\"\",\"\",VLOOKUP(B26,'S3'!$B$23:$Z$57,23,FALSE))","v":""},{"$f":"IF(VLOOKUP(B26,'S3'!$B$23:$Z$57,24,FALSE)=\"\",\"\",VLOOKUP(B26,'S3'!$B$23:$Z$57,24,FALSE))","v":""},{"$f":"IF(VLOOKUP(B26,'S3'!$B$23:$Z$57,25,FALSE)=\"\",\"\",VLOOKUP(B26,'S3'!$B$23:$Z$57,25,FALSE))","v":""},null,"Note",null,null,null,null,{"$f":"IF('S3'!$Q$18=\"\",\"\",\"erreicht\")","v":""},null,null,{"$f":"IF(VLOOKUP(U26,'S3'!$B$23:$Z$57,16,FALSE)=\"\",\"\",VLOOKUP(U26,'S3'!$B$23:$Z$57,16,FALSE))","v":""},{"$f":"IF(VLOOKUP(U26,'S3'!$B$23:$Z$57,17,FALSE)=\"\",\"\",VLOOKUP(U26,'S3'!$B$23:$Z$57,17,FALSE))","v":""},{"$f":"IF(VLOOKUP(U26,'S3'!$B$23:$Z$57,18,FALSE)=\"\",\"\",VLOOKUP(U26,'S3'!$B$23:$Z$57,18,FALSE))","v":""},{"$f":"IF(VLOOKUP(U26,'S3'!$B$23:$Z$57,19,FALSE)=\"\",\"\",VLOOKUP(U26,'S3'!$B$23:$Z$57,19,FALSE))","v":""},{"$f":"IF(VLOOKUP(U26,'S3'!$B$23:$Z$57,20,FALSE)=\"\",\"\",VLOOKUP(U26,'S3'!$B$23:$Z$57,20,FALSE))","v":""},{"$f":"IF(VLOOKUP(U26,'S3'!$B$23:$Z$57,21,FALSE)=\"\",\"\",VLOOKUP(U26,'S3'!$B$23:$Z$57,21,FALSE))","v":""},{"$f":"IF(VLOOKUP(U26,'S3'!$B$23:$Z$57,22,FALSE)=\"\",\"\",VLOOKUP(U26,'S3'!$B$23:$Z$57,22,FALSE))","v":""},{"$f":"IF(VLOOKUP(U26,'S3'!$B$23:$Z$57,23,FALSE)=\"\",\"\",VLOOKUP(U26,'S3'!$B$23:$Z$57,23,FALSE))","v":""},{"$f":"IF(VLOOKUP(U26,'S3'!$B$23:$Z$57,24,FALSE)=\"\",\"\",VLOOKUP(U26,'S3'!$B$23:$Z$57,24,FALSE))","v":""},{"$f":"IF(VLOOKUP(U26,'S3'!$B$23:$Z$57,25,FALSE)=\"\",\"\",VLOOKUP(U26,'S3'!$B$23:$Z$57,25,FALSE))","v":""},null,"Note"]
[null,{"$f":"IF('S3'!$Q$18=\"\",\"\",\"von\")","v":""},null,null,{"$f":"IF('S3'!$Q$21=\"\",\"\",'S3'!$Q$21)","v":""},{"$f":"IF('S3'!$R$21=\"\",\"\",'S3'!$R$21)","v":""},{"$f":"IF('S3'!$S$21=\"\",\"\",'S3'!$S$21)","v":""},{"$f":"IF('S3'!$T$21=\"\",\"\",'S3'!$T$21)","v":""},{"$f":"IF('S3'!$U$21=\"\",\"\",'S3'!$U$21)","v":""},{"$f":"IF('S3'!$V$21=\"\",\"\",'S3'!$V$21)","v":""},{"$f":"IF('S3'!$W$21=\"\",\"\",'S3'!$W$21)","v":""},{"$f":"IF('S3'!$X$21=\"\",\"\",'S3'!$X$21)","v":""},{"$f":"IF('S3'!$Y$21=\"\",\"\",'S3'!$Y$21)","v":""},{"$f":"IF('S3'!$Z$21=\"\",\"\",'S3'!$Z$21)","v":""},null,{"$f":"IF(VLOOKUP(B26,'S3'!$B$23:$Z$57,2,FALSE)=\"\",\"\",CONCATENATE(VLOOKUP(B26,'S3'!$B$23:$Z$57,2,FALSE),\" \",VLOOKUP(B26,'S3'!$B$23:$Z$57,3,FALSE)))","v":"- "},null,null,null,null,{"$f":"IF('S3'!$Q$18=\"\",\"\",\"von\")","v":""},null,null,{"$f":"IF('S3'!$Q$21=\"\",\"\",'S3'!$Q$21)","v":""},{"$f":"IF('S3'!$R$21=\"\",\"\",'S3'!$R$21)","v":""},{"$f":"IF('S3'!$S$21=\"\",\"\",'S3'!$S$21)","v":""},{"$f":"IF('S3'!$T$21=\"\",\"\",'S3'!$T$21)","v":""},{"$f":"IF('S3'!$U$21=\"\",\"\",'S3'!$U$21)","v":""},{"$f":"IF('S3'!$V$21=\"\",\"\",'S3'!$V$21)","v":""},{"$f":"IF('S3'!$W$21=\"\",\"\",'S3'!$W$21)","v":""},{"$f":"IF('S3'!$X$21=\"\",\"\",'S3'!$X$21)","v":""},{"$f":"IF('S3'!$Y$21=\"\",\"\",'S3'!$Y$21)","v":""},{"$f":"IF('S3'!$Z$21=\"\",\"\",'S3'!$Z$21)","v":""},null,{"$f":"IF(VLOOKUP(U26,'S3'!$B$23:$Z$57,2,FALSE)=\"\",\"\",CONCATENATE(VLOOKUP(U26,'S3'!$B$23:$Z$57,2,FALSE),\" \",VLOOKUP(U26,'S3'!$B$23:$Z$57,3,FALSE)))","v":"- "}]
[]
[]
[]
[null,{"$f":"'S3'!$B$29","v":""},null,null,null,null,null,null,null,null,null,null,null,null,null,null,null,null,null,null,{"$f":"'S3'!$B$30","v":""}]
[null,null,null,null,null,null,null,null,null,null,null,null,null,null,null,"Summe",null,null,null,null,null,null,null,null,null,null,null,null,null,null,null,null,null,null,"Summe"]
[null,"Aufgabe",null,null,{"$f":"IF('S3'!$G$18=\"\",\"\",'S3'!$G$18)","v":1},{"$f":"IF('S3'!$H$18=\"\",\"\",'S3'!$H$18)","v":2},{"$f":"IF('S3'!$I$18=\"\",\"\",'S3'!$I$18)","v":3},{"$f":"IF('S3'!$J$18=\"\",\"\",'S3'!$J$18)","v":""},{"$f":"IF('S3'!$K$18=\"\",\"\",'S3'!$K$18)","v":""},{"$f":"IF('S3'!$L$18=\"\",\"\",'S3'!$L$18)","v":""},{"$f":"IF('S3'!$M$18=\"\",\"\",'S3'!$M$18)","v":""},{"$f":"IF('S3'!$N$18=\"\",\"\",'S3'!$N$18)","v":""},{"$f":"IF('S3'!$O$18=\"\",\"\",'S3'!$O$18)","v":""},{"$f":"IF('S3'!$P$18=\"\",\"\",'S3'!$P$18)","v":""},null,{"$f":"IF(VLOOKUP(B38,'S3'!$B$23:$Z$57,5,FALSE)=\"\",\"\",VLOOKUP(B38,'S3'!$B$23:$Z$57,5,FALSE))","v":0},null,null,null,null,"Aufgabe",null,null,{"$f":"IF('S3'!$G$18=\"\",\"\",'S3'!$G$18)","v":1},{"$f":"IF('S3'!$H$18=\"\",\"\",'S3'!$H$18)","v":2},{"$f":"IF('S3'!$I$18=\"\",\"\",'S3'!$I$18)","v":3},{"$f":"IF('S3'!$J$18=\"\",\"\",'S3'!$J$18)","v":""},{"$f":"IF('S3'!$K$18=\"\",\"\",'S3'!$K$18)","v":""},{"$f":"IF('S3'!$L$18=\"\",\"\",'S3'!$L$18)","v":""},{"$f":"IF('S3'!$M$18=\"\",\"\",'S3'!$M$18)","v":""},{"$f":"IF('S3'!$N$18=\"\",\"\",'S3'!$N$18)","v":""},{"$f":"IF('S3'!$O$18=\"\",\"\",'S3'!$O$18)","v":""},{"$f":"IF('S3'!$P$18=\"\",\"\",'S3'!$P$18)","v":""},null,{"$f":"IF(VLOOKUP(U38,'S3'!$B$23:$Z$57,5,FALSE)=\"\",\"\",VLOOKUP(U38,'S3'!$B$23:$Z$57,5,FALSE))","v":0}]
[null,"erreicht",null,null,{"$f":"IF(VLOOKUP(B38,'S3'!$B$23:$Z$57,6,FALSE)=\"\",\"\",VLOOKUP(B38,'S3'!$B$23:$Z$57,6,FALSE))","v":"."},{"$f":"IF(VLOOKUP(B38,'S3'!$B$23:$Z$57,7,FALSE)=\"\",\"\",VLOOKUP(B38,'S3'!$B$23:$Z$57,7,FALSE))","v":""},{"$f":"IF(VLOOKUP(B38,'S3'!$B$23:$Z$57,8,FALSE)=\"\",\"\",VLOOKUP(B38,'S3'!$B$23:$Z$57,8,FALSE))","v":""},{"$f":"IF(VLOOKUP(B38,'S3'!$B$23:$Z$57,9,FALSE)=\"\",\"\",VLOOKUP(B38,'S3'!$B$23:$Z$57,9,FALSE))","v":""},{"$f":"IF(VLOOKUP(B38,'S3'!$B$23:$Z$57,10,FALSE)=\"\",\"\",VLOOKUP(B38,'S3'!$B$23:$Z$57,10,FALSE))","v":""},{"$f":"IF(VLOOKUP(B38,'S3'!$B$23:$Z$57,11,FALSE)=\"\",\"\",VLOOKUP(B38,'S3'!$B$23:$Z$57,11,FALSE))","v":""},{"$f":"IF(VLOOKUP(B38,'S3'!$B$23:$Z$57,12,FALSE)=\"\",\"\",VLOOKUP(B38,'S3'!$B$23:$Z$57,12,FALSE))","v":""},{"$f":"IF(VLOOKUP(B38,'S3'!$B$23:$Z$57,13,FALSE)=\"\",\"\",VLOOKUP(B38,'S3'!$B$23:$Z$57,13,FALSE))","v":""},{"$f":"IF(VLOOKUP(B38,'S3'!$B$23:$Z$57,14,FALSE)=\"\",\"\",VLOOKUP(B38,'S3'!$B$23:$Z$57,14,FALSE))","v":""},{"$f":"IF(VLOOKUP(B38,'S3'!$B$23:$Z$57,15,FALSE)=\"\",\"\",VLOOKUP(B38,'S3'!$B$23:$Z$57,15,FALSE))","v":""},null,null,null,null,null,null,"erreicht",null,null,{"$f":"IF(VLOOKUP(U38,'S3'!$B$23:$Z$57,6,FALSE)=\"\",\"\",VLOOKUP(U38,'S3'!$B$23:$Z$57,6,FALSE))","v":"."},{"$f":"IF(VLOOKUP(U38,'S3'!$B$23:$Z$57,7,FALSE)=\"\",\"\",VLOOKUP(U38,'S3'!$B$23:$Z$57,7,FALSE))","v":""},{"$f":"IF(VLOOKUP(U38,'S3'!$B$23:$Z$57,8,FALSE)=\"\",\"\",VLOOKUP(U38,'S3'!$B$23:$Z$57,8,FALSE))","v":""},{"$f":"IF(VLOOKUP(U38,'S3'!$B$23:$Z$57,9,FALSE)=\"\",\"\",VLOOKUP(U38,'S3'!$B$23:$Z$57,9,FALSE))","v":""},{"$f":"IF(VLOOKUP(U38,'S3'!$B$23:$Z$57,10,FALSE)=\"\",\"\",VLOOKUP(U38,'S3'!$B$23:$Z$57,10,FALSE))","v":""},{"$f":"IF(VLOOKUP(U38,'S3'!$B$23:$Z$57,11,FALSE)=\"\",\"\",VLOOKUP(U38,'S3'!$B$23:$Z$57,11,FALSE))","v":""},{"$f":"IF(VLOOKUP(U38,'S3'!$B$23:$Z$57,12,FALSE)=\"\",\"\",VLOOKUP(U38,'S3'!$B$23:$Z$57,12,FALSE))","v":""},{"$f":"IF(VLOOKUP(U38,'S3'!$B$23:$Z$57,13,FALSE)=\"\",\"\",VLOOKUP(U38,'S3'!$B$23:$Z$57,13,FALSE))","v":""},{"$f":"IF(VLOOKUP(U38,'S3'!$B$23:$Z$57,14,FALSE)=\"\",\"\",VLOOKUP(U38,'S3'!$B$23:$Z$57,14,FALSE))","v":""},{"$f":"IF(VLOOKUP(U38,'S3'!$B$23:$Z$57,15,FALSE)=\"\",\"\",VLOOKUP(U38,'S3'!$B$23:$Z$57,15,FALSE))","v":""}]
[null,"von",null,null,{"$f":"IF('S3'!$G$21=\"\",\"\",'S3'!$G$21)","v":""},{"$f":"IF('S3'!$H$21=\"\",\"\",'S3'!$H$21)","v":""},{"$f":"IF('S3'!$I$21=\"\",\"\",'S3'!$I$21)","v":""},{"$f":"IF('S3'!$J$21=\"\",\"\",'S3'!$J$21)","v":""},{"$f":"IF('S3'!$K$21=\"\",\"\",'S3'!$K$21)","v":""},{"$f":"IF('S3'!$L$21=\"\",\"\",'S3'!$L$21)","v":""},{"$f":"IF('S3'!$M$21=\"\",\"\",'S3'!$M$21)","v":""},{"$f":"IF('S3'!$N$21=\"\",\"\",'S3'!$N$21)","v":""},{"$f":"IF('S3'!$O$21=\"\",\"\",'S3'!$O$21)","v":""},{"$f":"IF('S3'!$P$21=\"\",\"\",'S3'!$P$21)","v":""},null,"von",null,null,null,null,"von",null,null,{"$f":"IF('S3'!$G$21=\"\",\"\",'S3'!$G$21)","v":""},{"$f":"IF('S3'!$H$21=\"\",\"\",'S3'!$H$21)","v":""},{"$f":"IF('S3'!$I$21=\"\",\"\",'S3'!$I$21)","v":""},{"$f":"IF('S3'!$J$21=\"\",\"\",'S3'!$J$21)","v":""},{"$f":"IF('S3'!$K$21=\"\",\"\",'S3'!$K$21)","v":""},{"$f":"IF('S3'!$L$21=\"\",\"\",'S3'!$L$21)","v":""},{"$f":"IF('S3'!$M$21=\"\",\"\",'S3'!$M$21)","v":""},{"$f":"IF('S3'!$N$21=\"\",\"\",'S3'!$N$21)","v":""},{"$f":"IF('S3'!$O$21=\"\",\"\",'S3'!$O$21)","v":""},{"$f":"IF('S3'!$P$21=\"\",\"\",'S3'!$P$21)","v":""},null,"von"]
[null,null,null,null,null,null,null,null,null,null,null,null,null,null,null,{"$f":"'S3'!$H$12","v":0},null,null,null,null,null,null,null,null,null,null,null,null,null,null,null,null,null,null,{"$f":"'S3'!$H$12","v":0}]
[null,{"$f":"IF('S3'!$Q$18=\"\",\"\",\"Aufgabe\")","v":""},null,null,{"$f":"IF('S3'!$Q$18=\"\",\"\",'S3'!$Q$18)","v":""},{"$f":"IF('S3'!$R$18=\"\",\"\",'S3'!$R$18)","v":""},{"$f":"IF('S3'!$S$18=\"\",\"\",'S3'!$S$18)","v":""},{"$f":"IF('S3'!$T$18=\"\",\"\",'S3'!$T$18)","v":""},{"$f":"IF('S3'!$U$18=\"\",\"\",'S3'!$U$18)","v":""},{"$f":"IF('S3'!$V$18=\"\",\"\",'S3'!$V$18)","v":""},{"$f":"IF('S3'!$W$18=\"\",\"\",'S3'!$W$18)","v":""},{"$f":"IF('S3'!$X$18=\"\",\"\",'S3'!$X$18)","v":""},{"$f":"IF('S3'!$Y$18=\"\",\"\",'S3'!$Y$18)","v":""},{"$f":"IF('S3'!$Z$18=\"\",\"\",'S3'!$Z$18)","v":""},null,null,null,null,null,null,{"$f":"IF('S3'!$Q$18=\"\",\"\",\"Aufgabe\")","v":""},null,null,{"$f":"IF('S3'!$Q$18=\"\",\"\",'S3'!$Q$18)","v":""},{"$f":"IF('S3'!$R$18=\"\",\"\",'S3'!$R$18)","v":""},{"$f":"IF('S3'!$S$18=\"\",\"\",'S3'!$S$18)","v":""},{"$f":"IF('S3'!$T$18=\"\",\"\",'S3'!$T$18)","v":""},{"$f":"IF('S3'!$U$18=\"\",\"\",'S3'!$U$18)","v":""},{"$f":"IF('S3'!$V$18=\"\",\"\",'S3'!$V$18)","v":""},{"$f":"IF('S3'!$W$18=\"\",\"\",'S3'!$W$18)","v":""},{"$f":"IF('S3'!$X$18=\"\",\"\",'S3'!$X$18)","v":""},{"$f":"IF('S3'!$Y$18=\"\",\"\",'S3'!$Y$18)","v":""},{"$f":"IF('S3'!$Z$18=\"\",\"\",'S3'!$Z$18)","v":""}]
[null,{"$f":"IF('S3'!$Q$18=\"\",\"\",\"erreicht\")","v":""},null,null,{"$f":"IF(VLOOKUP(B38,'S3'!$B$23:$Z$57,16,FALSE)=\"\",\"\",VLOOKUP(B38,'S3'!$B$23:$Z$57,16,FALSE))","v":""},{"$f":"IF(VLOOKUP(B38,'S3'!$B$23:$Z$57,17,FALSE)=\"\",\"\",VLOOKUP(B38,'S3'!$B$23:$Z$57,17,FALSE))","v":""},{"$f":"IF(VLOOKUP(B38,'S3'!$B$23:$Z$57,18,FALSE)=\"\",\"\",VLOOKUP(B38,'S3'!$B$23:$Z$57,18,FALSE))","v":""},{"$f":"IF(VLOOKUP(B38,'S3'!$B$23:$Z$57,19,FALSE)=\"\",\"\",VLOOKUP(B38,'S3'!$B$23:$Z$57,19,FALSE))","v":""},{"$f":"IF(VLOOKUP(B38,'S3'!$B$23:$Z$57,20,FALSE)=\"\",\"\",VLOOKUP(B38,'S3'!$B$23:$Z$57,20,FALSE))","v":""},{"$f":"IF(VLOOKUP(B38,'S3'!$B$23:$Z$57,21,FALSE)=\"\",\"\",VLOOKUP(B38,'S3'!$B$23:$Z$57,21,FALSE))","v":""},{"$f":"IF(VLOOKUP(B38,'S3'!$B$23:$Z$57,22,FALSE)=\"\",\"\",VLOOKUP(B38,'S3'!$B$23:$Z$57,22,FALSE))","v":""},{"$f":"IF(VLOOKUP(B38,'S3'!$B$23:$Z$57,23,FALSE)=\"\",\"\",VLOOKUP(B38,'S3'!$B$23:$Z$57,23,FALSE))","v":""},{"$f":"IF(VLOOKUP(B38,'S3'!$B$23:$Z$57,24,FALSE)=\"\",\"\",VLOOKUP(B38,'S3'!$B$23:$Z$57,24,FALSE))","v":""},{"$f":"IF(VLOOKUP(B38,'S3'!$B$23:$Z$57,25,FALSE)=\"\",\"\",VLOOKUP(B38,'S3'!$B$23:$Z$57,25,FALSE))","v":""},null,"Note",null,null,null,null,{"$f":"IF('S3'!$Q$18=\"\",\"\",\"erreicht\")","v":""},null,null,{"$f":"IF(VLOOKUP(U38,'S3'!$B$23:$Z$57,16,FALSE)=\"\",\"\",VLOOKUP(U38,'S3'!$B$23:$Z$57,16,FALSE))","v":""},{"$f":"IF(VLOOKUP(U38,'S3'!$B$23:$Z$57,17,FALSE)=\"\",\"\",VLOOKUP(U38,'S3'!$B$23:$Z$57,17,FALSE))","v":""},{"$f":"IF(VLOOKUP(U38,'S3'!$B$23:$Z$57,18,FALSE)=\"\",\"\",VLOOKUP(U38,'S3'!$B$23:$Z$57,18,FALSE))","v":""},{"$f":"IF(VLOOKUP(U38,'S3'!$B$23:$Z$57,19,FALSE)=\"\",\"\",VLOOKUP(U38,'S3'!$B$23:$Z$57,19,FALSE))","v":""},{"$f":"IF(VLOOKUP(U38,'S3'!$B$23:$Z$57,20,FALSE)=\"\",\"\",VLOOKUP(U38,'S3'!$B$23:$Z$57,20,FALSE))","v":""},{"$f":"IF(VLOOKUP(U38,'S3'!$B$23:$Z$57,21,FALSE)=\"\",\"\",VLOOKUP(U38,'S3'!$B$23:$Z$57,21,FALSE))","v":""},{"$f":"IF(VLOOKUP(U38,'S3'!$B$23:$Z$57,22,FALSE)=\"\",\"\",VLOOKUP(U38,'S3'!$B$23:$Z$57,22,FALSE))","v":""},{"$f":"IF(VLOOKUP(U38,'S3'!$B$23:$Z$57,23,FALSE)=\"\",\"\",VLOOKUP(U38,'S3'!$B$23:$Z$57,23,FALSE))","v":""},{"$f":"IF(VLOOKUP(U38,'S3'!$B$23:$Z$57,24,FALSE)=\"\",\"\",VLOOKUP(U38,'S3'!$B$23:$Z$57,24,FALSE))","v":""},{"$f":"IF(VLOOKUP(U38,'S3'!$B$23:$Z$57,25,FALSE)=\"\",\"\",VLOOKUP(U38,'S3'!$B$23:$Z$57,25,FALSE))","v":""},null,"Note"]
[null,{"$f":"IF('S3'!$Q$18=\"\",\"\",\"von\")","v":""},null,null,{"$f":"IF('S3'!$Q$21=\"\",\"\",'S3'!$Q$21)","v":""},{"$f":"IF('S3'!$R$21=\"\",\"\",'S3'!$R$21)","v":""},{"$f":"IF('S3'!$S$21=\"\",\"\",'S3'!$S$21)","v":""},{"$f":"IF('S3'!$T$21=\"\",\"\",'S3'!$T$21)","v":""},{"$f":"IF('S3'!$U$21=\"\",\"\",'S3'!$U$21)","v":""},{"$f":"IF('S3'!$V$21=\"\",\"\",'S3'!$V$21)","v":""},{"$f":"IF('S3'!$W$21=\"\",\"\",'S3'!$W$21)","v":""},{"$f":"IF('S3'!$X$21=\"\",\"\",'S3'!$X$21)","v":""},{"$f":"IF('S3'!$Y$21=\"\",\"\",'S3'!$Y$21)","v":""},{"$f":"IF('S3'!$Z$21=\"\",\"\",'S3'!$Z$21)","v":""},null,{"$f":"IF(VLOOKUP(B38,'S3'!$B$23:$Z$57,2,FALSE)=\"\",\"\",CONCATENATE(VLOOKUP(B38,'S3'!$B$23:$Z$57,2,FALSE),\" \",VLOOKUP(B38,'S3'!$B$23:$Z$57,3,FALSE)))","v":"- "},null,null,null,null,{"$f":"IF('S3'!$Q$18=\"\",\"\",\"von\")","v":""},null,null,{"$f":"IF('S3'!$Q$21=\"\",\"\",'S3'!$Q$21)","v":""},{"$f":"IF('S3'!$R$21=\"\",\"\",'S3'!$R$21)","v":""},{"$f":"IF('S3'!$S$21=\"\",\"\",'S3'!$S$21)","v":""},{"$f":"IF('S3'!$T$21=\"\",\"\",'S3'!$T$21)","v":""},{"$f":"IF('S3'!$U$21=\"\",\"\",'S3'!$U$21)","v":""},{"$f":"IF('S3'!$V$21=\"\",\"\",'S3'!$V$21)","v":""},{"$f":"IF('S3'!$W$21=\"\",\"\",'S3'!$W$21)","v":""},{"$f":"IF('S3'!$X$21=\"\",\"\",'S3'!$X$21)","v":""},{"$f":"IF('S3'!$Y$21=\"\",\"\",'S3'!$Y$21)","v":""},{"$f":"IF('S3'!$Z$21=\"\",\"\",'S3'!$Z$21)","v":""},null,{"$f":"IF(VLOOKUP(U38,'S3'!$B$23:$Z$57,2,FALSE)=\"\",\"\",CONCATENATE(VLOOKUP(U38,'S3'!$B$23:$Z$57,2,FALSE),\" \",VLOOKUP(U38,'S3'!$B$23:$Z$57,3,FALSE)))","v":"- "}]
[]
[]
[]
[null,{"$f":"'S3'!$B$31","v":""},null,null,null,null,null,null,null,null,null,null,null,null,null,null,null,null,null,null,{"$f":"'S3'!$B$32","v":""}]
[null,null,null,null,null,null,null,null,null,null,null,null,null,null,null,"Summe",null,null,null,null,null,null,null,null,null,null,null,null,null,null,null,null,null,null,"Summe"]
[null,"Aufgabe",null,null,{"$f":"IF('S3'!$G$18=\"\",\"\",'S3'!$G$18)","v":1},{"$f":"IF('S3'!$H$18=\"\",\"\",'S3'!$H$18)","v":2},{"$f":"IF('S3'!$I$18=\"\",\"\",'S3'!$I$18)","v":3},{"$f":"IF('S3'!$J$18=\"\",\"\",'S3'!$J$18)","v":""},{"$f":"IF('S3'!$K$18=\"\",\"\",'S3'!$K$18)","v":""},{"$f":"IF('S3'!$L$18=\"\",\"\",'S3'!$L$18)","v":""},{"$f":"IF('S3'!$M$18=\"\",\"\",'S3'!$M$18)","v":""},{"$f":"IF('S3'!$N$18=\"\",\"\",'S3'!$N$18)","v":""},{"$f":"IF('S3'!$O$18=\"\",\"\",'S3'!$O$18)","v":""},{"$f":"IF('S3'!$P$18=\"\",\"\",'S3'!$P$18)","v":""},null,{"$f":"IF(VLOOKUP(B50,'S3'!$B$23:$Z$57,5,FALSE)=\"\",\"\",VLOOKUP(B50,'S3'!$B$23:$Z$57,5,FALSE))","v":0},null,null,null,null,"Aufgabe",null,null,{"$f":"IF('S3'!$G$18=\"\",\"\",'S3'!$G$18)","v":1},{"$f":"IF('S3'!$H$18=\"\",\"\",'S3'!$H$18)","v":2},{"$f":"IF('S3'!$I$18=\"\",\"\",'S3'!$I$18)","v":3},{"$f":"IF('S3'!$J$18=\"\",\"\",'S3'!$J$18)","v":""},{"$f":"IF('S3'!$K$18=\"\",\"\",'S3'!$K$18)","v":""},{"$f":"IF('S3'!$L$18=\"\",\"\",'S3'!$L$18)","v":""},{"$f":"IF('S3'!$M$18=\"\",\"\",'S3'!$M$18)","v":""},{"$f":"IF('S3'!$N$18=\"\",\"\",'S3'!$N$18)","v":""},{"$f":"IF('S3'!$O$18=\"\",\"\",'S3'!$O$18)","v":""},{"$f":"IF('S3'!$P$18=\"\",\"\",'S3'!$P$18)","v":""},null,{"$f":"IF(VLOOKUP(U50,'S3'!$B$23:$Z$57,5,FALSE)=\"\",\"\",VLOOKUP(U50,'S3'!$B$23:$Z$57,5,FALSE))","v":0}]
[null,"erreicht",null,null,{"$f":"IF(VLOOKUP(B50,'S3'!$B$23:$Z$57,6,FALSE)=\"\",\"\",VLOOKUP(B50,'S3'!$B$23:$Z$57,6,FALSE))","v":"."},{"$f":"IF(VLOOKUP(B50,'S3'!$B$23:$Z$57,7,FALSE)=\"\",\"\",VLOOKUP(B50,'S3'!$B$23:$Z$57,7,FALSE))","v":""},{"$f":"IF(VLOOKUP(B50,'S3'!$B$23:$Z$57,8,FALSE)=\"\",\"\",VLOOKUP(B50,'S3'!$B$23:$Z$57,8,FALSE))","v":""},{"$f":"IF(VLOOKUP(B50,'S3'!$B$23:$Z$57,9,FALSE)=\"\",\"\",VLOOKUP(B50,'S3'!$B$23:$Z$57,9,FALSE))","v":""},{"$f":"IF(VLOOKUP(B50,'S3'!$B$23:$Z$57,10,FALSE)=\"\",\"\",VLOOKUP(B50,'S3'!$B$23:$Z$57,10,FALSE))","v":""},{"$f":"IF(VLOOKUP(B50,'S3'!$B$23:$Z$57,11,FALSE)=\"\",\"\",VLOOKUP(B50,'S3'!$B$23:$Z$57,11,FALSE))","v":""},{"$f":"IF(VLOOKUP(B50,'S3'!$B$23:$Z$57,12,FALSE)=\"\",\"\",VLOOKUP(B50,'S3'!$B$23:$Z$57,12,FALSE))","v":""},{"$f":"IF(VLOOKUP(B50,'S3'!$B$23:$Z$57,13,FALSE)=\"\",\"\",VLOOKUP(B50,'S3'!$B$23:$Z$57,13,FALSE))","v":""},{"$f":"IF(VLOOKUP(B50,'S3'!$B$23:$Z$57,14,FALSE)=\"\",\"\",VLOOKUP(B50,'S3'!$B$23:$Z$57,14,FALSE))","v":""},{"$f":"IF(VLOOKUP(B50,'S3'!$B$23:$Z$57,15,FALSE)=\"\",\"\",VLOOKUP(B50,'S3'!$B$23:$Z$57,15,FALSE))","v":""},null,null,null,null,null,null,"erreicht",null,null,{"$f":"IF(VLOOKUP(U50,'S3'!$B$23:$Z$57,6,FALSE)=\"\",\"\",VLOOKUP(U50,'S3'!$B$23:$Z$57,6,FALSE))","v":"."},{"$f":"IF(VLOOKUP(U50,'S3'!$B$23:$Z$57,7,FALSE)=\"\",\"\",VLOOKUP(U50,'S3'!$B$23:$Z$57,7,FALSE))","v":""},{"$f":"IF(VLOOKUP(U50,'S3'!$B$23:$Z$57,8,FALSE)=\"\",\"\",VLOOKUP(U50,'S3'!$B$23:$Z$57,8,FALSE))","v":""},{"$f":"IF(VLOOKUP(U50,'S3'!$B$23:$Z$57,9,FALSE)=\"\",\"\",VLOOKUP(U50,'S3'!$B$23:$Z$57,9,FALSE))","v":""},{"$f":"IF(VLOOKUP(U50,'S3'!$B$23:$Z$57,10,FALSE)=\"\",\"\",VLOOKUP(U50,'S3'!$B$23:$Z$57,10,FALSE))","v":""},{"$f":"IF(VLOOKUP(U50,'S3'!$B$23:$Z$57,11,FALSE)=\"\",\"\",VLOOKUP(U50,'S3'!$B$23:$Z$57,11,FALSE))","v":""},{"$f":"IF(VLOOKUP(U50,'S3'!$B$23:$Z$57,12,FALSE)=\"\",\"\",VLOOKUP(U50,'S3'!$B$23:$Z$57,12,FALSE))","v":""},{"$f":"IF(VLOOKUP(U50,'S3'!$B$23:$Z$57,13,FALSE)=\"\",\"\",VLOOKUP(U50,'S3'!$B$23:$Z$57,13,FALSE))","v":""},{"$f":"IF(VLOOKUP(U50,'S3'!$B$23:$Z$57,14,FALSE)=\"\",\"\",VLOOKUP(U50,'S3'!$B$23:$Z$57,14,FALSE))","v":""},{"$f":"IF(VLOOKUP(U50,'S3'!$B$23:$Z$57,15,FALSE)=\"\",\"\",VLOOKUP(U50,'S3'!$B$23:$Z$57,15,FALSE))","v":""}]
[null,"von",null,null,{"$f":"IF('S3'!$G$21=\"\",\"\",'S3'!$G$21)","v":""},{"$f":"IF('S3'!$H$21=\"\",\"\",'S3'!$H$21)","v":""},{"$f":"IF('S3'!$I$21=\"\",\"\",'S3'!$I$21)","v":""},{"$f":"IF('S3'!$J$21=\"\",\"\",'S3'!$J$21)","v":""},{"$f":"IF('S3'!$K$21=\"\",\"\",'S3'!$K$21)","v":""},{"$f":"IF('S3'!$L$21=\"\",\"\",'S3'!$L$21)","v":""},{"$f":"IF('S3'!$M$21=\"\",\"\",'S3'!$M$21)","v":""},{"$f":"IF('S3'!$N$21=\"\",\"\",'S3'!$N$21)","v":""},{"$f":"IF('S3'!$O$21=\"\",\"\",'S3'!$O$21)","v":""},{"$f":"IF('S3'!$P$21=\"\",\"\",'S3'!$P$21)","v":""},null,"von",null,null,null,null,"von",null,null,{"$f":"IF('S3'!$G$21=\"\",\"\",'S3'!$G$21)","v":""},{"$f":"IF('S3'!$H$21=\"\",\"\",'S3'!$H$21)","v":""},{"$f":"IF('S3'!$I$21=\"\",\"\",'S3'!$I$21)","v":""},{"$f":"IF('S3'!$J$21=\"\",\"\",'S3'!$J$21)","v":""},{"$f":"IF('S3'!$K$21=\"\",\"\",'S3'!$K$21)","v":""},{"$f":"IF('S3'!$L$21=\"\",\"\",'S3'!$L$21)","v":""},{"$f":"IF('S3'!$M$21=\"\",\"\",'S3'!$M$21)","v":""},{"$f":"IF('S3'!$N$21=\"\",\"\",'S3'!$N$21)","v":""},{"$f":"IF('S3'!$O$21=\"\",\"\",'S3'!$O$21)","v":""},{"$f":"IF('S3'!$P$21=\"\",\"\",'S3'!$P$21)","v":""},null,"von"]
[null,null,null,null,null,null,null,null,null,null,null,null,null,null,null,{"$f":"'S3'!$H$12","v":0},null,null,null,null,null,null,null,null,null,null,null,null,null,null,null,null,null,null,{"$f":"'S3'!$H$12","v":0}]
[null,{"$f":"IF('S3'!$Q$18=\"\",\"\",\"Aufgabe\")","v":""},null,null,{"$f":"IF('S3'!$Q$18=\"\",\"\",'S3'!$Q$18)","v":""},{"$f":"IF('S3'!$R$18=\"\",\"\",'S3'!$R$18)","v":""},{"$f":"IF('S3'!$S$18=\"\",\"\",'S3'!$S$18)","v":""},{"$f":"IF('S3'!$T$18=\"\",\"\",'S3'!$T$18)","v":""},{"$f":"IF('S3'!$U$18=\"\",\"\",'S3'!$U$18)","v":""},{"$f":"IF('S3'!$V$18=\"\",\"\",'S3'!$V$18)","v":""},{"$f":"IF('S3'!$W$18=\"\",\"\",'S3'!$W$18)","v":""},{"$f":"IF('S3'!$X$18=\"\",\"\",'S3'!$X$18)","v":""},{"$f":"IF('S3'!$Y$18=\"\",\"\",'S3'!$Y$18)","v":""},{"$f":"IF('S3'!$Z$18=\"\",\"\",'S3'!$Z$18)","v":""},null,null,null,null,null,null,{"$f":"IF('S3'!$Q$18=\"\",\"\",\"Aufgabe\")","v":""},null,null,{"$f":"IF('S3'!$Q$18=\"\",\"\",'S3'!$Q$18)","v":""},{"$f":"IF('S3'!$R$18=\"\",\"\",'S3'!$R$18)","v":""},{"$f":"IF('S3'!$S$18=\"\",\"\",'S3'!$S$18)","v":""},{"$f":"IF('S3'!$T$18=\"\",\"\",'S3'!$T$18)","v":""},{"$f":"IF('S3'!$U$18=\"\",\"\",'S3'!$U$18)","v":""},{"$f":"IF('S3'!$V$18=\"\",\"\",'S3'!$V$18)","v":""},{"$f":"IF('S3'!$W$18=\"\",\"\",'S3'!$W$18)","v":""},{"$f":"IF('S3'!$X$18=\"\",\"\",'S3'!$X$18)","v":""},{"$f":"IF('S3'!$Y$18=\"\",\"\",'S3'!$Y$18)","v":""},{"$f":"IF('S3'!$Z$18=\"\",\"\",'S3'!$Z$18)","v":""}]
[null,{"$f":"IF('S3'!$Q$18=\"\",\"\",\"erreicht\")","v":""},null,null,{"$f":"IF(VLOOKUP(B50,'S3'!$B$23:$Z$57,16,FALSE)=\"\",\"\",VLOOKUP(B50,'S3'!$B$23:$Z$57,16,FALSE))","v":""},{"$f":"IF(VLOOKUP(B50,'S3'!$B$23:$Z$57,17,FALSE)=\"\",\"\",VLOOKUP(B50,'S3'!$B$23:$Z$57,17,FALSE))","v":""},{"$f":"IF(VLOOKUP(B50,'S3'!$B$23:$Z$57,18,FALSE)=\"\",\"\",VLOOKUP(B50,'S3'!$B$23:$Z$57,18,FALSE))","v":""},{"$f":"IF(VLOOKUP(B50,'S3'!$B$23:$Z$57,19,FALSE)=\"\",\"\",VLOOKUP(B50,'S3'!$B$23:$Z$57,19,FALSE))","v":""},{"$f":"IF(VLOOKUP(B50,'S3'!$B$23:$Z$57,20,FALSE)=\"\",\"\",VLOOKUP(B50,'S3'!$B$23:$Z$57,20,FALSE))","v":""},{"$f":"IF(VLOOKUP(B50,'S3'!$B$23:$Z$57,21,FALSE)=\"\",\"\",VLOOKUP(B50,'S3'!$B$23:$Z$57,21,FALSE))","v":""},{"$f":"IF(VLOOKUP(B50,'S3'!$B$23:$Z$57,22,FALSE)=\"\",\"\",VLOOKUP(B50,'S3'!$B$23:$Z$57,22,FALSE))","v":""},{"$f":"IF(VLOOKUP(B50,'S3'!$B$23:$Z$57,23,FALSE)=\"\",\"\",VLOOKUP(B50,'S3'!$B$23:$Z$57,23,FALSE))","v":""},{"$f":"IF(VLOOKUP(B50,'S3'!$B$23:$Z$57,24,FALSE)=\"\",\"\",VLOOKUP(B50,'S3'!$B$23:$Z$57,24,FALSE))","v":""},{"$f":"IF(VLOOKUP(B50,'S3'!$B$23:$Z$57,25,FALSE)=\"\",\"\",VLOOKUP(B50,'S3'!$B$23:$Z$57,25,FALSE))","v":""},null,"Note",null,null,null,null,{"$f":"IF('S3'!$Q$18=\"\",\"\",\"erreicht\")","v":""},null,null,{"$f":"IF(VLOOKUP(U50,'S3'!$B$23:$Z$57,16,FALSE)=\"\",\"\",VLOOKUP(U50,'S3'!$B$23:$Z$57,16,FALSE))","v":""},{"$f":"IF(VLOOKUP(U50,'S3'!$B$23:$Z$57,17,FALSE)=\"\",\"\",VLOOKUP(U50,'S3'!$B$23:$Z$57,17,FALSE))","v":""},{"$f":"IF(VLOOKUP(U50,'S3'!$B$23:$Z$57,18,FALSE)=\"\",\"\",VLOOKUP(U50,'S3'!$B$23:$Z$57,18,FALSE))","v":""},{"$f":"IF(VLOOKUP(U50,'S3'!$B$23:$Z$57,19,FALSE)=\"\",\"\",VLOOKUP(U50,'S3'!$B$23:$Z$57,19,FALSE))","v":""},{"$f":"IF(VLOOKUP(U50,'S3'!$B$23:$Z$57,20,FALSE)=\"\",\"\",VLOOKUP(U50,'S3'!$B$23:$Z$57,20,FALSE))","v":""},{"$f":"IF(VLOOKUP(U50,'S3'!$B$23:$Z$57,21,FALSE)=\"\",\"\",VLOOKUP(U50,'S3'!$B$23:$Z$57,21,FALSE))","v":""},{"$f":"IF(VLOOKUP(U50,'S3'!$B$23:$Z$57,22,FALSE)=\"\",\"\",VLOOKUP(U50,'S3'!$B$23:$Z$57,22,FALSE))","v":""},{"$f":"IF(VLOOKUP(U50,'S3'!$B$23:$Z$57,23,FALSE)=\"\",\"\",VLOOKUP(U50,'S3'!$B$23:$Z$57,23,FALSE))","v":""},{"$f":"IF(VLOOKUP(U50,'S3'!$B$23:$Z$57,24,FALSE)=\"\",\"\",VLOOKUP(U50,'S3'!$B$23:$Z$57,24,FALSE))","v":""},{"$f":"IF(VLOOKUP(U50,'S3'!$B$23:$Z$57,25,FALSE)=\"\",\"\",VLOOKUP(U50,'S3'!$B$23:$Z$57,25,FALSE))","v":""},null,"Note"]
[null,{"$f":"IF('S3'!$Q$18=\"\",\"\",\"von\")","v":""},null,null,{"$f":"IF('S3'!$Q$21=\"\",\"\",'S3'!$Q$21)","v":""},{"$f":"IF('S3'!$R$21=\"\",\"\",'S3'!$R$21)","v":""},{"$f":"IF('S3'!$S$21=\"\",\"\",'S3'!$S$21)","v":""},{"$f":"IF('S3'!$T$21=\"\",\"\",'S3'!$T$21)","v":""},{"$f":"IF('S3'!$U$21=\"\",\"\",'S3'!$U$21)","v":""},{"$f":"IF('S3'!$V$21=\"\",\"\",'S3'!$V$21)","v":""},{"$f":"IF('S3'!$W$21=\"\",\"\",'S3'!$W$21)","v":""},{"$f":"IF('S3'!$X$21=\"\",\"\",'S3'!$X$21)","v":""},{"$f":"IF('S3'!$Y$21=\"\",\"\",'S3'!$Y$21)","v":""},{"$f":"IF('S3'!$Z$21=\"\",\"\",'S3'!$Z$21)","v":""},null,{"$f":"IF(VLOOKUP(B50,'S3'!$B$23:$Z$57,2,FALSE)=\"\",\"\",CONCATENATE(VLOOKUP(B50,'S3'!$B$23:$Z$57,2,FALSE),\" \",VLOOKUP(B50,'S3'!$B$23:$Z$57,3,FALSE)))","v":"- "},null,null,null,null,{"$f":"IF('S3'!$Q$18=\"\",\"\",\"von\")","v":""},null,null,{"$f":"IF('S3'!$Q$21=\"\",\"\",'S3'!$Q$21)","v":""},{"$f":"IF('S3'!$R$21=\"\",\"\",'S3'!$R$21)","v":""},{"$f":"IF('S3'!$S$21=\"\",\"\",'S3'!$S$21)","v":""},{"$f":"IF('S3'!$T$21=\"\",\"\",'S3'!$T$21)","v":""},{"$f":"IF('S3'!$U$21=\"\",\"\",'S3'!$U$21)","v":""},{"$f":"IF('S3'!$V$21=\"\",\"\",'S3'!$V$21)","v":""},{"$f":"IF('S3'!$W$21=\"\",\"\",'S3'!$W$21)","v":""},{"$f":"IF('S3'!$X$21=\"\",\"\",'S3'!$X$21)","v":""},{"$f":"IF('S3'!$Y$21=\"\",\"\",'S3'!$Y$21)","v":""},{"$f":"IF('S3'!$Z$21=\"\",\"\",'S3'!$Z$21)","v":""},null,{"$f":"IF(VLOOKUP(U50,'S3'!$B$23:$Z$57,2,FALSE)=\"\",\"\",CONCATENATE(VLOOKUP(U50,'S3'!$B$23:$Z$57,2,FALSE),\" \",VLOOKUP(U50,'S3'!$B$23:$Z$57,3,FALSE)))","v":"- "}]
[]
[]
[]
[null,{"$f":"'S3'!$B$33","v":""},null,null,null,null,null,null,null,null,null,null,null,null,null,null,null,null,null,null,{"$f":"'S3'!$B$34","v":""}]
[null,null,null,null,null,null,null,null,null,null,null,null,null,null,null,"Summe",null,null,null,null,null,null,null,null,null,null,null,null,null,null,null,null,null,null,"Summe"]
[null,"Aufgabe",null,null,{"$f":"IF('S3'!$G$18=\"\",\"\",'S3'!$G$18)","v":1},{"$f":"IF('S3'!$H$18=\"\",\"\",'S3'!$H$18)","v":2},{"$f":"IF('S3'!$I$18=\"\",\"\",'S3'!$I$18)","v":3},{"$f":"IF('S3'!$J$18=\"\",\"\",'S3'!$J$18)","v":""},{"$f":"IF('S3'!$K$18=\"\",\"\",'S3'!$K$18)","v":""},{"$f":"IF('S3'!$L$18=\"\",\"\",'S3'!$L$18)","v":""},{"$f":"IF('S3'!$M$18=\"\",\"\",'S3'!$M$18)","v":""},{"$f":"IF('S3'!$N$18=\"\",\"\",'S3'!$N$18)","v":""},{"$f":"IF('S3'!$O$18=\"\",\"\",'S3'!$O$18)","v":""},{"$f":"IF('S3'!$P$18=\"\",\"\",'S3'!$P$18)","v":""},null,{"$f":"IF(VLOOKUP(B62,'S3'!$B$23:$Z$57,5,FALSE)=\"\",\"\",VLOOKUP(B62,'S3'!$B$23:$Z$57,5,FALSE))","v":0},null,null,null,null,"Aufgabe",null,null,{"$f":"IF('S3'!$G$18=\"\",\"\",'S3'!$G$18)","v":1},{"$f":"IF('S3'!$H$18=\"\",\"\",'S3'!$H$18)","v":2},{"$f":"IF('S3'!$I$18=\"\",\"\",'S3'!$I$18)","v":3},{"$f":"IF('S3'!$J$18=\"\",\"\",'S3'!$J$18)","v":""},{"$f":"IF('S3'!$K$18=\"\",\"\",'S3'!$K$18)","v":""},{"$f":"IF('S3'!$L$18=\"\",\"\",'S3'!$L$18)","v":""},{"$f":"IF('S3'!$M$18=\"\",\"\",'S3'!$M$18)","v":""},{"$f":"IF('S3'!$N$18=\"\",\"\",'S3'!$N$18)","v":""},{"$f":"IF('S3'!$O$18=\"\",\"\",'S3'!$O$18)","v":""},{"$f":"IF('S3'!$P$18=\"\",\"\",'S3'!$P$18)","v":""},null,{"$f":"IF(VLOOKUP(U62,'S3'!$B$23:$Z$57,5,FALSE)=\"\",\"\",VLOOKUP(U62,'S3'!$B$23:$Z$57,5,FALSE))","v":0}]
[null,"erreicht",null,null,{"$f":"IF(VLOOKUP(B62,'S3'!$B$23:$Z$57,6,FALSE)=\"\",\"\",VLOOKUP(B62,'S3'!$B$23:$Z$57,6,FALSE))","v":"."},{"$f":"IF(VLOOKUP(B62,'S3'!$B$23:$Z$57,7,FALSE)=\"\",\"\",VLOOKUP(B62,'S3'!$B$23:$Z$57,7,FALSE))","v":""},{"$f":"IF(VLOOKUP(B62,'S3'!$B$23:$Z$57,8,FALSE)=\"\",\"\",VLOOKUP(B62,'S3'!$B$23:$Z$57,8,FALSE))","v":""},{"$f":"IF(VLOOKUP(B62,'S3'!$B$23:$Z$57,9,FALSE)=\"\",\"\",VLOOKUP(B62,'S3'!$B$23:$Z$57,9,FALSE))","v":""},{"$f":"IF(VLOOKUP(B62,'S3'!$B$23:$Z$57,10,FALSE)=\"\",\"\",VLOOKUP(B62,'S3'!$B$23:$Z$57,10,FALSE))","v":""},{"$f":"IF(VLOOKUP(B62,'S3'!$B$23:$Z$57,11,FALSE)=\"\",\"\",VLOOKUP(B62,'S3'!$B$23:$Z$57,11,FALSE))","v":""},{"$f":"IF(VLOOKUP(B62,'S3'!$B$23:$Z$57,12,FALSE)=\"\",\"\",VLOOKUP(B62,'S3'!$B$23:$Z$57,12,FALSE))","v":""},{"$f":"IF(VLOOKUP(B62,'S3'!$B$23:$Z$57,13,FALSE)=\"\",\"\",VLOOKUP(B62,'S3'!$B$23:$Z$57,13,FALSE))","v":""},{"$f":"IF(VLOOKUP(B62,'S3'!$B$23:$Z$57,14,FALSE)=\"\",\"\",VLOOKUP(B62,'S3'!$B$23:$Z$57,14,FALSE))","v":""},{"$f":"IF(VLOOKUP(B62,'S3'!$B$23:$Z$57,15,FALSE)=\"\",\"\",VLOOKUP(B62,'S3'!$B$23:$Z$57,15,FALSE))","v":""},null,null,null,null,null,null,"erreicht",null,null,{"$f":"IF(VLOOKUP(U62,'S3'!$B$23:$Z$57,6,FALSE)=\"\",\"\",VLOOKUP(U62,'S3'!$B$23:$Z$57,6,FALSE))","v":"."},{"$f":"IF(VLOOKUP(U62,'S3'!$B$23:$Z$57,7,FALSE)=\"\",\"\",VLOOKUP(U62,'S3'!$B$23:$Z$57,7,FALSE))","v":""},{"$f":"IF(VLOOKUP(U62,'S3'!$B$23:$Z$57,8,FALSE)=\"\",\"\",VLOOKUP(U62,'S3'!$B$23:$Z$57,8,FALSE))","v":""},{"$f":"IF(VLOOKUP(U62,'S3'!$B$23:$Z$57,9,FALSE)=\"\",\"\",VLOOKUP(U62,'S3'!$B$23:$Z$57,9,FALSE))","v":""},{"$f":"IF(VLOOKUP(U62,'S3'!$B$23:$Z$57,10,FALSE)=\"\",\"\",VLOOKUP(U62,'S3'!$B$23:$Z$57,10,FALSE))","v":""},{"$f":"IF(VLOOKUP(U62,'S3'!$B$23:$Z$57,11,FALSE)=\"\",\"\",VLOOKUP(U62,'S3'!$B$23:$Z$57,11,FALSE))","v":""},{"$f":"IF(VLOOKUP(U62,'S3'!$B$23:$Z$57,12,FALSE)=\"\",\"\",VLOOKUP(U62,'S3'!$B$23:$Z$57,12,FALSE))","v":""},{"$f":"IF(VLOOKUP(U62,'S3'!$B$23:$Z$57,13,FALSE)=\"\",\"\",VLOOKUP(U62,'S3'!$B$23:$Z$57,13,FALSE))","v":""},{"$f":"IF(VLOOKUP(U62,'S3'!$B$23:$Z$57,14,FALSE)=\"\",\"\",VLOOKUP(U62,'S3'!$B$23:$Z$57,14,FALSE))","v":""},{"$f":"IF(VLOOKUP(U62,'S3'!$B$23:$Z$57,15,FALSE)=\"\",\"\",VLOOKUP(U62,'S3'!$B$23:$Z$57,15,FALSE))","v":""}]
[null,"von",null,null,{"$f":"IF('S3'!$G$21=\"\",\"\",'S3'!$G$21)","v":""},{"$f":"IF('S3'!$H$21=\"\",\"\",'S3'!$H$21)","v":""},{"$f":"IF('S3'!$I$21=\"\",\"\",'S3'!$I$21)","v":""},{"$f":"IF('S3'!$J$21=\"\",\"\",'S3'!$J$21)","v":""},{"$f":"IF('S3'!$K$21=\"\",\"\",'S3'!$K$21)","v":""},{"$f":"IF('S3'!$L$21=\"\",\"\",'S3'!$L$21)","v":""},{"$f":"IF('S3'!$M$21=\"\",\"\",'S3'!$M$21)","v":""},{"$f":"IF('S3'!$N$21=\"\",\"\",'S3'!$N$21)","v":""},{"$f":"IF('S3'!$O$21=\"\",\"\",'S3'!$O$21)","v":""},{"$f":"IF('S3'!$P$21=\"\",\"\",'S3'!$P$21)","v":""},null,"von",null,null,null,null,"von",null,null,{"$f":"IF('S3'!$G$21=\"\",\"\",'S3'!$G$21)","v":""},{"$f":"IF('S3'!$H$21=\"\",\"\",'S3'!$H$21)","v":""},{"$f":"IF('S3'!$I$21=\"\",\"\",'S3'!$I$21)","v":""},{"$f":"IF('S3'!$J$21=\"\",\"\",'S3'!$J$21)","v":""},{"$f":"IF('S3'!$K$21=\"\",\"\",'S3'!$K$21)","v":""},{"$f":"IF('S3'!$L$21=\"\",\"\",'S3'!$L$21)","v":""},{"$f":"IF('S3'!$M$21=\"\",\"\",'S3'!$M$21)","v":""},{"$f":"IF('S3'!$N$21=\"\",\"\",'S3'!$N$21)","v":""},{"$f":"IF('S3'!$O$21=\"\",\"\",'S3'!$O$21)","v":""},{"$f":"IF('S3'!$P$21=\"\",\"\",'S3'!$P$21)","v":""},null,"von"]
[null,null,null,null,null,null,null,null,null,null,null,null,null,null,null,{"$f":"'S3'!$H$12","v":0},null,null,null,null,null,null,null,null,null,null,null,null,null,null,null,null,null,null,{"$f":"'S3'!$H$12","v":0}]
[null,{"$f":"IF('S3'!$Q$18=\"\",\"\",\"Aufgabe\")","v":""},null,null,{"$f":"IF('S3'!$Q$18=\"\",\"\",'S3'!$Q$18)","v":""},{"$f":"IF('S3'!$R$18=\"\",\"\",'S3'!$R$18)","v":""},{"$f":"IF('S3'!$S$18=\"\",\"\",'S3'!$S$18)","v":""},{"$f":"IF('S3'!$T$18=\"\",\"\",'S3'!$T$18)","v":""},{"$f":"IF('S3'!$U$18=\"\",\"\",'S3'!$U$18)","v":""},{"$f":"IF('S3'!$V$18=\"\",\"\",'S3'!$V$18)","v":""},{"$f":"IF('S3'!$W$18=\"\",\"\",'S3'!$W$18)","v":""},{"$f":"IF('S3'!$X$18=\"\",\"\",'S3'!$X$18)","v":""},{"$f":"IF('S3'!$Y$18=\"\",\"\",'S3'!$Y$18)","v":""},{"$f":"IF('S3'!$Z$18=\"\",\"\",'S3'!$Z$18)","v":""},null,null,null,null,null,null,{"$f":"IF('S3'!$Q$18=\"\",\"\",\"Aufgabe\")","v":""},null,null,{"$f":"IF('S3'!$Q$18=\"\",\"\",'S3'!$Q$18)","v":""},{"$f":"IF('S3'!$R$18=\"\",\"\",'S3'!$R$18)","v":""},{"$f":"IF('S3'!$S$18=\"\",\"\",'S3'!$S$18)","v":""},{"$f":"IF('S3'!$T$18=\"\",\"\",'S3'!$T$18)","v":""},{"$f":"IF('S3'!$U$18=\"\",\"\",'S3'!$U$18)","v":""},{"$f":"IF('S3'!$V$18=\"\",\"\",'S3'!$V$18)","v":""},{"$f":"IF('S3'!$W$18=\"\",\"\",'S3'!$W$18)","v":""},{"$f":"IF('S3'!$X$18=\"\",\"\",'S3'!$X$18)","v":""},{"$f":"IF('S3'!$Y$18=\"\",\"\",'S3'!$Y$18)","v":""},{"$f":"IF('S3'!$Z$18=\"\",\"\",'S3'!$Z$18)","v":""}]
[null,{"$f":"IF('S3'!$Q$18=\"\",\"\",\"erreicht\")","v":""},null,null,{"$f":"IF(VLOOKUP(B62,'S3'!$B$23:$Z$57,16,FALSE)=\"\",\"\",VLOOKUP(B62,'S3'!$B$23:$Z$57,16,FALSE))","v":""},{"$f":"IF(VLOOKUP(B62,'S3'!$B$23:$Z$57,17,FALSE)=\"\",\"\",VLOOKUP(B62,'S3'!$B$23:$Z$57,17,FALSE))","v":""},{"$f":"IF(VLOOKUP(B62,'S3'!$B$23:$Z$57,18,FALSE)=\"\",\"\",VLOOKUP(B62,'S3'!$B$23:$Z$57,18,FALSE))","v":""},{"$f":"IF(VLOOKUP(B62,'S3'!$B$23:$Z$57,19,FALSE)=\"\",\"\",VLOOKUP(B62,'S3'!$B$23:$Z$57,19,FALSE))","v":""},{"$f":"IF(VLOOKUP(B62,'S3'!$B$23:$Z$57,20,FALSE)=\"\",\"\",VLOOKUP(B62,'S3'!$B$23:$Z$57,20,FALSE))","v":""},{"$f":"IF(VLOOKUP(B62,'S3'!$B$23:$Z$57,21,FALSE)=\"\",\"\",VLOOKUP(B62,'S3'!$B$23:$Z$57,21,FALSE))","v":""},{"$f":"IF(VLOOKUP(B62,'S3'!$B$23:$Z$57,22,FALSE)=\"\",\"\",VLOOKUP(B62,'S3'!$B$23:$Z$57,22,FALSE))","v":""},{"$f":"IF(VLOOKUP(B62,'S3'!$B$23:$Z$57,23,FALSE)=\"\",\"\",VLOOKUP(B62,'S3'!$B$23:$Z$57,23,FALSE))","v":""},{"$f":"IF(VLOOKUP(B62,'S3'!$B$23:$Z$57,24,FALSE)=\"\",\"\",VLOOKUP(B62,'S3'!$B$23:$Z$57,24,FALSE))","v":""},{"$f":"IF(VLOOKUP(B62,'S3'!$B$23:$Z$57,25,FALSE)=\"\",\"\",VLOOKUP(B62,'S3'!$B$23:$Z$57,25,FALSE))","v":""},null,"Note",null,null,null,null,{"$f":"IF('S3'!$Q$18=\"\",\"\",\"erreicht\")","v":""},null,null,{"$f":"IF(VLOOKUP(U62,'S3'!$B$23:$Z$57,16,FALSE)=\"\",\"\",VLOOKUP(U62,'S3'!$B$23:$Z$57,16,FALSE))","v":""},{"$f":"IF(VLOOKUP(U62,'S3'!$B$23:$Z$57,17,FALSE)=\"\",\"\",VLOOKUP(U62,'S3'!$B$23:$Z$57,17,FALSE))","v":""},{"$f":"IF(VLOOKUP(U62,'S3'!$B$23:$Z$57,18,FALSE)=\"\",\"\",VLOOKUP(U62,'S3'!$B$23:$Z$57,18,FALSE))","v":""},{"$f":"IF(VLOOKUP(U62,'S3'!$B$23:$Z$57,19,FALSE)=\"\",\"\",VLOOKUP(U62,'S3'!$B$23:$Z$57,19,FALSE))","v":""},{"$f":"IF(VLOOKUP(U62,'S3'!$B$23:$Z$57,20,FALSE)=\"\",\"\",VLOOKUP(U62,'S3'!$B$23:$Z$57,20,FALSE))","v":""},{"$f":"IF(VLOOKUP(U62,'S3'!$B$23:$Z$57,21,FALSE)=\"\",\"\",VLOOKUP(U62,'S3'!$B$23:$Z$57,21,FALSE))","v":""},{"$f":"IF(VLOOKUP(U62,'S3'!$B$23:$Z$57,22,FALSE)=\"\",\"\",VLOOKUP(U62,'S3'!$B$23:$Z$57,22,FALSE))","v":""},{"$f":"IF(VLOOKUP(U62,'S3'!$B$23:$Z$57,23,FALSE)=\"\",\"\",VLOOKUP(U62,'S3'!$B$23:$Z$57,23,FALSE))","v":""},{"$f":"IF(VLOOKUP(U62,'S3'!$B$23:$Z$57,24,FALSE)=\"\",\"\",VLOOKUP(U62,'S3'!$B$23:$Z$57,24,FALSE))","v":""},{"$f":"IF(VLOOKUP(U62,'S3'!$B$23:$Z$57,25,FALSE)=\"\",\"\",VLOOKUP(U62,'S3'!$B$23:$Z$57,25,FALSE))","v":""},null,"Note"]
[null,{"$f":"IF('S3'!$Q$18=\"\",\"\",\"von\")","v":""},null,null,{"$f":"IF('S3'!$Q$21=\"\",\"\",'S3'!$Q$21)","v":""},{"$f":"IF('S3'!$R$21=\"\",\"\",'S3'!$R$21)","v":""},{"$f":"IF('S3'!$S$21=\"\",\"\",'S3'!$S$21)","v":""},{"$f":"IF('S3'!$T$21=\"\",\"\",'S3'!$T$21)","v":""},{"$f":"IF('S3'!$U$21=\"\",\"\",'S3'!$U$21)","v":""},{"$f":"IF('S3'!$V$21=\"\",\"\",'S3'!$V$21)","v":""},{"$f":"IF('S3'!$W$21=\"\",\"\",'S3'!$W$21)","v":""},{"$f":"IF('S3'!$X$21=\"\",\"\",'S3'!$X$21)","v":""},{"$f":"IF('S3'!$Y$21=\"\",\"\",'S3'!$Y$21)","v":""},{"$f":"IF('S3'!$Z$21=\"\",\"\",'S3'!$Z$21)","v":""},null,{"$f":"IF(VLOOKUP(B62,'S3'!$B$23:$Z$57,2,FALSE)=\"\",\"\",CONCATENATE(VLOOKUP(B62,'S3'!$B$23:$Z$57,2,FALSE),\" \",VLOOKUP(B62,'S3'!$B$23:$Z$57,3,FALSE)))","v":"- "},null,null,null,null,{"$f":"IF('S3'!$Q$18=\"\",\"\",\"von\")","v":""},null,null,{"$f":"IF('S3'!$Q$21=\"\",\"\",'S3'!$Q$21)","v":""},{"$f":"IF('S3'!$R$21=\"\",\"\",'S3'!$R$21)","v":""},{"$f":"IF('S3'!$S$21=\"\",\"\",'S3'!$S$21)","v":""},{"$f":"IF('S3'!$T$21=\"\",\"\",'S3'!$T$21)","v":""},{"$f":"IF('S3'!$U$21=\"\",\"\",'S3'!$U$21)","v":""},{"$f":"IF('S3'!$V$21=\"\",\"\",'S3'!$V$21)","v":""},{"$f":"IF('S3'!$W$21=\"\",\"\",'S3'!$W$21)","v":""},{"$f":"IF('S3'!$X$21=\"\",\"\",'S3'!$X$21)","v":""},{"$f":"IF('S3'!$Y$21=\"\",\"\",'S3'!$Y$21)","v":""},{"$f":"IF('S3'!$Z$21=\"\",\"\",'S3'!$Z$21)","v":""},null,{"$f":"IF(VLOOKUP(U62,'S3'!$B$23:$Z$57,2,FALSE)=\"\",\"\",CONCATENATE(VLOOKUP(U62,'S3'!$B$23:$Z$57,2,FALSE),\" \",VLOOKUP(U62,'S3'!$B$23:$Z$57,3,FALSE)))","v":"- "}]
[]
[]
[null,{"$f":"'S3'!$B$35","v":""},null,null,null,null,null,null,null,null,null,null,null,null,null,null,null,null,null,null,{"$f":"'S3'!$B$36","v":""}]
[null,null,null,null,null,null,null,null,null,null,null,null,null,null,null,"Summe",null,null,null,null,null,null,null,null,null,null,null,null,null,null,null,null,null,null,"Summe"]
[null,"Aufgabe",null,null,{"$f":"IF('S3'!$G$18=\"\",\"\",'S3'!$G$18)","v":1},{"$f":"IF('S3'!$H$18=\"\",\"\",'S3'!$H$18)","v":2},{"$f":"IF('S3'!$I$18=\"\",\"\",'S3'!$I$18)","v":3},{"$f":"IF('S3'!$J$18=\"\",\"\",'S3'!$J$18)","v":""},{"$f":"IF('S3'!$K$18=\"\",\"\",'S3'!$K$18)","v":""},{"$f":"IF('S3'!$L$18=\"\",\"\",'S3'!$L$18)","v":""},{"$f":"IF('S3'!$M$18=\"\",\"\",'S3'!$M$18)","v":""},{"$f":"IF('S3'!$N$18=\"\",\"\",'S3'!$N$18)","v":""},{"$f":"IF('S3'!$O$18=\"\",\"\",'S3'!$O$18)","v":""},{"$f":"IF('S3'!$P$18=\"\",\"\",'S3'!$P$18)","v":""},null,{"$f":"IF(VLOOKUP(B73,'S3'!$B$23:$Z$57,5,FALSE)=\"\",\"\",VLOOKUP(B73,'S3'!$B$23:$Z$57,5,FALSE))","v":0},null,null,null,null,"Aufgabe",null,null,{"$f":"IF('S3'!$G$18=\"\",\"\",'S3'!$G$18)","v":1},{"$f":"IF('S3'!$H$18=\"\",\"\",'S3'!$H$18)","v":2},{"$f":"IF('S3'!$I$18=\"\",\"\",'S3'!$I$18)","v":3},{"$f":"IF('S3'!$J$18=\"\",\"\",'S3'!$J$18)","v":""},{"$f":"IF('S3'!$K$18=\"\",\"\",'S3'!$K$18)","v":""},{"$f":"IF('S3'!$L$18=\"\",\"\",'S3'!$L$18)","v":""},{"$f":"IF('S3'!$M$18=\"\",\"\",'S3'!$M$18)","v":""},{"$f":"IF('S3'!$N$18=\"\",\"\",'S3'!$N$18)","v":""},{"$f":"IF('S3'!$O$18=\"\",\"\",'S3'!$O$18)","v":""},{"$f":"IF('S3'!$P$18=\"\",\"\",'S3'!$P$18)","v":""},null,{"$f":"IF(VLOOKUP(U73,'S3'!$B$23:$Z$57,5,FALSE)=\"\",\"\",VLOOKUP(U73,'S3'!$B$23:$Z$57,5,FALSE))","v":0}]
[null,"erreicht",null,null,{"$f":"IF(VLOOKUP(B73,'S3'!$B$23:$Z$57,6,FALSE)=\"\",\"\",VLOOKUP(B73,'S3'!$B$23:$Z$57,6,FALSE))","v":"."},{"$f":"IF(VLOOKUP(B73,'S3'!$B$23:$Z$57,7,FALSE)=\"\",\"\",VLOOKUP(B73,'S3'!$B$23:$Z$57,7,FALSE))","v":""},{"$f":"IF(VLOOKUP(B73,'S3'!$B$23:$Z$57,8,FALSE)=\"\",\"\",VLOOKUP(B73,'S3'!$B$23:$Z$57,8,FALSE))","v":""},{"$f":"IF(VLOOKUP(B73,'S3'!$B$23:$Z$57,9,FALSE)=\"\",\"\",VLOOKUP(B73,'S3'!$B$23:$Z$57,9,FALSE))","v":""},{"$f":"IF(VLOOKUP(B73,'S3'!$B$23:$Z$57,10,FALSE)=\"\",\"\",VLOOKUP(B73,'S3'!$B$23:$Z$57,10,FALSE))","v":""},{"$f":"IF(VLOOKUP(B73,'S3'!$B$23:$Z$57,11,FALSE)=\"\",\"\",VLOOKUP(B73,'S3'!$B$23:$Z$57,11,FALSE))","v":""},{"$f":"IF(VLOOKUP(B73,'S3'!$B$23:$Z$57,12,FALSE)=\"\",\"\",VLOOKUP(B73,'S3'!$B$23:$Z$57,12,FALSE))","v":""},{"$f":"IF(VLOOKUP(B73,'S3'!$B$23:$Z$57,13,FALSE)=\"\",\"\",VLOOKUP(B73,'S3'!$B$23:$Z$57,13,FALSE))","v":""},{"$f":"IF(VLOOKUP(B73,'S3'!$B$23:$Z$57,14,FALSE)=\"\",\"\",VLOOKUP(B73,'S3'!$B$23:$Z$57,14,FALSE))","v":""},{"$f":"IF(VLOOKUP(B73,'S3'!$B$23:$Z$57,15,FALSE)=\"\",\"\",VLOOKUP(B73,'S3'!$B$23:$Z$57,15,FALSE))","v":""},null,null,null,null,null,null,"erreicht",null,null,{"$f":"IF(VLOOKUP(U73,'S3'!$B$23:$Z$57,6,FALSE)=\"\",\"\",VLOOKUP(U73,'S3'!$B$23:$Z$57,6,FALSE))","v":"."},{"$f":"IF(VLOOKUP(U73,'S3'!$B$23:$Z$57,7,FALSE)=\"\",\"\",VLOOKUP(U73,'S3'!$B$23:$Z$57,7,FALSE))","v":""},{"$f":"IF(VLOOKUP(U73,'S3'!$B$23:$Z$57,8,FALSE)=\"\",\"\",VLOOKUP(U73,'S3'!$B$23:$Z$57,8,FALSE))","v":""},{"$f":"IF(VLOOKUP(U73,'S3'!$B$23:$Z$57,9,FALSE)=\"\",\"\",VLOOKUP(U73,'S3'!$B$23:$Z$57,9,FALSE))","v":""},{"$f":"IF(VLOOKUP(U73,'S3'!$B$23:$Z$57,10,FALSE)=\"\",\"\",VLOOKUP(U73,'S3'!$B$23:$Z$57,10,FALSE))","v":""},{"$f":"IF(VLOOKUP(U73,'S3'!$B$23:$Z$57,11,FALSE)=\"\",\"\",VLOOKUP(U73,'S3'!$B$23:$Z$57,11,FALSE))","v":""},{"$f":"IF(VLOOKUP(U73,'S3'!$B$23:$Z$57,12,FALSE)=\"\",\"\",VLOOKUP(U73,'S3'!$B$23:$Z$57,12,FALSE))","v":""},{"$f":"IF(VLOOKUP(U73,'S3'!$B$23:$Z$57,13,FALSE)=\"\",\"\",VLOOKUP(U73,'S3'!$B$23:$Z$57,13,FALSE))","v":""},{"$f":"IF(VLOOKUP(U73,'S3'!$B$23:$Z$57,14,FALSE)=\"\",\"\",VLOOKUP(U73,'S3'!$B$23:$Z$57,14,FALSE))","v":""},{"$f":"IF(VLOOKUP(U73,'S3'!$B$23:$Z$57,15,FALSE)=\"\",\"\",VLOOKUP(U73,'S3'!$B$23:$Z$57,15,FALSE))","v":""}]
[null,"von",null,null,{"$f":"IF('S3'!$G$21=\"\",\"\",'S3'!$G$21)","v":""},{"$f":"IF('S3'!$H$21=\"\",\"\",'S3'!$H$21)","v":""},{"$f":"IF('S3'!$I$21=\"\",\"\",'S3'!$I$21)","v":""},{"$f":"IF('S3'!$J$21=\"\",\"\",'S3'!$J$21)","v":""},{"$f":"IF('S3'!$K$21=\"\",\"\",'S3'!$K$21)","v":""},{"$f":"IF('S3'!$L$21=\"\",\"\",'S3'!$L$21)","v":""},{"$f":"IF('S3'!$M$21=\"\",\"\",'S3'!$M$21)","v":""},{"$f":"IF('S3'!$N$21=\"\",\"\",'S3'!$N$21)","v":""},{"$f":"IF('S3'!$O$21=\"\",\"\",'S3'!$O$21)","v":""},{"$f":"IF('S3'!$P$21=\"\",\"\",'S3'!$P$21)","v":""},null,"von",null,null,null,null,"von",null,null,{"$f":"IF('S3'!$G$21=\"\",\"\",'S3'!$G$21)","v":""},{"$f":"IF('S3'!$H$21=\"\",\"\",'S3'!$H$21)","v":""},{"$f":"IF('S3'!$I$21=\"\",\"\",'S3'!$I$21)","v":""},{"$f":"IF('S3'!$J$21=\"\",\"\",'S3'!$J$21)","v":""},{"$f":"IF('S3'!$K$21=\"\",\"\",'S3'!$K$21)","v":""},{"$f":"IF('S3'!$L$21=\"\",\"\",'S3'!$L$21)","v":""},{"$f":"IF('S3'!$M$21=\"\",\"\",'S3'!$M$21)","v":""},{"$f":"IF('S3'!$N$21=\"\",\"\",'S3'!$N$21)","v":""},{"$f":"IF('S3'!$O$21=\"\",\"\",'S3'!$O$21)","v":""},{"$f":"IF('S3'!$P$21=\"\",\"\",'S3'!$P$21)","v":""},null,"von"]
[null,null,null,null,null,null,null,null,null,null,null,null,null,null,null,{"$f":"'S3'!$H$12","v":0},null,null,null,null,null,null,null,null,null,null,null,null,null,null,null,null,null,null,{"$f":"'S3'!$H$12","v":0}]
[null,{"$f":"IF('S3'!$Q$18=\"\",\"\",\"Aufgabe\")","v":""},null,null,{"$f":"IF('S3'!$Q$18=\"\",\"\",'S3'!$Q$18)","v":""},{"$f":"IF('S3'!$R$18=\"\",\"\",'S3'!$R$18)","v":""},{"$f":"IF('S3'!$S$18=\"\",\"\",'S3'!$S$18)","v":""},{"$f":"IF('S3'!$T$18=\"\",\"\",'S3'!$T$18)","v":""},{"$f":"IF('S3'!$U$18=\"\",\"\",'S3'!$U$18)","v":""},{"$f":"IF('S3'!$V$18=\"\",\"\",'S3'!$V$18)","v":""},{"$f":"IF('S3'!$W$18=\"\",\"\",'S3'!$W$18)","v":""},{"$f":"IF('S3'!$X$18=\"\",\"\",'S3'!$X$18)","v":""},{"$f":"IF('S3'!$Y$18=\"\",\"\",'S3'!$Y$18)","v":""},{"$f":"IF('S3'!$Z$18=\"\",\"\",'S3'!$Z$18)","v":""},null,null,null,null,null,null,{"$f":"IF('S3'!$Q$18=\"\",\"\",\"Aufgabe\")","v":""},null,null,{"$f":"IF('S3'!$Q$18=\"\",\"\",'S3'!$Q$18)","v":""},{"$f":"IF('S3'!$R$18=\"\",\"\",'S3'!$R$18)","v":""},{"$f":"IF('S3'!$S$18=\"\",\"\",'S3'!$S$18)","v":""},{"$f":"IF('S3'!$T$18=\"\",\"\",'S3'!$T$18)","v":""},{"$f":"IF('S3'!$U$18=\"\",\"\",'S3'!$U$18)","v":""},{"$f":"IF('S3'!$V$18=\"\",\"\",'S3'!$V$18)","v":""},{"$f":"IF('S3'!$W$18=\"\",\"\",'S3'!$W$18)","v":""},{"$f":"IF('S3'!$X$18=\"\",\"\",'S3'!$X$18)","v":""},{"$f":"IF('S3'!$Y$18=\"\",\"\",'S3'!$Y$18)","v":""},{"$f":"IF('S3'!$Z$18=\"\",\"\",'S3'!$Z$18)","v":""}]
[null,{"$f":"IF('S3'!$Q$18=\"\",\"\",\"erreicht\")","v":""},null,null,{"$f":"IF(VLOOKUP(B73,'S3'!$B$23:$Z$57,16,FALSE)=\"\",\"\",VLOOKUP(B73,'S3'!$B$23:$Z$57,16,FALSE))","v":""},{"$f":"IF(VLOOKUP(B73,'S3'!$B$23:$Z$57,17,FALSE)=\"\",\"\",VLOOKUP(B73,'S3'!$B$23:$Z$57,17,FALSE))","v":""},{"$f":"IF(VLOOKUP(B73,'S3'!$B$23:$Z$57,18,FALSE)=\"\",\"\",VLOOKUP(B73,'S3'!$B$23:$Z$57,18,FALSE))","v":""},{"$f":"IF(VLOOKUP(B73,'S3'!$B$23:$Z$57,19,FALSE)=\"\",\"\",VLOOKUP(B73,'S3'!$B$23:$Z$57,19,FALSE))","v":""},{"$f":"IF(VLOOKUP(B73,'S3'!$B$23:$Z$57,20,FALSE)=\"\",\"\",VLOOKUP(B73,'S3'!$B$23:$Z$57,20,FALSE))","v":""},{"$f":"IF(VLOOKUP(B73,'S3'!$B$23:$Z$57,21,FALSE)=\"\",\"\",VLOOKUP(B73,'S3'!$B$23:$Z$57,21,FALSE))","v":""},{"$f":"IF(VLOOKUP(B73,'S3'!$B$23:$Z$57,22,FALSE)=\"\",\"\",VLOOKUP(B73,'S3'!$B$23:$Z$57,22,FALSE))","v":""},{"$f":"IF(VLOOKUP(B73,'S3'!$B$23:$Z$57,23,FALSE)=\"\",\"\",VLOOKUP(B73,'S3'!$B$23:$Z$57,23,FALSE))","v":""},{"$f":"IF(VLOOKUP(B73,'S3'!$B$23:$Z$57,24,FALSE)=\"\",\"\",VLOOKUP(B73,'S3'!$B$23:$Z$57,24,FALSE))","v":""},{"$f":"IF(VLOOKUP(B73,'S3'!$B$23:$Z$57,25,FALSE)=\"\",\"\",VLOOKUP(B73,'S3'!$B$23:$Z$57,25,FALSE))","v":""},null,"Note",null,null,null,null,{"$f":"IF('S3'!$Q$18=\"\",\"\",\"erreicht\")","v":""},null,null,{"$f":"IF(VLOOKUP(U73,'S3'!$B$23:$Z$57,16,FALSE)=\"\",\"\",VLOOKUP(U73,'S3'!$B$23:$Z$57,16,FALSE))","v":""},{"$f":"IF(VLOOKUP(U73,'S3'!$B$23:$Z$57,17,FALSE)=\"\",\"\",VLOOKUP(U73,'S3'!$B$23:$Z$57,17,FALSE))","v":""},{"$f":"IF(VLOOKUP(U73,'S3'!$B$23:$Z$57,18,FALSE)=\"\",\"\",VLOOKUP(U73,'S3'!$B$23:$Z$57,18,FALSE))","v":""},{"$f":"IF(VLOOKUP(U73,'S3'!$B$23:$Z$57,19,FALSE)=\"\",\"\",VLOOKUP(U73,'S3'!$B$23:$Z$57,19,FALSE))","v":""},{"$f":"IF(VLOOKUP(U73,'S3'!$B$23:$Z$57,20,FALSE)=\"\",\"\",VLOOKUP(U73,'S3'!$B$23:$Z$57,20,FALSE))","v":""},{"$f":"IF(VLOOKUP(U73,'S3'!$B$23:$Z$57,21,FALSE)=\"\",\"\",VLOOKUP(U73,'S3'!$B$23:$Z$57,21,FALSE))","v":""},{"$f":"IF(VLOOKUP(U73,'S3'!$B$23:$Z$57,22,FALSE)=\"\",\"\",VLOOKUP(U73,'S3'!$B$23:$Z$57,22,FALSE))","v":""},{"$f":"IF(VLOOKUP(U73,'S3'!$B$23:$Z$57,23,FALSE)=\"\",\"\",VLOOKUP(U73,'S3'!$B$23:$Z$57,23,FALSE))","v":""},{"$f":"IF(VLOOKUP(U73,'S3'!$B$23:$Z$57,24,FALSE)=\"\",\"\",VLOOKUP(U73,'S3'!$B$23:$Z$57,24,FALSE))","v":""},{"$f":"IF(VLOOKUP(U73,'S3'!$B$23:$Z$57,25,FALSE)=\"\",\"\",VLOOKUP(U73,'S3'!$B$23:$Z$57,25,FALSE))","v":""},null,"Note"]
[null,{"$f":"IF('S3'!$Q$18=\"\",\"\",\"von\")","v":""},null,null,{"$f":"IF('S3'!$Q$21=\"\",\"\",'S3'!$Q$21)","v":""},{"$f":"IF('S3'!$R$21=\"\",\"\",'S3'!$R$21)","v":""},{"$f":"IF('S3'!$S$21=\"\",\"\",'S3'!$S$21)","v":""},{"$f":"IF('S3'!$T$21=\"\",\"\",'S3'!$T$21)","v":""},{"$f":"IF('S3'!$U$21=\"\",\"\",'S3'!$U$21)","v":""},{"$f":"IF('S3'!$V$21=\"\",\"\",'S3'!$V$21)","v":""},{"$f":"IF('S3'!$W$21=\"\",\"\",'S3'!$W$21)","v":""},{"$f":"IF('S3'!$X$21=\"\",\"\",'S3'!$X$21)","v":""},{"$f":"IF('S3'!$Y$21=\"\",\"\",'S3'!$Y$21)","v":""},{"$f":"IF('S3'!$Z$21=\"\",\"\",'S3'!$Z$21)","v":""},null,{"$f":"IF(VLOOKUP(B73,'S3'!$B$23:$Z$57,2,FALSE)=\"\",\"\",CONCATENATE(VLOOKUP(B73,'S3'!$B$23:$Z$57,2,FALSE),\" \",VLOOKUP(B73,'S3'!$B$23:$Z$57,3,FALSE)))","v":"- "},null,null,null,null,{"$f":"IF('S3'!$Q$18=\"\",\"\",\"von\")","v":""},null,null,{"$f":"IF('S3'!$Q$21=\"\",\"\",'S3'!$Q$21)","v":""},{"$f":"IF('S3'!$R$21=\"\",\"\",'S3'!$R$21)","v":""},{"$f":"IF('S3'!$S$21=\"\",\"\",'S3'!$S$21)","v":""},{"$f":"IF('S3'!$T$21=\"\",\"\",'S3'!$T$21)","v":""},{"$f":"IF('S3'!$U$21=\"\",\"\",'S3'!$U$21)","v":""},{"$f":"IF('S3'!$V$21=\"\",\"\",'S3'!$V$21)","v":""},{"$f":"IF('S3'!$W$21=\"\",\"\",'S3'!$W$21)","v":""},{"$f":"IF('S3'!$X$21=\"\",\"\",'S3'!$X$21)","v":""},{"$f":"IF('S3'!$Y$21=\"\",\"\",'S3'!$Y$21)","v":""},{"$f":"IF('S3'!$Z$21=\"\",\"\",'S3'!$Z$21)","v":""},null,{"$f":"IF(VLOOKUP(U73,'S3'!$B$23:$Z$57,2,FALSE)=\"\",\"\",CONCATENATE(VLOOKUP(U73,'S3'!$B$23:$Z$57,2,FALSE),\" \",VLOOKUP(U73,'S3'!$B$23:$Z$57,3,FALSE)))","v":"- "}]
[]
[]
[]
[null,{"$f":"'S3'!$B$37","v":""},null,null,null,null,null,null,null,null,null,null,null,null,null,null,null,null,null,null,{"$f":"'S3'!$B$38","v":""}]
[null,null,null,null,null,null,null,null,null,null,null,null,null,null,null,"Summe",null,null,null,null,null,null,null,null,null,null,null,null,null,null,null,null,null,null,"Summe"]
[null,"Aufgabe",null,null,{"$f":"IF('S3'!$G$18=\"\",\"\",'S3'!$G$18)","v":1},{"$f":"IF('S3'!$H$18=\"\",\"\",'S3'!$H$18)","v":2},{"$f":"IF('S3'!$I$18=\"\",\"\",'S3'!$I$18)","v":3},{"$f":"IF('S3'!$J$18=\"\",\"\",'S3'!$J$18)","v":""},{"$f":"IF('S3'!$K$18=\"\",\"\",'S3'!$K$18)","v":""},{"$f":"IF('S3'!$L$18=\"\",\"\",'S3'!$L$18)","v":""},{"$f":"IF('S3'!$M$18=\"\",\"\",'S3'!$M$18)","v":""},{"$f":"IF('S3'!$N$18=\"\",\"\",'S3'!$N$18)","v":""},{"$f":"IF('S3'!$O$18=\"\",\"\",'S3'!$O$18)","v":""},{"$f":"IF('S3'!$P$18=\"\",\"\",'S3'!$P$18)","v":""},null,{"$f":"IF(VLOOKUP(B85,'S3'!$B$23:$Z$57,5,FALSE)=\"\",\"\",VLOOKUP(B85,'S3'!$B$23:$Z$57,5,FALSE))","v":0},null,null,null,null,"Aufgabe",null,null,{"$f":"IF('S3'!$G$18=\"\",\"\",'S3'!$G$18)","v":1},{"$f":"IF('S3'!$H$18=\"\",\"\",'S3'!$H$18)","v":2},{"$f":"IF('S3'!$I$18=\"\",\"\",'S3'!$I$18)","v":3},{"$f":"IF('S3'!$J$18=\"\",\"\",'S3'!$J$18)","v":""},{"$f":"IF('S3'!$K$18=\"\",\"\",'S3'!$K$18)","v":""},{"$f":"IF('S3'!$L$18=\"\",\"\",'S3'!$L$18)","v":""},{"$f":"IF('S3'!$M$18=\"\",\"\",'S3'!$M$18)","v":""},{"$f":"IF('S3'!$N$18=\"\",\"\",'S3'!$N$18)","v":""},{"$f":"IF('S3'!$O$18=\"\",\"\",'S3'!$O$18)","v":""},{"$f":"IF('S3'!$P$18=\"\",\"\",'S3'!$P$18)","v":""},null,{"$f":"IF(VLOOKUP(U85,'S3'!$B$23:$Z$57,5,FALSE)=\"\",\"\",VLOOKUP(U85,'S3'!$B$23:$Z$57,5,FALSE))","v":0}]
[null,"erreicht",null,null,{"$f":"IF(VLOOKUP(B85,'S3'!$B$23:$Z$57,6,FALSE)=\"\",\"\",VLOOKUP(B85,'S3'!$B$23:$Z$57,6,FALSE))","v":"."},{"$f":"IF(VLOOKUP(B85,'S3'!$B$23:$Z$57,7,FALSE)=\"\",\"\",VLOOKUP(B85,'S3'!$B$23:$Z$57,7,FALSE))","v":""},{"$f":"IF(VLOOKUP(B85,'S3'!$B$23:$Z$57,8,FALSE)=\"\",\"\",VLOOKUP(B85,'S3'!$B$23:$Z$57,8,FALSE))","v":""},{"$f":"IF(VLOOKUP(B85,'S3'!$B$23:$Z$57,9,FALSE)=\"\",\"\",VLOOKUP(B85,'S3'!$B$23:$Z$57,9,FALSE))","v":""},{"$f":"IF(VLOOKUP(B85,'S3'!$B$23:$Z$57,10,FALSE)=\"\",\"\",VLOOKUP(B85,'S3'!$B$23:$Z$57,10,FALSE))","v":""},{"$f":"IF(VLOOKUP(B85,'S3'!$B$23:$Z$57,11,FALSE)=\"\",\"\",VLOOKUP(B85,'S3'!$B$23:$Z$57,11,FALSE))","v":""},{"$f":"IF(VLOOKUP(B85,'S3'!$B$23:$Z$57,12,FALSE)=\"\",\"\",VLOOKUP(B85,'S3'!$B$23:$Z$57,12,FALSE))","v":""},{"$f":"IF(VLOOKUP(B85,'S3'!$B$23:$Z$57,13,FALSE)=\"\",\"\",VLOOKUP(B85,'S3'!$B$23:$Z$57,13,FALSE))","v":""},{"$f":"IF(VLOOKUP(B85,'S3'!$B$23:$Z$57,14,FALSE)=\"\",\"\",VLOOKUP(B85,'S3'!$B$23:$Z$57,14,FALSE))","v":""},{"$f":"IF(VLOOKUP(B85,'S3'!$B$23:$Z$57,15,FALSE)=\"\",\"\",VLOOKUP(B85,'S3'!$B$23:$Z$57,15,FALSE))","v":""},null,null,null,null,null,null,"erreicht",null,null,{"$f":"IF(VLOOKUP(U85,'S3'!$B$23:$Z$57,6,FALSE)=\"\",\"\",VLOOKUP(U85,'S3'!$B$23:$Z$57,6,FALSE))","v":"."},{"$f":"IF(VLOOKUP(U85,'S3'!$B$23:$Z$57,7,FALSE)=\"\",\"\",VLOOKUP(U85,'S3'!$B$23:$Z$57,7,FALSE))","v":""},{"$f":"IF(VLOOKUP(U85,'S3'!$B$23:$Z$57,8,FALSE)=\"\",\"\",VLOOKUP(U85,'S3'!$B$23:$Z$57,8,FALSE))","v":""},{"$f":"IF(VLOOKUP(U85,'S3'!$B$23:$Z$57,9,FALSE)=\"\",\"\",VLOOKUP(U85,'S3'!$B$23:$Z$57,9,FALSE))","v":""},{"$f":"IF(VLOOKUP(U85,'S3'!$B$23:$Z$57,10,FALSE)=\"\",\"\",VLOOKUP(U85,'S3'!$B$23:$Z$57,10,FALSE))","v":""},{"$f":"IF(VLOOKUP(U85,'S3'!$B$23:$Z$57,11,FALSE)=\"\",\"\",VLOOKUP(U85,'S3'!$B$23:$Z$57,11,FALSE))","v":""},{"$f":"IF(VLOOKUP(U85,'S3'!$B$23:$Z$57,12,FALSE)=\"\",\"\",VLOOKUP(U85,'S3'!$B$23:$Z$57,12,FALSE))","v":""},{"$f":"IF(VLOOKUP(U85,'S3'!$B$23:$Z$57,13,FALSE)=\"\",\"\",VLOOKUP(U85,'S3'!$B$23:$Z$57,13,FALSE))","v":""},{"$f":"IF(VLOOKUP(U85,'S3'!$B$23:$Z$57,14,FALSE)=\"\",\"\",VLOOKUP(U85,'S3'!$B$23:$Z$57,14,FALSE))","v":""},{"$f":"IF(VLOOKUP(U85,'S3'!$B$23:$Z$57,15,FALSE)=\"\",\"\",VLOOKUP(U85,'S3'!$B$23:$Z$57,15,FALSE))","v":""}]
[null,"von",null,null,{"$f":"IF('S3'!$G$21=\"\",\"\",'S3'!$G$21)","v":""},{"$f":"IF('S3'!$H$21=\"\",\"\",'S3'!$H$21)","v":""},{"$f":"IF('S3'!$I$21=\"\",\"\",'S3'!$I$21)","v":""},{"$f":"IF('S3'!$J$21=\"\",\"\",'S3'!$J$21)","v":""},{"$f":"IF('S3'!$K$21=\"\",\"\",'S3'!$K$21)","v":""},{"$f":"IF('S3'!$L$21=\"\",\"\",'S3'!$L$21)","v":""},{"$f":"IF('S3'!$M$21=\"\",\"\",'S3'!$M$21)","v":""},{"$f":"IF('S3'!$N$21=\"\",\"\",'S3'!$N$21)","v":""},{"$f":"IF('S3'!$O$21=\"\",\"\",'S3'!$O$21)","v":""},{"$f":"IF('S3'!$P$21=\"\",\"\",'S3'!$P$21)","v":""},null,"von",null,null,null,null,"von",null,null,{"$f":"IF('S3'!$G$21=\"\",\"\",'S3'!$G$21)","v":""},{"$f":"IF('S3'!$H$21=\"\",\"\",'S3'!$H$21)","v":""},{"$f":"IF('S3'!$I$21=\"\",\"\",'S3'!$I$21)","v":""},{"$f":"IF('S3'!$J$21=\"\",\"\",'S3'!$J$21)","v":""},{"$f":"IF('S3'!$K$21=\"\",\"\",'S3'!$K$21)","v":""},{"$f":"IF('S3'!$L$21=\"\",\"\",'S3'!$L$21)","v":""},{"$f":"IF('S3'!$M$21=\"\",\"\",'S3'!$M$21)","v":""},{"$f":"IF('S3'!$N$21=\"\",\"\",'S3'!$N$21)","v":""},{"$f":"IF('S3'!$O$21=\"\",\"\",'S3'!$O$21)","v":""},{"$f":"IF('S3'!$P$21=\"\",\"\",'S3'!$P$21)","v":""},null,"von"]
[null,null,null,null,null,null,null,null,null,null,null,null,null,null,null,{"$f":"'S3'!$H$12","v":0},null,null,null,null,null,null,null,null,null,null,null,null,null,null,null,null,null,null,{"$f":"'S3'!$H$12","v":0}]
[null,{"$f":"IF('S3'!$Q$18=\"\",\"\",\"Aufgabe\")","v":""},null,null,{"$f":"IF('S3'!$Q$18=\"\",\"\",'S3'!$Q$18)","v":""},{"$f":"IF('S3'!$R$18=\"\",\"\",'S3'!$R$18)","v":""},{"$f":"IF('S3'!$S$18=\"\",\"\",'S3'!$S$18)","v":""},{"$f":"IF('S3'!$T$18=\"\",\"\",'S3'!$T$18)","v":""},{"$f":"IF('S3'!$U$18=\"\",\"\",'S3'!$U$18)","v":""},{"$f":"IF('S3'!$V$18=\"\",\"\",'S3'!$V$18)","v":""},{"$f":"IF('S3'!$W$18=\"\",\"\",'S3'!$W$18)","v":""},{"$f":"IF('S3'!$X$18=\"\",\"\",'S3'!$X$18)","v":""},{"$f":"IF('S3'!$Y$18=\"\",\"\",'S3'!$Y$18)","v":""},{"$f":"IF('S3'!$Z$18=\"\",\"\",'S3'!$Z$18)","v":""},null,null,null,null,null,null,{"$f":"IF('S3'!$Q$18=\"\",\"\",\"Aufgabe\")","v":""},null,null,{"$f":"IF('S3'!$Q$18=\"\",\"\",'S3'!$Q$18)","v":""},{"$f":"IF('S3'!$R$18=\"\",\"\",'S3'!$R$18)","v":""},{"$f":"IF('S3'!$S$18=\"\",\"\",'S3'!$S$18)","v":""},{"$f":"IF('S3'!$T$18=\"\",\"\",'S3'!$T$18)","v":""},{"$f":"IF('S3'!$U$18=\"\",\"\",'S3'!$U$18)","v":""},{"$f":"IF('S3'!$V$18=\"\",\"\",'S3'!$V$18)","v":""},{"$f":"IF('S3'!$W$18=\"\",\"\",'S3'!$W$18)","v":""},{"$f":"IF('S3'!$X$18=\"\",\"\",'S3'!$X$18)","v":""},{"$f":"IF('S3'!$Y$18=\"\",\"\",'S3'!$Y$18)","v":""},{"$f":"IF('S3'!$Z$18=\"\",\"\",'S3'!$Z$18)","v":""}]
[null,{"$f":"IF('S3'!$Q$18=\"\",\"\",\"erreicht\")","v":""},null,null,{"$f":"IF(VLOOKUP(B85,'S3'!$B$23:$Z$57,16,FALSE)=\"\",\"\",VLOOKUP(B85,'S3'!$B$23:$Z$57,16,FALSE))","v":""},{"$f":"IF(VLOOKUP(B85,'S3'!$B$23:$Z$57,17,FALSE)=\"\",\"\",VLOOKUP(B85,'S3'!$B$23:$Z$57,17,FALSE))","v":""},{"$f":"IF(VLOOKUP(B85,'S3'!$B$23:$Z$57,18,FALSE)=\"\",\"\",VLOOKUP(B85,'S3'!$B$23:$Z$57,18,FALSE))","v":""},{"$f":"IF(VLOOKUP(B85,'S3'!$B$23:$Z$57,19,FALSE)=\"\",\"\",VLOOKUP(B85,'S3'!$B$23:$Z$57,19,FALSE))","v":""},{"$f":"IF(VLOOKUP(B85,'S3'!$B$23:$Z$57,20,FALSE)=\"\",\"\",VLOOKUP(B85,'S3'!$B$23:$Z$57,20,FALSE))","v":""},{"$f":"IF(VLOOKUP(B85,'S3'!$B$23:$Z$57,21,FALSE)=\"\",\"\",VLOOKUP(B85,'S3'!$B$23:$Z$57,21,FALSE))","v":""},{"$f":"IF(VLOOKUP(B85,'S3'!$B$23:$Z$57,22,FALSE)=\"\",\"\",VLOOKUP(B85,'S3'!$B$23:$Z$57,22,FALSE))","v":""},{"$f":"IF(VLOOKUP(B85,'S3'!$B$23:$Z$57,23,FALSE)=\"\",\"\",VLOOKUP(B85,'S3'!$B$23:$Z$57,23,FALSE))","v":""},{"$f":"IF(VLOOKUP(B85,'S3'!$B$23:$Z$57,24,FALSE)=\"\",\"\",VLOOKUP(B85,'S3'!$B$23:$Z$57,24,FALSE))","v":""},{"$f":"IF(VLOOKUP(B85,'S3'!$B$23:$Z$57,25,FALSE)=\"\",\"\",VLOOKUP(B85,'S3'!$B$23:$Z$57,25,FALSE))","v":""},null,"Note",null,null,null,null,{"$f":"IF('S3'!$Q$18=\"\",\"\",\"erreicht\")","v":""},null,null,{"$f":"IF(VLOOKUP(U85,'S3'!$B$23:$Z$57,16,FALSE)=\"\",\"\",VLOOKUP(U85,'S3'!$B$23:$Z$57,16,FALSE))","v":""},{"$f":"IF(VLOOKUP(U85,'S3'!$B$23:$Z$57,17,FALSE)=\"\",\"\",VLOOKUP(U85,'S3'!$B$23:$Z$57,17,FALSE))","v":""},{"$f":"IF(VLOOKUP(U85,'S3'!$B$23:$Z$57,18,FALSE)=\"\",\"\",VLOOKUP(U85,'S3'!$B$23:$Z$57,18,FALSE))","v":""},{"$f":"IF(VLOOKUP(U85,'S3'!$B$23:$Z$57,19,FALSE)=\"\",\"\",VLOOKUP(U85,'S3'!$B$23:$Z$57,19,FALSE))","v":""},{"$f":"IF(VLOOKUP(U85,'S3'!$B$23:$Z$57,20,FALSE)=\"\",\"\",VLOOKUP(U85,'S3'!$B$23:$Z$57,20,FALSE))","v":""},{"$f":"IF(VLOOKUP(U85,'S3'!$B$23:$Z$57,21,FALSE)=\"\",\"\",VLOOKUP(U85,'S3'!$B$23:$Z$57,21,FALSE))","v":""},{"$f":"IF(VLOOKUP(U85,'S3'!$B$23:$Z$57,22,FALSE)=\"\",\"\",VLOOKUP(U85,'S3'!$B$23:$Z$57,22,FALSE))","v":""},{"$f":"IF(VLOOKUP(U85,'S3'!$B$23:$Z$57,23,FALSE)=\"\",\"\",VLOOKUP(U85,'S3'!$B$23:$Z$57,23,FALSE))","v":""},{"$f":"IF(VLOOKUP(U85,'S3'!$B$23:$Z$57,24,FALSE)=\"\",\"\",VLOOKUP(U85,'S3'!$B$23:$Z$57,24,FALSE))","v":""},{"$f":"IF(VLOOKUP(U85,'S3'!$B$23:$Z$57,25,FALSE)=\"\",\"\",VLOOKUP(U85,'S3'!$B$23:$Z$57,25,FALSE))","v":""},null,"Note"]
[null,{"$f":"IF('S3'!$Q$18=\"\",\"\",\"von\")","v":""},null,null,{"$f":"IF('S3'!$Q$21=\"\",\"\",'S3'!$Q$21)","v":""},{"$f":"IF('S3'!$R$21=\"\",\"\",'S3'!$R$21)","v":""},{"$f":"IF('S3'!$S$21=\"\",\"\",'S3'!$S$21)","v":""},{"$f":"IF('S3'!$T$21=\"\",\"\",'S3'!$T$21)","v":""},{"$f":"IF('S3'!$U$21=\"\",\"\",'S3'!$U$21)","v":""},{"$f":"IF('S3'!$V$21=\"\",\"\",'S3'!$V$21)","v":""},{"$f":"IF('S3'!$W$21=\"\",\"\",'S3'!$W$21)","v":""},{"$f":"IF('S3'!$X$21=\"\",\"\",'S3'!$X$21)","v":""},{"$f":"IF('S3'!$Y$21=\"\",\"\",'S3'!$Y$21)","v":""},{"$f":"IF('S3'!$Z$21=\"\",\"\",'S3'!$Z$21)","v":""},null,{"$f":"IF(VLOOKUP(B85,'S3'!$B$23:$Z$57,2,FALSE)=\"\",\"\",CONCATENATE(VLOOKUP(B85,'S3'!$B$23:$Z$57,2,FALSE),\" \",VLOOKUP(B85,'S3'!$B$23:$Z$57,3,FALSE)))","v":"- "},null,null,null,null,{"$f":"IF('S3'!$Q$18=\"\",\"\",\"von\")","v":""},null,null,{"$f":"IF('S3'!$Q$21=\"\",\"\",'S3'!$Q$21)","v":""},{"$f":"IF('S3'!$R$21=\"\",\"\",'S3'!$R$21)","v":""},{"$f":"IF('S3'!$S$21=\"\",\"\",'S3'!$S$21)","v":""},{"$f":"IF('S3'!$T$21=\"\",\"\",'S3'!$T$21)","v":""},{"$f":"IF('S3'!$U$21=\"\",\"\",'S3'!$U$21)","v":""},{"$f":"IF('S3'!$V$21=\"\",\"\",'S3'!$V$21)","v":""},{"$f":"IF('S3'!$W$21=\"\",\"\",'S3'!$W$21)","v":""},{"$f":"IF('S3'!$X$21=\"\",\"\",'S3'!$X$21)","v":""},{"$f":"IF('S3'!$Y$21=\"\",\"\",'S3'!$Y$21)","v":""},{"$f":"IF('S3'!$Z$21=\"\",\"\",'S3'!$Z$21)","v":""},null,{"$f":"IF(VLOOKUP(U85,'S3'!$B$23:$Z$57,2,FALSE)=\"\",\"\",CONCATENATE(VLOOKUP(U85,'S3'!$B$23:$Z$57,2,FALSE),\" \",VLOOKUP(U85,'S3'!$B$23:$Z$57,3,FALSE)))","v":"- "}]
[]
[]
[]
[null,{"$f":"'S3'!$B$39","v":""},null,null,null,null,null,null,null,null,null,null,null,null,null,null,null,null,null,null,{"$f":"'S3'!$B$40","v":""}]
[null,null,null,null,null,null,null,null,null,null,null,null,null,null,null,"Summe",null,null,null,null,null,null,null,null,null,null,null,null,null,null,null,null,null,null,"Summe"]
[null,"Aufgabe",null,null,{"$f":"IF('S3'!$G$18=\"\",\"\",'S3'!$G$18)","v":1},{"$f":"IF('S3'!$H$18=\"\",\"\",'S3'!$H$18)","v":2},{"$f":"IF('S3'!$I$18=\"\",\"\",'S3'!$I$18)","v":3},{"$f":"IF('S3'!$J$18=\"\",\"\",'S3'!$J$18)","v":""},{"$f":"IF('S3'!$K$18=\"\",\"\",'S3'!$K$18)","v":""},{"$f":"IF('S3'!$L$18=\"\",\"\",'S3'!$L$18)","v":""},{"$f":"IF('S3'!$M$18=\"\",\"\",'S3'!$M$18)","v":""},{"$f":"IF('S3'!$N$18=\"\",\"\",'S3'!$N$18)","v":""},{"$f":"IF('S3'!$O$18=\"\",\"\",'S3'!$O$18)","v":""},{"$f":"IF('S3'!$P$18=\"\",\"\",'S3'!$P$18)","v":""},null,{"$f":"IF(VLOOKUP(B97,'S3'!$B$23:$Z$57,5,FALSE)=\"\",\"\",VLOOKUP(B97,'S3'!$B$23:$Z$57,5,FALSE))","v":0},null,null,null,null,"Aufgabe",null,null,{"$f":"IF('S3'!$G$18=\"\",\"\",'S3'!$G$18)","v":1},{"$f":"IF('S3'!$H$18=\"\",\"\",'S3'!$H$18)","v":2},{"$f":"IF('S3'!$I$18=\"\",\"\",'S3'!$I$18)","v":3},{"$f":"IF('S3'!$J$18=\"\",\"\",'S3'!$J$18)","v":""},{"$f":"IF('S3'!$K$18=\"\",\"\",'S3'!$K$18)","v":""},{"$f":"IF('S3'!$L$18=\"\",\"\",'S3'!$L$18)","v":""},{"$f":"IF('S3'!$M$18=\"\",\"\",'S3'!$M$18)","v":""},{"$f":"IF('S3'!$N$18=\"\",\"\",'S3'!$N$18)","v":""},{"$f":"IF('S3'!$O$18=\"\",\"\",'S3'!$O$18)","v":""},{"$f":"IF('S3'!$P$18=\"\",\"\",'S3'!$P$18)","v":""},null,{"$f":"IF(VLOOKUP(U97,'S3'!$B$23:$Z$57,5,FALSE)=\"\",\"\",VLOOKUP(U97,'S3'!$B$23:$Z$57,5,FALSE))","v":0}]
[null,"erreicht",null,null,{"$f":"IF(VLOOKUP(B97,'S3'!$B$23:$Z$57,6,FALSE)=\"\",\"\",VLOOKUP(B97,'S3'!$B$23:$Z$57,6,FALSE))","v":"."},{"$f":"IF(VLOOKUP(B97,'S3'!$B$23:$Z$57,7,FALSE)=\"\",\"\",VLOOKUP(B97,'S3'!$B$23:$Z$57,7,FALSE))","v":""},{"$f":"IF(VLOOKUP(B97,'S3'!$B$23:$Z$57,8,FALSE)=\"\",\"\",VLOOKUP(B97,'S3'!$B$23:$Z$57,8,FALSE))","v":""},{"$f":"IF(VLOOKUP(B97,'S3'!$B$23:$Z$57,9,FALSE)=\"\",\"\",VLOOKUP(B97,'S3'!$B$23:$Z$57,9,FALSE))","v":""},{"$f":"IF(VLOOKUP(B97,'S3'!$B$23:$Z$57,10,FALSE)=\"\",\"\",VLOOKUP(B97,'S3'!$B$23:$Z$57,10,FALSE))","v":""},{"$f":"IF(VLOOKUP(B97,'S3'!$B$23:$Z$57,11,FALSE)=\"\",\"\",VLOOKUP(B97,'S3'!$B$23:$Z$57,11,FALSE))","v":""},{"$f":"IF(VLOOKUP(B97,'S3'!$B$23:$Z$57,12,FALSE)=\"\",\"\",VLOOKUP(B97,'S3'!$B$23:$Z$57,12,FALSE))","v":""},{"$f":"IF(VLOOKUP(B97,'S3'!$B$23:$Z$57,13,FALSE)=\"\",\"\",VLOOKUP(B97,'S3'!$B$23:$Z$57,13,FALSE))","v":""},{"$f":"IF(VLOOKUP(B97,'S3'!$B$23:$Z$57,14,FALSE)=\"\",\"\",VLOOKUP(B97,'S3'!$B$23:$Z$57,14,FALSE))","v":""},{"$f":"IF(VLOOKUP(B97,'S3'!$B$23:$Z$57,15,FALSE)=\"\",\"\",VLOOKUP(B97,'S3'!$B$23:$Z$57,15,FALSE))","v":""},null,null,null,null,null,null,"erreicht",null,null,{"$f":"IF(VLOOKUP(U97,'S3'!$B$23:$Z$57,6,FALSE)=\"\",\"\",VLOOKUP(U97,'S3'!$B$23:$Z$57,6,FALSE))","v":"."},{"$f":"IF(VLOOKUP(U97,'S3'!$B$23:$Z$57,7,FALSE)=\"\",\"\",VLOOKUP(U97,'S3'!$B$23:$Z$57,7,FALSE))","v":""},{"$f":"IF(VLOOKUP(U97,'S3'!$B$23:$Z$57,8,FALSE)=\"\",\"\",VLOOKUP(U97,'S3'!$B$23:$Z$57,8,FALSE))","v":""},{"$f":"IF(VLOOKUP(U97,'S3'!$B$23:$Z$57,9,FALSE)=\"\",\"\",VLOOKUP(U97,'S3'!$B$23:$Z$57,9,FALSE))","v":""},{"$f":"IF(VLOOKUP(U97,'S3'!$B$23:$Z$57,10,FALSE)=\"\",\"\",VLOOKUP(U97,'S3'!$B$23:$Z$57,10,FALSE))","v":""},{"$f":"IF(VLOOKUP(U97,'S3'!$B$23:$Z$57,11,FALSE)=\"\",\"\",VLOOKUP(U97,'S3'!$B$23:$Z$57,11,FALSE))","v":""},{"$f":"IF(VLOOKUP(U97,'S3'!$B$23:$Z$57,12,FALSE)=\"\",\"\",VLOOKUP(U97,'S3'!$B$23:$Z$57,12,FALSE))","v":""},{"$f":"IF(VLOOKUP(U97,'S3'!$B$23:$Z$57,13,FALSE)=\"\",\"\",VLOOKUP(U97,'S3'!$B$23:$Z$57,13,FALSE))","v":""},{"$f":"IF(VLOOKUP(U97,'S3'!$B$23:$Z$57,14,FALSE)=\"\",\"\",VLOOKUP(U97,'S3'!$B$23:$Z$57,14,FALSE))","v":""},{"$f":"IF(VLOOKUP(U97,'S3'!$B$23:$Z$57,15,FALSE)=\"\",\"\",VLOOKUP(U97,'S3'!$B$23:$Z$57,15,FALSE))","v":""}]
[null,"von",null,null,{"$f":"IF('S3'!$G$21=\"\",\"\",'S3'!$G$21)","v":""},{"$f":"IF('S3'!$H$21=\"\",\"\",'S3'!$H$21)","v":""},{"$f":"IF('S3'!$I$21=\"\",\"\",'S3'!$I$21)","v":""},{"$f":"IF('S3'!$J$21=\"\",\"\",'S3'!$J$21)","v":""},{"$f":"IF('S3'!$K$21=\"\",\"\",'S3'!$K$21)","v":""},{"$f":"IF('S3'!$L$21=\"\",\"\",'S3'!$L$21)","v":""},{"$f":"IF('S3'!$M$21=\"\",\"\",'S3'!$M$21)","v":""},{"$f":"IF('S3'!$N$21=\"\",\"\",'S3'!$N$21)","v":""},{"$f":"IF('S3'!$O$21=\"\",\"\",'S3'!$O$21)","v":""},{"$f":"IF('S3'!$P$21=\"\",\"\",'S3'!$P$21)","v":""},null,"von",null,null,null,null,"von",null,null,{"$f":"IF('S3'!$G$21=\"\",\"\",'S3'!$G$21)","v":""},{"$f":"IF('S3'!$H$21=\"\",\"\",'S3'!$H$21)","v":""},{"$f":"IF('S3'!$I$21=\"\",\"\",'S3'!$I$21)","v":""},{"$f":"IF('S3'!$J$21=\"\",\"\",'S3'!$J$21)","v":""},{"$f":"IF('S3'!$K$21=\"\",\"\",'S3'!$K$21)","v":""},{"$f":"IF('S3'!$L$21=\"\",\"\",'S3'!$L$21)","v":""},{"$f":"IF('S3'!$M$21=\"\",\"\",'S3'!$M$21)","v":""},{"$f":"IF('S3'!$N$21=\"\",\"\",'S3'!$N$21)","v":""},{"$f":"IF('S3'!$O$21=\"\",\"\",'S3'!$O$21)","v":""},{"$f":"IF('S3'!$P$21=\"\",\"\",'S3'!$P$21)","v":""},null,"von"]
[null,null,null,null,null,null,null,null,null,null,null,null,null,null,null,{"$f":"'S3'!$H$12","v":0},null,null,null,null,null,null,null,null,null,null,null,null,null,null,null,null,null,null,{"$f":"'S3'!$H$12","v":0}]
[null,{"$f":"IF('S3'!$Q$18=\"\",\"\",\"Aufgabe\")","v":""},null,null,{"$f":"IF('S3'!$Q$18=\"\",\"\",'S3'!$Q$18)","v":""},{"$f":"IF('S3'!$R$18=\"\",\"\",'S3'!$R$18)","v":""},{"$f":"IF('S3'!$S$18=\"\",\"\",'S3'!$S$18)","v":""},{"$f":"IF('S3'!$T$18=\"\",\"\",'S3'!$T$18)","v":""},{"$f":"IF('S3'!$U$18=\"\",\"\",'S3'!$U$18)","v":""},{"$f":"IF('S3'!$V$18=\"\",\"\",'S3'!$V$18)","v":""},{"$f":"IF('S3'!$W$18=\"\",\"\",'S3'!$W$18)","v":""},{"$f":"IF('S3'!$X$18=\"\",\"\",'S3'!$X$18)","v":""},{"$f":"IF('S3'!$Y$18=\"\",\"\",'S3'!$Y$18)","v":""},{"$f":"IF('S3'!$Z$18=\"\",\"\",'S3'!$Z$18)","v":""},null,null,null,null,null,null,{"$f":"IF('S3'!$Q$18=\"\",\"\",\"Aufgabe\")","v":""},null,null,{"$f":"IF('S3'!$Q$18=\"\",\"\",'S3'!$Q$18)","v":""},{"$f":"IF('S3'!$R$18=\"\",\"\",'S3'!$R$18)","v":""},{"$f":"IF('S3'!$S$18=\"\",\"\",'S3'!$S$18)","v":""},{"$f":"IF('S3'!$T$18=\"\",\"\",'S3'!$T$18)","v":""},{"$f":"IF('S3'!$U$18=\"\",\"\",'S3'!$U$18)","v":""},{"$f":"IF('S3'!$V$18=\"\",\"\",'S3'!$V$18)","v":""},{"$f":"IF('S3'!$W$18=\"\",\"\",'S3'!$W$18)","v":""},{"$f":"IF('S3'!$X$18=\"\",\"\",'S3'!$X$18)","v":""},{"$f":"IF('S3'!$Y$18=\"\",\"\",'S3'!$Y$18)","v":""},{"$f":"IF('S3'!$Z$18=\"\",\"\",'S3'!$Z$18)","v":""}]
[null,{"$f":"IF('S3'!$Q$18=\"\",\"\",\"erreicht\")","v":""},null,null,{"$f":"IF(VLOOKUP(B97,'S3'!$B$23:$Z$57,16,FALSE)=\"\",\"\",VLOOKUP(B97,'S3'!$B$23:$Z$57,16,FALSE))","v":""},{"$f":"IF(VLOOKUP(B97,'S3'!$B$23:$Z$57,17,FALSE)=\"\",\"\",VLOOKUP(B97,'S3'!$B$23:$Z$57,17,FALSE))","v":""},{"$f":"IF(VLOOKUP(B97,'S3'!$B$23:$Z$57,18,FALSE)=\"\",\"\",VLOOKUP(B97,'S3'!$B$23:$Z$57,18,FALSE))","v":""},{"$f":"IF(VLOOKUP(B97,'S3'!$B$23:$Z$57,19,FALSE)=\"\",\"\",VLOOKUP(B97,'S3'!$B$23:$Z$57,19,FALSE))","v":""},{"$f":"IF(VLOOKUP(B97,'S3'!$B$23:$Z$57,20,FALSE)=\"\",\"\",VLOOKUP(B97,'S3'!$B$23:$Z$57,20,FALSE))","v":""},{"$f":"IF(VLOOKUP(B97,'S3'!$B$23:$Z$57,21,FALSE)=\"\",\"\",VLOOKUP(B97,'S3'!$B$23:$Z$57,21,FALSE))","v":""},{"$f":"IF(VLOOKUP(B97,'S3'!$B$23:$Z$57,22,FALSE)=\"\",\"\",VLOOKUP(B97,'S3'!$B$23:$Z$57,22,FALSE))","v":""},{"$f":"IF(VLOOKUP(B97,'S3'!$B$23:$Z$57,23,FALSE)=\"\",\"\",VLOOKUP(B97,'S3'!$B$23:$Z$57,23,FALSE))","v":""},{"$f":"IF(VLOOKUP(B97,'S3'!$B$23:$Z$57,24,FALSE)=\"\",\"\",VLOOKUP(B97,'S3'!$B$23:$Z$57,24,FALSE))","v":""},{"$f":"IF(VLOOKUP(B97,'S3'!$B$23:$Z$57,25,FALSE)=\"\",\"\",VLOOKUP(B97,'S3'!$B$23:$Z$57,25,FALSE))","v":""},null,"Note",null,null,null,null,{"$f":"IF('S3'!$Q$18=\"\",\"\",\"erreicht\")","v":""},null,null,{"$f":"IF(VLOOKUP(U97,'S3'!$B$23:$Z$57,16,FALSE)=\"\",\"\",VLOOKUP(U97,'S3'!$B$23:$Z$57,16,FALSE))","v":""},{"$f":"IF(VLOOKUP(U97,'S3'!$B$23:$Z$57,17,FALSE)=\"\",\"\",VLOOKUP(U97,'S3'!$B$23:$Z$57,17,FALSE))","v":""},{"$f":"IF(VLOOKUP(U97,'S3'!$B$23:$Z$57,18,FALSE)=\"\",\"\",VLOOKUP(U97,'S3'!$B$23:$Z$57,18,FALSE))","v":""},{"$f":"IF(VLOOKUP(U97,'S3'!$B$23:$Z$57,19,FALSE)=\"\",\"\",VLOOKUP(U97,'S3'!$B$23:$Z$57,19,FALSE))","v":""},{"$f":"IF(VLOOKUP(U97,'S3'!$B$23:$Z$57,20,FALSE)=\"\",\"\",VLOOKUP(U97,'S3'!$B$23:$Z$57,20,FALSE))","v":""},{"$f":"IF(VLOOKUP(U97,'S3'!$B$23:$Z$57,21,FALSE)=\"\",\"\",VLOOKUP(U97,'S3'!$B$23:$Z$57,21,FALSE))","v":""},{"$f":"IF(VLOOKUP(U97,'S3'!$B$23:$Z$57,22,FALSE)=\"\",\"\",VLOOKUP(U97,'S3'!$B$23:$Z$57,22,FALSE))","v":""},{"$f":"IF(VLOOKUP(U97,'S3'!$B$23:$Z$57,23,FALSE)=\"\",\"\",VLOOKUP(U97,'S3'!$B$23:$Z$57,23,FALSE))","v":""},{"$f":"IF(VLOOKUP(U97,'S3'!$B$23:$Z$57,24,FALSE)=\"\",\"\",VLOOKUP(U97,'S3'!$B$23:$Z$57,24,FALSE))","v":""},{"$f":"IF(VLOOKUP(U97,'S3'!$B$23:$Z$57,25,FALSE)=\"\",\"\",VLOOKUP(U97,'S3'!$B$23:$Z$57,25,FALSE))","v":""},null,"Note"]
[null,{"$f":"IF('S3'!$Q$18=\"\",\"\",\"von\")","v":""},null,null,{"$f":"IF('S3'!$Q$21=\"\",\"\",'S3'!$Q$21)","v":""},{"$f":"IF('S3'!$R$21=\"\",\"\",'S3'!$R$21)","v":""},{"$f":"IF('S3'!$S$21=\"\",\"\",'S3'!$S$21)","v":""},{"$f":"IF('S3'!$T$21=\"\",\"\",'S3'!$T$21)","v":""},{"$f":"IF('S3'!$U$21=\"\",\"\",'S3'!$U$21)","v":""},{"$f":"IF('S3'!$V$21=\"\",\"\",'S3'!$V$21)","v":""},{"$f":"IF('S3'!$W$21=\"\",\"\",'S3'!$W$21)","v":""},{"$f":"IF('S3'!$X$21=\"\",\"\",'S3'!$X$21)","v":""},{"$f":"IF('S3'!$Y$21=\"\",\"\",'S3'!$Y$21)","v":""},{"$f":"IF('S3'!$Z$21=\"\",\"\",'S3'!$Z$21)","v":""},null,{"$f":"IF(VLOOKUP(B97,'S3'!$B$23:$Z$57,2,FALSE)=\"\",\"\",CONCATENATE(VLOOKUP(B97,'S3'!$B$23:$Z$57,2,FALSE),\" \",VLOOKUP(B97,'S3'!$B$23:$Z$57,3,FALSE)))","v":"- "},null,null,null,null,{"$f":"IF('S3'!$Q$18=\"\",\"\",\"von\")","v":""},null,null,{"$f":"IF('S3'!$Q$21=\"\",\"\",'S3'!$Q$21)","v":""},{"$f":"IF('S3'!$R$21=\"\",\"\",'S3'!$R$21)","v":""},{"$f":"IF('S3'!$S$21=\"\",\"\",'S3'!$S$21)","v":""},{"$f":"IF('S3'!$T$21=\"\",\"\",'S3'!$T$21)","v":""},{"$f":"IF('S3'!$U$21=\"\",\"\",'S3'!$U$21)","v":""},{"$f":"IF('S3'!$V$21=\"\",\"\",'S3'!$V$21)","v":""},{"$f":"IF('S3'!$W$21=\"\",\"\",'S3'!$W$21)","v":""},{"$f":"IF('S3'!$X$21=\"\",\"\",'S3'!$X$21)","v":""},{"$f":"IF('S3'!$Y$21=\"\",\"\",'S3'!$Y$21)","v":""},{"$f":"IF('S3'!$Z$21=\"\",\"\",'S3'!$Z$21)","v":""},null,{"$f":"IF(VLOOKUP(U97,'S3'!$B$23:$Z$57,2,FALSE)=\"\",\"\",CONCATENATE(VLOOKUP(U97,'S3'!$B$23:$Z$57,2,FALSE),\" \",VLOOKUP(U97,'S3'!$B$23:$Z$57,3,FALSE)))","v":"- "}]
[]
[]
[]
[null,{"$f":"'S3'!$B$41","v":""},null,null,null,null,null,null,null,null,null,null,null,null,null,null,null,null,null,null,{"$f":"'S3'!$B$42","v":""}]
[null,null,null,null,null,null,null,null,null,null,null,null,null,null,null,"Summe",null,null,null,null,null,null,null,null,null,null,null,null,null,null,null,null,null,null,"Summe"]
[null,"Aufgabe",null,null,{"$f":"IF('S3'!$G$18=\"\",\"\",'S3'!$G$18)","v":1},{"$f":"IF('S3'!$H$18=\"\",\"\",'S3'!$H$18)","v":2},{"$f":"IF('S3'!$I$18=\"\",\"\",'S3'!$I$18)","v":3},{"$f":"IF('S3'!$J$18=\"\",\"\",'S3'!$J$18)","v":""},{"$f":"IF('S3'!$K$18=\"\",\"\",'S3'!$K$18)","v":""},{"$f":"IF('S3'!$L$18=\"\",\"\",'S3'!$L$18)","v":""},{"$f":"IF('S3'!$M$18=\"\",\"\",'S3'!$M$18)","v":""},{"$f":"IF('S3'!$N$18=\"\",\"\",'S3'!$N$18)","v":""},{"$f":"IF('S3'!$O$18=\"\",\"\",'S3'!$O$18)","v":""},{"$f":"IF('S3'!$P$18=\"\",\"\",'S3'!$P$18)","v":""},null,{"$f":"IF(VLOOKUP(B109,'S3'!$B$23:$Z$57,5,FALSE)=\"\",\"\",VLOOKUP(B109,'S3'!$B$23:$Z$57,5,FALSE))","v":0},null,null,null,null,"Aufgabe",null,null,{"$f":"IF('S3'!$G$18=\"\",\"\",'S3'!$G$18)","v":1},{"$f":"IF('S3'!$H$18=\"\",\"\",'S3'!$H$18)","v":2},{"$f":"IF('S3'!$I$18=\"\",\"\",'S3'!$I$18)","v":3},{"$f":"IF('S3'!$J$18=\"\",\"\",'S3'!$J$18)","v":""},{"$f":"IF('S3'!$K$18=\"\",\"\",'S3'!$K$18)","v":""},{"$f":"IF('S3'!$L$18=\"\",\"\",'S3'!$L$18)","v":""},{"$f":"IF('S3'!$M$18=\"\",\"\",'S3'!$M$18)","v":""},{"$f":"IF('S3'!$N$18=\"\",\"\",'S3'!$N$18)","v":""},{"$f":"IF('S3'!$O$18=\"\",\"\",'S3'!$O$18)","v":""},{"$f":"IF('S3'!$P$18=\"\",\"\",'S3'!$P$18)","v":""},null,{"$f":"IF(VLOOKUP(U109,'S3'!$B$23:$Z$57,5,FALSE)=\"\",\"\",VLOOKUP(U109,'S3'!$B$23:$Z$57,5,FALSE))","v":0}]
[null,"erreicht",null,null,{"$f":"IF(VLOOKUP(B109,'S3'!$B$23:$Z$57,6,FALSE)=\"\",\"\",VLOOKUP(B109,'S3'!$B$23:$Z$57,6,FALSE))","v":"."},{"$f":"IF(VLOOKUP(B109,'S3'!$B$23:$Z$57,7,FALSE)=\"\",\"\",VLOOKUP(B109,'S3'!$B$23:$Z$57,7,FALSE))","v":""},{"$f":"IF(VLOOKUP(B109,'S3'!$B$23:$Z$57,8,FALSE)=\"\",\"\",VLOOKUP(B109,'S3'!$B$23:$Z$57,8,FALSE))","v":""},{"$f":"IF(VLOOKUP(B109,'S3'!$B$23:$Z$57,9,FALSE)=\"\",\"\",VLOOKUP(B109,'S3'!$B$23:$Z$57,9,FALSE))","v":""},{"$f":"IF(VLOOKUP(B109,'S3'!$B$23:$Z$57,10,FALSE)=\"\",\"\",VLOOKUP(B109,'S3'!$B$23:$Z$57,10,FALSE))","v":""},{"$f":"IF(VLOOKUP(B109,'S3'!$B$23:$Z$57,11,FALSE)=\"\",\"\",VLOOKUP(B109,'S3'!$B$23:$Z$57,11,FALSE))","v":""},{"$f":"IF(VLOOKUP(B109,'S3'!$B$23:$Z$57,12,FALSE)=\"\",\"\",VLOOKUP(B109,'S3'!$B$23:$Z$57,12,FALSE))","v":""},{"$f":"IF(VLOOKUP(B109,'S3'!$B$23:$Z$57,13,FALSE)=\"\",\"\",VLOOKUP(B109,'S3'!$B$23:$Z$57,13,FALSE))","v":""},{"$f":"IF(VLOOKUP(B109,'S3'!$B$23:$Z$57,14,FALSE)=\"\",\"\",VLOOKUP(B109,'S3'!$B$23:$Z$57,14,FALSE))","v":""},{"$f":"IF(VLOOKUP(B109,'S3'!$B$23:$Z$57,15,FALSE)=\"\",\"\",VLOOKUP(B109,'S3'!$B$23:$Z$57,15,FALSE))","v":""},null,null,null,null,null,null,"erreicht",null,null,{"$f":"IF(VLOOKUP(U109,'S3'!$B$23:$Z$57,6,FALSE)=\"\",\"\",VLOOKUP(U109,'S3'!$B$23:$Z$57,6,FALSE))","v":"."},{"$f":"IF(VLOOKUP(U109,'S3'!$B$23:$Z$57,7,FALSE)=\"\",\"\",VLOOKUP(U109,'S3'!$B$23:$Z$57,7,FALSE))","v":""},{"$f":"IF(VLOOKUP(U109,'S3'!$B$23:$Z$57,8,FALSE)=\"\",\"\",VLOOKUP(U109,'S3'!$B$23:$Z$57,8,FALSE))","v":""},{"$f":"IF(VLOOKUP(U109,'S3'!$B$23:$Z$57,9,FALSE)=\"\",\"\",VLOOKUP(U109,'S3'!$B$23:$Z$57,9,FALSE))","v":""},{"$f":"IF(VLOOKUP(U109,'S3'!$B$23:$Z$57,10,FALSE)=\"\",\"\",VLOOKUP(U109,'S3'!$B$23:$Z$57,10,FALSE))","v":""},{"$f":"IF(VLOOKUP(U109,'S3'!$B$23:$Z$57,11,FALSE)=\"\",\"\",VLOOKUP(U109,'S3'!$B$23:$Z$57,11,FALSE))","v":""},{"$f":"IF(VLOOKUP(U109,'S3'!$B$23:$Z$57,12,FALSE)=\"\",\"\",VLOOKUP(U109,'S3'!$B$23:$Z$57,12,FALSE))","v":""},{"$f":"IF(VLOOKUP(U109,'S3'!$B$23:$Z$57,13,FALSE)=\"\",\"\",VLOOKUP(U109,'S3'!$B$23:$Z$57,13,FALSE))","v":""},{"$f":"IF(VLOOKUP(U109,'S3'!$B$23:$Z$57,14,FALSE)=\"\",\"\",VLOOKUP(U109,'S3'!$B$23:$Z$57,14,FALSE))","v":""},{"$f":"IF(VLOOKUP(U109,'S3'!$B$23:$Z$57,15,FALSE)=\"\",\"\",VLOOKUP(U109,'S3'!$B$23:$Z$57,15,FALSE))","v":""}]
[null,"von",null,null,{"$f":"IF('S3'!$G$21=\"\",\"\",'S3'!$G$21)","v":""},{"$f":"IF('S3'!$H$21=\"\",\"\",'S3'!$H$21)","v":""},{"$f":"IF('S3'!$I$21=\"\",\"\",'S3'!$I$21)","v":""},{"$f":"IF('S3'!$J$21=\"\",\"\",'S3'!$J$21)","v":""},{"$f":"IF('S3'!$K$21=\"\",\"\",'S3'!$K$21)","v":""},{"$f":"IF('S3'!$L$21=\"\",\"\",'S3'!$L$21)","v":""},{"$f":"IF('S3'!$M$21=\"\",\"\",'S3'!$M$21)","v":""},{"$f":"IF('S3'!$N$21=\"\",\"\",'S3'!$N$21)","v":""},{"$f":"IF('S3'!$O$21=\"\",\"\",'S3'!$O$21)","v":""},{"$f":"IF('S3'!$P$21=\"\",\"\",'S3'!$P$21)","v":""},null,"von",null,null,null,null,"von",null,null,{"$f":"IF('S3'!$G$21=\"\",\"\",'S3'!$G$21)","v":""},{"$f":"IF('S3'!$H$21=\"\",\"\",'S3'!$H$21)","v":""},{"$f":"IF('S3'!$I$21=\"\",\"\",'S3'!$I$21)","v":""},{"$f":"IF('S3'!$J$21=\"\",\"\",'S3'!$J$21)","v":""},{"$f":"IF('S3'!$K$21=\"\",\"\",'S3'!$K$21)","v":""},{"$f":"IF('S3'!$L$21=\"\",\"\",'S3'!$L$21)","v":""},{"$f":"IF('S3'!$M$21=\"\",\"\",'S3'!$M$21)","v":""},{"$f":"IF('S3'!$N$21=\"\",\"\",'S3'!$N$21)","v":""},{"$f":"IF('S3'!$O$21=\"\",\"\",'S3'!$O$21)","v":""},{"$f":"IF('S3'!$P$21=\"\",\"\",'S3'!$P$21)","v":""},null,"von"]
[null,null,null,null,null,null,null,null,null,null,null,null,null,null,null,{"$f":"'S3'!$H$12","v":0},null,null,null,null,null,null,null,null,null,null,null,null,null,null,null,null,null,null,{"$f":"'S3'!$H$12","v":0}]
[null,{"$f":"IF('S3'!$Q$18=\"\",\"\",\"Aufgabe\")","v":""},null,null,{"$f":"IF('S3'!$Q$18=\"\",\"\",'S3'!$Q$18)","v":""},{"$f":"IF('S3'!$R$18=\"\",\"\",'S3'!$R$18)","v":""},{"$f":"IF('S3'!$S$18=\"\",\"\",'S3'!$S$18)","v":""},{"$f":"IF('S3'!$T$18=\"\",\"\",'S3'!$T$18)","v":""},{"$f":"IF('S3'!$U$18=\"\",\"\",'S3'!$U$18)","v":""},{"$f":"IF('S3'!$V$18=\"\",\"\",'S3'!$V$18)","v":""},{"$f":"IF('S3'!$W$18=\"\",\"\",'S3'!$W$18)","v":""},{"$f":"IF('S3'!$X$18=\"\",\"\",'S3'!$X$18)","v":""},{"$f":"IF('S3'!$Y$18=\"\",\"\",'S3'!$Y$18)","v":""},{"$f":"IF('S3'!$Z$18=\"\",\"\",'S3'!$Z$18)","v":""},null,null,null,null,null,null,{"$f":"IF('S3'!$Q$18=\"\",\"\",\"Aufgabe\")","v":""},null,null,{"$f":"IF('S3'!$Q$18=\"\",\"\",'S3'!$Q$18)","v":""},{"$f":"IF('S3'!$R$18=\"\",\"\",'S3'!$R$18)","v":""},{"$f":"IF('S3'!$S$18=\"\",\"\",'S3'!$S$18)","v":""},{"$f":"IF('S3'!$T$18=\"\",\"\",'S3'!$T$18)","v":""},{"$f":"IF('S3'!$U$18=\"\",\"\",'S3'!$U$18)","v":""},{"$f":"IF('S3'!$V$18=\"\",\"\",'S3'!$V$18)","v":""},{"$f":"IF('S3'!$W$18=\"\",\"\",'S3'!$W$18)","v":""},{"$f":"IF('S3'!$X$18=\"\",\"\",'S3'!$X$18)","v":""},{"$f":"IF('S3'!$Y$18=\"\",\"\",'S3'!$Y$18)","v":""},{"$f":"IF('S3'!$Z$18=\"\",\"\",'S3'!$Z$18)","v":""}]
[null,{"$f":"IF('S3'!$Q$18=\"\",\"\",\"erreicht\")","v":""},null,null,{"$f":"IF(VLOOKUP(B109,'S3'!$B$23:$Z$57,16,FALSE)=\"\",\"\",VLOOKUP(B109,'S3'!$B$23:$Z$57,16,FALSE))","v":""},{"$f":"IF(VLOOKUP(B109,'S3'!$B$23:$Z$57,17,FALSE)=\"\",\"\",VLOOKUP(B109,'S3'!$B$23:$Z$57,17,FALSE))","v":""},{"$f":"IF(VLOOKUP(B109,'S3'!$B$23:$Z$57,18,FALSE)=\"\",\"\",VLOOKUP(B109,'S3'!$B$23:$Z$57,18,FALSE))","v":""},{"$f":"IF(VLOOKUP(B109,'S3'!$B$23:$Z$57,19,FALSE)=\"\",\"\",VLOOKUP(B109,'S3'!$B$23:$Z$57,19,FALSE))","v":""},{"$f":"IF(VLOOKUP(B109,'S3'!$B$23:$Z$57,20,FALSE)=\"\",\"\",VLOOKUP(B109,'S3'!$B$23:$Z$57,20,FALSE))","v":""},{"$f":"IF(VLOOKUP(B109,'S3'!$B$23:$Z$57,21,FALSE)=\"\",\"\",VLOOKUP(B109,'S3'!$B$23:$Z$57,21,FALSE))","v":""},{"$f":"IF(VLOOKUP(B109,'S3'!$B$23:$Z$57,22,FALSE)=\"\",\"\",VLOOKUP(B109,'S3'!$B$23:$Z$57,22,FALSE))","v":""},{"$f":"IF(VLOOKUP(B109,'S3'!$B$23:$Z$57,23,FALSE)=\"\",\"\",VLOOKUP(B109,'S3'!$B$23:$Z$57,23,FALSE))","v":""},{"$f":"IF(VLOOKUP(B109,'S3'!$B$23:$Z$57,24,FALSE)=\"\",\"\",VLOOKUP(B109,'S3'!$B$23:$Z$57,24,FALSE))","v":""},{"$f":"IF(VLOOKUP(B109,'S3'!$B$23:$Z$57,25,FALSE)=\"\",\"\",VLOOKUP(B109,'S3'!$B$23:$Z$57,25,FALSE))","v":""},null,"Note",null,null,null,null,{"$f":"IF('S3'!$Q$18=\"\",\"\",\"erreicht\")","v":""},null,null,{"$f":"IF(VLOOKUP(U109,'S3'!$B$23:$Z$57,16,FALSE)=\"\",\"\",VLOOKUP(U109,'S3'!$B$23:$Z$57,16,FALSE))","v":""},{"$f":"IF(VLOOKUP(U109,'S3'!$B$23:$Z$57,17,FALSE)=\"\",\"\",VLOOKUP(U109,'S3'!$B$23:$Z$57,17,FALSE))","v":""},{"$f":"IF(VLOOKUP(U109,'S3'!$B$23:$Z$57,18,FALSE)=\"\",\"\",VLOOKUP(U109,'S3'!$B$23:$Z$57,18,FALSE))","v":""},{"$f":"IF(VLOOKUP(U109,'S3'!$B$23:$Z$57,19,FALSE)=\"\",\"\",VLOOKUP(U109,'S3'!$B$23:$Z$57,19,FALSE))","v":""},{"$f":"IF(VLOOKUP(U109,'S3'!$B$23:$Z$57,20,FALSE)=\"\",\"\",VLOOKUP(U109,'S3'!$B$23:$Z$57,20,FALSE))","v":""},{"$f":"IF(VLOOKUP(U109,'S3'!$B$23:$Z$57,21,FALSE)=\"\",\"\",VLOOKUP(U109,'S3'!$B$23:$Z$57,21,FALSE))","v":""},{"$f":"IF(VLOOKUP(U109,'S3'!$B$23:$Z$57,22,FALSE)=\"\",\"\",VLOOKUP(U109,'S3'!$B$23:$Z$57,22,FALSE))","v":""},{"$f":"IF(VLOOKUP(U109,'S3'!$B$23:$Z$57,23,FALSE)=\"\",\"\",VLOOKUP(U109,'S3'!$B$23:$Z$57,23,FALSE))","v":""},{"$f":"IF(VLOOKUP(U109,'S3'!$B$23:$Z$57,24,FALSE)=\"\",\"\",VLOOKUP(U109,'S3'!$B$23:$Z$57,24,FALSE))","v":""},{"$f":"IF(VLOOKUP(U109,'S3'!$B$23:$Z$57,25,FALSE)=\"\",\"\",VLOOKUP(U109,'S3'!$B$23:$Z$57,25,FALSE))","v":""},null,"Note"]
[null,{"$f":"IF('S3'!$Q$18=\"\",\"\",\"von\")","v":""},null,null,{"$f":"IF('S3'!$Q$21=\"\",\"\",'S3'!$Q$21)","v":""},{"$f":"IF('S3'!$R$21=\"\",\"\",'S3'!$R$21)","v":""},{"$f":"IF('S3'!$S$21=\"\",\"\",'S3'!$S$21)","v":""},{"$f":"IF('S3'!$T$21=\"\",\"\",'S3'!$T$21)","v":""},{"$f":"IF('S3'!$U$21=\"\",\"\",'S3'!$U$21)","v":""},{"$f":"IF('S3'!$V$21=\"\",\"\",'S3'!$V$21)","v":""},{"$f":"IF('S3'!$W$21=\"\",\"\",'S3'!$W$21)","v":""},{"$f":"IF('S3'!$X$21=\"\",\"\",'S3'!$X$21)","v":""},{"$f":"IF('S3'!$Y$21=\"\",\"\",'S3'!$Y$21)","v":""},{"$f":"IF('S3'!$Z$21=\"\",\"\",'S3'!$Z$21)","v":""},null,{"$f":"IF(VLOOKUP(B109,'S3'!$B$23:$Z$57,2,FALSE)=\"\",\"\",CONCATENATE(VLOOKUP(B109,'S3'!$B$23:$Z$57,2,FALSE),\" \",VLOOKUP(B109,'S3'!$B$23:$Z$57,3,FALSE)))","v":"- "},null,null,null,null,{"$f":"IF('S3'!$Q$18=\"\",\"\",\"von\")","v":""},null,null,{"$f":"IF('S3'!$Q$21=\"\",\"\",'S3'!$Q$21)","v":""},{"$f":"IF('S3'!$R$21=\"\",\"\",'S3'!$R$21)","v":""},{"$f":"IF('S3'!$S$21=\"\",\"\",'S3'!$S$21)","v":""},{"$f":"IF('S3'!$T$21=\"\",\"\",'S3'!$T$21)","v":""},{"$f":"IF('S3'!$U$21=\"\",\"\",'S3'!$U$21)","v":""},{"$f":"IF('S3'!$V$21=\"\",\"\",'S3'!$V$21)","v":""},{"$f":"IF('S3'!$W$21=\"\",\"\",'S3'!$W$21)","v":""},{"$f":"IF('S3'!$X$21=\"\",\"\",'S3'!$X$21)","v":""},{"$f":"IF('S3'!$Y$21=\"\",\"\",'S3'!$Y$21)","v":""},{"$f":"IF('S3'!$Z$21=\"\",\"\",'S3'!$Z$21)","v":""},null,{"$f":"IF(VLOOKUP(U109,'S3'!$B$23:$Z$57,2,FALSE)=\"\",\"\",CONCATENATE(VLOOKUP(U109,'S3'!$B$23:$Z$57,2,FALSE),\" \",VLOOKUP(U109,'S3'!$B$23:$Z$57,3,FALSE)))","v":"- "}]
[]
[]
[]
[null,{"$f":"'S3'!$B$43","v":""},null,null,null,null,null,null,null,null,null,null,null,null,null,null,null,null,null,null,{"$f":"'S3'!$B$44","v":""}]
[null,null,null,null,null,null,null,null,null,null,null,null,null,null,null,"Summe",null,null,null,null,null,null,null,null,null,null,null,null,null,null,null,null,null,null,"Summe"]
[null,"Aufgabe",null,null,{"$f":"IF('S3'!$G$18=\"\",\"\",'S3'!$G$18)","v":1},{"$f":"IF('S3'!$H$18=\"\",\"\",'S3'!$H$18)","v":2},{"$f":"IF('S3'!$I$18=\"\",\"\",'S3'!$I$18)","v":3},{"$f":"IF('S3'!$J$18=\"\",\"\",'S3'!$J$18)","v":""},{"$f":"IF('S3'!$K$18=\"\",\"\",'S3'!$K$18)","v":""},{"$f":"IF('S3'!$L$18=\"\",\"\",'S3'!$L$18)","v":""},{"$f":"IF('S3'!$M$18=\"\",\"\",'S3'!$M$18)","v":""},{"$f":"IF('S3'!$N$18=\"\",\"\",'S3'!$N$18)","v":""},{"$f":"IF('S3'!$O$18=\"\",\"\",'S3'!$O$18)","v":""},{"$f":"IF('S3'!$P$18=\"\",\"\",'S3'!$P$18)","v":""},null,{"$f":"IF(VLOOKUP(B121,'S3'!$B$23:$Z$57,5,FALSE)=\"\",\"\",VLOOKUP(B121,'S3'!$B$23:$Z$57,5,FALSE))","v":0},null,null,null,null,"Aufgabe",null,null,{"$f":"IF('S3'!$G$18=\"\",\"\",'S3'!$G$18)","v":1},{"$f":"IF('S3'!$H$18=\"\",\"\",'S3'!$H$18)","v":2},{"$f":"IF('S3'!$I$18=\"\",\"\",'S3'!$I$18)","v":3},{"$f":"IF('S3'!$J$18=\"\",\"\",'S3'!$J$18)","v":""},{"$f":"IF('S3'!$K$18=\"\",\"\",'S3'!$K$18)","v":""},{"$f":"IF('S3'!$L$18=\"\",\"\",'S3'!$L$18)","v":""},{"$f":"IF('S3'!$M$18=\"\",\"\",'S3'!$M$18)","v":""},{"$f":"IF('S3'!$N$18=\"\",\"\",'S3'!$N$18)","v":""},{"$f":"IF('S3'!$O$18=\"\",\"\",'S3'!$O$18)","v":""},{"$f":"IF('S3'!$P$18=\"\",\"\",'S3'!$P$18)","v":""},null,{"$f":"IF(VLOOKUP(U121,'S3'!$B$23:$Z$57,5,FALSE)=\"\",\"\",VLOOKUP(U121,'S3'!$B$23:$Z$57,5,FALSE))","v":0}]
[null,"erreicht",null,null,{"$f":"IF(VLOOKUP(B121,'S3'!$B$23:$Z$57,6,FALSE)=\"\",\"\",VLOOKUP(B121,'S3'!$B$23:$Z$57,6,FALSE))","v":"."},{"$f":"IF(VLOOKUP(B121,'S3'!$B$23:$Z$57,7,FALSE)=\"\",\"\",VLOOKUP(B121,'S3'!$B$23:$Z$57,7,FALSE))","v":""},{"$f":"IF(VLOOKUP(B121,'S3'!$B$23:$Z$57,8,FALSE)=\"\",\"\",VLOOKUP(B121,'S3'!$B$23:$Z$57,8,FALSE))","v":""},{"$f":"IF(VLOOKUP(B121,'S3'!$B$23:$Z$57,9,FALSE)=\"\",\"\",VLOOKUP(B121,'S3'!$B$23:$Z$57,9,FALSE))","v":""},{"$f":"IF(VLOOKUP(B121,'S3'!$B$23:$Z$57,10,FALSE)=\"\",\"\",VLOOKUP(B121,'S3'!$B$23:$Z$57,10,FALSE))","v":""},{"$f":"IF(VLOOKUP(B121,'S3'!$B$23:$Z$57,11,FALSE)=\"\",\"\",VLOOKUP(B121,'S3'!$B$23:$Z$57,11,FALSE))","v":""},{"$f":"IF(VLOOKUP(B121,'S3'!$B$23:$Z$57,12,FALSE)=\"\",\"\",VLOOKUP(B121,'S3'!$B$23:$Z$57,12,FALSE))","v":""},{"$f":"IF(VLOOKUP(B121,'S3'!$B$23:$Z$57,13,FALSE)=\"\",\"\",VLOOKUP(B121,'S3'!$B$23:$Z$57,13,FALSE))","v":""},{"$f":"IF(VLOOKUP(B121,'S3'!$B$23:$Z$57,14,FALSE)=\"\",\"\",VLOOKUP(B121,'S3'!$B$23:$Z$57,14,FALSE))","v":""},{"$f":"IF(VLOOKUP(B121,'S3'!$B$23:$Z$57,15,FALSE)=\"\",\"\",VLOOKUP(B121,'S3'!$B$23:$Z$57,15,FALSE))","v":""},null,null,null,null,null,null,"erreicht",null,null,{"$f":"IF(VLOOKUP(U121,'S3'!$B$23:$Z$57,6,FALSE)=\"\",\"\",VLOOKUP(U121,'S3'!$B$23:$Z$57,6,FALSE))","v":"."},{"$f":"IF(VLOOKUP(U121,'S3'!$B$23:$Z$57,7,FALSE)=\"\",\"\",VLOOKUP(U121,'S3'!$B$23:$Z$57,7,FALSE))","v":""},{"$f":"IF(VLOOKUP(U121,'S3'!$B$23:$Z$57,8,FALSE)=\"\",\"\",VLOOKUP(U121,'S3'!$B$23:$Z$57,8,FALSE))","v":""},{"$f":"IF(VLOOKUP(U121,'S3'!$B$23:$Z$57,9,FALSE)=\"\",\"\",VLOOKUP(U121,'S3'!$B$23:$Z$57,9,FALSE))","v":""},{"$f":"IF(VLOOKUP(U121,'S3'!$B$23:$Z$57,10,FALSE)=\"\",\"\",VLOOKUP(U121,'S3'!$B$23:$Z$57,10,FALSE))","v":""},{"$f":"IF(VLOOKUP(U121,'S3'!$B$23:$Z$57,11,FALSE)=\"\",\"\",VLOOKUP(U121,'S3'!$B$23:$Z$57,11,FALSE))","v":""},{"$f":"IF(VLOOKUP(U121,'S3'!$B$23:$Z$57,12,FALSE)=\"\",\"\",VLOOKUP(U121,'S3'!$B$23:$Z$57,12,FALSE))","v":""},{"$f":"IF(VLOOKUP(U121,'S3'!$B$23:$Z$57,13,FALSE)=\"\",\"\",VLOOKUP(U121,'S3'!$B$23:$Z$57,13,FALSE))","v":""},{"$f":"IF(VLOOKUP(U121,'S3'!$B$23:$Z$57,14,FALSE)=\"\",\"\",VLOOKUP(U121,'S3'!$B$23:$Z$57,14,FALSE))","v":""},{"$f":"IF(VLOOKUP(U121,'S3'!$B$23:$Z$57,15,FALSE)=\"\",\"\",VLOOKUP(U121,'S3'!$B$23:$Z$57,15,FALSE))","v":""}]
[null,"von",null,null,{"$f":"IF('S3'!$G$21=\"\",\"\",'S3'!$G$21)","v":""},{"$f":"IF('S3'!$H$21=\"\",\"\",'S3'!$H$21)","v":""},{"$f":"IF('S3'!$I$21=\"\",\"\",'S3'!$I$21)","v":""},{"$f":"IF('S3'!$J$21=\"\",\"\",'S3'!$J$21)","v":""},{"$f":"IF('S3'!$K$21=\"\",\"\",'S3'!$K$21)","v":""},{"$f":"IF('S3'!$L$21=\"\",\"\",'S3'!$L$21)","v":""},{"$f":"IF('S3'!$M$21=\"\",\"\",'S3'!$M$21)","v":""},{"$f":"IF('S3'!$N$21=\"\",\"\",'S3'!$N$21)","v":""},{"$f":"IF('S3'!$O$21=\"\",\"\",'S3'!$O$21)","v":""},{"$f":"IF('S3'!$P$21=\"\",\"\",'S3'!$P$21)","v":""},null,"von",null,null,null,null,"von",null,null,{"$f":"IF('S3'!$G$21=\"\",\"\",'S3'!$G$21)","v":""},{"$f":"IF('S3'!$H$21=\"\",\"\",'S3'!$H$21)","v":""},{"$f":"IF('S3'!$I$21=\"\",\"\",'S3'!$I$21)","v":""},{"$f":"IF('S3'!$J$21=\"\",\"\",'S3'!$J$21)","v":""},{"$f":"IF('S3'!$K$21=\"\",\"\",'S3'!$K$21)","v":""},{"$f":"IF('S3'!$L$21=\"\",\"\",'S3'!$L$21)","v":""},{"$f":"IF('S3'!$M$21=\"\",\"\",'S3'!$M$21)","v":""},{"$f":"IF('S3'!$N$21=\"\",\"\",'S3'!$N$21)","v":""},{"$f":"IF('S3'!$O$21=\"\",\"\",'S3'!$O$21)","v":""},{"$f":"IF('S3'!$P$21=\"\",\"\",'S3'!$P$21)","v":""},null,"von"]
[null,null,null,null,null,null,null,null,null,null,null,null,null,null,null,{"$f":"'S3'!$H$12","v":0},null,null,null,null,null,null,null,null,null,null,null,null,null,null,null,null,null,null,{"$f":"'S3'!$H$12","v":0}]
[null,{"$f":"IF('S3'!$Q$18=\"\",\"\",\"Aufgabe\")","v":""},null,null,{"$f":"IF('S3'!$Q$18=\"\",\"\",'S3'!$Q$18)","v":""},{"$f":"IF('S3'!$R$18=\"\",\"\",'S3'!$R$18)","v":""},{"$f":"IF('S3'!$S$18=\"\",\"\",'S3'!$S$18)","v":""},{"$f":"IF('S3'!$T$18=\"\",\"\",'S3'!$T$18)","v":""},{"$f":"IF('S3'!$U$18=\"\",\"\",'S3'!$U$18)","v":""},{"$f":"IF('S3'!$V$18=\"\",\"\",'S3'!$V$18)","v":""},{"$f":"IF('S3'!$W$18=\"\",\"\",'S3'!$W$18)","v":""},{"$f":"IF('S3'!$X$18=\"\",\"\",'S3'!$X$18)","v":""},{"$f":"IF('S3'!$Y$18=\"\",\"\",'S3'!$Y$18)","v":""},{"$f":"IF('S3'!$Z$18=\"\",\"\",'S3'!$Z$18)","v":""},null,null,null,null,null,null,{"$f":"IF('S3'!$Q$18=\"\",\"\",\"Aufgabe\")","v":""},null,null,{"$f":"IF('S3'!$Q$18=\"\",\"\",'S3'!$Q$18)","v":""},{"$f":"IF('S3'!$R$18=\"\",\"\",'S3'!$R$18)","v":""},{"$f":"IF('S3'!$S$18=\"\",\"\",'S3'!$S$18)","v":""},{"$f":"IF('S3'!$T$18=\"\",\"\",'S3'!$T$18)","v":""},{"$f":"IF('S3'!$U$18=\"\",\"\",'S3'!$U$18)","v":""},{"$f":"IF('S3'!$V$18=\"\",\"\",'S3'!$V$18)","v":""},{"$f":"IF('S3'!$W$18=\"\",\"\",'S3'!$W$18)","v":""},{"$f":"IF('S3'!$X$18=\"\",\"\",'S3'!$X$18)","v":""},{"$f":"IF('S3'!$Y$18=\"\",\"\",'S3'!$Y$18)","v":""},{"$f":"IF('S3'!$Z$18=\"\",\"\",'S3'!$Z$18)","v":""}]
[null,{"$f":"IF('S3'!$Q$18=\"\",\"\",\"erreicht\")","v":""},null,null,{"$f":"IF(VLOOKUP(B121,'S3'!$B$23:$Z$57,16,FALSE)=\"\",\"\",VLOOKUP(B121,'S3'!$B$23:$Z$57,16,FALSE))","v":""},{"$f":"IF(VLOOKUP(B121,'S3'!$B$23:$Z$57,17,FALSE)=\"\",\"\",VLOOKUP(B121,'S3'!$B$23:$Z$57,17,FALSE))","v":""},{"$f":"IF(VLOOKUP(B121,'S3'!$B$23:$Z$57,18,FALSE)=\"\",\"\",VLOOKUP(B121,'S3'!$B$23:$Z$57,18,FALSE))","v":""},{"$f":"IF(VLOOKUP(B121,'S3'!$B$23:$Z$57,19,FALSE)=\"\",\"\",VLOOKUP(B121,'S3'!$B$23:$Z$57,19,FALSE))","v":""},{"$f":"IF(VLOOKUP(B121,'S3'!$B$23:$Z$57,20,FALSE)=\"\",\"\",VLOOKUP(B121,'S3'!$B$23:$Z$57,20,FALSE))","v":""},{"$f":"IF(VLOOKUP(B121,'S3'!$B$23:$Z$57,21,FALSE)=\"\",\"\",VLOOKUP(B121,'S3'!$B$23:$Z$57,21,FALSE))","v":""},{"$f":"IF(VLOOKUP(B121,'S3'!$B$23:$Z$57,22,FALSE)=\"\",\"\",VLOOKUP(B121,'S3'!$B$23:$Z$57,22,FALSE))","v":""},{"$f":"IF(VLOOKUP(B121,'S3'!$B$23:$Z$57,23,FALSE)=\"\",\"\",VLOOKUP(B121,'S3'!$B$23:$Z$57,23,FALSE))","v":""},{"$f":"IF(VLOOKUP(B121,'S3'!$B$23:$Z$57,24,FALSE)=\"\",\"\",VLOOKUP(B121,'S3'!$B$23:$Z$57,24,FALSE))","v":""},{"$f":"IF(VLOOKUP(B121,'S3'!$B$23:$Z$57,25,FALSE)=\"\",\"\",VLOOKUP(B121,'S3'!$B$23:$Z$57,25,FALSE))","v":""},null,"Note",null,null,null,null,{"$f":"IF('S3'!$Q$18=\"\",\"\",\"erreicht\")","v":""},null,null,{"$f":"IF(VLOOKUP(U121,'S3'!$B$23:$Z$57,16,FALSE)=\"\",\"\",VLOOKUP(U121,'S3'!$B$23:$Z$57,16,FALSE))","v":""},{"$f":"IF(VLOOKUP(U121,'S3'!$B$23:$Z$57,17,FALSE)=\"\",\"\",VLOOKUP(U121,'S3'!$B$23:$Z$57,17,FALSE))","v":""},{"$f":"IF(VLOOKUP(U121,'S3'!$B$23:$Z$57,18,FALSE)=\"\",\"\",VLOOKUP(U121,'S3'!$B$23:$Z$57,18,FALSE))","v":""},{"$f":"IF(VLOOKUP(U121,'S3'!$B$23:$Z$57,19,FALSE)=\"\",\"\",VLOOKUP(U121,'S3'!$B$23:$Z$57,19,FALSE))","v":""},{"$f":"IF(VLOOKUP(U121,'S3'!$B$23:$Z$57,20,FALSE)=\"\",\"\",VLOOKUP(U121,'S3'!$B$23:$Z$57,20,FALSE))","v":""},{"$f":"IF(VLOOKUP(U121,'S3'!$B$23:$Z$57,21,FALSE)=\"\",\"\",VLOOKUP(U121,'S3'!$B$23:$Z$57,21,FALSE))","v":""},{"$f":"IF(VLOOKUP(U121,'S3'!$B$23:$Z$57,22,FALSE)=\"\",\"\",VLOOKUP(U121,'S3'!$B$23:$Z$57,22,FALSE))","v":""},{"$f":"IF(VLOOKUP(U121,'S3'!$B$23:$Z$57,23,FALSE)=\"\",\"\",VLOOKUP(U121,'S3'!$B$23:$Z$57,23,FALSE))","v":""},{"$f":"IF(VLOOKUP(U121,'S3'!$B$23:$Z$57,24,FALSE)=\"\",\"\",VLOOKUP(U121,'S3'!$B$23:$Z$57,24,FALSE))","v":""},{"$f":"IF(VLOOKUP(U121,'S3'!$B$23:$Z$57,25,FALSE)=\"\",\"\",VLOOKUP(U121,'S3'!$B$23:$Z$57,25,FALSE))","v":""},null,"Note"]
[null,{"$f":"IF('S3'!$Q$18=\"\",\"\",\"von\")","v":""},null,null,{"$f":"IF('S3'!$Q$21=\"\",\"\",'S3'!$Q$21)","v":""},{"$f":"IF('S3'!$R$21=\"\",\"\",'S3'!$R$21)","v":""},{"$f":"IF('S3'!$S$21=\"\",\"\",'S3'!$S$21)","v":""},{"$f":"IF('S3'!$T$21=\"\",\"\",'S3'!$T$21)","v":""},{"$f":"IF('S3'!$U$21=\"\",\"\",'S3'!$U$21)","v":""},{"$f":"IF('S3'!$V$21=\"\",\"\",'S3'!$V$21)","v":""},{"$f":"IF('S3'!$W$21=\"\",\"\",'S3'!$W$21)","v":""},{"$f":"IF('S3'!$X$21=\"\",\"\",'S3'!$X$21)","v":""},{"$f":"IF('S3'!$Y$21=\"\",\"\",'S3'!$Y$21)","v":""},{"$f":"IF('S3'!$Z$21=\"\",\"\",'S3'!$Z$21)","v":""},null,{"$f":"IF(VLOOKUP(B121,'S3'!$B$23:$Z$57,2,FALSE)=\"\",\"\",CONCATENATE(VLOOKUP(B121,'S3'!$B$23:$Z$57,2,FALSE),\" \",VLOOKUP(B121,'S3'!$B$23:$Z$57,3,FALSE)))","v":"- "},null,null,null,null,{"$f":"IF('S3'!$Q$18=\"\",\"\",\"von\")","v":""},null,null,{"$f":"IF('S3'!$Q$21=\"\",\"\",'S3'!$Q$21)","v":""},{"$f":"IF('S3'!$R$21=\"\",\"\",'S3'!$R$21)","v":""},{"$f":"IF('S3'!$S$21=\"\",\"\",'S3'!$S$21)","v":""},{"$f":"IF('S3'!$T$21=\"\",\"\",'S3'!$T$21)","v":""},{"$f":"IF('S3'!$U$21=\"\",\"\",'S3'!$U$21)","v":""},{"$f":"IF('S3'!$V$21=\"\",\"\",'S3'!$V$21)","v":""},{"$f":"IF('S3'!$W$21=\"\",\"\",'S3'!$W$21)","v":""},{"$f":"IF('S3'!$X$21=\"\",\"\",'S3'!$X$21)","v":""},{"$f":"IF('S3'!$Y$21=\"\",\"\",'S3'!$Y$21)","v":""},{"$f":"IF('S3'!$Z$21=\"\",\"\",'S3'!$Z$21)","v":""},null,{"$f":"IF(VLOOKUP(U121,'S3'!$B$23:$Z$57,2,FALSE)=\"\",\"\",CONCATENATE(VLOOKUP(U121,'S3'!$B$23:$Z$57,2,FALSE),\" \",VLOOKUP(U121,'S3'!$B$23:$Z$57,3,FALSE)))","v":"- "}]
[]
[]
[]
[null,{"$f":"'S3'!$B$45","v":""},null,null,null,null,null,null,null,null,null,null,null,null,null,null,null,null,null,null,{"$f":"'S3'!$B$46","v":""}]
[null,null,null,null,null,null,null,null,null,null,null,null,null,null,null,"Summe",null,null,null,null,null,null,null,null,null,null,null,null,null,null,null,null,null,null,"Summe"]
[null,"Aufgabe",null,null,{"$f":"IF('S3'!$G$18=\"\",\"\",'S3'!$G$18)","v":1},{"$f":"IF('S3'!$H$18=\"\",\"\",'S3'!$H$18)","v":2},{"$f":"IF('S3'!$I$18=\"\",\"\",'S3'!$I$18)","v":3},{"$f":"IF('S3'!$J$18=\"\",\"\",'S3'!$J$18)","v":""},{"$f":"IF('S3'!$K$18=\"\",\"\",'S3'!$K$18)","v":""},{"$f":"IF('S3'!$L$18=\"\",\"\",'S3'!$L$18)","v":""},{"$f":"IF('S3'!$M$18=\"\",\"\",'S3'!$M$18)","v":""},{"$f":"IF('S3'!$N$18=\"\",\"\",'S3'!$N$18)","v":""},{"$f":"IF('S3'!$O$18=\"\",\"\",'S3'!$O$18)","v":""},{"$f":"IF('S3'!$P$18=\"\",\"\",'S3'!$P$18)","v":""},null,{"$f":"IF(VLOOKUP(B133,'S3'!$B$23:$Z$57,5,FALSE)=\"\",\"\",VLOOKUP(B133,'S3'!$B$23:$Z$57,5,FALSE))","v":0},null,null,null,null,"Aufgabe",null,null,{"$f":"IF('S3'!$G$18=\"\",\"\",'S3'!$G$18)","v":1},{"$f":"IF('S3'!$H$18=\"\",\"\",'S3'!$H$18)","v":2},{"$f":"IF('S3'!$I$18=\"\",\"\",'S3'!$I$18)","v":3},{"$f":"IF('S3'!$J$18=\"\",\"\",'S3'!$J$18)","v":""},{"$f":"IF('S3'!$K$18=\"\",\"\",'S3'!$K$18)","v":""},{"$f":"IF('S3'!$L$18=\"\",\"\",'S3'!$L$18)","v":""},{"$f":"IF('S3'!$M$18=\"\",\"\",'S3'!$M$18)","v":""},{"$f":"IF('S3'!$N$18=\"\",\"\",'S3'!$N$18)","v":""},{"$f":"IF('S3'!$O$18=\"\",\"\",'S3'!$O$18)","v":""},{"$f":"IF('S3'!$P$18=\"\",\"\",'S3'!$P$18)","v":""},null,{"$f":"IF(VLOOKUP(U133,'S3'!$B$23:$Z$57,5,FALSE)=\"\",\"\",VLOOKUP(U133,'S3'!$B$23:$Z$57,5,FALSE))","v":0}]
[null,"erreicht",null,null,{"$f":"IF(VLOOKUP(B133,'S3'!$B$23:$Z$57,6,FALSE)=\"\",\"\",VLOOKUP(B133,'S3'!$B$23:$Z$57,6,FALSE))","v":"."},{"$f":"IF(VLOOKUP(B133,'S3'!$B$23:$Z$57,7,FALSE)=\"\",\"\",VLOOKUP(B133,'S3'!$B$23:$Z$57,7,FALSE))","v":""},{"$f":"IF(VLOOKUP(B133,'S3'!$B$23:$Z$57,8,FALSE)=\"\",\"\",VLOOKUP(B133,'S3'!$B$23:$Z$57,8,FALSE))","v":""},{"$f":"IF(VLOOKUP(B133,'S3'!$B$23:$Z$57,9,FALSE)=\"\",\"\",VLOOKUP(B133,'S3'!$B$23:$Z$57,9,FALSE))","v":""},{"$f":"IF(VLOOKUP(B133,'S3'!$B$23:$Z$57,10,FALSE)=\"\",\"\",VLOOKUP(B133,'S3'!$B$23:$Z$57,10,FALSE))","v":""},{"$f":"IF(VLOOKUP(B133,'S3'!$B$23:$Z$57,11,FALSE)=\"\",\"\",VLOOKUP(B133,'S3'!$B$23:$Z$57,11,FALSE))","v":""},{"$f":"IF(VLOOKUP(B133,'S3'!$B$23:$Z$57,12,FALSE)=\"\",\"\",VLOOKUP(B133,'S3'!$B$23:$Z$57,12,FALSE))","v":""},{"$f":"IF(VLOOKUP(B133,'S3'!$B$23:$Z$57,13,FALSE)=\"\",\"\",VLOOKUP(B133,'S3'!$B$23:$Z$57,13,FALSE))","v":""},{"$f":"IF(VLOOKUP(B133,'S3'!$B$23:$Z$57,14,FALSE)=\"\",\"\",VLOOKUP(B133,'S3'!$B$23:$Z$57,14,FALSE))","v":""},{"$f":"IF(VLOOKUP(B133,'S3'!$B$23:$Z$57,15,FALSE)=\"\",\"\",VLOOKUP(B133,'S3'!$B$23:$Z$57,15,FALSE))","v":""},null,null,null,null,null,null,"erreicht",null,null,{"$f":"IF(VLOOKUP(U133,'S3'!$B$23:$Z$57,6,FALSE)=\"\",\"\",VLOOKUP(U133,'S3'!$B$23:$Z$57,6,FALSE))","v":"."},{"$f":"IF(VLOOKUP(U133,'S3'!$B$23:$Z$57,7,FALSE)=\"\",\"\",VLOOKUP(U133,'S3'!$B$23:$Z$57,7,FALSE))","v":""},{"$f":"IF(VLOOKUP(U133,'S3'!$B$23:$Z$57,8,FALSE)=\"\",\"\",VLOOKUP(U133,'S3'!$B$23:$Z$57,8,FALSE))","v":""},{"$f":"IF(VLOOKUP(U133,'S3'!$B$23:$Z$57,9,FALSE)=\"\",\"\",VLOOKUP(U133,'S3'!$B$23:$Z$57,9,FALSE))","v":""},{"$f":"IF(VLOOKUP(U133,'S3'!$B$23:$Z$57,10,FALSE)=\"\",\"\",VLOOKUP(U133,'S3'!$B$23:$Z$57,10,FALSE))","v":""},{"$f":"IF(VLOOKUP(U133,'S3'!$B$23:$Z$57,11,FALSE)=\"\",\"\",VLOOKUP(U133,'S3'!$B$23:$Z$57,11,FALSE))","v":""},{"$f":"IF(VLOOKUP(U133,'S3'!$B$23:$Z$57,12,FALSE)=\"\",\"\",VLOOKUP(U133,'S3'!$B$23:$Z$57,12,FALSE))","v":""},{"$f":"IF(VLOOKUP(U133,'S3'!$B$23:$Z$57,13,FALSE)=\"\",\"\",VLOOKUP(U133,'S3'!$B$23:$Z$57,13,FALSE))","v":""},{"$f":"IF(VLOOKUP(U133,'S3'!$B$23:$Z$57,14,FALSE)=\"\",\"\",VLOOKUP(U133,'S3'!$B$23:$Z$57,14,FALSE))","v":""},{"$f":"IF(VLOOKUP(U133,'S3'!$B$23:$Z$57,15,FALSE)=\"\",\"\",VLOOKUP(U133,'S3'!$B$23:$Z$57,15,FALSE))","v":""}]
[null,"von",null,null,{"$f":"IF('S3'!$G$21=\"\",\"\",'S3'!$G$21)","v":""},{"$f":"IF('S3'!$H$21=\"\",\"\",'S3'!$H$21)","v":""},{"$f":"IF('S3'!$I$21=\"\",\"\",'S3'!$I$21)","v":""},{"$f":"IF('S3'!$J$21=\"\",\"\",'S3'!$J$21)","v":""},{"$f":"IF('S3'!$K$21=\"\",\"\",'S3'!$K$21)","v":""},{"$f":"IF('S3'!$L$21=\"\",\"\",'S3'!$L$21)","v":""},{"$f":"IF('S3'!$M$21=\"\",\"\",'S3'!$M$21)","v":""},{"$f":"IF('S3'!$N$21=\"\",\"\",'S3'!$N$21)","v":""},{"$f":"IF('S3'!$O$21=\"\",\"\",'S3'!$O$21)","v":""},{"$f":"IF('S3'!$P$21=\"\",\"\",'S3'!$P$21)","v":""},null,"von",null,null,null,null,"von",null,null,{"$f":"IF('S3'!$G$21=\"\",\"\",'S3'!$G$21)","v":""},{"$f":"IF('S3'!$H$21=\"\",\"\",'S3'!$H$21)","v":""},{"$f":"IF('S3'!$I$21=\"\",\"\",'S3'!$I$21)","v":""},{"$f":"IF('S3'!$J$21=\"\",\"\",'S3'!$J$21)","v":""},{"$f":"IF('S3'!$K$21=\"\",\"\",'S3'!$K$21)","v":""},{"$f":"IF('S3'!$L$21=\"\",\"\",'S3'!$L$21)","v":""},{"$f":"IF('S3'!$M$21=\"\",\"\",'S3'!$M$21)","v":""},{"$f":"IF('S3'!$N$21=\"\",\"\",'S3'!$N$21)","v":""},{"$f":"IF('S3'!$O$21=\"\",\"\",'S3'!$O$21)","v":""},{"$f":"IF('S3'!$P$21=\"\",\"\",'S3'!$P$21)","v":""},null,"von"]
[null,null,null,null,null,null,null,null,null,null,null,null,null,null,null,{"$f":"'S3'!$H$12","v":0},null,null,null,null,null,null,null,null,null,null,null,null,null,null,null,null,null,null,{"$f":"'S3'!$H$12","v":0}]
[null,{"$f":"IF('S3'!$Q$18=\"\",\"\",\"Aufgabe\")","v":""},null,null,{"$f":"IF('S3'!$Q$18=\"\",\"\",'S3'!$Q$18)","v":""},{"$f":"IF('S3'!$R$18=\"\",\"\",'S3'!$R$18)","v":""},{"$f":"IF('S3'!$S$18=\"\",\"\",'S3'!$S$18)","v":""},{"$f":"IF('S3'!$T$18=\"\",\"\",'S3'!$T$18)","v":""},{"$f":"IF('S3'!$U$18=\"\",\"\",'S3'!$U$18)","v":""},{"$f":"IF('S3'!$V$18=\"\",\"\",'S3'!$V$18)","v":""},{"$f":"IF('S3'!$W$18=\"\",\"\",'S3'!$W$18)","v":""},{"$f":"IF('S3'!$X$18=\"\",\"\",'S3'!$X$18)","v":""},{"$f":"IF('S3'!$Y$18=\"\",\"\",'S3'!$Y$18)","v":""},{"$f":"IF('S3'!$Z$18=\"\",\"\",'S3'!$Z$18)","v":""},null,null,null,null,null,null,{"$f":"IF('S3'!$Q$18=\"\",\"\",\"Aufgabe\")","v":""},null,null,{"$f":"IF('S3'!$Q$18=\"\",\"\",'S3'!$Q$18)","v":""},{"$f":"IF('S3'!$R$18=\"\",\"\",'S3'!$R$18)","v":""},{"$f":"IF('S3'!$S$18=\"\",\"\",'S3'!$S$18)","v":""},{"$f":"IF('S3'!$T$18=\"\",\"\",'S3'!$T$18)","v":""},{"$f":"IF('S3'!$U$18=\"\",\"\",'S3'!$U$18)","v":""},{"$f":"IF('S3'!$V$18=\"\",\"\",'S3'!$V$18)","v":""},{"$f":"IF('S3'!$W$18=\"\",\"\",'S3'!$W$18)","v":""},{"$f":"IF('S3'!$X$18=\"\",\"\",'S3'!$X$18)","v":""},{"$f":"IF('S3'!$Y$18=\"\",\"\",'S3'!$Y$18)","v":""},{"$f":"IF('S3'!$Z$18=\"\",\"\",'S3'!$Z$18)","v":""}]
[null,{"$f":"IF('S3'!$Q$18=\"\",\"\",\"erreicht\")","v":""},null,null,{"$f":"IF(VLOOKUP(B133,'S3'!$B$23:$Z$57,16,FALSE)=\"\",\"\",VLOOKUP(B133,'S3'!$B$23:$Z$57,16,FALSE))","v":""},{"$f":"IF(VLOOKUP(B133,'S3'!$B$23:$Z$57,17,FALSE)=\"\",\"\",VLOOKUP(B133,'S3'!$B$23:$Z$57,17,FALSE))","v":""},{"$f":"IF(VLOOKUP(B133,'S3'!$B$23:$Z$57,18,FALSE)=\"\",\"\",VLOOKUP(B133,'S3'!$B$23:$Z$57,18,FALSE))","v":""},{"$f":"IF(VLOOKUP(B133,'S3'!$B$23:$Z$57,19,FALSE)=\"\",\"\",VLOOKUP(B133,'S3'!$B$23:$Z$57,19,FALSE))","v":""},{"$f":"IF(VLOOKUP(B133,'S3'!$B$23:$Z$57,20,FALSE)=\"\",\"\",VLOOKUP(B133,'S3'!$B$23:$Z$57,20,FALSE))","v":""},{"$f":"IF(VLOOKUP(B133,'S3'!$B$23:$Z$57,21,FALSE)=\"\",\"\",VLOOKUP(B133,'S3'!$B$23:$Z$57,21,FALSE))","v":""},{"$f":"IF(VLOOKUP(B133,'S3'!$B$23:$Z$57,22,FALSE)=\"\",\"\",VLOOKUP(B133,'S3'!$B$23:$Z$57,22,FALSE))","v":""},{"$f":"IF(VLOOKUP(B133,'S3'!$B$23:$Z$57,23,FALSE)=\"\",\"\",VLOOKUP(B133,'S3'!$B$23:$Z$57,23,FALSE))","v":""},{"$f":"IF(VLOOKUP(B133,'S3'!$B$23:$Z$57,24,FALSE)=\"\",\"\",VLOOKUP(B133,'S3'!$B$23:$Z$57,24,FALSE))","v":""},{"$f":"IF(VLOOKUP(B133,'S3'!$B$23:$Z$57,25,FALSE)=\"\",\"\",VLOOKUP(B133,'S3'!$B$23:$Z$57,25,FALSE))","v":""},null,"Note",null,null,null,null,{"$f":"IF('S3'!$Q$18=\"\",\"\",\"erreicht\")","v":""},null,null,{"$f":"IF(VLOOKUP(U133,'S3'!$B$23:$Z$57,16,FALSE)=\"\",\"\",VLOOKUP(U133,'S3'!$B$23:$Z$57,16,FALSE))","v":""},{"$f":"IF(VLOOKUP(U133,'S3'!$B$23:$Z$57,17,FALSE)=\"\",\"\",VLOOKUP(U133,'S3'!$B$23:$Z$57,17,FALSE))","v":""},{"$f":"IF(VLOOKUP(U133,'S3'!$B$23:$Z$57,18,FALSE)=\"\",\"\",VLOOKUP(U133,'S3'!$B$23:$Z$57,18,FALSE))","v":""},{"$f":"IF(VLOOKUP(U133,'S3'!$B$23:$Z$57,19,FALSE)=\"\",\"\",VLOOKUP(U133,'S3'!$B$23:$Z$57,19,FALSE))","v":""},{"$f":"IF(VLOOKUP(U133,'S3'!$B$23:$Z$57,20,FALSE)=\"\",\"\",VLOOKUP(U133,'S3'!$B$23:$Z$57,20,FALSE))","v":""},{"$f":"IF(VLOOKUP(U133,'S3'!$B$23:$Z$57,21,FALSE)=\"\",\"\",VLOOKUP(U133,'S3'!$B$23:$Z$57,21,FALSE))","v":""},{"$f":"IF(VLOOKUP(U133,'S3'!$B$23:$Z$57,22,FALSE)=\"\",\"\",VLOOKUP(U133,'S3'!$B$23:$Z$57,22,FALSE))","v":""},{"$f":"IF(VLOOKUP(U133,'S3'!$B$23:$Z$57,23,FALSE)=\"\",\"\",VLOOKUP(U133,'S3'!$B$23:$Z$57,23,FALSE))","v":""},{"$f":"IF(VLOOKUP(U133,'S3'!$B$23:$Z$57,24,FALSE)=\"\",\"\",VLOOKUP(U133,'S3'!$B$23:$Z$57,24,FALSE))","v":""},{"$f":"IF(VLOOKUP(U133,'S3'!$B$23:$Z$57,25,FALSE)=\"\",\"\",VLOOKUP(U133,'S3'!$B$23:$Z$57,25,FALSE))","v":""},null,"Note"]
[null,{"$f":"IF('S3'!$Q$18=\"\",\"\",\"von\")","v":""},null,null,{"$f":"IF('S3'!$Q$21=\"\",\"\",'S3'!$Q$21)","v":""},{"$f":"IF('S3'!$R$21=\"\",\"\",'S3'!$R$21)","v":""},{"$f":"IF('S3'!$S$21=\"\",\"\",'S3'!$S$21)","v":""},{"$f":"IF('S3'!$T$21=\"\",\"\",'S3'!$T$21)","v":""},{"$f":"IF('S3'!$U$21=\"\",\"\",'S3'!$U$21)","v":""},{"$f":"IF('S3'!$V$21=\"\",\"\",'S3'!$V$21)","v":""},{"$f":"IF('S3'!$W$21=\"\",\"\",'S3'!$W$21)","v":""},{"$f":"IF('S3'!$X$21=\"\",\"\",'S3'!$X$21)","v":""},{"$f":"IF('S3'!$Y$21=\"\",\"\",'S3'!$Y$21)","v":""},{"$f":"IF('S3'!$Z$21=\"\",\"\",'S3'!$Z$21)","v":""},null,{"$f":"IF(VLOOKUP(B133,'S3'!$B$23:$Z$57,2,FALSE)=\"\",\"\",CONCATENATE(VLOOKUP(B133,'S3'!$B$23:$Z$57,2,FALSE),\" \",VLOOKUP(B133,'S3'!$B$23:$Z$57,3,FALSE)))","v":"- "},null,null,null,null,{"$f":"IF('S3'!$Q$18=\"\",\"\",\"von\")","v":""},null,null,{"$f":"IF('S3'!$Q$21=\"\",\"\",'S3'!$Q$21)","v":""},{"$f":"IF('S3'!$R$21=\"\",\"\",'S3'!$R$21)","v":""},{"$f":"IF('S3'!$S$21=\"\",\"\",'S3'!$S$21)","v":""},{"$f":"IF('S3'!$T$21=\"\",\"\",'S3'!$T$21)","v":""},{"$f":"IF('S3'!$U$21=\"\",\"\",'S3'!$U$21)","v":""},{"$f":"IF('S3'!$V$21=\"\",\"\",'S3'!$V$21)","v":""},{"$f":"IF('S3'!$W$21=\"\",\"\",'S3'!$W$21)","v":""},{"$f":"IF('S3'!$X$21=\"\",\"\",'S3'!$X$21)","v":""},{"$f":"IF('S3'!$Y$21=\"\",\"\",'S3'!$Y$21)","v":""},{"$f":"IF('S3'!$Z$21=\"\",\"\",'S3'!$Z$21)","v":""},null,{"$f":"IF(VLOOKUP(U133,'S3'!$B$23:$Z$57,2,FALSE)=\"\",\"\",CONCATENATE(VLOOKUP(U133,'S3'!$B$23:$Z$57,2,FALSE),\" \",VLOOKUP(U133,'S3'!$B$23:$Z$57,3,FALSE)))","v":"- "}]
[]
[]
[null,{"$f":"'S3'!$B$47","v":""},null,null,null,null,null,null,null,null,null,null,null,null,null,null,null,null,null,null,{"$f":"'S3'!$B$48","v":""}]
[null,null,null,null,null,null,null,null,null,null,null,null,null,null,null,"Summe",null,null,null,null,null,null,null,null,null,null,null,null,null,null,null,null,null,null,"Summe"]
[null,"Aufgabe",null,null,{"$f":"IF('S3'!$G$18=\"\",\"\",'S3'!$G$18)","v":1},{"$f":"IF('S3'!$H$18=\"\",\"\",'S3'!$H$18)","v":2},{"$f":"IF('S3'!$I$18=\"\",\"\",'S3'!$I$18)","v":3},{"$f":"IF('S3'!$J$18=\"\",\"\",'S3'!$J$18)","v":""},{"$f":"IF('S3'!$K$18=\"\",\"\",'S3'!$K$18)","v":""},{"$f":"IF('S3'!$L$18=\"\",\"\",'S3'!$L$18)","v":""},{"$f":"IF('S3'!$M$18=\"\",\"\",'S3'!$M$18)","v":""},{"$f":"IF('S3'!$N$18=\"\",\"\",'S3'!$N$18)","v":""},{"$f":"IF('S3'!$O$18=\"\",\"\",'S3'!$O$18)","v":""},{"$f":"IF('S3'!$P$18=\"\",\"\",'S3'!$P$18)","v":""},null,{"$f":"IF(VLOOKUP(B144,'S3'!$B$23:$Z$57,5,FALSE)=\"\",\"\",VLOOKUP(B144,'S3'!$B$23:$Z$57,5,FALSE))","v":0},null,null,null,null,"Aufgabe",null,null,{"$f":"IF('S3'!$G$18=\"\",\"\",'S3'!$G$18)","v":1},{"$f":"IF('S3'!$H$18=\"\",\"\",'S3'!$H$18)","v":2},{"$f":"IF('S3'!$I$18=\"\",\"\",'S3'!$I$18)","v":3},{"$f":"IF('S3'!$J$18=\"\",\"\",'S3'!$J$18)","v":""},{"$f":"IF('S3'!$K$18=\"\",\"\",'S3'!$K$18)","v":""},{"$f":"IF('S3'!$L$18=\"\",\"\",'S3'!$L$18)","v":""},{"$f":"IF('S3'!$M$18=\"\",\"\",'S3'!$M$18)","v":""},{"$f":"IF('S3'!$N$18=\"\",\"\",'S3'!$N$18)","v":""},{"$f":"IF('S3'!$O$18=\"\",\"\",'S3'!$O$18)","v":""},{"$f":"IF('S3'!$P$18=\"\",\"\",'S3'!$P$18)","v":""},null,{"$f":"IF(VLOOKUP(U144,'S3'!$B$23:$Z$57,5,FALSE)=\"\",\"\",VLOOKUP(U144,'S3'!$B$23:$Z$57,5,FALSE))","v":0}]
[null,"erreicht",null,null,{"$f":"IF(VLOOKUP(B144,'S3'!$B$23:$Z$57,6,FALSE)=\"\",\"\",VLOOKUP(B144,'S3'!$B$23:$Z$57,6,FALSE))","v":"."},{"$f":"IF(VLOOKUP(B144,'S3'!$B$23:$Z$57,7,FALSE)=\"\",\"\",VLOOKUP(B144,'S3'!$B$23:$Z$57,7,FALSE))","v":""},{"$f":"IF(VLOOKUP(B144,'S3'!$B$23:$Z$57,8,FALSE)=\"\",\"\",VLOOKUP(B144,'S3'!$B$23:$Z$57,8,FALSE))","v":""},{"$f":"IF(VLOOKUP(B144,'S3'!$B$23:$Z$57,9,FALSE)=\"\",\"\",VLOOKUP(B144,'S3'!$B$23:$Z$57,9,FALSE))","v":""},{"$f":"IF(VLOOKUP(B144,'S3'!$B$23:$Z$57,10,FALSE)=\"\",\"\",VLOOKUP(B144,'S3'!$B$23:$Z$57,10,FALSE))","v":""},{"$f":"IF(VLOOKUP(B144,'S3'!$B$23:$Z$57,11,FALSE)=\"\",\"\",VLOOKUP(B144,'S3'!$B$23:$Z$57,11,FALSE))","v":""},{"$f":"IF(VLOOKUP(B144,'S3'!$B$23:$Z$57,12,FALSE)=\"\",\"\",VLOOKUP(B144,'S3'!$B$23:$Z$57,12,FALSE))","v":""},{"$f":"IF(VLOOKUP(B144,'S3'!$B$23:$Z$57,13,FALSE)=\"\",\"\",VLOOKUP(B144,'S3'!$B$23:$Z$57,13,FALSE))","v":""},{"$f":"IF(VLOOKUP(B144,'S3'!$B$23:$Z$57,14,FALSE)=\"\",\"\",VLOOKUP(B144,'S3'!$B$23:$Z$57,14,FALSE))","v":""},{"$f":"IF(VLOOKUP(B144,'S3'!$B$23:$Z$57,15,FALSE)=\"\",\"\",VLOOKUP(B144,'S3'!$B$23:$Z$57,15,FALSE))","v":""},null,null,null,null,null,null,"erreicht",null,null,{"$f":"IF(VLOOKUP(U144,'S3'!$B$23:$Z$57,6,FALSE)=\"\",\"\",VLOOKUP(U144,'S3'!$B$23:$Z$57,6,FALSE))","v":"."},{"$f":"IF(VLOOKUP(U144,'S3'!$B$23:$Z$57,7,FALSE)=\"\",\"\",VLOOKUP(U144,'S3'!$B$23:$Z$57,7,FALSE))","v":""},{"$f":"IF(VLOOKUP(U144,'S3'!$B$23:$Z$57,8,FALSE)=\"\",\"\",VLOOKUP(U144,'S3'!$B$23:$Z$57,8,FALSE))","v":""},{"$f":"IF(VLOOKUP(U144,'S3'!$B$23:$Z$57,9,FALSE)=\"\",\"\",VLOOKUP(U144,'S3'!$B$23:$Z$57,9,FALSE))","v":""},{"$f":"IF(VLOOKUP(U144,'S3'!$B$23:$Z$57,10,FALSE)=\"\",\"\",VLOOKUP(U144,'S3'!$B$23:$Z$57,10,FALSE))","v":""},{"$f":"IF(VLOOKUP(U144,'S3'!$B$23:$Z$57,11,FALSE)=\"\",\"\",VLOOKUP(U144,'S3'!$B$23:$Z$57,11,FALSE))","v":""},{"$f":"IF(VLOOKUP(U144,'S3'!$B$23:$Z$57,12,FALSE)=\"\",\"\",VLOOKUP(U144,'S3'!$B$23:$Z$57,12,FALSE))","v":""},{"$f":"IF(VLOOKUP(U144,'S3'!$B$23:$Z$57,13,FALSE)=\"\",\"\",VLOOKUP(U144,'S3'!$B$23:$Z$57,13,FALSE))","v":""},{"$f":"IF(VLOOKUP(U144,'S3'!$B$23:$Z$57,14,FALSE)=\"\",\"\",VLOOKUP(U144,'S3'!$B$23:$Z$57,14,FALSE))","v":""},{"$f":"IF(VLOOKUP(U144,'S3'!$B$23:$Z$57,15,FALSE)=\"\",\"\",VLOOKUP(U144,'S3'!$B$23:$Z$57,15,FALSE))","v":""}]
[null,"von",null,null,{"$f":"IF('S3'!$G$21=\"\",\"\",'S3'!$G$21)","v":""},{"$f":"IF('S3'!$H$21=\"\",\"\",'S3'!$H$21)","v":""},{"$f":"IF('S3'!$I$21=\"\",\"\",'S3'!$I$21)","v":""},{"$f":"IF('S3'!$J$21=\"\",\"\",'S3'!$J$21)","v":""},{"$f":"IF('S3'!$K$21=\"\",\"\",'S3'!$K$21)","v":""},{"$f":"IF('S3'!$L$21=\"\",\"\",'S3'!$L$21)","v":""},{"$f":"IF('S3'!$M$21=\"\",\"\",'S3'!$M$21)","v":""},{"$f":"IF('S3'!$N$21=\"\",\"\",'S3'!$N$21)","v":""},{"$f":"IF('S3'!$O$21=\"\",\"\",'S3'!$O$21)","v":""},{"$f":"IF('S3'!$P$21=\"\",\"\",'S3'!$P$21)","v":""},null,"von",null,null,null,null,"von",null,null,{"$f":"IF('S3'!$G$21=\"\",\"\",'S3'!$G$21)","v":""},{"$f":"IF('S3'!$H$21=\"\",\"\",'S3'!$H$21)","v":""},{"$f":"IF('S3'!$I$21=\"\",\"\",'S3'!$I$21)","v":""},{"$f":"IF('S3'!$J$21=\"\",\"\",'S3'!$J$21)","v":""},{"$f":"IF('S3'!$K$21=\"\",\"\",'S3'!$K$21)","v":""},{"$f":"IF('S3'!$L$21=\"\",\"\",'S3'!$L$21)","v":""},{"$f":"IF('S3'!$M$21=\"\",\"\",'S3'!$M$21)","v":""},{"$f":"IF('S3'!$N$21=\"\",\"\",'S3'!$N$21)","v":""},{"$f":"IF('S3'!$O$21=\"\",\"\",'S3'!$O$21)","v":""},{"$f":"IF('S3'!$P$21=\"\",\"\",'S3'!$P$21)","v":""},null,"von"]
[null,null,null,null,null,null,null,null,null,null,null,null,null,null,null,{"$f":"'S3'!$H$12","v":0},null,null,null,null,null,null,null,null,null,null,null,null,null,null,null,null,null,null,{"$f":"'S3'!$H$12","v":0}]
[null,{"$f":"IF('S3'!$Q$18=\"\",\"\",\"Aufgabe\")","v":""},null,null,{"$f":"IF('S3'!$Q$18=\"\",\"\",'S3'!$Q$18)","v":""},{"$f":"IF('S3'!$R$18=\"\",\"\",'S3'!$R$18)","v":""},{"$f":"IF('S3'!$S$18=\"\",\"\",'S3'!$S$18)","v":""},{"$f":"IF('S3'!$T$18=\"\",\"\",'S3'!$T$18)","v":""},{"$f":"IF('S3'!$U$18=\"\",\"\",'S3'!$U$18)","v":""},{"$f":"IF('S3'!$V$18=\"\",\"\",'S3'!$V$18)","v":""},{"$f":"IF('S3'!$W$18=\"\",\"\",'S3'!$W$18)","v":""},{"$f":"IF('S3'!$X$18=\"\",\"\",'S3'!$X$18)","v":""},{"$f":"IF('S3'!$Y$18=\"\",\"\",'S3'!$Y$18)","v":""},{"$f":"IF('S3'!$Z$18=\"\",\"\",'S3'!$Z$18)","v":""},null,null,null,null,null,null,{"$f":"IF('S3'!$Q$18=\"\",\"\",\"Aufgabe\")","v":""},null,null,{"$f":"IF('S3'!$Q$18=\"\",\"\",'S3'!$Q$18)","v":""},{"$f":"IF('S3'!$R$18=\"\",\"\",'S3'!$R$18)","v":""},{"$f":"IF('S3'!$S$18=\"\",\"\",'S3'!$S$18)","v":""},{"$f":"IF('S3'!$T$18=\"\",\"\",'S3'!$T$18)","v":""},{"$f":"IF('S3'!$U$18=\"\",\"\",'S3'!$U$18)","v":""},{"$f":"IF('S3'!$V$18=\"\",\"\",'S3'!$V$18)","v":""},{"$f":"IF('S3'!$W$18=\"\",\"\",'S3'!$W$18)","v":""},{"$f":"IF('S3'!$X$18=\"\",\"\",'S3'!$X$18)","v":""},{"$f":"IF('S3'!$Y$18=\"\",\"\",'S3'!$Y$18)","v":""},{"$f":"IF('S3'!$Z$18=\"\",\"\",'S3'!$Z$18)","v":""}]
[null,{"$f":"IF('S3'!$Q$18=\"\",\"\",\"erreicht\")","v":""},null,null,{"$f":"IF(VLOOKUP(B144,'S3'!$B$23:$Z$57,16,FALSE)=\"\",\"\",VLOOKUP(B144,'S3'!$B$23:$Z$57,16,FALSE))","v":""},{"$f":"IF(VLOOKUP(B144,'S3'!$B$23:$Z$57,17,FALSE)=\"\",\"\",VLOOKUP(B144,'S3'!$B$23:$Z$57,17,FALSE))","v":""},{"$f":"IF(VLOOKUP(B144,'S3'!$B$23:$Z$57,18,FALSE)=\"\",\"\",VLOOKUP(B144,'S3'!$B$23:$Z$57,18,FALSE))","v":""},{"$f":"IF(VLOOKUP(B144,'S3'!$B$23:$Z$57,19,FALSE)=\"\",\"\",VLOOKUP(B144,'S3'!$B$23:$Z$57,19,FALSE))","v":""},{"$f":"IF(VLOOKUP(B144,'S3'!$B$23:$Z$57,20,FALSE)=\"\",\"\",VLOOKUP(B144,'S3'!$B$23:$Z$57,20,FALSE))","v":""},{"$f":"IF(VLOOKUP(B144,'S3'!$B$23:$Z$57,21,FALSE)=\"\",\"\",VLOOKUP(B144,'S3'!$B$23:$Z$57,21,FALSE))","v":""},{"$f":"IF(VLOOKUP(B144,'S3'!$B$23:$Z$57,22,FALSE)=\"\",\"\",VLOOKUP(B144,'S3'!$B$23:$Z$57,22,FALSE))","v":""},{"$f":"IF(VLOOKUP(B144,'S3'!$B$23:$Z$57,23,FALSE)=\"\",\"\",VLOOKUP(B144,'S3'!$B$23:$Z$57,23,FALSE))","v":""},{"$f":"IF(VLOOKUP(B144,'S3'!$B$23:$Z$57,24,FALSE)=\"\",\"\",VLOOKUP(B144,'S3'!$B$23:$Z$57,24,FALSE))","v":""},{"$f":"IF(VLOOKUP(B144,'S3'!$B$23:$Z$57,25,FALSE)=\"\",\"\",VLOOKUP(B144,'S3'!$B$23:$Z$57,25,FALSE))","v":""},null,"Note",null,null,null,null,{"$f":"IF('S3'!$Q$18=\"\",\"\",\"erreicht\")","v":""},null,null,{"$f":"IF(VLOOKUP(U144,'S3'!$B$23:$Z$57,16,FALSE)=\"\",\"\",VLOOKUP(U144,'S3'!$B$23:$Z$57,16,FALSE))","v":""},{"$f":"IF(VLOOKUP(U144,'S3'!$B$23:$Z$57,17,FALSE)=\"\",\"\",VLOOKUP(U144,'S3'!$B$23:$Z$57,17,FALSE))","v":""},{"$f":"IF(VLOOKUP(U144,'S3'!$B$23:$Z$57,18,FALSE)=\"\",\"\",VLOOKUP(U144,'S3'!$B$23:$Z$57,18,FALSE))","v":""},{"$f":"IF(VLOOKUP(U144,'S3'!$B$23:$Z$57,19,FALSE)=\"\",\"\",VLOOKUP(U144,'S3'!$B$23:$Z$57,19,FALSE))","v":""},{"$f":"IF(VLOOKUP(U144,'S3'!$B$23:$Z$57,20,FALSE)=\"\",\"\",VLOOKUP(U144,'S3'!$B$23:$Z$57,20,FALSE))","v":""},{"$f":"IF(VLOOKUP(U144,'S3'!$B$23:$Z$57,21,FALSE)=\"\",\"\",VLOOKUP(U144,'S3'!$B$23:$Z$57,21,FALSE))","v":""},{"$f":"IF(VLOOKUP(U144,'S3'!$B$23:$Z$57,22,FALSE)=\"\",\"\",VLOOKUP(U144,'S3'!$B$23:$Z$57,22,FALSE))","v":""},{"$f":"IF(VLOOKUP(U144,'S3'!$B$23:$Z$57,23,FALSE)=\"\",\"\",VLOOKUP(U144,'S3'!$B$23:$Z$57,23,FALSE))","v":""},{"$f":"IF(VLOOKUP(U144,'S3'!$B$23:$Z$57,24,FALSE)=\"\",\"\",VLOOKUP(U144,'S3'!$B$23:$Z$57,24,FALSE))","v":""},{"$f":"IF(VLOOKUP(U144,'S3'!$B$23:$Z$57,25,FALSE)=\"\",\"\",VLOOKUP(U144,'S3'!$B$23:$Z$57,25,FALSE))","v":""},null,"Note"]
[null,{"$f":"IF('S3'!$Q$18=\"\",\"\",\"von\")","v":""},null,null,{"$f":"IF('S3'!$Q$21=\"\",\"\",'S3'!$Q$21)","v":""},{"$f":"IF('S3'!$R$21=\"\",\"\",'S3'!$R$21)","v":""},{"$f":"IF('S3'!$S$21=\"\",\"\",'S3'!$S$21)","v":""},{"$f":"IF('S3'!$T$21=\"\",\"\",'S3'!$T$21)","v":""},{"$f":"IF('S3'!$U$21=\"\",\"\",'S3'!$U$21)","v":""},{"$f":"IF('S3'!$V$21=\"\",\"\",'S3'!$V$21)","v":""},{"$f":"IF('S3'!$W$21=\"\",\"\",'S3'!$W$21)","v":""},{"$f":"IF('S3'!$X$21=\"\",\"\",'S3'!$X$21)","v":""},{"$f":"IF('S3'!$Y$21=\"\",\"\",'S3'!$Y$21)","v":""},{"$f":"IF('S3'!$Z$21=\"\",\"\",'S3'!$Z$21)","v":""},null,{"$f":"IF(VLOOKUP(B144,'S3'!$B$23:$Z$57,2,FALSE)=\"\",\"\",CONCATENATE(VLOOKUP(B144,'S3'!$B$23:$Z$57,2,FALSE),\" \",VLOOKUP(B144,'S3'!$B$23:$Z$57,3,FALSE)))","v":"- "},null,null,null,null,{"$f":"IF('S3'!$Q$18=\"\",\"\",\"von\")","v":""},null,null,{"$f":"IF('S3'!$Q$21=\"\",\"\",'S3'!$Q$21)","v":""},{"$f":"IF('S3'!$R$21=\"\",\"\",'S3'!$R$21)","v":""},{"$f":"IF('S3'!$S$21=\"\",\"\",'S3'!$S$21)","v":""},{"$f":"IF('S3'!$T$21=\"\",\"\",'S3'!$T$21)","v":""},{"$f":"IF('S3'!$U$21=\"\",\"\",'S3'!$U$21)","v":""},{"$f":"IF('S3'!$V$21=\"\",\"\",'S3'!$V$21)","v":""},{"$f":"IF('S3'!$W$21=\"\",\"\",'S3'!$W$21)","v":""},{"$f":"IF('S3'!$X$21=\"\",\"\",'S3'!$X$21)","v":""},{"$f":"IF('S3'!$Y$21=\"\",\"\",'S3'!$Y$21)","v":""},{"$f":"IF('S3'!$Z$21=\"\",\"\",'S3'!$Z$21)","v":""},null,{"$f":"IF(VLOOKUP(U144,'S3'!$B$23:$Z$57,2,FALSE)=\"\",\"\",CONCATENATE(VLOOKUP(U144,'S3'!$B$23:$Z$57,2,FALSE),\" \",VLOOKUP(U144,'S3'!$B$23:$Z$57,3,FALSE)))","v":"- "}]
[]
[]
[]
[null,{"$f":"'S3'!$B$49","v":""},null,null,null,null,null,null,null,null,null,null,null,null,null,null,null,null,null,null,{"$f":"'S3'!$B$50","v":""}]
[null,null,null,null,null,null,null,null,null,null,null,null,null,null,null,"Summe",null,null,null,null,null,null,null,null,null,null,null,null,null,null,null,null,null,null,"Summe"]
[null,"Aufgabe",null,null,{"$f":"IF('S3'!$G$18=\"\",\"\",'S3'!$G$18)","v":1},{"$f":"IF('S3'!$H$18=\"\",\"\",'S3'!$H$18)","v":2},{"$f":"IF('S3'!$I$18=\"\",\"\",'S3'!$I$18)","v":3},{"$f":"IF('S3'!$J$18=\"\",\"\",'S3'!$J$18)","v":""},{"$f":"IF('S3'!$K$18=\"\",\"\",'S3'!$K$18)","v":""},{"$f":"IF('S3'!$L$18=\"\",\"\",'S3'!$L$18)","v":""},{"$f":"IF('S3'!$M$18=\"\",\"\",'S3'!$M$18)","v":""},{"$f":"IF('S3'!$N$18=\"\",\"\",'S3'!$N$18)","v":""},{"$f":"IF('S3'!$O$18=\"\",\"\",'S3'!$O$18)","v":""},{"$f":"IF('S3'!$P$18=\"\",\"\",'S3'!$P$18)","v":""},null,{"$f":"IF(VLOOKUP(B156,'S3'!$B$23:$Z$57,5,FALSE)=\"\",\"\",VLOOKUP(B156,'S3'!$B$23:$Z$57,5,FALSE))","v":0},null,null,null,null,"Aufgabe",null,null,{"$f":"IF('S3'!$G$18=\"\",\"\",'S3'!$G$18)","v":1},{"$f":"IF('S3'!$H$18=\"\",\"\",'S3'!$H$18)","v":2},{"$f":"IF('S3'!$I$18=\"\",\"\",'S3'!$I$18)","v":3},{"$f":"IF('S3'!$J$18=\"\",\"\",'S3'!$J$18)","v":""},{"$f":"IF('S3'!$K$18=\"\",\"\",'S3'!$K$18)","v":""},{"$f":"IF('S3'!$L$18=\"\",\"\",'S3'!$L$18)","v":""},{"$f":"IF('S3'!$M$18=\"\",\"\",'S3'!$M$18)","v":""},{"$f":"IF('S3'!$N$18=\"\",\"\",'S3'!$N$18)","v":""},{"$f":"IF('S3'!$O$18=\"\",\"\",'S3'!$O$18)","v":""},{"$f":"IF('S3'!$P$18=\"\",\"\",'S3'!$P$18)","v":""},null,{"$f":"IF(VLOOKUP(U156,'S3'!$B$23:$Z$57,5,FALSE)=\"\",\"\",VLOOKUP(U156,'S3'!$B$23:$Z$57,5,FALSE))","v":0}]
[null,"erreicht",null,null,{"$f":"IF(VLOOKUP(B156,'S3'!$B$23:$Z$57,6,FALSE)=\"\",\"\",VLOOKUP(B156,'S3'!$B$23:$Z$57,6,FALSE))","v":"."},{"$f":"IF(VLOOKUP(B156,'S3'!$B$23:$Z$57,7,FALSE)=\"\",\"\",VLOOKUP(B156,'S3'!$B$23:$Z$57,7,FALSE))","v":""},{"$f":"IF(VLOOKUP(B156,'S3'!$B$23:$Z$57,8,FALSE)=\"\",\"\",VLOOKUP(B156,'S3'!$B$23:$Z$57,8,FALSE))","v":""},{"$f":"IF(VLOOKUP(B156,'S3'!$B$23:$Z$57,9,FALSE)=\"\",\"\",VLOOKUP(B156,'S3'!$B$23:$Z$57,9,FALSE))","v":""},{"$f":"IF(VLOOKUP(B156,'S3'!$B$23:$Z$57,10,FALSE)=\"\",\"\",VLOOKUP(B156,'S3'!$B$23:$Z$57,10,FALSE))","v":""},{"$f":"IF(VLOOKUP(B156,'S3'!$B$23:$Z$57,11,FALSE)=\"\",\"\",VLOOKUP(B156,'S3'!$B$23:$Z$57,11,FALSE))","v":""},{"$f":"IF(VLOOKUP(B156,'S3'!$B$23:$Z$57,12,FALSE)=\"\",\"\",VLOOKUP(B156,'S3'!$B$23:$Z$57,12,FALSE))","v":""},{"$f":"IF(VLOOKUP(B156,'S3'!$B$23:$Z$57,13,FALSE)=\"\",\"\",VLOOKUP(B156,'S3'!$B$23:$Z$57,13,FALSE))","v":""},{"$f":"IF(VLOOKUP(B156,'S3'!$B$23:$Z$57,14,FALSE)=\"\",\"\",VLOOKUP(B156,'S3'!$B$23:$Z$57,14,FALSE))","v":""},{"$f":"IF(VLOOKUP(B156,'S3'!$B$23:$Z$57,15,FALSE)=\"\",\"\",VLOOKUP(B156,'S3'!$B$23:$Z$57,15,FALSE))","v":""},null,null,null,null,null,null,"erreicht",null,null,{"$f":"IF(VLOOKUP(U156,'S3'!$B$23:$Z$57,6,FALSE)=\"\",\"\",VLOOKUP(U156,'S3'!$B$23:$Z$57,6,FALSE))","v":"."},{"$f":"IF(VLOOKUP(U156,'S3'!$B$23:$Z$57,7,FALSE)=\"\",\"\",VLOOKUP(U156,'S3'!$B$23:$Z$57,7,FALSE))","v":""},{"$f":"IF(VLOOKUP(U156,'S3'!$B$23:$Z$57,8,FALSE)=\"\",\"\",VLOOKUP(U156,'S3'!$B$23:$Z$57,8,FALSE))","v":""},{"$f":"IF(VLOOKUP(U156,'S3'!$B$23:$Z$57,9,FALSE)=\"\",\"\",VLOOKUP(U156,'S3'!$B$23:$Z$57,9,FALSE))","v":""},{"$f":"IF(VLOOKUP(U156,'S3'!$B$23:$Z$57,10,FALSE)=\"\",\"\",VLOOKUP(U156,'S3'!$B$23:$Z$57,10,FALSE))","v":""},{"$f":"IF(VLOOKUP(U156,'S3'!$B$23:$Z$57,11,FALSE)=\"\",\"\",VLOOKUP(U156,'S3'!$B$23:$Z$57,11,FALSE))","v":""},{"$f":"IF(VLOOKUP(U156,'S3'!$B$23:$Z$57,12,FALSE)=\"\",\"\",VLOOKUP(U156,'S3'!$B$23:$Z$57,12,FALSE))","v":""},{"$f":"IF(VLOOKUP(U156,'S3'!$B$23:$Z$57,13,FALSE)=\"\",\"\",VLOOKUP(U156,'S3'!$B$23:$Z$57,13,FALSE))","v":""},{"$f":"IF(VLOOKUP(U156,'S3'!$B$23:$Z$57,14,FALSE)=\"\",\"\",VLOOKUP(U156,'S3'!$B$23:$Z$57,14,FALSE))","v":""},{"$f":"IF(VLOOKUP(U156,'S3'!$B$23:$Z$57,15,FALSE)=\"\",\"\",VLOOKUP(U156,'S3'!$B$23:$Z$57,15,FALSE))","v":""}]
[null,"von",null,null,{"$f":"IF('S3'!$G$21=\"\",\"\",'S3'!$G$21)","v":""},{"$f":"IF('S3'!$H$21=\"\",\"\",'S3'!$H$21)","v":""},{"$f":"IF('S3'!$I$21=\"\",\"\",'S3'!$I$21)","v":""},{"$f":"IF('S3'!$J$21=\"\",\"\",'S3'!$J$21)","v":""},{"$f":"IF('S3'!$K$21=\"\",\"\",'S3'!$K$21)","v":""},{"$f":"IF('S3'!$L$21=\"\",\"\",'S3'!$L$21)","v":""},{"$f":"IF('S3'!$M$21=\"\",\"\",'S3'!$M$21)","v":""},{"$f":"IF('S3'!$N$21=\"\",\"\",'S3'!$N$21)","v":""},{"$f":"IF('S3'!$O$21=\"\",\"\",'S3'!$O$21)","v":""},{"$f":"IF('S3'!$P$21=\"\",\"\",'S3'!$P$21)","v":""},null,"von",null,null,null,null,"von",null,null,{"$f":"IF('S3'!$G$21=\"\",\"\",'S3'!$G$21)","v":""},{"$f":"IF('S3'!$H$21=\"\",\"\",'S3'!$H$21)","v":""},{"$f":"IF('S3'!$I$21=\"\",\"\",'S3'!$I$21)","v":""},{"$f":"IF('S3'!$J$21=\"\",\"\",'S3'!$J$21)","v":""},{"$f":"IF('S3'!$K$21=\"\",\"\",'S3'!$K$21)","v":""},{"$f":"IF('S3'!$L$21=\"\",\"\",'S3'!$L$21)","v":""},{"$f":"IF('S3'!$M$21=\"\",\"\",'S3'!$M$21)","v":""},{"$f":"IF('S3'!$N$21=\"\",\"\",'S3'!$N$21)","v":""},{"$f":"IF('S3'!$O$21=\"\",\"\",'S3'!$O$21)","v":""},{"$f":"IF('S3'!$P$21=\"\",\"\",'S3'!$P$21)","v":""},null,"von"]
[null,null,null,null,null,null,null,null,null,null,null,null,null,null,null,{"$f":"'S3'!$H$12","v":0},null,null,null,null,null,null,null,null,null,null,null,null,null,null,null,null,null,null,{"$f":"'S3'!$H$12","v":0}]
[null,{"$f":"IF('S3'!$Q$18=\"\",\"\",\"Aufgabe\")","v":""},null,null,{"$f":"IF('S3'!$Q$18=\"\",\"\",'S3'!$Q$18)","v":""},{"$f":"IF('S3'!$R$18=\"\",\"\",'S3'!$R$18)","v":""},{"$f":"IF('S3'!$S$18=\"\",\"\",'S3'!$S$18)","v":""},{"$f":"IF('S3'!$T$18=\"\",\"\",'S3'!$T$18)","v":""},{"$f":"IF('S3'!$U$18=\"\",\"\",'S3'!$U$18)","v":""},{"$f":"IF('S3'!$V$18=\"\",\"\",'S3'!$V$18)","v":""},{"$f":"IF('S3'!$W$18=\"\",\"\",'S3'!$W$18)","v":""},{"$f":"IF('S3'!$X$18=\"\",\"\",'S3'!$X$18)","v":""},{"$f":"IF('S3'!$Y$18=\"\",\"\",'S3'!$Y$18)","v":""},{"$f":"IF('S3'!$Z$18=\"\",\"\",'S3'!$Z$18)","v":""},null,null,null,null,null,null,{"$f":"IF('S3'!$Q$18=\"\",\"\",\"Aufgabe\")","v":""},null,null,{"$f":"IF('S3'!$Q$18=\"\",\"\",'S3'!$Q$18)","v":""},{"$f":"IF('S3'!$R$18=\"\",\"\",'S3'!$R$18)","v":""},{"$f":"IF('S3'!$S$18=\"\",\"\",'S3'!$S$18)","v":""},{"$f":"IF('S3'!$T$18=\"\",\"\",'S3'!$T$18)","v":""},{"$f":"IF('S3'!$U$18=\"\",\"\",'S3'!$U$18)","v":""},{"$f":"IF('S3'!$V$18=\"\",\"\",'S3'!$V$18)","v":""},{"$f":"IF('S3'!$W$18=\"\",\"\",'S3'!$W$18)","v":""},{"$f":"IF('S3'!$X$18=\"\",\"\",'S3'!$X$18)","v":""},{"$f":"IF('S3'!$Y$18=\"\",\"\",'S3'!$Y$18)","v":""},{"$f":"IF('S3'!$Z$18=\"\",\"\",'S3'!$Z$18)","v":""}]
[null,{"$f":"IF('S3'!$Q$18=\"\",\"\",\"erreicht\")","v":""},null,null,{"$f":"IF(VLOOKUP(B156,'S3'!$B$23:$Z$57,16,FALSE)=\"\",\"\",VLOOKUP(B156,'S3'!$B$23:$Z$57,16,FALSE))","v":""},{"$f":"IF(VLOOKUP(B156,'S3'!$B$23:$Z$57,17,FALSE)=\"\",\"\",VLOOKUP(B156,'S3'!$B$23:$Z$57,17,FALSE))","v":""},{"$f":"IF(VLOOKUP(B156,'S3'!$B$23:$Z$57,18,FALSE)=\"\",\"\",VLOOKUP(B156,'S3'!$B$23:$Z$57,18,FALSE))","v":""},{"$f":"IF(VLOOKUP(B156,'S3'!$B$23:$Z$57,19,FALSE)=\"\",\"\",VLOOKUP(B156,'S3'!$B$23:$Z$57,19,FALSE))","v":""},{"$f":"IF(VLOOKUP(B156,'S3'!$B$23:$Z$57,20,FALSE)=\"\",\"\",VLOOKUP(B156,'S3'!$B$23:$Z$57,20,FALSE))","v":""},{"$f":"IF(VLOOKUP(B156,'S3'!$B$23:$Z$57,21,FALSE)=\"\",\"\",VLOOKUP(B156,'S3'!$B$23:$Z$57,21,FALSE))","v":""},{"$f":"IF(VLOOKUP(B156,'S3'!$B$23:$Z$57,22,FALSE)=\"\",\"\",VLOOKUP(B156,'S3'!$B$23:$Z$57,22,FALSE))","v":""},{"$f":"IF(VLOOKUP(B156,'S3'!$B$23:$Z$57,23,FALSE)=\"\",\"\",VLOOKUP(B156,'S3'!$B$23:$Z$57,23,FALSE))","v":""},{"$f":"IF(VLOOKUP(B156,'S3'!$B$23:$Z$57,24,FALSE)=\"\",\"\",VLOOKUP(B156,'S3'!$B$23:$Z$57,24,FALSE))","v":""},{"$f":"IF(VLOOKUP(B156,'S3'!$B$23:$Z$57,25,FALSE)=\"\",\"\",VLOOKUP(B156,'S3'!$B$23:$Z$57,25,FALSE))","v":""},null,"Note",null,null,null,null,{"$f":"IF('S3'!$Q$18=\"\",\"\",\"erreicht\")","v":""},null,null,{"$f":"IF(VLOOKUP(U156,'S3'!$B$23:$Z$57,16,FALSE)=\"\",\"\",VLOOKUP(U156,'S3'!$B$23:$Z$57,16,FALSE))","v":""},{"$f":"IF(VLOOKUP(U156,'S3'!$B$23:$Z$57,17,FALSE)=\"\",\"\",VLOOKUP(U156,'S3'!$B$23:$Z$57,17,FALSE))","v":""},{"$f":"IF(VLOOKUP(U156,'S3'!$B$23:$Z$57,18,FALSE)=\"\",\"\",VLOOKUP(U156,'S3'!$B$23:$Z$57,18,FALSE))","v":""},{"$f":"IF(VLOOKUP(U156,'S3'!$B$23:$Z$57,19,FALSE)=\"\",\"\",VLOOKUP(U156,'S3'!$B$23:$Z$57,19,FALSE))","v":""},{"$f":"IF(VLOOKUP(U156,'S3'!$B$23:$Z$57,20,FALSE)=\"\",\"\",VLOOKUP(U156,'S3'!$B$23:$Z$57,20,FALSE))","v":""},{"$f":"IF(VLOOKUP(U156,'S3'!$B$23:$Z$57,21,FALSE)=\"\",\"\",VLOOKUP(U156,'S3'!$B$23:$Z$57,21,FALSE))","v":""},{"$f":"IF(VLOOKUP(U156,'S3'!$B$23:$Z$57,22,FALSE)=\"\",\"\",VLOOKUP(U156,'S3'!$B$23:$Z$57,22,FALSE))","v":""},{"$f":"IF(VLOOKUP(U156,'S3'!$B$23:$Z$57,23,FALSE)=\"\",\"\",VLOOKUP(U156,'S3'!$B$23:$Z$57,23,FALSE))","v":""},{"$f":"IF(VLOOKUP(U156,'S3'!$B$23:$Z$57,24,FALSE)=\"\",\"\",VLOOKUP(U156,'S3'!$B$23:$Z$57,24,FALSE))","v":""},{"$f":"IF(VLOOKUP(U156,'S3'!$B$23:$Z$57,25,FALSE)=\"\",\"\",VLOOKUP(U156,'S3'!$B$23:$Z$57,25,FALSE))","v":""},null,"Note"]
[null,{"$f":"IF('S3'!$Q$18=\"\",\"\",\"von\")","v":""},null,null,{"$f":"IF('S3'!$Q$21=\"\",\"\",'S3'!$Q$21)","v":""},{"$f":"IF('S3'!$R$21=\"\",\"\",'S3'!$R$21)","v":""},{"$f":"IF('S3'!$S$21=\"\",\"\",'S3'!$S$21)","v":""},{"$f":"IF('S3'!$T$21=\"\",\"\",'S3'!$T$21)","v":""},{"$f":"IF('S3'!$U$21=\"\",\"\",'S3'!$U$21)","v":""},{"$f":"IF('S3'!$V$21=\"\",\"\",'S3'!$V$21)","v":""},{"$f":"IF('S3'!$W$21=\"\",\"\",'S3'!$W$21)","v":""},{"$f":"IF('S3'!$X$21=\"\",\"\",'S3'!$X$21)","v":""},{"$f":"IF('S3'!$Y$21=\"\",\"\",'S3'!$Y$21)","v":""},{"$f":"IF('S3'!$Z$21=\"\",\"\",'S3'!$Z$21)","v":""},null,{"$f":"IF(VLOOKUP(B156,'S3'!$B$23:$Z$57,2,FALSE)=\"\",\"\",CONCATENATE(VLOOKUP(B156,'S3'!$B$23:$Z$57,2,FALSE),\" \",VLOOKUP(B156,'S3'!$B$23:$Z$57,3,FALSE)))","v":"- "},null,null,null,null,{"$f":"IF('S3'!$Q$18=\"\",\"\",\"von\")","v":""},null,null,{"$f":"IF('S3'!$Q$21=\"\",\"\",'S3'!$Q$21)","v":""},{"$f":"IF('S3'!$R$21=\"\",\"\",'S3'!$R$21)","v":""},{"$f":"IF('S3'!$S$21=\"\",\"\",'S3'!$S$21)","v":""},{"$f":"IF('S3'!$T$21=\"\",\"\",'S3'!$T$21)","v":""},{"$f":"IF('S3'!$U$21=\"\",\"\",'S3'!$U$21)","v":""},{"$f":"IF('S3'!$V$21=\"\",\"\",'S3'!$V$21)","v":""},{"$f":"IF('S3'!$W$21=\"\",\"\",'S3'!$W$21)","v":""},{"$f":"IF('S3'!$X$21=\"\",\"\",'S3'!$X$21)","v":""},{"$f":"IF('S3'!$Y$21=\"\",\"\",'S3'!$Y$21)","v":""},{"$f":"IF('S3'!$Z$21=\"\",\"\",'S3'!$Z$21)","v":""},null,{"$f":"IF(VLOOKUP(U156,'S3'!$B$23:$Z$57,2,FALSE)=\"\",\"\",CONCATENATE(VLOOKUP(U156,'S3'!$B$23:$Z$57,2,FALSE),\" \",VLOOKUP(U156,'S3'!$B$23:$Z$57,3,FALSE)))","v":"- "}]
[]
[]
[]
[null,{"$f":"'S3'!$B$51","v":""},null,null,null,null,null,null,null,null,null,null,null,null,null,null,null,null,null,null,{"$f":"'S3'!$B$52","v":""}]
[null,null,null,null,null,null,null,null,null,null,null,null,null,null,null,"Summe",null,null,null,null,null,null,null,null,null,null,null,null,null,null,null,null,null,null,"Summe"]
[null,"Aufgabe",null,null,{"$f":"IF('S3'!$G$18=\"\",\"\",'S3'!$G$18)","v":1},{"$f":"IF('S3'!$H$18=\"\",\"\",'S3'!$H$18)","v":2},{"$f":"IF('S3'!$I$18=\"\",\"\",'S3'!$I$18)","v":3},{"$f":"IF('S3'!$J$18=\"\",\"\",'S3'!$J$18)","v":""},{"$f":"IF('S3'!$K$18=\"\",\"\",'S3'!$K$18)","v":""},{"$f":"IF('S3'!$L$18=\"\",\"\",'S3'!$L$18)","v":""},{"$f":"IF('S3'!$M$18=\"\",\"\",'S3'!$M$18)","v":""},{"$f":"IF('S3'!$N$18=\"\",\"\",'S3'!$N$18)","v":""},{"$f":"IF('S3'!$O$18=\"\",\"\",'S3'!$O$18)","v":""},{"$f":"IF('S3'!$P$18=\"\",\"\",'S3'!$P$18)","v":""},null,{"$f":"IF(VLOOKUP(B168,'S3'!$B$23:$Z$57,5,FALSE)=\"\",\"\",VLOOKUP(B168,'S3'!$B$23:$Z$57,5,FALSE))","v":0},null,null,null,null,"Aufgabe",null,null,{"$f":"IF('S3'!$G$18=\"\",\"\",'S3'!$G$18)","v":1},{"$f":"IF('S3'!$H$18=\"\",\"\",'S3'!$H$18)","v":2},{"$f":"IF('S3'!$I$18=\"\",\"\",'S3'!$I$18)","v":3},{"$f":"IF('S3'!$J$18=\"\",\"\",'S3'!$J$18)","v":""},{"$f":"IF('S3'!$K$18=\"\",\"\",'S3'!$K$18)","v":""},{"$f":"IF('S3'!$L$18=\"\",\"\",'S3'!$L$18)","v":""},{"$f":"IF('S3'!$M$18=\"\",\"\",'S3'!$M$18)","v":""},{"$f":"IF('S3'!$N$18=\"\",\"\",'S3'!$N$18)","v":""},{"$f":"IF('S3'!$O$18=\"\",\"\",'S3'!$O$18)","v":""},{"$f":"IF('S3'!$P$18=\"\",\"\",'S3'!$P$18)","v":""},null,{"$f":"IF(VLOOKUP(U168,'S3'!$B$23:$Z$57,5,FALSE)=\"\",\"\",VLOOKUP(U168,'S3'!$B$23:$Z$57,5,FALSE))","v":0}]
[null,"erreicht",null,null,{"$f":"IF(VLOOKUP(B168,'S3'!$B$23:$Z$57,6,FALSE)=\"\",\"\",VLOOKUP(B168,'S3'!$B$23:$Z$57,6,FALSE))","v":"."},{"$f":"IF(VLOOKUP(B168,'S3'!$B$23:$Z$57,7,FALSE)=\"\",\"\",VLOOKUP(B168,'S3'!$B$23:$Z$57,7,FALSE))","v":""},{"$f":"IF(VLOOKUP(B168,'S3'!$B$23:$Z$57,8,FALSE)=\"\",\"\",VLOOKUP(B168,'S3'!$B$23:$Z$57,8,FALSE))","v":""},{"$f":"IF(VLOOKUP(B168,'S3'!$B$23:$Z$57,9,FALSE)=\"\",\"\",VLOOKUP(B168,'S3'!$B$23:$Z$57,9,FALSE))","v":""},{"$f":"IF(VLOOKUP(B168,'S3'!$B$23:$Z$57,10,FALSE)=\"\",\"\",VLOOKUP(B168,'S3'!$B$23:$Z$57,10,FALSE))","v":""},{"$f":"IF(VLOOKUP(B168,'S3'!$B$23:$Z$57,11,FALSE)=\"\",\"\",VLOOKUP(B168,'S3'!$B$23:$Z$57,11,FALSE))","v":""},{"$f":"IF(VLOOKUP(B168,'S3'!$B$23:$Z$57,12,FALSE)=\"\",\"\",VLOOKUP(B168,'S3'!$B$23:$Z$57,12,FALSE))","v":""},{"$f":"IF(VLOOKUP(B168,'S3'!$B$23:$Z$57,13,FALSE)=\"\",\"\",VLOOKUP(B168,'S3'!$B$23:$Z$57,13,FALSE))","v":""},{"$f":"IF(VLOOKUP(B168,'S3'!$B$23:$Z$57,14,FALSE)=\"\",\"\",VLOOKUP(B168,'S3'!$B$23:$Z$57,14,FALSE))","v":""},{"$f":"IF(VLOOKUP(B168,'S3'!$B$23:$Z$57,15,FALSE)=\"\",\"\",VLOOKUP(B168,'S3'!$B$23:$Z$57,15,FALSE))","v":""},null,null,null,null,null,null,"erreicht",null,null,{"$f":"IF(VLOOKUP(U168,'S3'!$B$23:$Z$57,6,FALSE)=\"\",\"\",VLOOKUP(U168,'S3'!$B$23:$Z$57,6,FALSE))","v":"."},{"$f":"IF(VLOOKUP(U168,'S3'!$B$23:$Z$57,7,FALSE)=\"\",\"\",VLOOKUP(U168,'S3'!$B$23:$Z$57,7,FALSE))","v":""},{"$f":"IF(VLOOKUP(U168,'S3'!$B$23:$Z$57,8,FALSE)=\"\",\"\",VLOOKUP(U168,'S3'!$B$23:$Z$57,8,FALSE))","v":""},{"$f":"IF(VLOOKUP(U168,'S3'!$B$23:$Z$57,9,FALSE)=\"\",\"\",VLOOKUP(U168,'S3'!$B$23:$Z$57,9,FALSE))","v":""},{"$f":"IF(VLOOKUP(U168,'S3'!$B$23:$Z$57,10,FALSE)=\"\",\"\",VLOOKUP(U168,'S3'!$B$23:$Z$57,10,FALSE))","v":""},{"$f":"IF(VLOOKUP(U168,'S3'!$B$23:$Z$57,11,FALSE)=\"\",\"\",VLOOKUP(U168,'S3'!$B$23:$Z$57,11,FALSE))","v":""},{"$f":"IF(VLOOKUP(U168,'S3'!$B$23:$Z$57,12,FALSE)=\"\",\"\",VLOOKUP(U168,'S3'!$B$23:$Z$57,12,FALSE))","v":""},{"$f":"IF(VLOOKUP(U168,'S3'!$B$23:$Z$57,13,FALSE)=\"\",\"\",VLOOKUP(U168,'S3'!$B$23:$Z$57,13,FALSE))","v":""},{"$f":"IF(VLOOKUP(U168,'S3'!$B$23:$Z$57,14,FALSE)=\"\",\"\",VLOOKUP(U168,'S3'!$B$23:$Z$57,14,FALSE))","v":""},{"$f":"IF(VLOOKUP(U168,'S3'!$B$23:$Z$57,15,FALSE)=\"\",\"\",VLOOKUP(U168,'S3'!$B$23:$Z$57,15,FALSE))","v":""}]
[null,"von",null,null,{"$f":"IF('S3'!$G$21=\"\",\"\",'S3'!$G$21)","v":""},{"$f":"IF('S3'!$H$21=\"\",\"\",'S3'!$H$21)","v":""},{"$f":"IF('S3'!$I$21=\"\",\"\",'S3'!$I$21)","v":""},{"$f":"IF('S3'!$J$21=\"\",\"\",'S3'!$J$21)","v":""},{"$f":"IF('S3'!$K$21=\"\",\"\",'S3'!$K$21)","v":""},{"$f":"IF('S3'!$L$21=\"\",\"\",'S3'!$L$21)","v":""},{"$f":"IF('S3'!$M$21=\"\",\"\",'S3'!$M$21)","v":""},{"$f":"IF('S3'!$N$21=\"\",\"\",'S3'!$N$21)","v":""},{"$f":"IF('S3'!$O$21=\"\",\"\",'S3'!$O$21)","v":""},{"$f":"IF('S3'!$P$21=\"\",\"\",'S3'!$P$21)","v":""},null,"von",null,null,null,null,"von",null,null,{"$f":"IF('S3'!$G$21=\"\",\"\",'S3'!$G$21)","v":""},{"$f":"IF('S3'!$H$21=\"\",\"\",'S3'!$H$21)","v":""},{"$f":"IF('S3'!$I$21=\"\",\"\",'S3'!$I$21)","v":""},{"$f":"IF('S3'!$J$21=\"\",\"\",'S3'!$J$21)","v":""},{"$f":"IF('S3'!$K$21=\"\",\"\",'S3'!$K$21)","v":""},{"$f":"IF('S3'!$L$21=\"\",\"\",'S3'!$L$21)","v":""},{"$f":"IF('S3'!$M$21=\"\",\"\",'S3'!$M$21)","v":""},{"$f":"IF('S3'!$N$21=\"\",\"\",'S3'!$N$21)","v":""},{"$f":"IF('S3'!$O$21=\"\",\"\",'S3'!$O$21)","v":""},{"$f":"IF('S3'!$P$21=\"\",\"\",'S3'!$P$21)","v":""},null,"von"]
[null,null,null,null,null,null,null,null,null,null,null,null,null,null,null,{"$f":"'S3'!$H$12","v":0},null,null,null,null,null,null,null,null,null,null,null,null,null,null,null,null,null,null,{"$f":"'S3'!$H$12","v":0}]
[null,{"$f":"IF('S3'!$Q$18=\"\",\"\",\"Aufgabe\")","v":""},null,null,{"$f":"IF('S3'!$Q$18=\"\",\"\",'S3'!$Q$18)","v":""},{"$f":"IF('S3'!$R$18=\"\",\"\",'S3'!$R$18)","v":""},{"$f":"IF('S3'!$S$18=\"\",\"\",'S3'!$S$18)","v":""},{"$f":"IF('S3'!$T$18=\"\",\"\",'S3'!$T$18)","v":""},{"$f":"IF('S3'!$U$18=\"\",\"\",'S3'!$U$18)","v":""},{"$f":"IF('S3'!$V$18=\"\",\"\",'S3'!$V$18)","v":""},{"$f":"IF('S3'!$W$18=\"\",\"\",'S3'!$W$18)","v":""},{"$f":"IF('S3'!$X$18=\"\",\"\",'S3'!$X$18)","v":""},{"$f":"IF('S3'!$Y$18=\"\",\"\",'S3'!$Y$18)","v":""},{"$f":"IF('S3'!$Z$18=\"\",\"\",'S3'!$Z$18)","v":""},null,null,null,null,null,null,{"$f":"IF('S3'!$Q$18=\"\",\"\",\"Aufgabe\")","v":""},null,null,{"$f":"IF('S3'!$Q$18=\"\",\"\",'S3'!$Q$18)","v":""},{"$f":"IF('S3'!$R$18=\"\",\"\",'S3'!$R$18)","v":""},{"$f":"IF('S3'!$S$18=\"\",\"\",'S3'!$S$18)","v":""},{"$f":"IF('S3'!$T$18=\"\",\"\",'S3'!$T$18)","v":""},{"$f":"IF('S3'!$U$18=\"\",\"\",'S3'!$U$18)","v":""},{"$f":"IF('S3'!$V$18=\"\",\"\",'S3'!$V$18)","v":""},{"$f":"IF('S3'!$W$18=\"\",\"\",'S3'!$W$18)","v":""},{"$f":"IF('S3'!$X$18=\"\",\"\",'S3'!$X$18)","v":""},{"$f":"IF('S3'!$Y$18=\"\",\"\",'S3'!$Y$18)","v":""},{"$f":"IF('S3'!$Z$18=\"\",\"\",'S3'!$Z$18)","v":""}]
[null,{"$f":"IF('S3'!$Q$18=\"\",\"\",\"erreicht\")","v":""},null,null,{"$f":"IF(VLOOKUP(B168,'S3'!$B$23:$Z$57,16,FALSE)=\"\",\"\",VLOOKUP(B168,'S3'!$B$23:$Z$57,16,FALSE))","v":""},{"$f":"IF(VLOOKUP(B168,'S3'!$B$23:$Z$57,17,FALSE)=\"\",\"\",VLOOKUP(B168,'S3'!$B$23:$Z$57,17,FALSE))","v":""},{"$f":"IF(VLOOKUP(B168,'S3'!$B$23:$Z$57,18,FALSE)=\"\",\"\",VLOOKUP(B168,'S3'!$B$23:$Z$57,18,FALSE))","v":""},{"$f":"IF(VLOOKUP(B168,'S3'!$B$23:$Z$57,19,FALSE)=\"\",\"\",VLOOKUP(B168,'S3'!$B$23:$Z$57,19,FALSE))","v":""},{"$f":"IF(VLOOKUP(B168,'S3'!$B$23:$Z$57,20,FALSE)=\"\",\"\",VLOOKUP(B168,'S3'!$B$23:$Z$57,20,FALSE))","v":""},{"$f":"IF(VLOOKUP(B168,'S3'!$B$23:$Z$57,21,FALSE)=\"\",\"\",VLOOKUP(B168,'S3'!$B$23:$Z$57,21,FALSE))","v":""},{"$f":"IF(VLOOKUP(B168,'S3'!$B$23:$Z$57,22,FALSE)=\"\",\"\",VLOOKUP(B168,'S3'!$B$23:$Z$57,22,FALSE))","v":""},{"$f":"IF(VLOOKUP(B168,'S3'!$B$23:$Z$57,23,FALSE)=\"\",\"\",VLOOKUP(B168,'S3'!$B$23:$Z$57,23,FALSE))","v":""},{"$f":"IF(VLOOKUP(B168,'S3'!$B$23:$Z$57,24,FALSE)=\"\",\"\",VLOOKUP(B168,'S3'!$B$23:$Z$57,24,FALSE))","v":""},{"$f":"IF(VLOOKUP(B168,'S3'!$B$23:$Z$57,25,FALSE)=\"\",\"\",VLOOKUP(B168,'S3'!$B$23:$Z$57,25,FALSE))","v":""},null,"Note",null,null,null,null,{"$f":"IF('S3'!$Q$18=\"\",\"\",\"erreicht\")","v":""},null,null,{"$f":"IF(VLOOKUP(U168,'S3'!$B$23:$Z$57,16,FALSE)=\"\",\"\",VLOOKUP(U168,'S3'!$B$23:$Z$57,16,FALSE))","v":""},{"$f":"IF(VLOOKUP(U168,'S3'!$B$23:$Z$57,17,FALSE)=\"\",\"\",VLOOKUP(U168,'S3'!$B$23:$Z$57,17,FALSE))","v":""},{"$f":"IF(VLOOKUP(U168,'S3'!$B$23:$Z$57,18,FALSE)=\"\",\"\",VLOOKUP(U168,'S3'!$B$23:$Z$57,18,FALSE))","v":""},{"$f":"IF(VLOOKUP(U168,'S3'!$B$23:$Z$57,19,FALSE)=\"\",\"\",VLOOKUP(U168,'S3'!$B$23:$Z$57,19,FALSE))","v":""},{"$f":"IF(VLOOKUP(U168,'S3'!$B$23:$Z$57,20,FALSE)=\"\",\"\",VLOOKUP(U168,'S3'!$B$23:$Z$57,20,FALSE))","v":""},{"$f":"IF(VLOOKUP(U168,'S3'!$B$23:$Z$57,21,FALSE)=\"\",\"\",VLOOKUP(U168,'S3'!$B$23:$Z$57,21,FALSE))","v":""},{"$f":"IF(VLOOKUP(U168,'S3'!$B$23:$Z$57,22,FALSE)=\"\",\"\",VLOOKUP(U168,'S3'!$B$23:$Z$57,22,FALSE))","v":""},{"$f":"IF(VLOOKUP(U168,'S3'!$B$23:$Z$57,23,FALSE)=\"\",\"\",VLOOKUP(U168,'S3'!$B$23:$Z$57,23,FALSE))","v":""},{"$f":"IF(VLOOKUP(U168,'S3'!$B$23:$Z$57,24,FALSE)=\"\",\"\",VLOOKUP(U168,'S3'!$B$23:$Z$57,24,FALSE))","v":""},{"$f":"IF(VLOOKUP(U168,'S3'!$B$23:$Z$57,25,FALSE)=\"\",\"\",VLOOKUP(U168,'S3'!$B$23:$Z$57,25,FALSE))","v":""},null,"Note"]
[null,{"$f":"IF('S3'!$Q$18=\"\",\"\",\"von\")","v":""},null,null,{"$f":"IF('S3'!$Q$21=\"\",\"\",'S3'!$Q$21)","v":""},{"$f":"IF('S3'!$R$21=\"\",\"\",'S3'!$R$21)","v":""},{"$f":"IF('S3'!$S$21=\"\",\"\",'S3'!$S$21)","v":""},{"$f":"IF('S3'!$T$21=\"\",\"\",'S3'!$T$21)","v":""},{"$f":"IF('S3'!$U$21=\"\",\"\",'S3'!$U$21)","v":""},{"$f":"IF('S3'!$V$21=\"\",\"\",'S3'!$V$21)","v":""},{"$f":"IF('S3'!$W$21=\"\",\"\",'S3'!$W$21)","v":""},{"$f":"IF('S3'!$X$21=\"\",\"\",'S3'!$X$21)","v":""},{"$f":"IF('S3'!$Y$21=\"\",\"\",'S3'!$Y$21)","v":""},{"$f":"IF('S3'!$Z$21=\"\",\"\",'S3'!$Z$21)","v":""},null,{"$f":"IF(VLOOKUP(B168,'S3'!$B$23:$Z$57,2,FALSE)=\"\",\"\",CONCATENATE(VLOOKUP(B168,'S3'!$B$23:$Z$57,2,FALSE),\" \",VLOOKUP(B168,'S3'!$B$23:$Z$57,3,FALSE)))","v":"- "},null,null,null,null,{"$f":"IF('S3'!$Q$18=\"\",\"\",\"von\")","v":""},null,null,{"$f":"IF('S3'!$Q$21=\"\",\"\",'S3'!$Q$21)","v":""},{"$f":"IF('S3'!$R$21=\"\",\"\",'S3'!$R$21)","v":""},{"$f":"IF('S3'!$S$21=\"\",\"\",'S3'!$S$21)","v":""},{"$f":"IF('S3'!$T$21=\"\",\"\",'S3'!$T$21)","v":""},{"$f":"IF('S3'!$U$21=\"\",\"\",'S3'!$U$21)","v":""},{"$f":"IF('S3'!$V$21=\"\",\"\",'S3'!$V$21)","v":""},{"$f":"IF('S3'!$W$21=\"\",\"\",'S3'!$W$21)","v":""},{"$f":"IF('S3'!$X$21=\"\",\"\",'S3'!$X$21)","v":""},{"$f":"IF('S3'!$Y$21=\"\",\"\",'S3'!$Y$21)","v":""},{"$f":"IF('S3'!$Z$21=\"\",\"\",'S3'!$Z$21)","v":""},null,{"$f":"IF(VLOOKUP(U168,'S3'!$B$23:$Z$57,2,FALSE)=\"\",\"\",CONCATENATE(VLOOKUP(U168,'S3'!$B$23:$Z$57,2,FALSE),\" \",VLOOKUP(U168,'S3'!$B$23:$Z$57,3,FALSE)))","v":"- "}]
[]
[]
[]
[null,{"$f":"'S3'!$B$53","v":""},null,null,null,null,null,null,null,null,null,null,null,null,null,null,null,null,null,null,{"$f":"'S3'!$B$54","v":""}]
[null,null,null,null,null,null,null,null,null,null,null,null,null,null,null,"Summe",null,null,null,null,null,null,null,null,null,null,null,null,null,null,null,null,null,null,"Summe"]
[null,"Aufgabe",null,null,{"$f":"IF('S3'!$G$18=\"\",\"\",'S3'!$G$18)","v":1},{"$f":"IF('S3'!$H$18=\"\",\"\",'S3'!$H$18)","v":2},{"$f":"IF('S3'!$I$18=\"\",\"\",'S3'!$I$18)","v":3},{"$f":"IF('S3'!$J$18=\"\",\"\",'S3'!$J$18)","v":""},{"$f":"IF('S3'!$K$18=\"\",\"\",'S3'!$K$18)","v":""},{"$f":"IF('S3'!$L$18=\"\",\"\",'S3'!$L$18)","v":""},{"$f":"IF('S3'!$M$18=\"\",\"\",'S3'!$M$18)","v":""},{"$f":"IF('S3'!$N$18=\"\",\"\",'S3'!$N$18)","v":""},{"$f":"IF('S3'!$O$18=\"\",\"\",'S3'!$O$18)","v":""},{"$f":"IF('S3'!$P$18=\"\",\"\",'S3'!$P$18)","v":""},null,{"$f":"IF(VLOOKUP(B180,'S3'!$B$23:$Z$57,5,FALSE)=\"\",\"\",VLOOKUP(B180,'S3'!$B$23:$Z$57,5,FALSE))","v":0},null,null,null,null,"Aufgabe",null,null,{"$f":"IF('S3'!$G$18=\"\",\"\",'S3'!$G$18)","v":1},{"$f":"IF('S3'!$H$18=\"\",\"\",'S3'!$H$18)","v":2},{"$f":"IF('S3'!$I$18=\"\",\"\",'S3'!$I$18)","v":3},{"$f":"IF('S3'!$J$18=\"\",\"\",'S3'!$J$18)","v":""},{"$f":"IF('S3'!$K$18=\"\",\"\",'S3'!$K$18)","v":""},{"$f":"IF('S3'!$L$18=\"\",\"\",'S3'!$L$18)","v":""},{"$f":"IF('S3'!$M$18=\"\",\"\",'S3'!$M$18)","v":""},{"$f":"IF('S3'!$N$18=\"\",\"\",'S3'!$N$18)","v":""},{"$f":"IF('S3'!$O$18=\"\",\"\",'S3'!$O$18)","v":""},{"$f":"IF('S3'!$P$18=\"\",\"\",'S3'!$P$18)","v":""},null,{"$f":"IF(VLOOKUP(U180,'S3'!$B$23:$Z$57,5,FALSE)=\"\",\"\",VLOOKUP(U180,'S3'!$B$23:$Z$57,5,FALSE))","v":0}]
[null,"erreicht",null,null,{"$f":"IF(VLOOKUP(B180,'S3'!$B$23:$Z$57,6,FALSE)=\"\",\"\",VLOOKUP(B180,'S3'!$B$23:$Z$57,6,FALSE))","v":"."},{"$f":"IF(VLOOKUP(B180,'S3'!$B$23:$Z$57,7,FALSE)=\"\",\"\",VLOOKUP(B180,'S3'!$B$23:$Z$57,7,FALSE))","v":""},{"$f":"IF(VLOOKUP(B180,'S3'!$B$23:$Z$57,8,FALSE)=\"\",\"\",VLOOKUP(B180,'S3'!$B$23:$Z$57,8,FALSE))","v":""},{"$f":"IF(VLOOKUP(B180,'S3'!$B$23:$Z$57,9,FALSE)=\"\",\"\",VLOOKUP(B180,'S3'!$B$23:$Z$57,9,FALSE))","v":""},{"$f":"IF(VLOOKUP(B180,'S3'!$B$23:$Z$57,10,FALSE)=\"\",\"\",VLOOKUP(B180,'S3'!$B$23:$Z$57,10,FALSE))","v":""},{"$f":"IF(VLOOKUP(B180,'S3'!$B$23:$Z$57,11,FALSE)=\"\",\"\",VLOOKUP(B180,'S3'!$B$23:$Z$57,11,FALSE))","v":""},{"$f":"IF(VLOOKUP(B180,'S3'!$B$23:$Z$57,12,FALSE)=\"\",\"\",VLOOKUP(B180,'S3'!$B$23:$Z$57,12,FALSE))","v":""},{"$f":"IF(VLOOKUP(B180,'S3'!$B$23:$Z$57,13,FALSE)=\"\",\"\",VLOOKUP(B180,'S3'!$B$23:$Z$57,13,FALSE))","v":""},{"$f":"IF(VLOOKUP(B180,'S3'!$B$23:$Z$57,14,FALSE)=\"\",\"\",VLOOKUP(B180,'S3'!$B$23:$Z$57,14,FALSE))","v":""},{"$f":"IF(VLOOKUP(B180,'S3'!$B$23:$Z$57,15,FALSE)=\"\",\"\",VLOOKUP(B180,'S3'!$B$23:$Z$57,15,FALSE))","v":""},null,null,null,null,null,null,"erreicht",null,null,{"$f":"IF(VLOOKUP(U180,'S3'!$B$23:$Z$57,6,FALSE)=\"\",\"\",VLOOKUP(U180,'S3'!$B$23:$Z$57,6,FALSE))","v":"."},{"$f":"IF(VLOOKUP(U180,'S3'!$B$23:$Z$57,7,FALSE)=\"\",\"\",VLOOKUP(U180,'S3'!$B$23:$Z$57,7,FALSE))","v":""},{"$f":"IF(VLOOKUP(U180,'S3'!$B$23:$Z$57,8,FALSE)=\"\",\"\",VLOOKUP(U180,'S3'!$B$23:$Z$57,8,FALSE))","v":""},{"$f":"IF(VLOOKUP(U180,'S3'!$B$23:$Z$57,9,FALSE)=\"\",\"\",VLOOKUP(U180,'S3'!$B$23:$Z$57,9,FALSE))","v":""},{"$f":"IF(VLOOKUP(U180,'S3'!$B$23:$Z$57,10,FALSE)=\"\",\"\",VLOOKUP(U180,'S3'!$B$23:$Z$57,10,FALSE))","v":""},{"$f":"IF(VLOOKUP(U180,'S3'!$B$23:$Z$57,11,FALSE)=\"\",\"\",VLOOKUP(U180,'S3'!$B$23:$Z$57,11,FALSE))","v":""},{"$f":"IF(VLOOKUP(U180,'S3'!$B$23:$Z$57,12,FALSE)=\"\",\"\",VLOOKUP(U180,'S3'!$B$23:$Z$57,12,FALSE))","v":""},{"$f":"IF(VLOOKUP(U180,'S3'!$B$23:$Z$57,13,FALSE)=\"\",\"\",VLOOKUP(U180,'S3'!$B$23:$Z$57,13,FALSE))","v":""},{"$f":"IF(VLOOKUP(U180,'S3'!$B$23:$Z$57,14,FALSE)=\"\",\"\",VLOOKUP(U180,'S3'!$B$23:$Z$57,14,FALSE))","v":""},{"$f":"IF(VLOOKUP(U180,'S3'!$B$23:$Z$57,15,FALSE)=\"\",\"\",VLOOKUP(U180,'S3'!$B$23:$Z$57,15,FALSE))","v":""}]
[null,"von",null,null,{"$f":"IF('S3'!$G$21=\"\",\"\",'S3'!$G$21)","v":""},{"$f":"IF('S3'!$H$21=\"\",\"\",'S3'!$H$21)","v":""},{"$f":"IF('S3'!$I$21=\"\",\"\",'S3'!$I$21)","v":""},{"$f":"IF('S3'!$J$21=\"\",\"\",'S3'!$J$21)","v":""},{"$f":"IF('S3'!$K$21=\"\",\"\",'S3'!$K$21)","v":""},{"$f":"IF('S3'!$L$21=\"\",\"\",'S3'!$L$21)","v":""},{"$f":"IF('S3'!$M$21=\"\",\"\",'S3'!$M$21)","v":""},{"$f":"IF('S3'!$N$21=\"\",\"\",'S3'!$N$21)","v":""},{"$f":"IF('S3'!$O$21=\"\",\"\",'S3'!$O$21)","v":""},{"$f":"IF('S3'!$P$21=\"\",\"\",'S3'!$P$21)","v":""},null,"von",null,null,null,null,"von",null,null,{"$f":"IF('S3'!$G$21=\"\",\"\",'S3'!$G$21)","v":""},{"$f":"IF('S3'!$H$21=\"\",\"\",'S3'!$H$21)","v":""},{"$f":"IF('S3'!$I$21=\"\",\"\",'S3'!$I$21)","v":""},{"$f":"IF('S3'!$J$21=\"\",\"\",'S3'!$J$21)","v":""},{"$f":"IF('S3'!$K$21=\"\",\"\",'S3'!$K$21)","v":""},{"$f":"IF('S3'!$L$21=\"\",\"\",'S3'!$L$21)","v":""},{"$f":"IF('S3'!$M$21=\"\",\"\",'S3'!$M$21)","v":""},{"$f":"IF('S3'!$N$21=\"\",\"\",'S3'!$N$21)","v":""},{"$f":"IF('S3'!$O$21=\"\",\"\",'S3'!$O$21)","v":""},{"$f":"IF('S3'!$P$21=\"\",\"\",'S3'!$P$21)","v":""},null,"von"]
[null,null,null,null,null,null,null,null,null,null,null,null,null,null,null,{"$f":"'S3'!$H$12","v":0},null,null,null,null,null,null,null,null,null,null,null,null,null,null,null,null,null,null,{"$f":"'S3'!$H$12","v":0}]
[null,{"$f":"IF('S3'!$Q$18=\"\",\"\",\"Aufgabe\")","v":""},null,null,{"$f":"IF('S3'!$Q$18=\"\",\"\",'S3'!$Q$18)","v":""},{"$f":"IF('S3'!$R$18=\"\",\"\",'S3'!$R$18)","v":""},{"$f":"IF('S3'!$S$18=\"\",\"\",'S3'!$S$18)","v":""},{"$f":"IF('S3'!$T$18=\"\",\"\",'S3'!$T$18)","v":""},{"$f":"IF('S3'!$U$18=\"\",\"\",'S3'!$U$18)","v":""},{"$f":"IF('S3'!$V$18=\"\",\"\",'S3'!$V$18)","v":""},{"$f":"IF('S3'!$W$18=\"\",\"\",'S3'!$W$18)","v":""},{"$f":"IF('S3'!$X$18=\"\",\"\",'S3'!$X$18)","v":""},{"$f":"IF('S3'!$Y$18=\"\",\"\",'S3'!$Y$18)","v":""},{"$f":"IF('S3'!$Z$18=\"\",\"\",'S3'!$Z$18)","v":""},null,null,null,null,null,null,{"$f":"IF('S3'!$Q$18=\"\",\"\",\"Aufgabe\")","v":""},null,null,{"$f":"IF('S3'!$Q$18=\"\",\"\",'S3'!$Q$18)","v":""},{"$f":"IF('S3'!$R$18=\"\",\"\",'S3'!$R$18)","v":""},{"$f":"IF('S3'!$S$18=\"\",\"\",'S3'!$S$18)","v":""},{"$f":"IF('S3'!$T$18=\"\",\"\",'S3'!$T$18)","v":""},{"$f":"IF('S3'!$U$18=\"\",\"\",'S3'!$U$18)","v":""},{"$f":"IF('S3'!$V$18=\"\",\"\",'S3'!$V$18)","v":""},{"$f":"IF('S3'!$W$18=\"\",\"\",'S3'!$W$18)","v":""},{"$f":"IF('S3'!$X$18=\"\",\"\",'S3'!$X$18)","v":""},{"$f":"IF('S3'!$Y$18=\"\",\"\",'S3'!$Y$18)","v":""},{"$f":"IF('S3'!$Z$18=\"\",\"\",'S3'!$Z$18)","v":""}]
[null,{"$f":"IF('S3'!$Q$18=\"\",\"\",\"erreicht\")","v":""},null,null,{"$f":"IF(VLOOKUP(B180,'S3'!$B$23:$Z$57,16,FALSE)=\"\",\"\",VLOOKUP(B180,'S3'!$B$23:$Z$57,16,FALSE))","v":""},{"$f":"IF(VLOOKUP(B180,'S3'!$B$23:$Z$57,17,FALSE)=\"\",\"\",VLOOKUP(B180,'S3'!$B$23:$Z$57,17,FALSE))","v":""},{"$f":"IF(VLOOKUP(B180,'S3'!$B$23:$Z$57,18,FALSE)=\"\",\"\",VLOOKUP(B180,'S3'!$B$23:$Z$57,18,FALSE))","v":""},{"$f":"IF(VLOOKUP(B180,'S3'!$B$23:$Z$57,19,FALSE)=\"\",\"\",VLOOKUP(B180,'S3'!$B$23:$Z$57,19,FALSE))","v":""},{"$f":"IF(VLOOKUP(B180,'S3'!$B$23:$Z$57,20,FALSE)=\"\",\"\",VLOOKUP(B180,'S3'!$B$23:$Z$57,20,FALSE))","v":""},{"$f":"IF(VLOOKUP(B180,'S3'!$B$23:$Z$57,21,FALSE)=\"\",\"\",VLOOKUP(B180,'S3'!$B$23:$Z$57,21,FALSE))","v":""},{"$f":"IF(VLOOKUP(B180,'S3'!$B$23:$Z$57,22,FALSE)=\"\",\"\",VLOOKUP(B180,'S3'!$B$23:$Z$57,22,FALSE))","v":""},{"$f":"IF(VLOOKUP(B180,'S3'!$B$23:$Z$57,23,FALSE)=\"\",\"\",VLOOKUP(B180,'S3'!$B$23:$Z$57,23,FALSE))","v":""},{"$f":"IF(VLOOKUP(B180,'S3'!$B$23:$Z$57,24,FALSE)=\"\",\"\",VLOOKUP(B180,'S3'!$B$23:$Z$57,24,FALSE))","v":""},{"$f":"IF(VLOOKUP(B180,'S3'!$B$23:$Z$57,25,FALSE)=\"\",\"\",VLOOKUP(B180,'S3'!$B$23:$Z$57,25,FALSE))","v":""},null,"Note",null,null,null,null,{"$f":"IF('S3'!$Q$18=\"\",\"\",\"erreicht\")","v":""},null,null,{"$f":"IF(VLOOKUP(U180,'S3'!$B$23:$Z$57,16,FALSE)=\"\",\"\",VLOOKUP(U180,'S3'!$B$23:$Z$57,16,FALSE))","v":""},{"$f":"IF(VLOOKUP(U180,'S3'!$B$23:$Z$57,17,FALSE)=\"\",\"\",VLOOKUP(U180,'S3'!$B$23:$Z$57,17,FALSE))","v":""},{"$f":"IF(VLOOKUP(U180,'S3'!$B$23:$Z$57,18,FALSE)=\"\",\"\",VLOOKUP(U180,'S3'!$B$23:$Z$57,18,FALSE))","v":""},{"$f":"IF(VLOOKUP(U180,'S3'!$B$23:$Z$57,19,FALSE)=\"\",\"\",VLOOKUP(U180,'S3'!$B$23:$Z$57,19,FALSE))","v":""},{"$f":"IF(VLOOKUP(U180,'S3'!$B$23:$Z$57,20,FALSE)=\"\",\"\",VLOOKUP(U180,'S3'!$B$23:$Z$57,20,FALSE))","v":""},{"$f":"IF(VLOOKUP(U180,'S3'!$B$23:$Z$57,21,FALSE)=\"\",\"\",VLOOKUP(U180,'S3'!$B$23:$Z$57,21,FALSE))","v":""},{"$f":"IF(VLOOKUP(U180,'S3'!$B$23:$Z$57,22,FALSE)=\"\",\"\",VLOOKUP(U180,'S3'!$B$23:$Z$57,22,FALSE))","v":""},{"$f":"IF(VLOOKUP(U180,'S3'!$B$23:$Z$57,23,FALSE)=\"\",\"\",VLOOKUP(U180,'S3'!$B$23:$Z$57,23,FALSE))","v":""},{"$f":"IF(VLOOKUP(U180,'S3'!$B$23:$Z$57,24,FALSE)=\"\",\"\",VLOOKUP(U180,'S3'!$B$23:$Z$57,24,FALSE))","v":""},{"$f":"IF(VLOOKUP(U180,'S3'!$B$23:$Z$57,25,FALSE)=\"\",\"\",VLOOKUP(U180,'S3'!$B$23:$Z$57,25,FALSE))","v":""},null,"Note"]
[null,{"$f":"IF('S3'!$Q$18=\"\",\"\",\"von\")","v":""},null,null,{"$f":"IF('S3'!$Q$21=\"\",\"\",'S3'!$Q$21)","v":""},{"$f":"IF('S3'!$R$21=\"\",\"\",'S3'!$R$21)","v":""},{"$f":"IF('S3'!$S$21=\"\",\"\",'S3'!$S$21)","v":""},{"$f":"IF('S3'!$T$21=\"\",\"\",'S3'!$T$21)","v":""},{"$f":"IF('S3'!$U$21=\"\",\"\",'S3'!$U$21)","v":""},{"$f":"IF('S3'!$V$21=\"\",\"\",'S3'!$V$21)","v":""},{"$f":"IF('S3'!$W$21=\"\",\"\",'S3'!$W$21)","v":""},{"$f":"IF('S3'!$X$21=\"\",\"\",'S3'!$X$21)","v":""},{"$f":"IF('S3'!$Y$21=\"\",\"\",'S3'!$Y$21)","v":""},{"$f":"IF('S3'!$Z$21=\"\",\"\",'S3'!$Z$21)","v":""},null,{"$f":"IF(VLOOKUP(B180,'S3'!$B$23:$Z$57,2,FALSE)=\"\",\"\",CONCATENATE(VLOOKUP(B180,'S3'!$B$23:$Z$57,2,FALSE),\" \",VLOOKUP(B180,'S3'!$B$23:$Z$57,3,FALSE)))","v":"- "},null,null,null,null,{"$f":"IF('S3'!$Q$18=\"\",\"\",\"von\")","v":""},null,null,{"$f":"IF('S3'!$Q$21=\"\",\"\",'S3'!$Q$21)","v":""},{"$f":"IF('S3'!$R$21=\"\",\"\",'S3'!$R$21)","v":""},{"$f":"IF('S3'!$S$21=\"\",\"\",'S3'!$S$21)","v":""},{"$f":"IF('S3'!$T$21=\"\",\"\",'S3'!$T$21)","v":""},{"$f":"IF('S3'!$U$21=\"\",\"\",'S3'!$U$21)","v":""},{"$f":"IF('S3'!$V$21=\"\",\"\",'S3'!$V$21)","v":""},{"$f":"IF('S3'!$W$21=\"\",\"\",'S3'!$W$21)","v":""},{"$f":"IF('S3'!$X$21=\"\",\"\",'S3'!$X$21)","v":""},{"$f":"IF('S3'!$Y$21=\"\",\"\",'S3'!$Y$21)","v":""},{"$f":"IF('S3'!$Z$21=\"\",\"\",'S3'!$Z$21)","v":""},null,{"$f":"IF(VLOOKUP(U180,'S3'!$B$23:$Z$57,2,FALSE)=\"\",\"\",CONCATENATE(VLOOKUP(U180,'S3'!$B$23:$Z$57,2,FALSE),\" \",VLOOKUP(U180,'S3'!$B$23:$Z$57,3,FALSE)))","v":"- "}]
[]
[]
[]
[null,{"$f":"'S3'!$B$55","v":""},null,null,null,null,null,null,null,null,null,null,null,null,null,null,null,null,null,null,{"$f":"'S3'!$B$56","v":""}]
[null,null,null,null,null,null,null,null,null,null,null,null,null,null,null,"Summe",null,null,null,null,null,null,null,null,null,null,null,null,null,null,null,null,null,null,"Summe"]
[null,"Aufgabe",null,null,{"$f":"IF('S3'!$G$18=\"\",\"\",'S3'!$G$18)","v":1},{"$f":"IF('S3'!$H$18=\"\",\"\",'S3'!$H$18)","v":2},{"$f":"IF('S3'!$I$18=\"\",\"\",'S3'!$I$18)","v":3},{"$f":"IF('S3'!$J$18=\"\",\"\",'S3'!$J$18)","v":""},{"$f":"IF('S3'!$K$18=\"\",\"\",'S3'!$K$18)","v":""},{"$f":"IF('S3'!$L$18=\"\",\"\",'S3'!$L$18)","v":""},{"$f":"IF('S3'!$M$18=\"\",\"\",'S3'!$M$18)","v":""},{"$f":"IF('S3'!$N$18=\"\",\"\",'S3'!$N$18)","v":""},{"$f":"IF('S3'!$O$18=\"\",\"\",'S3'!$O$18)","v":""},{"$f":"IF('S3'!$P$18=\"\",\"\",'S3'!$P$18)","v":""},null,{"$f":"IF(VLOOKUP(B192,'S3'!$B$23:$Z$57,5,FALSE)=\"\",\"\",VLOOKUP(B192,'S3'!$B$23:$Z$57,5,FALSE))","v":0},null,null,null,null,"Aufgabe",null,null,{"$f":"IF('S3'!$G$18=\"\",\"\",'S3'!$G$18)","v":1},{"$f":"IF('S3'!$H$18=\"\",\"\",'S3'!$H$18)","v":2},{"$f":"IF('S3'!$I$18=\"\",\"\",'S3'!$I$18)","v":3},{"$f":"IF('S3'!$J$18=\"\",\"\",'S3'!$J$18)","v":""},{"$f":"IF('S3'!$K$18=\"\",\"\",'S3'!$K$18)","v":""},{"$f":"IF('S3'!$L$18=\"\",\"\",'S3'!$L$18)","v":""},{"$f":"IF('S3'!$M$18=\"\",\"\",'S3'!$M$18)","v":""},{"$f":"IF('S3'!$N$18=\"\",\"\",'S3'!$N$18)","v":""},{"$f":"IF('S3'!$O$18=\"\",\"\",'S3'!$O$18)","v":""},{"$f":"IF('S3'!$P$18=\"\",\"\",'S3'!$P$18)","v":""},null,{"$f":"IF(VLOOKUP(U192,'S3'!$B$23:$Z$57,5,FALSE)=\"\",\"\",VLOOKUP(U192,'S3'!$B$23:$Z$57,5,FALSE))","v":0}]
[null,"erreicht",null,null,{"$f":"IF(VLOOKUP(B192,'S3'!$B$23:$Z$57,6,FALSE)=\"\",\"\",VLOOKUP(B192,'S3'!$B$23:$Z$57,6,FALSE))","v":"."},{"$f":"IF(VLOOKUP(B192,'S3'!$B$23:$Z$57,7,FALSE)=\"\",\"\",VLOOKUP(B192,'S3'!$B$23:$Z$57,7,FALSE))","v":""},{"$f":"IF(VLOOKUP(B192,'S3'!$B$23:$Z$57,8,FALSE)=\"\",\"\",VLOOKUP(B192,'S3'!$B$23:$Z$57,8,FALSE))","v":""},{"$f":"IF(VLOOKUP(B192,'S3'!$B$23:$Z$57,9,FALSE)=\"\",\"\",VLOOKUP(B192,'S3'!$B$23:$Z$57,9,FALSE))","v":""},{"$f":"IF(VLOOKUP(B192,'S3'!$B$23:$Z$57,10,FALSE)=\"\",\"\",VLOOKUP(B192,'S3'!$B$23:$Z$57,10,FALSE))","v":""},{"$f":"IF(VLOOKUP(B192,'S3'!$B$23:$Z$57,11,FALSE)=\"\",\"\",VLOOKUP(B192,'S3'!$B$23:$Z$57,11,FALSE))","v":""},{"$f":"IF(VLOOKUP(B192,'S3'!$B$23:$Z$57,12,FALSE)=\"\",\"\",VLOOKUP(B192,'S3'!$B$23:$Z$57,12,FALSE))","v":""},{"$f":"IF(VLOOKUP(B192,'S3'!$B$23:$Z$57,13,FALSE)=\"\",\"\",VLOOKUP(B192,'S3'!$B$23:$Z$57,13,FALSE))","v":""},{"$f":"IF(VLOOKUP(B192,'S3'!$B$23:$Z$57,14,FALSE)=\"\",\"\",VLOOKUP(B192,'S3'!$B$23:$Z$57,14,FALSE))","v":""},{"$f":"IF(VLOOKUP(B192,'S3'!$B$23:$Z$57,15,FALSE)=\"\",\"\",VLOOKUP(B192,'S3'!$B$23:$Z$57,15,FALSE))","v":""},null,null,null,null,null,null,"erreicht",null,null,{"$f":"IF(VLOOKUP(U192,'S3'!$B$23:$Z$57,6,FALSE)=\"\",\"\",VLOOKUP(U192,'S3'!$B$23:$Z$57,6,FALSE))","v":"."},{"$f":"IF(VLOOKUP(U192,'S3'!$B$23:$Z$57,7,FALSE)=\"\",\"\",VLOOKUP(U192,'S3'!$B$23:$Z$57,7,FALSE))","v":""},{"$f":"IF(VLOOKUP(U192,'S3'!$B$23:$Z$57,8,FALSE)=\"\",\"\",VLOOKUP(U192,'S3'!$B$23:$Z$57,8,FALSE))","v":""},{"$f":"IF(VLOOKUP(U192,'S3'!$B$23:$Z$57,9,FALSE)=\"\",\"\",VLOOKUP(U192,'S3'!$B$23:$Z$57,9,FALSE))","v":""},{"$f":"IF(VLOOKUP(U192,'S3'!$B$23:$Z$57,10,FALSE)=\"\",\"\",VLOOKUP(U192,'S3'!$B$23:$Z$57,10,FALSE))","v":""},{"$f":"IF(VLOOKUP(U192,'S3'!$B$23:$Z$57,11,FALSE)=\"\",\"\",VLOOKUP(U192,'S3'!$B$23:$Z$57,11,FALSE))","v":""},{"$f":"IF(VLOOKUP(U192,'S3'!$B$23:$Z$57,12,FALSE)=\"\",\"\",VLOOKUP(U192,'S3'!$B$23:$Z$57,12,FALSE))","v":""},{"$f":"IF(VLOOKUP(U192,'S3'!$B$23:$Z$57,13,FALSE)=\"\",\"\",VLOOKUP(U192,'S3'!$B$23:$Z$57,13,FALSE))","v":""},{"$f":"IF(VLOOKUP(U192,'S3'!$B$23:$Z$57,14,FALSE)=\"\",\"\",VLOOKUP(U192,'S3'!$B$23:$Z$57,14,FALSE))","v":""},{"$f":"IF(VLOOKUP(U192,'S3'!$B$23:$Z$57,15,FALSE)=\"\",\"\",VLOOKUP(U192,'S3'!$B$23:$Z$57,15,FALSE))","v":""}]
[null,"von",null,null,{"$f":"IF('S3'!$G$21=\"\",\"\",'S3'!$G$21)","v":""},{"$f":"IF('S3'!$H$21=\"\",\"\",'S3'!$H$21)","v":""},{"$f":"IF('S3'!$I$21=\"\",\"\",'S3'!$I$21)","v":""},{"$f":"IF('S3'!$J$21=\"\",\"\",'S3'!$J$21)","v":""},{"$f":"IF('S3'!$K$21=\"\",\"\",'S3'!$K$21)","v":""},{"$f":"IF('S3'!$L$21=\"\",\"\",'S3'!$L$21)","v":""},{"$f":"IF('S3'!$M$21=\"\",\"\",'S3'!$M$21)","v":""},{"$f":"IF('S3'!$N$21=\"\",\"\",'S3'!$N$21)","v":""},{"$f":"IF('S3'!$O$21=\"\",\"\",'S3'!$O$21)","v":""},{"$f":"IF('S3'!$P$21=\"\",\"\",'S3'!$P$21)","v":""},null,"von",null,null,null,null,"von",null,null,{"$f":"IF('S3'!$G$21=\"\",\"\",'S3'!$G$21)","v":""},{"$f":"IF('S3'!$H$21=\"\",\"\",'S3'!$H$21)","v":""},{"$f":"IF('S3'!$I$21=\"\",\"\",'S3'!$I$21)","v":""},{"$f":"IF('S3'!$J$21=\"\",\"\",'S3'!$J$21)","v":""},{"$f":"IF('S3'!$K$21=\"\",\"\",'S3'!$K$21)","v":""},{"$f":"IF('S3'!$L$21=\"\",\"\",'S3'!$L$21)","v":""},{"$f":"IF('S3'!$M$21=\"\",\"\",'S3'!$M$21)","v":""},{"$f":"IF('S3'!$N$21=\"\",\"\",'S3'!$N$21)","v":""},{"$f":"IF('S3'!$O$21=\"\",\"\",'S3'!$O$21)","v":""},{"$f":"IF('S3'!$P$21=\"\",\"\",'S3'!$P$21)","v":""},null,"von"]
[null,null,null,null,null,null,null,null,null,null,null,null,null,null,null,{"$f":"'S3'!$H$12","v":0},null,null,null,null,null,null,null,null,null,null,null,null,null,null,null,null,null,null,{"$f":"'S3'!$H$12","v":0}]
[null,{"$f":"IF('S3'!$Q$18=\"\",\"\",\"Aufgabe\")","v":""},null,null,{"$f":"IF('S3'!$Q$18=\"\",\"\",'S3'!$Q$18)","v":""},{"$f":"IF('S3'!$R$18=\"\",\"\",'S3'!$R$18)","v":""},{"$f":"IF('S3'!$S$18=\"\",\"\",'S3'!$S$18)","v":""},{"$f":"IF('S3'!$T$18=\"\",\"\",'S3'!$T$18)","v":""},{"$f":"IF('S3'!$U$18=\"\",\"\",'S3'!$U$18)","v":""},{"$f":"IF('S3'!$V$18=\"\",\"\",'S3'!$V$18)","v":""},{"$f":"IF('S3'!$W$18=\"\",\"\",'S3'!$W$18)","v":""},{"$f":"IF('S3'!$X$18=\"\",\"\",'S3'!$X$18)","v":""},{"$f":"IF('S3'!$Y$18=\"\",\"\",'S3'!$Y$18)","v":""},{"$f":"IF('S3'!$Z$18=\"\",\"\",'S3'!$Z$18)","v":""},null,null,null,null,null,null,{"$f":"IF('S3'!$Q$18=\"\",\"\",\"Aufgabe\")","v":""},null,null,{"$f":"IF('S3'!$Q$18=\"\",\"\",'S3'!$Q$18)","v":""},{"$f":"IF('S3'!$R$18=\"\",\"\",'S3'!$R$18)","v":""},{"$f":"IF('S3'!$S$18=\"\",\"\",'S3'!$S$18)","v":""},{"$f":"IF('S3'!$T$18=\"\",\"\",'S3'!$T$18)","v":""},{"$f":"IF('S3'!$U$18=\"\",\"\",'S3'!$U$18)","v":""},{"$f":"IF('S3'!$V$18=\"\",\"\",'S3'!$V$18)","v":""},{"$f":"IF('S3'!$W$18=\"\",\"\",'S3'!$W$18)","v":""},{"$f":"IF('S3'!$X$18=\"\",\"\",'S3'!$X$18)","v":""},{"$f":"IF('S3'!$Y$18=\"\",\"\",'S3'!$Y$18)","v":""},{"$f":"IF('S3'!$Z$18=\"\",\"\",'S3'!$Z$18)","v":""}]
[null,{"$f":"IF('S3'!$Q$18=\"\",\"\",\"erreicht\")","v":""},null,null,{"$f":"IF(VLOOKUP(B192,'S3'!$B$23:$Z$57,16,FALSE)=\"\",\"\",VLOOKUP(B192,'S3'!$B$23:$Z$57,16,FALSE))","v":""},{"$f":"IF(VLOOKUP(B192,'S3'!$B$23:$Z$57,17,FALSE)=\"\",\"\",VLOOKUP(B192,'S3'!$B$23:$Z$57,17,FALSE))","v":""},{"$f":"IF(VLOOKUP(B192,'S3'!$B$23:$Z$57,18,FALSE)=\"\",\"\",VLOOKUP(B192,'S3'!$B$23:$Z$57,18,FALSE))","v":""},{"$f":"IF(VLOOKUP(B192,'S3'!$B$23:$Z$57,19,FALSE)=\"\",\"\",VLOOKUP(B192,'S3'!$B$23:$Z$57,19,FALSE))","v":""},{"$f":"IF(VLOOKUP(B192,'S3'!$B$23:$Z$57,20,FALSE)=\"\",\"\",VLOOKUP(B192,'S3'!$B$23:$Z$57,20,FALSE))","v":""},{"$f":"IF(VLOOKUP(B192,'S3'!$B$23:$Z$57,21,FALSE)=\"\",\"\",VLOOKUP(B192,'S3'!$B$23:$Z$57,21,FALSE))","v":""},{"$f":"IF(VLOOKUP(B192,'S3'!$B$23:$Z$57,22,FALSE)=\"\",\"\",VLOOKUP(B192,'S3'!$B$23:$Z$57,22,FALSE))","v":""},{"$f":"IF(VLOOKUP(B192,'S3'!$B$23:$Z$57,23,FALSE)=\"\",\"\",VLOOKUP(B192,'S3'!$B$23:$Z$57,23,FALSE))","v":""},{"$f":"IF(VLOOKUP(B192,'S3'!$B$23:$Z$57,24,FALSE)=\"\",\"\",VLOOKUP(B192,'S3'!$B$23:$Z$57,24,FALSE))","v":""},{"$f":"IF(VLOOKUP(B192,'S3'!$B$23:$Z$57,25,FALSE)=\"\",\"\",VLOOKUP(B192,'S3'!$B$23:$Z$57,25,FALSE))","v":""},null,"Note",null,null,null,null,{"$f":"IF('S3'!$Q$18=\"\",\"\",\"erreicht\")","v":""},null,null,{"$f":"IF(VLOOKUP(U192,'S3'!$B$23:$Z$57,16,FALSE)=\"\",\"\",VLOOKUP(U192,'S3'!$B$23:$Z$57,16,FALSE))","v":""},{"$f":"IF(VLOOKUP(U192,'S3'!$B$23:$Z$57,17,FALSE)=\"\",\"\",VLOOKUP(U192,'S3'!$B$23:$Z$57,17,FALSE))","v":""},{"$f":"IF(VLOOKUP(U192,'S3'!$B$23:$Z$57,18,FALSE)=\"\",\"\",VLOOKUP(U192,'S3'!$B$23:$Z$57,18,FALSE))","v":""},{"$f":"IF(VLOOKUP(U192,'S3'!$B$23:$Z$57,19,FALSE)=\"\",\"\",VLOOKUP(U192,'S3'!$B$23:$Z$57,19,FALSE))","v":""},{"$f":"IF(VLOOKUP(U192,'S3'!$B$23:$Z$57,20,FALSE)=\"\",\"\",VLOOKUP(U192,'S3'!$B$23:$Z$57,20,FALSE))","v":""},{"$f":"IF(VLOOKUP(U192,'S3'!$B$23:$Z$57,21,FALSE)=\"\",\"\",VLOOKUP(U192,'S3'!$B$23:$Z$57,21,FALSE))","v":""},{"$f":"IF(VLOOKUP(U192,'S3'!$B$23:$Z$57,22,FALSE)=\"\",\"\",VLOOKUP(U192,'S3'!$B$23:$Z$57,22,FALSE))","v":""},{"$f":"IF(VLOOKUP(U192,'S3'!$B$23:$Z$57,23,FALSE)=\"\",\"\",VLOOKUP(U192,'S3'!$B$23:$Z$57,23,FALSE))","v":""},{"$f":"IF(VLOOKUP(U192,'S3'!$B$23:$Z$57,24,FALSE)=\"\",\"\",VLOOKUP(U192,'S3'!$B$23:$Z$57,24,FALSE))","v":""},{"$f":"IF(VLOOKUP(U192,'S3'!$B$23:$Z$57,25,FALSE)=\"\",\"\",VLOOKUP(U192,'S3'!$B$23:$Z$57,25,FALSE))","v":""},null,"Note"]
[null,{"$f":"IF('S3'!$Q$18=\"\",\"\",\"von\")","v":""},null,null,{"$f":"IF('S3'!$Q$21=\"\",\"\",'S3'!$Q$21)","v":""},{"$f":"IF('S3'!$R$21=\"\",\"\",'S3'!$R$21)","v":""},{"$f":"IF('S3'!$S$21=\"\",\"\",'S3'!$S$21)","v":""},{"$f":"IF('S3'!$T$21=\"\",\"\",'S3'!$T$21)","v":""},{"$f":"IF('S3'!$U$21=\"\",\"\",'S3'!$U$21)","v":""},{"$f":"IF('S3'!$V$21=\"\",\"\",'S3'!$V$21)","v":""},{"$f":"IF('S3'!$W$21=\"\",\"\",'S3'!$W$21)","v":""},{"$f":"IF('S3'!$X$21=\"\",\"\",'S3'!$X$21)","v":""},{"$f":"IF('S3'!$Y$21=\"\",\"\",'S3'!$Y$21)","v":""},{"$f":"IF('S3'!$Z$21=\"\",\"\",'S3'!$Z$21)","v":""},null,{"$f":"IF(VLOOKUP(B192,'S3'!$B$23:$Z$57,2,FALSE)=\"\",\"\",CONCATENATE(VLOOKUP(B192,'S3'!$B$23:$Z$57,2,FALSE),\" \",VLOOKUP(B192,'S3'!$B$23:$Z$57,3,FALSE)))","v":"- "},null,null,null,null,{"$f":"IF('S3'!$Q$18=\"\",\"\",\"von\")","v":""},null,null,{"$f":"IF('S3'!$Q$21=\"\",\"\",'S3'!$Q$21)","v":""},{"$f":"IF('S3'!$R$21=\"\",\"\",'S3'!$R$21)","v":""},{"$f":"IF('S3'!$S$21=\"\",\"\",'S3'!$S$21)","v":""},{"$f":"IF('S3'!$T$21=\"\",\"\",'S3'!$T$21)","v":""},{"$f":"IF('S3'!$U$21=\"\",\"\",'S3'!$U$21)","v":""},{"$f":"IF('S3'!$V$21=\"\",\"\",'S3'!$V$21)","v":""},{"$f":"IF('S3'!$W$21=\"\",\"\",'S3'!$W$21)","v":""},{"$f":"IF('S3'!$X$21=\"\",\"\",'S3'!$X$21)","v":""},{"$f":"IF('S3'!$Y$21=\"\",\"\",'S3'!$Y$21)","v":""},{"$f":"IF('S3'!$Z$21=\"\",\"\",'S3'!$Z$21)","v":""},null,{"$f":"IF(VLOOKUP(U192,'S3'!$B$23:$Z$57,2,FALSE)=\"\",\"\",CONCATENATE(VLOOKUP(U192,'S3'!$B$23:$Z$57,2,FALSE),\" \",VLOOKUP(U192,'S3'!$B$23:$Z$57,3,FALSE)))","v":"- "}]
[]
[]
[]
[null,{"$f":"'S3'!$B$57","v":""}]
[null,null,null,null,null,null,null,null,null,null,null,null,null,null,null,"Summe"]
[null,"Aufgabe",null,null,{"$f":"IF('S3'!$G$18=\"\",\"\",'S3'!$G$18)","v":1},{"$f":"IF('S3'!$H$18=\"\",\"\",'S3'!$H$18)","v":2},{"$f":"IF('S3'!$I$18=\"\",\"\",'S3'!$I$18)","v":3},{"$f":"IF('S3'!$J$18=\"\",\"\",'S3'!$J$18)","v":""},{"$f":"IF('S3'!$K$18=\"\",\"\",'S3'!$K$18)","v":""},{"$f":"IF('S3'!$L$18=\"\",\"\",'S3'!$L$18)","v":""},{"$f":"IF('S3'!$M$18=\"\",\"\",'S3'!$M$18)","v":""},{"$f":"IF('S3'!$N$18=\"\",\"\",'S3'!$N$18)","v":""},{"$f":"IF('S3'!$O$18=\"\",\"\",'S3'!$O$18)","v":""},{"$f":"IF('S3'!$P$18=\"\",\"\",'S3'!$P$18)","v":""},null,{"$f":"IF(VLOOKUP(B204,'S3'!$B$23:$Z$57,5,FALSE)=\"\",\"\",VLOOKUP(B204,'S3'!$B$23:$Z$57,5,FALSE))","v":0}]
[null,"erreicht",null,null,{"$f":"IF(VLOOKUP(B204,'S3'!$B$23:$Z$57,6,FALSE)=\"\",\"\",VLOOKUP(B204,'S3'!$B$23:$Z$57,6,FALSE))","v":"."},{"$f":"IF(VLOOKUP(B204,'S3'!$B$23:$Z$57,7,FALSE)=\"\",\"\",VLOOKUP(B204,'S3'!$B$23:$Z$57,7,FALSE))","v":""},{"$f":"IF(VLOOKUP(B204,'S3'!$B$23:$Z$57,8,FALSE)=\"\",\"\",VLOOKUP(B204,'S3'!$B$23:$Z$57,8,FALSE))","v":""},{"$f":"IF(VLOOKUP(B204,'S3'!$B$23:$Z$57,9,FALSE)=\"\",\"\",VLOOKUP(B204,'S3'!$B$23:$Z$57,9,FALSE))","v":""},{"$f":"IF(VLOOKUP(B204,'S3'!$B$23:$Z$57,10,FALSE)=\"\",\"\",VLOOKUP(B204,'S3'!$B$23:$Z$57,10,FALSE))","v":""},{"$f":"IF(VLOOKUP(B204,'S3'!$B$23:$Z$57,11,FALSE)=\"\",\"\",VLOOKUP(B204,'S3'!$B$23:$Z$57,11,FALSE))","v":""},{"$f":"IF(VLOOKUP(B204,'S3'!$B$23:$Z$57,12,FALSE)=\"\",\"\",VLOOKUP(B204,'S3'!$B$23:$Z$57,12,FALSE))","v":""},{"$f":"IF(VLOOKUP(B204,'S3'!$B$23:$Z$57,13,FALSE)=\"\",\"\",VLOOKUP(B204,'S3'!$B$23:$Z$57,13,FALSE))","v":""},{"$f":"IF(VLOOKUP(B204,'S3'!$B$23:$Z$57,14,FALSE)=\"\",\"\",VLOOKUP(B204,'S3'!$B$23:$Z$57,14,FALSE))","v":""},{"$f":"IF(VLOOKUP(B204,'S3'!$B$23:$Z$57,15,FALSE)=\"\",\"\",VLOOKUP(B204,'S3'!$B$23:$Z$57,15,FALSE))","v":""}]
[null,"von",null,null,{"$f":"IF('S3'!$G$21=\"\",\"\",'S3'!$G$21)","v":""},{"$f":"IF('S3'!$H$21=\"\",\"\",'S3'!$H$21)","v":""},{"$f":"IF('S3'!$I$21=\"\",\"\",'S3'!$I$21)","v":""},{"$f":"IF('S3'!$J$21=\"\",\"\",'S3'!$J$21)","v":""},{"$f":"IF('S3'!$K$21=\"\",\"\",'S3'!$K$21)","v":""},{"$f":"IF('S3'!$L$21=\"\",\"\",'S3'!$L$21)","v":""},{"$f":"IF('S3'!$M$21=\"\",\"\",'S3'!$M$21)","v":""},{"$f":"IF('S3'!$N$21=\"\",\"\",'S3'!$N$21)","v":""},{"$f":"IF('S3'!$O$21=\"\",\"\",'S3'!$O$21)","v":""},{"$f":"IF('S3'!$P$21=\"\",\"\",'S3'!$P$21)","v":""},null,"von"]
[null,null,null,null,null,null,null,null,null,null,null,null,null,null,null,{"$f":"'S3'!$H$12","v":0}]
[null,{"$f":"IF('S3'!$Q$18=\"\",\"\",\"Aufgabe\")","v":""},null,null,{"$f":"IF('S3'!$Q$18=\"\",\"\",'S3'!$Q$18)","v":""},{"$f":"IF('S3'!$R$18=\"\",\"\",'S3'!$R$18)","v":""},{"$f":"IF('S3'!$S$18=\"\",\"\",'S3'!$S$18)","v":""},{"$f":"IF('S3'!$T$18=\"\",\"\",'S3'!$T$18)","v":""},{"$f":"IF('S3'!$U$18=\"\",\"\",'S3'!$U$18)","v":""},{"$f":"IF('S3'!$V$18=\"\",\"\",'S3'!$V$18)","v":""},{"$f":"IF('S3'!$W$18=\"\",\"\",'S3'!$W$18)","v":""},{"$f":"IF('S3'!$X$18=\"\",\"\",'S3'!$X$18)","v":""},{"$f":"IF('S3'!$Y$18=\"\",\"\",'S3'!$Y$18)","v":""},{"$f":"IF('S3'!$Z$18=\"\",\"\",'S3'!$Z$18)","v":""}]
[null,{"$f":"IF('S3'!$Q$18=\"\",\"\",\"erreicht\")","v":""},null,null,{"$f":"IF(VLOOKUP(B204,'S3'!$B$23:$Z$57,16,FALSE)=\"\",\"\",VLOOKUP(B204,'S3'!$B$23:$Z$57,16,FALSE))","v":""},{"$f":"IF(VLOOKUP(B204,'S3'!$B$23:$Z$57,17,FALSE)=\"\",\"\",VLOOKUP(B204,'S3'!$B$23:$Z$57,17,FALSE))","v":""},{"$f":"IF(VLOOKUP(B204,'S3'!$B$23:$Z$57,18,FALSE)=\"\",\"\",VLOOKUP(B204,'S3'!$B$23:$Z$57,18,FALSE))","v":""},{"$f":"IF(VLOOKUP(B204,'S3'!$B$23:$Z$57,19,FALSE)=\"\",\"\",VLOOKUP(B204,'S3'!$B$23:$Z$57,19,FALSE))","v":""},{"$f":"IF(VLOOKUP(B204,'S3'!$B$23:$Z$57,20,FALSE)=\"\",\"\",VLOOKUP(B204,'S3'!$B$23:$Z$57,20,FALSE))","v":""},{"$f":"IF(VLOOKUP(B204,'S3'!$B$23:$Z$57,21,FALSE)=\"\",\"\",VLOOKUP(B204,'S3'!$B$23:$Z$57,21,FALSE))","v":""},{"$f":"IF(VLOOKUP(B204,'S3'!$B$23:$Z$57,22,FALSE)=\"\",\"\",VLOOKUP(B204,'S3'!$B$23:$Z$57,22,FALSE))","v":""},{"$f":"IF(VLOOKUP(B204,'S3'!$B$23:$Z$57,23,FALSE)=\"\",\"\",VLOOKUP(B204,'S3'!$B$23:$Z$57,23,FALSE))","v":""},{"$f":"IF(VLOOKUP(B204,'S3'!$B$23:$Z$57,24,FALSE)=\"\",\"\",VLOOKUP(B204,'S3'!$B$23:$Z$57,24,FALSE))","v":""},{"$f":"IF(VLOOKUP(B204,'S3'!$B$23:$Z$57,25,FALSE)=\"\",\"\",VLOOKUP(B204,'S3'!$B$23:$Z$57,25,FALSE))","v":""},null,"Note"]
[null,{"$f":"IF('S3'!$Q$18=\"\",\"\",\"von\")","v":""},null,null,{"$f":"IF('S3'!$Q$21=\"\",\"\",'S3'!$Q$21)","v":""},{"$f":"IF('S3'!$R$21=\"\",\"\",'S3'!$R$21)","v":""},{"$f":"IF('S3'!$S$21=\"\",\"\",'S3'!$S$21)","v":""},{"$f":"IF('S3'!$T$21=\"\",\"\",'S3'!$T$21)","v":""},{"$f":"IF('S3'!$U$21=\"\",\"\",'S3'!$U$21)","v":""},{"$f":"IF('S3'!$V$21=\"\",\"\",'S3'!$V$21)","v":""},{"$f":"IF('S3'!$W$21=\"\",\"\",'S3'!$W$21)","v":""},{"$f":"IF('S3'!$X$21=\"\",\"\",'S3'!$X$21)","v":""},{"$f":"IF('S3'!$Y$21=\"\",\"\",'S3'!$Y$21)","v":""},{"$f":"IF('S3'!$Z$21=\"\",\"\",'S3'!$Z$21)","v":""},null,{"$f":"IF(VLOOKUP(B204,'S3'!$B$23:$Z$57,2,FALSE)=\"\",\"\",CONCATENATE(VLOOKUP(B204,'S3'!$B$23:$Z$57,2,FALSE),\" \",VLOOKUP(B204,'S3'!$B$23:$Z$57,3,FALSE)))","v":"- "}]

{"sheet":"L3","index":18,"n_rows":57,"n_cols":27,"rows_kept":57,"cut":false,"hidden":false,"merged":[[12,2,12,3],[13,2,13,3],[14,2,15,11],[0,1,4,3],[2,6,4,6],[8,2,8,11],[9,2,9,3],[10,2,10,3],[11,2,11,3]]}
[null,{"$f":"Dateneingabe!A1","v":"Mustergymnasium\nMusterstraße 1\n12345 Musterstadt"}]
[null,null,null,null,null,"Schuljahr:",{"$f":"Dateneingabe!F2","v":0}]
[null,null,null,null,null,null,{"$f":"Dateneingabe!F3","v":0},null,null,null,null,null,null,null,null,null,null,null,null,null,null,null,null,null,null,null,1]
[null,null,null,null,null,"Klasse:"]
[]
[]
[null,{"$f":"'S3'!B7","v":"Schriftliche Arbeit 3"}]
[]
[null,"Art der Arbeit:",{"$f":"'S3'!C9","v":0}]
[null,"Geschrieben am:",{"$f":"'S3'!C10","v":"00:00:00"}]
[null,"Arbeitszeit:",{"$f":"'S3'!C11","v":0}]
[null,"Zurückgegeben am:",{"$f":"'S3'!C12","v":"00:00:00"},null,null,"Gewichtung der Arbeit:",null,null,{"$f":"'S3'!T12","v":1}]
[null,"Dem Direktorat vorgelegt:",{"$f":"'S3'!C13","v":"00:00:00"}]
[null,"Notenlisteneintrag am:",{"$f":"'S3'!C14","v":"00:00:00"}]
[null,"Lehrstoff:",{"$f":"'S3'!C15","v":0}]
[]
[]
[]
[null,"Name","Note",null,null,null,null,"Auswertung Häufigkeit"]
[null,null,null,null,null,null,null,"Note","Anzahl"]
[]
[null,null,null,null,null,null,null,"0",{"$f":"'S3'!AF25","v":0}]
[1,{"$f":"'S3'!B23","v":""},{"$f":"'S3'!C23","v":"-"},null,null,null,null,1,{"$f":"'S3'!AF26","v":0}]
[2,{"$f":"'S3'!B24","v":""},{"$f":"'S3'!C24","v":"-"},null,null,null,null,2,{"$f":"'S3'!AF27","v":0}]
[3,{"$f":"'S3'!B25","v":""},{"$f":"'S3'!C25","v":"-"},null,null,null,null,3,{"$f":"'S3'!AF28","v":0}]
[4,{"$f":"'S3'!B26","v":""},{"$f":"'S3'!C26","v":"-"},null,null,null,null,4,{"$f":"'S3'!AF29","v":0}]
[5,{"$f":"'S3'!B27","v":""},{"$f":"'S3'!C27","v":"-"},null,null,null,null,5,{"$f":"'S3'!AF30","v":0}]
[6,{"$f":"'S3'!B28","v":""},{"$f":"'S3'!C28","v":"-"},null,null,null,null,6,{"$f":"'S3'!AF31","v":0}]
[7,{"$f":"'S3'!B29","v":""},{"$f":"'S3'!C29","v":"-"},null,null,null,null,7,{"$f":"'S3'!AF32","v":0}]
[8,{"$f":"'S3'!B30","v":""},{"$f":"'S3'!C30","v":"-"},null,null,null,null,8,{"$f":"'S3'!AF33","v":0}]
[9,{"$f":"'S3'!B31","v":""},{"$f":"'S3'!C31","v":"-"},null,null,null,null,9,{"$f":"'S3'!AF34","v":0}]
[10,{"$f":"'S3'!B32","v":""},{"$f":"'S3'!C32","v":"-"},null,null,null,null,10,{"$f":"'S3'!AF35","v":0}]
[11,{"$f":"'S3'!B33","v":""},{"$f":"'S3'!C33","v":"-"},null,null,null,null,11,{"$f":"'S3'!AF36","v":0}]
[12,{"$f":"'S3'!B34","v":""},{"$f":"'S3'!C34","v":"-"},null,null,null,null,12,{"$f":"'S3'!AF37","v":0}]
[13,{"$f":"'S3'!B35","v":""},{"$f":"'S3'!C35","v":"-"},null,null,null,null,13,{"$f":"'S3'!AF38","v":0}]
[14,{"$f":"'S3'!B36","v":""},{"$f":"'S3'!C36","v":"-"},null,null,null,null,14,{"$f":"'S3'!AF39","v":0}]
[15,{"$f":"'S3'!B37","v":""},{"$f":"'S3'!C37","v":"-"},null,null,null,null,15,{"$f":"'S3'!AF40","v":0}]
[16,{"$f":"'S3'!B38","v":""},{"$f":"'S3'!C38","v":"-"}]
[17,{"$f":"'S3'!B39","v":""},{"$f":"'S3'!C39","v":"-"}]
[18,{"$f":"'S3'!B40","v":""},{"$f":"'S3'!C40","v":"-"}]
[19,{"$f":"'S3'!B41","v":""},{"$f":"'S3'!C41","v":"-"}]
[20,{"$f":"'S3'!B42","v":""},{"$f":"'S3'!C42","v":"-"}]
[21,{"$f":"'S3'!B43","v":""},{"$f":"'S3'!C43","v":"-"}]
[22,{"$f":"'S3'!B44","v":""},{"$f":"'S3'!C44","v":"-"}]
[23,{"$f":"'S3'!B45","v":""},{"$f":"'S3'!C45","v":"-"}]
[24,{"$f":"'S3'!B46","v":""},{"$f":"'S3'!C46","v":"-"}]
[25,{"$f":"'S3'!B47","v":""},{"$f":"'S3'!C47","v":"-"}]
[26,{"$f":"'S3'!B48","v":""},{"$f":"'S3'!C48","v":"-"}]
[27,{"$f":"'S3'!B49","v":""},{"$f":"'S3'!C49","v":"-"}]
[28,{"$f":"'S3'!B50","v":""},{"$f":"'S3'!C50","v":"-"}]
[29,{"$f":"'S3'!B51","v":""},{"$f":"'S3'!C51","v":"-"}]
[30,{"$f":"'S3'!B52","v":""},{"$f":"'S3'!C52","v":"-"}]
[31,{"$f":"'S3'!B53","v":""},{"$f":"'S3'!C53","v":"-"}]
[32,{"$f":"'S3'!B54","v":""},{"$f":"'S3'!C54","v":"-"}]
[33,{"$f":"'S3'!B55","v":""},{"$f":"'S3'!C55","v":"-"},null,null,null,"Notendurchschnitt:",null,{"$f":"'S3'!AD60","v":"-"}]
[34,{"$f":"'S3'!B56","v":""},{"$f":"'S3'!C56","v":"-"}]
[35,{"$f":"'S3'!B57","v":""},{"$f":"'S3'!C57","v":"-"},null,null,null,"% 5er und 6er",null,{"$f":"'S3'!AD62","v":"0 %"}]

{"sheet":"M3","index":19,"n_rows":37,"n_cols":27,"rows_kept":37,"cut":false,"hidden":false,"merged":[[32,18,32,19],[4,17,4,23],[16,18,16,22],[18,15,19,23],[26,11,26,13],[26,14,26,16],[26,17,26,19],[26,20,26,22],[26,23,26,25],[6,12,6,23],[8,16,8,20],[10,15,10,20],[12,17,12,22],[14,20,14,23],[0,11,0,26]]}
[null,null,null,null,null,null,null,null,null,null,null,{"$f":"Dateneingabe!I28","v":0}]
[]
[null,null,null,null,null,null,null,null,null,null,null,"ABA",null,{"$f":"Dateneingabe!F6","v":0},null,null,null,null,null,null,null,"Schuljahr",null,null,{"$f":"Dateneingabe!F2","v":0}]
[]
[null,null,null,null,null,null,null,null,null,null,null,null,"Schülerarbeiten",null,null,null,null,"________________________"]
[]
[null,null,null,null,null,null,null,null,null,null,null,null,"_________________________________"]
[]
[null,null,null,null,null,null,null,null,null,null,null,"Geschrieben am:",null,null,null,null,{"$f":"'S3'!C10","v":"00:00:00"}]
[]
[null,null,null,null,null,null,null,null,null,null,null,"Arbeitszeit: ",null,null,null,{"$f":"'S3'!C11","v":0}]
[]
[null,null,null,null,null,null,null,null,null,null,null,"Zurückgegeben am:",null,null,null,null,null,{"$f":"'S3'!C12","v":"00:00:00"}]
[]
[null,null,null,null,null,null,null,null,null,null,null,"Dem Direktorat vorgelegt am:",null,null,null,null,null,null,null,null,{"$f":"'S3'!C13","v":"00:00:00"}]
[]
[null,null,null,null,null,null,null,null,null,null,null,"Notenlisteneintrag am: ",null,null,null,null,null,null,{"$f":"'S3'!C14","v":"00:00:00"}]
[]
[null,null,null,null,null,null,null,null,null,null,null,"Lehrstoff:",null,null,null,{"$f":"'S3'!C15","v":0}]
[]
[]
[null,null,null,null,null,null,null,null,null,null,null,"Nicht mitgeschrieben haben:",null,null,null,null,null,null,null,"_________________"]
[]
[]
[null,null,null,null,null,null,null,null,null,null,null,"Notenstatistik:"]
[]
[null,null,null,null,null,null,null,null,null,null,null,1,null,null,2,null,null,3,null,null,4,null,null,5,null,null,6]
[null,null,null,null,null,null,null,null,null,null,null,15,14,13,12,11,10,9,8,7,6,5,4,3,2,1,0]
[null,null,null,null,null,null,null,null,null,null,null,{"$f":"'S3'!$AF40","v":0},{"$f":"'S3'!$AF39","v":0},{"$f":"'S3'!$AF38","v":0},{"$f":"'S3'!$AF37","v":0},{"$f":"'S3'!$AF36","v":0},{"$f":"'S3'!$AF35","v":0},{"$f":"'S3'!$AF34","v":0},{"$f":"'S3'!$AF33","v":0},{"$f":"'S3'!$AF32","v":0},{"$f":"'S3'!$AF31","v":0},{"$f":"'S3'!$AF30","v":0},{"$f":"'S3'!$AF29","v":0},{"$f":"'S3'!$AF28","v":0},{"$f":"'S3'!$AF27","v":0},{"$f":"'S3'!$AF26","v":0},{"$f":"'S3'!$AF25","v":0}]
[]
[null,null,null,null,null,null,null,null,null,null,null,"Punktedurchschnitt:",null,null,null,null,null,null,{"$f":"'S3'!AD60","v":"-"}]
[]
[null,null,null,null,null,null,null,null,null,null,null,"Anteil Note 5 und 6:",null,null,null,null,null,null,{"$f":"'S3'!AD62","v":"0 %"}]
[]
[]
[]
[null,null,null,null,null,null,null,null,null,null,null,"Unterschrift: __________________________"]

{"sheet":"E4","index":20,"n_rows":212,"n_cols":35,"rows_kept":212,"cut":false,"hidden":false,"merged":[[2,15,2,17],[2,34,2,36],[3,15,3,17],[3,34,3,36],[5,15,5,17],[5,34,5,36],[6,15,6,17],[6,34,6,36],[8,15,8,17],[8,34,8,36],[9,15,9,17],[9,34,9,36],[14,15,14,17],[14,34,14,36],[15,15,15,17],[15,34,15,36],[17,15,17,17],[17,34,17,36],[18,15,18,17],[18,34,18,36],[20,15,20,17],[20,34,20,36],[21,15,21,17],[21,34,21,36],[26,15,26,17],[26,34,26,36],[27,15,27,17],[27,34,27,36],[29,15,29,17],[29,34,29,36],[30,15,30,17],[30,34,30,36],[32,15,32,17],[32,34,32,36],[33,15,33,17],[33,34,33,36],[38,15,38,17],[38,34,38,36],[39,15,39,17],[39,34,39,36],[41,15,41,17],[41,34,41,36],[42,15,42,17],[42,34,42,36],[44,15,44,17],[44,34,44,36],[45,15,45,17],[45,34,45,36],[50,15,50,17],[50,34,50,36],[51,15,51,17],[51,34,51,36],[53,15,53,17],[53,34,53,36],[54,15,54,17],[54,34,54,36],[56,15,56,17],[56,34,56,36],[57,15,57,17],[57,34,57,36],[62,15,62,17],[62,34,62,36],[63,15,63,17],[63,34,63,36],[65,15,65,17],[65,34,65,36],[66,15,66,17],[66,34,66,36],[68,15,68,17],[68,34,68,36],[69,15,69,17],[69,34,69,36],[73,15,73,17],[73,34,73,36],[74,15,74,17],[74,34,74,36],[76,15,76,17],[76,34,76,36],[77,15,77,17],[77,34,77,36],[79,15,79,17],[79,34,79,36],[80,15,80,17],[80,34,80,36],[85,15,85,17],[85,34,85,36],[86,15,86,17],[86,34,86,36],[88,15,88,17],[88,34,88,36],[89,15,89,17],[89,34,89,36],[91,15,91,17],[91,34,91,36],[92,15,92,17],[92,34,92,36],[97,15,97,17],[97,34,97,36],[98,15,98,17],[98,34,98,36],[100,15,100,17],[100,34,100,36],[101,15,101,17],[101,34,101,36],[103,15,103,17],[103,34,103,36],[104,15,104,17],[104,34,104,36],[109,15,109,17],[109,34,109,36],[110,15,110,17],[110,34,110,36],[112,15,112,17],[112,34,112,36],[113,15,113,17],[113,34,113,36],[115,15,115,17],[115,34,115,36],[116,15,116,17],[116,34,116,36],[121,15,121,17],[121,34,121,36],[122,15,122,17],[122,34,122,36],[124,15,124,17],[124,34,124,36],[125,15,125,17],[125,34,125,36],[127,15,127,17],[127,34,127,36],[128,15,128,17],[128,34,128,36],[133,15,133,17],[133,34,133,36],[134,15,134,17],[134,34,134,36],[136,15,136,17],[136,34,136,36],[137,15,137,17],[137,34,137,36],[139,15,139,17],[139,34,139,36],[140,15,140,17],[140,34,140,36],[144,15,144,17],[144,34,144,36],[145,15,145,17],[145,34,145,36],[147,15,147,17],[147,34,147,36],[148,15,148,17],[148,34,148,36],[150,15,150,17],[150,34,150,36],[151,15,151,17],[151,34,151,36],[156,15,156,17],[156,34,156,36],[157,15,157,17],[157,34,157,36],[159,15,159,17],[159,34,159,36],[160,15,160,17],[160,34,160,36],[162,15,162,17],[162,34,162,36],[163,15,163,17],[163,34,163,36],[168,15,168,17],[168,34,168,36],[169,15,169,17],[169,34,169,36],[171,15,171,17],[171,34,171,36],[172,15,172,17],[172,34,172,36],[174,15,174,17],[174,34,174,36],[175,15,175,17],[175,34,175,36],[180,15,180,17],[180,34,180,36],[181,15,181,17],[181,34,181,36],[183,15,183,17],[183,34,183,36],[184,15,184,17],[184,34,184,36],[186,15,186,17],[186,34,186,36],[187,15,187,17],[187,34,187,36],[192,15,192,17],[192,34,192,36],[193,15,193,17],[193,34,193,36],[195,15,195,17],[195,34,195,36],[196,15,196,17],[196,34,196,36],[198,15,198,17],[198,34,198,36],[199,15,199,17],[199,34,199,36],[204,15,204,17],[204,34,204,36],[205,15,205,17],[205,34,205,36],[207,15,207,17],[207,34,207,36],[208,15,208,17],[208,34,208,36],[210,15,210,17],[210,34,210,36],[211,15,211,17],[211,34,211,36]]}
[]
[null,{"$f":"'S4'!$B$23","v":""},null,null,null,null,null,null,null,null,null,null,null,null,null,null,null,null,null,null,{"$f":"'S4'!$B$24","v":""}]
[null,null,null,null,null,null,null,null,null,null,null,null,null,null,null,"Summe",null,null,null,null,null,null,null,null,null,null,null,null,null,null,null,null,null,null,"Summe"]
[null,"Aufgabe",null,null,{"$f":"IF('S4'!$G$18=\"\",\"\",'S4'!$G$18)","v":1},{"$f":"IF('S4'!$H$18=\"\",\"\",'S4'!$H$18)","v":2},{"$f":"IF('S4'!$I$18=\"\",\"\",'S4'!$I$18)","v":3},{"$f":"IF('S4'!$J$18=\"\",\"\",'S4'!$J$18)","v":""},{"$f":"IF('S4'!$K$18=\"\",\"\",'S4'!$K$18)","v":""},{"$f":"IF('S4'!$L$18=\"\",\"\",'S4'!$L$18)","v":""},{"$f":"IF('S4'!$M$18=\"\",\"\",'S4'!$M$18)","v":""},{"$f":"IF('S4'!$N$18=\"\",\"\",'S4'!$N$18)","v":""},{"$f":"IF('S4'!$O$18=\"\",\"\",'S4'!$O$18)","v":""},{"$f":"IF('S4'!$P$18=\"\",\"\",'S4'!$P$18)","v":""},null,{"$f":"IF(VLOOKUP(B2,'S4'!$B$23:$Z$57,5,FALSE)=\"\",\"\",VLOOKUP(B2,'S4'!$B$23:$Z$57,5,FALSE))","v":0},null,null,null,null,"Aufgabe",null,null,{"$f":"IF('S4'!$G$18=\"\",\"\",'S4'!$G$18)","v":1},{"$f":"IF('S4'!$H$18=\"\",\"\",'S4'!$H$18)","v":2},{"$f":"IF('S4'!$I$18=\"\",\"\",'S4'!$I$18)","v":3},{"$f":"IF('S4'!$J$18=\"\",\"\",'S4'!$J$18)","v":""},{"$f":"IF('S4'!$K$18=\"\",\"\",'S4'!$K$18)","v":""},{"$f":"IF('S4'!$L$18=\"\",\"\",'S4'!$L$18)","v":""},{"$f":"IF('S4'!$M$18=\"\",\"\",'S4'!$M$18)","v":""},{"$f":"IF('S4'!$N$18=\"\",\"\",'S4'!$N$18)","v":""},{"$f":"IF('S4'!$O$18=\"\",\"\",'S4'!$O$18)","v":""},{"$f":"IF('S4'!$P$18=\"\",\"\",'S4'!$P$18)","v":""},null,{"$f":"IF(VLOOKUP(U2,'S4'!$B$23:$Z$57,5,FALSE)=\"\",\"\",VLOOKUP(U2,'S4'!$B$23:$Z$57,5,FALSE))","v":0}]
[null,"erreicht",null,null,{"$f":"IF(VLOOKUP(B2,'S4'!$B$23:$Z$57,6,FALSE)=\"\",\"\",VLOOKUP(B2,'S4'!$B$23:$Z$57,6,FALSE))","v":"."},{"$f":"IF(VLOOKUP(B2,'S4'!$B$23:$Z$57,7,FALSE)=\"\",\"\",VLOOKUP(B2,'S4'!$B$23:$Z$57,7,FALSE))","v":""},{"$f":"IF(VLOOKUP(B2,'S4'!$B$23:$Z$57,8,FALSE)=\"\",\"\",VLOOKUP(B2,'S4'!$B$23:$Z$57,8,FALSE))","v":""},{"$f":"IF(VLOOKUP(B2,'S4'!$B$23:$Z$57,9,FALSE)=\"\",\"\",VLOOKUP(B2,'S4'!$B$23:$Z$57,9,FALSE))","v":""},{"$f":"IF(VLOOKUP(B2,'S4'!$B$23:$Z$57,10,FALSE)=\"\",\"\",VLOOKUP(B2,'S4'!$B$23:$Z$57,10,FALSE))","v":""},{"$f":"IF(VLOOKUP(B2,'S4'!$B$23:$Z$57,11,FALSE)=\"\",\"\",VLOOKUP(B2,'S4'!$B$23:$Z$57,11,FALSE))","v":""},{"$f":"IF(VLOOKUP(B2,'S4'!$B$23:$Z$57,12,FALSE)=\"\",\"\",VLOOKUP(B2,'S4'!$B$23:$Z$57,12,FALSE))","v":""},{"$f":"IF(VLOOKUP(B2,'S4'!$B$23:$Z$57,13,FALSE)=\"\",\"\",VLOOKUP(B2,'S4'!$B$23:$Z$57,13,FALSE))","v":""},{"$f":"IF(VLOOKUP(B2,'S4'!$B$23:$Z$57,14,FALSE)=\"\",\"\",VLOOKUP(B2,'S4'!$B$23:$Z$57,14,FALSE))","v":""},{"$f":"IF(VLOOKUP(B2,'S4'!$B$23:$Z$57,15,FALSE)=\"\",\"\",VLOOKUP(B2,'S4'!$B$23:$Z$57,15,FALSE))","v":""},null,null,null,null,null,null,"erreicht",null,null,{"$f":"IF(VLOOKUP(U2,'S4'!$B$23:$Z$57,6,FALSE)=\"\",\"\",VLOOKUP(U2,'S4'!$B$23:$Z$57,6,FALSE))","v":"."},{"$f":"IF(VLOOKUP(U2,'S4'!$B$23:$Z$57,7,FALSE)=\"\",\"\",VLOOKUP(U2,'S4'!$B$23:$Z$57,7,FALSE))","v":""},{"$f":"IF(VLOOKUP(U2,'S4'!$B$23:$Z$57,8,FALSE)=\"\",\"\",VLOOKUP(U2,'S4'!$B$23:$Z$57,8,FALSE))","v":""},{"$f":"IF(VLOOKUP(U2,'S4'!$B$23:$Z$57,9,FALSE)=\"\",\"\",VLOOKUP(U2,'S4'!$B$23:$Z$57,9,FALSE))","v":""},{"$f":"IF(VLOOKUP(U2,'S4'!$B$23:$Z$57,10,FALSE)=\"\",\"\",VLOOKUP(U2,'S4'!$B$23:$Z$57,10,FALSE))","v":""},{"$f":"IF(VLOOKUP(U2,'S4'!$B$23:$Z$57,11,FALSE)=\"\",\"\",VLOOKUP(U2,'S4'!$B$23:$Z$57,11,FALSE))","v":""},{"$f":"IF(VLOOKUP(U2,'S4'!$B$23:$Z$57,12,FALSE)=\"\",\"\",VLOOKUP(U2,'S4'!$B$23:$Z$57,12,FALSE))","v":""},{"$f":"IF(VLOOKUP(U2,'S4'!$B$23:$Z$57,13,FALSE)=\"\",\"\",VLOOKUP(U2,'S4'!$B$23:$Z$57,13,FALSE))","v":""},{"$f":"IF(VLOOKUP(U2,'S4'!$B$23:$Z$57,14,FALSE)=\"\",\"\",VLOOKUP(U2,'S4'!$B$23:$Z$57,14,FALSE))","v":""},{"$f":"IF(VLOOKUP(U2,'S4'!$B$23:$Z$57,15,FALSE)=\"\",\"\",VLOOKUP(U2,'S4'!$B$23:$Z$57,15,FALSE))","v":""}]
[null,"von",null,null,{"$f":"IF('S4'!$G$21=\"\",\"\",'S4'!$G$21)","v":""},{"$f":"IF('S4'!$H$21=\"\",\"\",'S4'!$H$21)","v":""},{"$f":"IF('S4'!$I$21=\"\",\"\",'S4'!$I$21)","v":""},{"$f":"IF('S4'!$J$21=\"\",\"\",'S4'!$J$21)","v":""},{"$f":"IF('S4'!$K$21=\"\",\"\",'S4'!$K$21)","v":""},{"$f":"IF('S4'!$L$21=\"\",\"\",'S4'!$L$21)","v":""},{"$f":"IF('S4'!$M$21=\"\",\"\",'S4'!$M$21)","v":""},{"$f":"IF('S4'!$N$21=\"\",\"\",'S4'!$N$21)","v":""},{"$f":"IF('S4'!$O$21=\"\",\"\",'S4'!$O$21)","v":""},{"$f":"IF('S4'!$P$21=\"\",\"\",'S4'!$P$21)","v":""},null,"von",null,null,null,null,"von",null,null,{"$f":"IF('S4'!$G$21=\"\",\"\",'S4'!$G$21)","v":""},{"$f":"IF('S4'!$H$21=\"\",\"\",'S4'!$H$21)","v":""},{"$f":"IF('S4'!$I$21=\"\",\"\",'S4'!$I$21)","v":""},{"$f":"IF('S4'!$J$21=\"\",\"\",'S4'!$J$21)","v":""},{"$f":"IF('S4'!$K$21=\"\",\"\",'S4'!$K$21)","v":""},{"$f":"IF('S4'!$L$21=\"\",\"\",'S4'!$L$21)","v":""},{"$f":"IF('S4'!$M$21=\"\",\"\",'S4'!$M$21)","v":""},{"$f":"IF('S4'!$N$21=\"\",\"\",'S4'!$N$21)","v":""},{"$f":"IF('S4'!$O$21=\"\",\"\",'S4'!$O$21)","v":""},{"$f":"IF('S4'!$P$21=\"\",\"\",'S4'!$P$21)","v":""},null,"von"]
[null,null,null,null,null,null,null,null,null,null,null,null,null,null,null,{"$f":"'S4'!$H$12","v":0},null,null,null,null,null,null,null,null,null,null,null,null,null,null,null,null,null,null,{"$f":"'S4'!$H$12","v":0}]
[null,{"$f":"IF('S4'!$Q$18=\"\",\"\",\"Aufgabe\")","v":""},null,null,{"$f":"IF('S4'!$Q$18=\"\",\"\",'S4'!$Q$18)","v":""},{"$f":"IF('S4'!$R$18=\"\",\"\",'S4'!$R$18)","v":""},{"$f":"IF('S4'!$S$18=\"\",\"\",'S4'!$S$18)","v":""},{"$f":"IF('S4'!$T$18=\"\",\"\",'S4'!$T$18)","v":""},{"$f":"IF('S4'!$U$18=\"\",\"\",'S4'!$U$18)","v":""},{"$f":"IF('S4'!$V$18=\"\",\"\",'S4'!$V$18)","v":""},{"$f":"IF('S4'!$W$18=\"\",\"\",'S4'!$W$18)","v":""},{"$f":"IF('S4'!$X$18=\"\",\"\",'S4'!$X$18)","v":""},{"$f":"IF('S4'!$Y$18=\"\",\"\",'S4'!$Y$18)","v":""},{"$f":"IF('S4'!$Z$18=\"\",\"\",'S4'!$Z$18)","v":""},null,null,null,null,null,null,{"$f":"IF('S4'!$Q$18=\"\",\"\",\"Aufgabe\")","v":""},null,null,{"$f":"IF('S4'!$Q$18=\"\",\"\",'S4'!$Q$18)","v":""},{"$f":"IF('S4'!$R$18=\"\",\"\",'S4'!$R$18)","v":""},{"$f":"IF('S4'!$S$18=\"\",\"\",'S4'!$S$18)","v":""},{"$f":"IF('S4'!$T$18=\"\",\"\",'S4'!$T$18)","v":""},{"$f":"IF('S4'!$U$18=\"\",\"\",'S4'!$U$18)","v":""},{"$f":"IF('S4'!$V$18=\"\",\"\",'S4'!$V$18)","v":""},{"$f":"IF('S4'!$W$18=\"\",\"\",'S4'!$W$18)","v":""},{"$f":"IF('S4'!$X$18=\"\",\"\",'S4'!$X$18)","v":""},{"$f":"IF('S4'!$Y$18=\"\",\"\",'S4'!$Y$18)","v":""},{"$f":"IF('S4'!$Z$18=\"\",\"\",'S4'!$Z$18)","v":""}]
[null,{"$f":"IF('S4'!$Q$18=\"\",\"\",\"erreicht\")","v":""},null,null,{"$f":"IF(VLOOKUP(B2,'S4'!$B$23:$Z$57,16,FALSE)=\"\",\"\",VLOOKUP(B2,'S4'!$B$23:$Z$57,16,FALSE))","v":""},{"$f":"IF(VLOOKUP(B2,'S4'!$B$23:$Z$57,17,FALSE)=\"\",\"\",VLOOKUP(B2,'S4'!$B$23:$Z$57,17,FALSE))","v":""},{"$f":"IF(VLOOKUP(B2,'S4'!$B$23:$Z$57,18,FALSE)=\"\",\"\",VLOOKUP(B2,'S4'!$B$23:$Z$57,18,FALSE))","v":""},{"$f":"IF(VLOOKUP(B2,'S4'!$B$23:$Z$57,19,FALSE)=\"\",\"\",VLOOKUP(B2,'S4'!$B$23:$Z$57,19,FALSE))","v":""},{"$f":"IF(VLOOKUP(B2,'S4'!$B$23:$Z$57,20,FALSE)=\"\",\"\",VLOOKUP(B2,'S4'!$B$23:$Z$57,20,FALSE))","v":""},{"$f":"IF(VLOOKUP(B2,'S4'!$B$23:$Z$57,21,FALSE)=\"\",\"\",VLOOKUP(B2,'S4'!$B$23:$Z$57,21,FALSE))","v":""},{"$f":"IF(VLOOKUP(B2,'S4'!$B$23:$Z$57,22,FALSE)=\"\",\"\",VLOOKUP(B2,'S4'!$B$23:$Z$57,22,FALSE))","v":""},{"$f":"IF(VLOOKUP(B2,'S4'!$B$23:$Z$57,23,FALSE)=\"\",\"\",VLOOKUP(B2,'S4'!$B$23:$Z$57,23,FALSE))","v":""},{"$f":"IF(VLOOKUP(B2,'S4'!$B$23:$Z$57,24,FALSE)=\"\",\"\",VLOOKUP(B2,'S4'!$B$23:$Z$57,24,FALSE))","v":""},{"$f":"IF(VLOOKUP(B2,'S4'!$B$23:$Z$57,25,FALSE)=\"\",\"\",VLOOKUP(B2,'S4'!$B$23:$Z$57,25,FALSE))","v":""},null,"Note",null,null,null,null,{"$f":"IF('S4'!$Q$18=\"\",\"\",\"erreicht\")","v":""},null,null,{"$f":"IF(VLOOKUP(U2,'S4'!$B$23:$Z$57,16,FALSE)=\"\",\"\",VLOOKUP(U2,'S4'!$B$23:$Z$57,16,FALSE))","v":""},{"$f":"IF(VLOOKUP(U2,'S4'!$B$23:$Z$57,17,FALSE)=\"\",\"\",VLOOKUP(U2,'S4'!$B$23:$Z$57,17,FALSE))","v":""},{"$f":"IF(VLOOKUP(U2,'S4'!$B$23:$Z$57,18,FALSE)=\"\",\"\",VLOOKUP(U2,'S4'!$B$23:$Z$57,18,FALSE))","v":""},{"$f":"IF(VLOOKUP(U2,'S4'!$B$23:$Z$57,19,FALSE)=\"\",\"\",VLOOKUP(U2,'S4'!$B$23:$Z$57,19,FALSE))","v":""},{"$f":"IF(VLOOKUP(U2,'S4'!$B$23:$Z$57,20,FALSE)=\"\",\"\",VLOOKUP(U2,'S4'!$B$23:$Z$57,20,FALSE))","v":""},{"$f":"IF(VLOOKUP(U2,'S4'!$B$23:$Z$57,21,FALSE)=\"\",\"\",VLOOKUP(U2,'S4'!$B$23:$Z$57,21,FALSE))","v":""},{"$f":"IF(VLOOKUP(U2,'S4'!$B$23:$Z$57,22,FALSE)=\"\",\"\",VLOOKUP(U2,'S4'!$B$23:$Z$57,22,FALSE))","v":""},{"$f":"IF(VLOOKUP(U2,'S4'!$B$23:$Z$57,23,FALSE)=\"\",\"\",VLOOKUP(U2,'S4'!$B$23:$Z$57,23,FALSE))","v":""},{"$f":"IF(VLOOKUP(U2,'S4'!$B$23:$Z$57,24,FALSE)=\"\",\"\",VLOOKUP(U2,'S4'!$B$23:$Z$57,24,FALSE))","v":""},{"$f":"IF(VLOOKUP(U2,'S4'!$B$23:$Z$57,25,FALSE)=\"\",\"\",VLOOKUP(U2,'S4'!$B$23:$Z$57,25,FALSE))","v":""},null,"Note"]
[null,{"$f":"IF('S4'!$Q$18=\"\",\"\",\"von\")","v":""},null,null,{"$f":"IF('S4'!$Q$21=\"\",\"\",'S4'!$Q$21)","v":""},{"$f":"IF('S4'!$R$21=\"\",\"\",'S4'!$R$21)","v":""},{"$f":"IF('S4'!$S$21=\"\",\"\",'S4'!$S$21)","v":""},{"$f":"IF('S4'!$T$21=\"\",\"\",'S4'!$T$21)","v":""},{"$f":"IF('S4'!$U$21=\"\",\"\",'S4'!$U$21)","v":""},{"$f":"IF('S4'!$V$21=\"\",\"\",'S4'!$V$21)","v":""},{"$f":"IF('S4'!$W$21=\"\",\"\",'S4'!$W$21)","v":""},{"$f":"IF('S4'!$X$21=\"\",\"\",'S4'!$X$21)","v":""},{"$f":"IF('S4'!$Y$21=\"\",\"\",'S4'!$Y$21)","v":""},{"$f":"IF('S4'!$Z$21=\"\",\"\",'S4'!$Z$21)","v":""},null,{"$f":"IF(VLOOKUP(B2,'S4'!$B$23:$Z$57,2,FALSE)=\"\",\"\",CONCATENATE(VLOOKUP(B2,'S4'!$B$23:$Z$57,2,FALSE),\" \",VLOOKUP(B2,'S4'!$B$23:$Z$57,3,FALSE)))","v":"- "},null,null,null,null,{"$f":"IF('S4'!$Q$18=\"\",\"\",\"von\")","v":""},null,null,{"$f":"IF('S4'!$Q$21=\"\",\"\",'S4'!$Q$21)","v":""},{"$f":"IF('S4'!$R$21=\"\",\"\",'S4'!$R$21)","v":""},{"$f":"IF('S4'!$S$21=\"\",\"\",'S4'!$S$21)","v":""},{"$f":"IF('S4'!$T$21=\"\",\"\",'S4'!$T$21)","v":""},{"$f":"IF('S4'!$U$21=\"\",\"\",'S4'!$U$21)","v":""},{"$f":"IF('S4'!$V$21=\"\",\"\",'S4'!$V$21)","v":""},{"$f":"IF('S4'!$W$21=\"\",\"\",'S4'!$W$21)","v":""},{"$f":"IF('S4'!$X$21=\"\",\"\",'S4'!$X$21)","v":""},{"$f":"IF('S4'!$Y$21=\"\",\"\",'S4'!$Y$21)","v":""},{"$f":"IF('S4'!$Z$21=\"\",\"\",'S4'!$Z$21)","v":""},null,{"$f":"IF(VLOOKUP(U2,'S4'!$B$23:$Z$57,2,FALSE)=\"\",\"\",CONCATENATE(VLOOKUP(U2,'S4'!$B$23:$Z$57,2,FALSE),\" \",VLOOKUP(U2,'S4'!$B$23:$Z$57,3,FALSE)))","v":"- "}]
[]
[]
[]
[null,{"$f":"'S4'!$B$25","v":""},null,null,null,null,null,null,null,null,null,null,null,null,null,null,null,null,null,null,{"$f":"'S4'!$B$26","v":""}]
[null,null,null,null,null,null,null,null,null,null,null,null,null,null,null,"Summe",null,null,null,null,null,null,null,null,null,null,null,null,null,null,null,null,null,null,"Summe"]
[null,"Aufgabe",null,null,{"$f":"IF('S4'!$G$18=\"\",\"\",'S4'!$G$18)","v":1},{"$f":"IF('S4'!$H$18=\"\",\"\",'S4'!$H$18)","v":2},{"$f":"IF('S4'!$I$18=\"\",\"\",'S4'!$I$18)","v":3},{"$f":"IF('S4'!$J$18=\"\",\"\",'S4'!$J$18)","v":""},{"$f":"IF('S4'!$K$18=\"\",\"\",'S4'!$K$18)","v":""},{"$f":"IF('S4'!$L$18=\"\",\"\",'S4'!$L$18)","v":""},{"$f":"IF('S4'!$M$18=\"\",\"\",'S4'!$M$18)","v":""},{"$f":"IF('S4'!$N$18=\"\",\"\",'S4'!$N$18)","v":""},{"$f":"IF('S4'!$O$18=\"\",\"\",'S4'!$O$18)","v":""},{"$f":"IF('S4'!$P$18=\"\",\"\",'S4'!$P$18)","v":""},null,{"$f":"IF(VLOOKUP(B14,'S4'!$B$23:$Z$57,5,FALSE)=\"\",\"\",VLOOKUP(B14,'S4'!$B$23:$Z$57,5,FALSE))","v":0},null,null,null,null,"Aufgabe",null,null,{"$f":"IF('S4'!$G$18=\"\",\"\",'S4'!$G$18)","v":1},{"$f":"IF('S4'!$H$18=\"\",\"\",'S4'!$H$18)","v":2},{"$f":"IF('S4'!$I$18=\"\",\"\",'S4'!$I$18)","v":3},{"$f":"IF('S4'!$J$18=\"\",\"\",'S4'!$J$18)","v":""},{"$f":"IF('S4'!$K$18=\"\",\"\",'S4'!$K$18)","v":""},{"$f":"IF('S4'!$L$18=\"\",\"\",'S4'!$L$18)","v":""},{"$f":"IF('S4'!$M$18=\"\",\"\",'S4'!$M$18)","v":""},{"$f":"IF('S4'!$N$18=\"\",\"\",'S4'!$N$18)","v":""},{"$f":"IF('S4'!$O$18=\"\",\"\",'S4'!$O$18)","v":""},{"$f":"IF('S4'!$P$18=\"\",\"\",'S4'!$P$18)","v":""},null,{"$f":"IF(VLOOKUP(U14,'S4'!$B$23:$Z$57,5,FALSE)=\"\",\"\",VLOOKUP(U14,'S4'!$B$23:$Z$57,5,FALSE))","v":0}]
[null,"erreicht",null,null,{"$f":"IF(VLOOKUP(B14,'S4'!$B$23:$Z$57,6,FALSE)=\"\",\"\",VLOOKUP(B14,'S4'!$B$23:$Z$57,6,FALSE))","v":"."},{"$f":"IF(VLOOKUP(B14,'S4'!$B$23:$Z$57,7,FALSE)=\"\",\"\",VLOOKUP(B14,'S4'!$B$23:$Z$57,7,FALSE))","v":""},{"$f":"IF(VLOOKUP(B14,'S4'!$B$23:$Z$57,8,FALSE)=\"\",\"\",VLOOKUP(B14,'S4'!$B$23:$Z$57,8,FALSE))","v":""},{"$f":"IF(VLOOKUP(B14,'S4'!$B$23:$Z$57,9,FALSE)=\"\",\"\",VLOOKUP(B14,'S4'!$B$23:$Z$57,9,FALSE))","v":""},{"$f":"IF(VLOOKUP(B14,'S4'!$B$23:$Z$57,10,FALSE)=\"\",\"\",VLOOKUP(B14,'S4'!$B$23:$Z$57,10,FALSE))","v":""},{"$f":"IF(VLOOKUP(B14,'S4'!$B$23:$Z$57,11,FALSE)=\"\",\"\",VLOOKUP(B14,'S4'!$B$23:$Z$57,11,FALSE))","v":""},{"$f":"IF(VLOOKUP(B14,'S4'!$B$23:$Z$57,12,FALSE)=\"\",\"\",VLOOKUP(B14,'S4'!$B$23:$Z$57,12,FALSE))","v":""},{"$f":"IF(VLOOKUP(B14,'S4'!$B$23:$Z$57,13,FALSE)=\"\",\"\",VLOOKUP(B14,'S4'!$B$23:$Z$57,13,FALSE))","v":""},{"$f":"IF(VLOOKUP(B14,'S4'!$B$23:$Z$57,14,FALSE)=\"\",\"\",VLOOKUP(B14,'S4'!$B$23:$Z$57,14,FALSE))","v":""},{"$f":"IF(VLOOKUP(B14,'S4'!$B$23:$Z$57,15,FALSE)=\"\",\"\",VLOOKUP(B14,'S4'!$B$23:$Z$57,15,FALSE))","v":""},null,null,null,null,null,null,"erreicht",null,null,{"$f":"IF(VLOOKUP(U14,'S4'!$B$23:$Z$57,6,FALSE)=\"\",\"\",VLOOKUP(U14,'S4'!$B$23:$Z$57,6,FALSE))","v":"."},{"$f":"IF(VLOOKUP(U14,'S4'!$B$23:$Z$57,7,FALSE)=\"\",\"\",VLOOKUP(U14,'S4'!$B$23:$Z$57,7,FALSE))","v":""},{"$f":"IF(VLOOKUP(U14,'S4'!$B$23:$Z$57,8,FALSE)=\"\",\"\",VLOOKUP(U14,'S4'!$B$23:$Z$57,8,FALSE))","v":""},{"$f":"IF(VLOOKUP(U14,'S4'!$B$23:$Z$57,9,FALSE)=\"\",\"\",VLOOKUP(U14,'S4'!$B$23:$Z$57,9,FALSE))","v":""},{"$f":"IF(VLOOKUP(U14,'S4'!$B$23:$Z$57,10,FALSE)=\"\",\"\",VLOOKUP(U14,'S4'!$B$23:$Z$57,10,FALSE))","v":""},{"$f":"IF(VLOOKUP(U14,'S4'!$B$23:$Z$57,11,FALSE)=\"\",\"\",VLOOKUP(U14,'S4'!$B$23:$Z$57,11,FALSE))","v":""},{"$f":"IF(VLOOKUP(U14,'S4'!$B$23:$Z$57,12,FALSE)=\"\",\"\",VLOOKUP(U14,'S4'!$B$23:$Z$57,12,FALSE))","v":""},{"$f":"IF(VLOOKUP(U14,'S4'!$B$23:$Z$57,13,FALSE)=\"\",\"\",VLOOKUP(U14,'S4'!$B$23:$Z$57,13,FALSE))","v":""},{"$f":"IF(VLOOKUP(U14,'S4'!$B$23:$Z$57,14,FALSE)=\"\",\"\",VLOOKUP(U14,'S4'!$B$23:$Z$57,14,FALSE))","v":""},{"$f":"IF(VLOOKUP(U14,'S4'!$B$23:$Z$57,15,FALSE)=\"\",\"\",VLOOKUP(U14,'S4'!$B$23:$Z$57,15,FALSE))","v":""}]
[null,"von",null,null,{"$f":"IF('S4'!$G$21=\"\",\"\",'S4'!$G$21)","v":""},{"$f":"IF('S4'!$H$21=\"\",\"\",'S4'!$H$21)","v":""},{"$f":"IF('S4'!$I$21=\"\",\"\",'S4'!$I$21)","v":""},{"$f":"IF('S4'!$J$21=\"\",\"\",'S4'!$J$21)","v":""},{"$f":"IF('S4'!$K$21=\"\",\"\",'S4'!$K$21)","v":""},{"$f":"IF('S4'!$L$21=\"\",\"\",'S4'!$L$21)","v":""},{"$f":"IF('S4'!$M$21=\"\",\"\",'S4'!$M$21)","v":""},{"$f":"IF('S4'!$N$21=\"\",\"\",'S4'!$N$21)","v":""},{"$f":"IF('S4'!$O$21=\"\",\"\",'S4'!$O$21)","v":""},{"$f":"IF('S4'!$P$21=\"\",\"\",'S4'!$P$21)","v":""},null,"von",null,null,null,null,"von",null,null,{"$f":"IF('S4'!$G$21=\"\",\"\",'S4'!$G$21)","v":""},{"$f":"IF('S4'!$H$21=\"\",\"\",'S4'!$H$21)","v":""},{"$f":"IF('S4'!$I$21=\"\",\"\",'S4'!$I$21)","v":""},{"$f":"IF('S4'!$J$21=\"\",\"\",'S4'!$J$21)","v":""},{"$f":"IF('S4'!$K$21=\"\",\"\",'S4'!$K$21)","v":""},{"$f":"IF('S4'!$L$21=\"\",\"\",'S4'!$L$21)","v":""},{"$f":"IF('S4'!$M$21=\"\",\"\",'S4'!$M$21)","v":""},{"$f":"IF('S4'!$N$21=\"\",\"\",'S4'!$N$21)","v":""},{"$f":"IF('S4'!$O$21=\"\",\"\",'S4'!$O$21)","v":""},{"$f":"IF('S4'!$P$21=\"\",\"\",'S4'!$P$21)","v":""},null,"von"]
[null,null,null,null,null,null,null,null,null,null,null,null,null,null,null,{"$f":"'S4'!$H$12","v":0},null,null,null,null,null,null,null,null,null,null,null,null,null,null,null,null,null,null,{"$f":"'S4'!$H$12","v":0}]
[null,{"$f":"IF('S4'!$Q$18=\"\",\"\",\"Aufgabe\")","v":""},null,null,{"$f":"IF('S4'!$Q$18=\"\",\"\",'S4'!$Q$18)","v":""},{"$f":"IF('S4'!$R$18=\"\",\"\",'S4'!$R$18)","v":""},{"$f":"IF('S4'!$S$18=\"\",\"\",'S4'!$S$18)","v":""},{"$f":"IF('S4'!$T$18=\"\",\"\",'S4'!$T$18)","v":""},{"$f":"IF('S4'!$U$18=\"\",\"\",'S4'!$U$18)","v":""},{"$f":"IF('S4'!$V$18=\"\",\"\",'S4'!$V$18)","v":""},{"$f":"IF('S4'!$W$18=\"\",\"\",'S4'!$W$18)","v":""},{"$f":"IF('S4'!$X$18=\"\",\"\",'S4'!$X$18)","v":""},{"$f":"IF('S4'!$Y$18=\"\",\"\",'S4'!$Y$18)","v":""},{"$f":"IF('S4'!$Z$18=\"\",\"\",'S4'!$Z$18)","v":""},null,null,null,null,null,null,{"$f":"IF('S4'!$Q$18=\"\",\"\",\"Aufgabe\")","v":""},null,null,{"$f":"IF('S4'!$Q$18=\"\",\"\",'S4'!$Q$18)","v":""},{"$f":"IF('S4'!$R$18=\"\",\"\",'S4'!$R$18)","v":""},{"$f":"IF('S4'!$S$18=\"\",\"\",'S4'!$S$18)","v":""},{"$f":"IF('S4'!$T$18=\"\",\"\",'S4'!$T$18)","v":""},{"$f":"IF('S4'!$U$18=\"\",\"\",'S4'!$U$18)","v":""},{"$f":"IF('S4'!$V$18=\"\",\"\",'S4'!$V$18)","v":""},{"$f":"IF('S4'!$W$18=\"\",\"\",'S4'!$W$18)","v":""},{"$f":"IF('S4'!$X$18=\"\",\"\",'S4'!$X$18)","v":""},{"$f":"IF('S4'!$Y$18=\"\",\"\",'S4'!$Y$18)","v":""},{"$f":"IF('S4'!$Z$18=\"\",\"\",'S4'!$Z$18)","v":""}]
[null,{"$f":"IF('S4'!$Q$18=\"\",\"\",\"erreicht\")","v":""},null,null,{"$f":"IF(VLOOKUP(B14,'S4'!$B$23:$Z$57,16,FALSE)=\"\",\"\",VLOOKUP(B14,'S4'!$B$23:$Z$57,16,FALSE))","v":""},{"$f":"IF(VLOOKUP(B14,'S4'!$B$23:$Z$57,17,FALSE)=\"\",\"\",VLOOKUP(B14,'S4'!$B$23:$Z$57,17,FALSE))","v":""},{"$f":"IF(VLOOKUP(B14,'S4'!$B$23:$Z$57,18,FALSE)=\"\",\"\",VLOOKUP(B14,'S4'!$B$23:$Z$57,18,FALSE))","v":""},{"$f":"IF(VLOOKUP(B14,'S4'!$B$23:$Z$57,19,FALSE)=\"\",\"\",VLOOKUP(B14,'S4'!$B$23:$Z$57,19,FALSE))","v":""},{"$f":"IF(VLOOKUP(B14,'S4'!$B$23:$Z$57,20,FALSE)=\"\",\"\",VLOOKUP(B14,'S4'!$B$23:$Z$57,20,FALSE))","v":""},{"$f":"IF(VLOOKUP(B14,'S4'!$B$23:$Z$57,21,FALSE)=\"\",\"\",VLOOKUP(B14,'S4'!$B$23:$Z$57,21,FALSE))","v":""},{"$f":"IF(VLOOKUP(B14,'S4'!$B$23:$Z$57,22,FALSE)=\"\",\"\",VLOOKUP(B14,'S4'!$B$23:$Z$57,22,FALSE))","v":""},{"$f":"IF(VLOOKUP(B14,'S4'!$B$23:$Z$57,23,FALSE)=\"\",\"\",VLOOKUP(B14,'S4'!$B$23:$Z$57,23,FALSE))","v":""},{"$f":"IF(VLOOKUP(B14,'S4'!$B$23:$Z$57,24,FALSE)=\"\",\"\",VLOOKUP(B14,'S4'!$B$23:$Z$57,24,FALSE))","v":""},{"$f":"IF(VLOOKUP(B14,'S4'!$B$23:$Z$57,25,FALSE)=\"\",\"\",VLOOKUP(B14,'S4'!$B$23:$Z$57,25,FALSE))","v":""},null,"Note",null,null,null,null,{"$f":"IF('S4'!$Q$18=\"\",\"\",\"erreicht\")","v":""},null,null,{"$f":"IF(VLOOKUP(U14,'S4'!$B$23:$Z$57,16,FALSE)=\"\",\"\",VLOOKUP(U14,'S4'!$B$23:$Z$57,16,FALSE))","v":""},{"$f":"IF(VLOOKUP(U14,'S4'!$B$23:$Z$57,17,FALSE)=\"\",\"\",VLOOKUP(U14,'S4'!$B$23:$Z$57,17,FALSE))","v":""},{"$f":"IF(VLOOKUP(U14,'S4'!$B$23:$Z$57,18,FALSE)=\"\",\"\",VLOOKUP(U14,'S4'!$B$23:$Z$57,18,FALSE))","v":""},{"$f":"IF(VLOOKUP(U14,'S4'!$B$23:$Z$57,19,FALSE)=\"\",\"\",VLOOKUP(U14,'S4'!$B$23:$Z$57,19,FALSE))","v":""},{"$f":"IF(VLOOKUP(U14,'S4'!$B$23:$Z$57,20,FALSE)=\"\",\"\",VLOOKUP(U14,'S4'!$B$23:$Z$57,20,FALSE))","v":""},{"$f":"IF(VLOOKUP(U14,'S4'!$B$23:$Z$57,21,FALSE)=\"\",\"\",VLOOKUP(U14,'S4'!$B$23:$Z$57,21,FALSE))","v":""},{"$f":"IF(VLOOKUP(U14,'S4'!$B$23:$Z$57,22,FALSE)=\"\",\"\",VLOOKUP(U14,'S4'!$B$23:$Z$57,22,FALSE))","v":""},{"$f":"IF(VLOOKUP(U14,'S4'!$B$23:$Z$57,23,FALSE)=\"\",\"\",VLOOKUP(U14,'S4'!$B$23:$Z$57,23,FALSE))","v":""},{"$f":"IF(VLOOKUP(U14,'S4'!$B$23:$Z$57,24,FALSE)=\"\",\"\",VLOOKUP(U14,'S4'!$B$23:$Z$57,24,FALSE))","v":""},{"$f":"IF(VLOOKUP(U14,'S4'!$B$23:$Z$57,25,FALSE)=\"\",\"\",VLOOKUP(U14,'S4'!$B$23:$Z$57,25,FALSE))","v":""},null,"Note"]
[null,{"$f":"IF('S4'!$Q$18=\"\",\"\",\"von\")","v":""},null,null,{"$f":"IF('S4'!$Q$21=\"\",\"\",'S4'!$Q$21)","v":""},{"$f":"IF('S4'!$R$21=\"\",\"\",'S4'!$R$21)","v":""},{"$f":"IF('S4'!$S$21=\"\",\"\",'S4'!$S$21)","v":""},{"$f":"IF('S4'!$T$21=\"\",\"\",'S4'!$T$21)","v":""},{"$f":"IF('S4'!$U$21=\"\",\"\",'S4'!$U$21)","v":""},{"$f":"IF('S4'!$V$21=\"\",\"\",'S4'!$V$21)","v":""},{"$f":"IF('S4'!$W$21=\"\",\"\",'S4'!$W$21)","v":""},{"$f":"IF('S4'!$X$21=\"\",\"\",'S4'!$X$21)","v":""},{"$f":"IF('S4'!$Y$21=\"\",\"\",'S4'!$Y$21)","v":""},{"$f":"IF('S4'!$Z$21=\"\",\"\",'S4'!$Z$21)","v":""},null,{"$f":"IF(VLOOKUP(B14,'S4'!$B$23:$Z$57,2,FALSE)=\"\",\"\",CONCATENATE(VLOOKUP(B14,'S4'!$B$23:$Z$57,2,FALSE),\" \",VLOOKUP(B14,'S4'!$B$23:$Z$57,3,FALSE)))","v":"- "},null,null,null,null,{"$f":"IF('S4'!$Q$18=\"\",\"\",\"von\")","v":""},null,null,{"$f":"IF('S4'!$Q$21=\"\",\"\",'S4'!$Q$21)","v":""},{"$f":"IF('S4'!$R$21=\"\",\"\",'S4'!$R$21)","v":""},{"$f":"IF('S4'!$S$21=\"\",\"\",'S4'!$S$21)","v":""},{"$f":"IF('S4'!$T$21=\"\",\"\",'S4'!$T$21)","v":""},{"$f":"IF('S4'!$U$21=\"\",\"\",'S4'!$U$21)","v":""},{"$f":"IF('S4'!$V$21=\"\",\"\",'S4'!$V$21)","v":""},{"$f":"IF('S4'!$W$21=\"\",\"\",'S4'!$W$21)","v":""},{"$f":"IF('S4'!$X$21=\"\",\"\",'S4'!$X$21)","v":""},{"$f":"IF('S4'!$Y$21=\"\",\"\",'S4'!$Y$21)","v":""},{"$f":"IF('S4'!$Z$21=\"\",\"\",'S4'!$Z$21)","v":""},null,{"$f":"IF(VLOOKUP(U14,'S4'!$B$23:$Z$57,2,FALSE)=\"\",\"\",CONCATENATE(VLOOKUP(U14,'S4'!$B$23:$Z$57,2,FALSE),\" \",VLOOKUP(U14,'S4'!$B$23:$Z$57,3,FALSE)))","v":"- "}]
[]
[]
[]
[null,{"$f":"'S4'!$B$27","v":""},null,null,null,null,null,null,null,null,null,null,null,null,null,null,null,null,null,null,{"$f":"'S4'!$B$28","v":""}]
[null,null,null,null,null,null,null,null,null,null,null,null,null,null,null,"Summe",null,null,null,null,null,null,null,null,null,null,null,null,null,null,null,null,null,null,"Summe"]
[null,"Aufgabe",null,null,{"$f":"IF('S4'!$G$18=\"\",\"\",'S4'!$G$18)","v":1},{"$f":"IF('S4'!$H$18=\"\",\"\",'S4'!$H$18)","v":2},{"$f":"IF('S4'!$I$18=\"\",\"\",'S4'!$I$18)","v":3},{"$f":"IF('S4'!$J$18=\"\",\"\",'S4'!$J$18)","v":""},{"$f":"IF('S4'!$K$18=\"\",\"\",'S4'!$K$18)","v":""},{"$f":"IF('S4'!$L$18=\"\",\"\",'S4'!$L$18)","v":""},{"$f":"IF('S4'!$M$18=\"\",\"\",'S4'!$M$18)","v":""},{"$f":"IF('S4'!$N$18=\"\",\"\",'S4'!$N$18)","v":""},{"$f":"IF('S4'!$O$18=\"\",\"\",'S4'!$O$18)","v":""},{"$f":"IF('S4'!$P$18=\"\",\"\",'S4'!$P$18)","v":""},null,{"$f":"IF(VLOOKUP(B26,'S4'!$B$23:$Z$57,5,FALSE)=\"\",\"\",VLOOKUP(B26,'S4'!$B$23:$Z$57,5,FALSE))","v":0},null,null,null,null,"Aufgabe",null,null,{"$f":"IF('S4'!$G$18=\"\",\"\",'S4'!$G$18)","v":1},{"$f":"IF('S4'!$H$18=\"\",\"\",'S4'!$H$18)","v":2},{"$f":"IF('S4'!$I$18=\"\",\"\",'S4'!$I$18)","v":3},{"$f":"IF('S4'!$J$18=\"\",\"\",'S4'!$J$18)","v":""},{"$f":"IF('S4'!$K$18=\"\",\"\",'S4'!$K$18)","v":""},{"$f":"IF('S4'!$L$18=\"\",\"\",'S4'!$L$18)","v":""},{"$f":"IF('S4'!$M$18=\"\",\"\",'S4'!$M$18)","v":""},{"$f":"IF('S4'!$N$18=\"\",\"\",'S4'!$N$18)","v":""},{"$f":"IF('S4'!$O$18=\"\",\"\",'S4'!$O$18)","v":""},{"$f":"IF('S4'!$P$18=\"\",\"\",'S4'!$P$18)","v":""},null,{"$f":"IF(VLOOKUP(U26,'S4'!$B$23:$Z$57,5,FALSE)=\"\",\"\",VLOOKUP(U26,'S4'!$B$23:$Z$57,5,FALSE))","v":0}]
[null,"erreicht",null,null,{"$f":"IF(VLOOKUP(B26,'S4'!$B$23:$Z$57,6,FALSE)=\"\",\"\",VLOOKUP(B26,'S4'!$B$23:$Z$57,6,FALSE))","v":"."},{"$f":"IF(VLOOKUP(B26,'S4'!$B$23:$Z$57,7,FALSE)=\"\",\"\",VLOOKUP(B26,'S4'!$B$23:$Z$57,7,FALSE))","v":""},{"$f":"IF(VLOOKUP(B26,'S4'!$B$23:$Z$57,8,FALSE)=\"\",\"\",VLOOKUP(B26,'S4'!$B$23:$Z$57,8,FALSE))","v":""},{"$f":"IF(VLOOKUP(B26,'S4'!$B$23:$Z$57,9,FALSE)=\"\",\"\",VLOOKUP(B26,'S4'!$B$23:$Z$57,9,FALSE))","v":""},{"$f":"IF(VLOOKUP(B26,'S4'!$B$23:$Z$57,10,FALSE)=\"\",\"\",VLOOKUP(B26,'S4'!$B$23:$Z$57,10,FALSE))","v":""},{"$f":"IF(VLOOKUP(B26,'S4'!$B$23:$Z$57,11,FALSE)=\"\",\"\",VLOOKUP(B26,'S4'!$B$23:$Z$57,11,FALSE))","v":""},{"$f":"IF(VLOOKUP(B26,'S4'!$B$23:$Z$57,12,FALSE)=\"\",\"\",VLOOKUP(B26,'S4'!$B$23:$Z$57,12,FALSE))","v":""},{"$f":"IF(VLOOKUP(B26,'S4'!$B$23:$Z$57,13,FALSE)=\"\",\"\",VLOOKUP(B26,'S4'!$B$23:$Z$57,13,FALSE))","v":""},{"$f":"IF(VLOOKUP(B26,'S4'!$B$23:$Z$57,14,FALSE)=\"\",\"\",VLOOKUP(B26,'S4'!$B$23:$Z$57,14,FALSE))","v":""},{"$f":"IF(VLOOKUP(B26,'S4'!$B$23:$Z$57,15,FALSE)=\"\",\"\",VLOOKUP(B26,'S4'!$B$23:$Z$57,15,FALSE))","v":""},null,null,null,null,null,null,"erreicht",null,null,{"$f":"IF(VLOOKUP(U26,'S4'!$B$23:$Z$57,6,FALSE)=\"\",\"\",VLOOKUP(U26,'S4'!$B$23:$Z$57,6,FALSE))","v":"."},{"$f":"IF(VLOOKUP(U26,'S4'!$B$23:$Z$57,7,FALSE)=\"\",\"\",VLOOKUP(U26,'S4'!$B$23:$Z$57,7,FALSE))","v":""},{"$f":"IF(VLOOKUP(U26,'S4'!$B$23:$Z$57,8,FALSE)=\"\",\"\",VLOOKUP(U26,'S4'!$B$23:$Z$57,8,FALSE))","v":""},{"$f":"IF(VLOOKUP(U26,'S4'!$B$23:$Z$57,9,FALSE)=\"\",\"\",VLOOKUP(U26,'S4'!$B$23:$Z$57,9,FALSE))","v":""},{"$f":"IF(VLOOKUP(U26,'S4'!$B$23:$Z$57,10,FALSE)=\"\",\"\",VLOOKUP(U26,'S4'!$B$23:$Z$57,10,FALSE))","v":""},{"$f":"IF(VLOOKUP(U26,'S4'!$B$23:$Z$57,11,FALSE)=\"\",\"\",VLOOKUP(U26,'S4'!$B$23:$Z$57,11,FALSE))","v":""},{"$f":"IF(VLOOKUP(U26,'S4'!$B$23:$Z$57,12,FALSE)=\"\",\"\",VLOOKUP(U26,'S4'!$B$23:$Z$57,12,FALSE))","v":""},{"$f":"IF(VLOOKUP(U26,'S4'!$B$23:$Z$57,13,FALSE)=\"\",\"\",VLOOKUP(U26,'S4'!$B$23:$Z$57,13,FALSE))","v":""},{"$f":"IF(VLOOKUP(U26,'S4'!$B$23:$Z$57,14,FALSE)=\"\",\"\",VLOOKUP(U26,'S4'!$B$23:$Z$57,14,FALSE))","v":""},{"$f":"IF(VLOOKUP(U26,'S4'!$B$23:$Z$57,15,FALSE)=\"\",\"\",VLOOKUP(U26,'S4'!$B$23:$Z$57,15,FALSE))","v":""}]
[null,"von",null,null,{"$f":"IF('S4'!$G$21=\"\",\"\",'S4'!$G$21)","v":""},{"$f":"IF('S4'!$H$21=\"\",\"\",'S4'!$H$21)","v":""},{"$f":"IF('S4'!$I$21=\"\",\"\",'S4'!$I$21)","v":""},{"$f":"IF('S4'!$J$21=\"\",\"\",'S4'!$J$21)","v":""},{"$f":"IF('S4'!$K$21=\"\",\"\",'S4'!$K$21)","v":""},{"$f":"IF('S4'!$L$21=\"\",\"\",'S4'!$L$21)","v":""},{"$f":"IF('S4'!$M$21=\"\",\"\",'S4'!$M$21)","v":""},{"$f":"IF('S4'!$N$21=\"\",\"\",'S4'!$N$21)","v":""},{"$f":"IF('S4'!$O$21=\"\",\"\",'S4'!$O$21)","v":""},{"$f":"IF('S4'!$P$21=\"\",\"\",'S4'!$P$21)","v":""},null,"von",null,null,null,null,"von",null,null,{"$f":"IF('S4'!$G$21=\"\",\"\",'S4'!$G$21)","v":""},{"$f":"IF('S4'!$H$21=\"\",\"\",'S4'!$H$21)","v":""},{"$f":"IF('S4'!$I$21=\"\",\"\",'S4'!$I$21)","v":""},{"$f":"IF('S4'!$J$21=\"\",\"\",'S4'!$J$21)","v":""},{"$f":"IF('S4'!$K$21=\"\",\"\",'S4'!$K$21)","v":""},{"$f":"IF('S4'!$L$21=\"\",\"\",'S4'!$L$21)","v":""},{"$f":"IF('S4'!$M$21=\"\",\"\",'S4'!$M$21)","v":""},{"$f":"IF('S4'!$N$21=\"\",\"\",'S4'!$N$21)","v":""},{"$f":"IF('S4'!$O$21=\"\",\"\",'S4'!$O$21)","v":""},{"$f":"IF('S4'!$P$21=\"\",\"\",'S4'!$P$21)","v":""},null,"von"]
[null,null,null,null,null,null,null,null,null,null,null,null,null,null,null,{"$f":"'S4'!$H$12","v":0},null,null,null,null,null,null,null,null,null,null,null,null,null,null,null,null,null,null,{"$f":"'S4'!$H$12","v":0}]
[null,{"$f":"IF('S4'!$Q$18=\"\",\"\",\"Aufgabe\")","v":""},null,null,{"$f":"IF('S4'!$Q$18=\"\",\"\",'S4'!$Q$18)","v":""},{"$f":"IF('S4'!$R$18=\"\",\"\",'S4'!$R$18)","v":""},{"$f":"IF('S4'!$S$18=\"\",\"\",'S4'!$S$18)","v":""},{"$f":"IF('S4'!$T$18=\"\",\"\",'S4'!$T$18)","v":""},{"$f":"IF('S4'!$U$18=\"\",\"\",'S4'!$U$18)","v":""},{"$f":"IF('S4'!$V$18=\"\",\"\",'S4'!$V$18)","v":""},{"$f":"IF('S4'!$W$18=\"\",\"\",'S4'!$W$18)","v":""},{"$f":"IF('S4'!$X$18=\"\",\"\",'S4'!$X$18)","v":""},{"$f":"IF('S4'!$Y$18=\"\",\"\",'S4'!$Y$18)","v":""},{"$f":"IF('S4'!$Z$18=\"\",\"\",'S4'!$Z$18)","v":""},null,null,null,null,null,null,{"$f":"IF('S4'!$Q$18=\"\",\"\",\"Aufgabe\")","v":""},null,null,{"$f":"IF('S4'!$Q$18=\"\",\"\",'S4'!$Q$18)","v":""},{"$f":"IF('S4'!$R$18=\"\",\"\",'S4'!$R$18)","v":""},{"$f":"IF('S4'!$S$18=\"\",\"\",'S4'!$S$18)","v":""},{"$f":"IF('S4'!$T$18=\"\",\"\",'S4'!$T$18)","v":""},{"$f":"IF('S4'!$U$18=\"\",\"\",'S4'!$U$18)","v":""},{"$f":"IF('S4'!$V$18=\"\",\"\",'S4'!$V$18)","v":""},{"$f":"IF('S4'!$W$18=\"\",\"\",'S4'!$W$18)","v":""},{"$f":"IF('S4'!$X$18=\"\",\"\",'S4'!$X$18)","v":""},{"$f":"IF('S4'!$Y$18=\"\",\"\",'S4'!$Y$18)","v":""},{"$f":"IF('S4'!$Z$18=\"\",\"\",'S4'!$Z$18)","v":""}]
[null,{"$f":"IF('S4'!$Q$18=\"\",\"\",\"erreicht\")","v":""},null,null,{"$f":"IF(VLOOKUP(B26,'S4'!$B$23:$Z$57,16,FALSE)=\"\",\"\",VLOOKUP(B26,'S4'!$B$23:$Z$57,16,FALSE))","v":""},{"$f":"IF(VLOOKUP(B26,'S4'!$B$23:$Z$57,17,FALSE)=\"\",\"\",VLOOKUP(B26,'S4'!$B$23:$Z$57,17,FALSE))","v":""},{"$f":"IF(VLOOKUP(B26,'S4'!$B$23:$Z$57,18,FALSE)=\"\",\"\",VLOOKUP(B26,'S4'!$B$23:$Z$57,18,FALSE))","v":""},{"$f":"IF(VLOOKUP(B26,'S4'!$B$23:$Z$57,19,FALSE)=\"\",\"\",VLOOKUP(B26,'S4'!$B$23:$Z$57,19,FALSE))","v":""},{"$f":"IF(VLOOKUP(B26,'S4'!$B$23:$Z$57,20,FALSE)=\"\",\"\",VLOOKUP(B26,'S4'!$B$23:$Z$57,20,FALSE))","v":""},{"$f":"IF(VLOOKUP(B26,'S4'!$B$23:$Z$57,21,FALSE)=\"\",\"\",VLOOKUP(B26,'S4'!$B$23:$Z$57,21,FALSE))","v":""},{"$f":"IF(VLOOKUP(B26,'S4'!$B$23:$Z$57,22,FALSE)=\"\",\"\",VLOOKUP(B26,'S4'!$B$23:$Z$57,22,FALSE))","v":""},{"$f":"IF(VLOOKUP(B26,'S4'!$B$23:$Z$57,23,FALSE)=\"\",\"\",VLOOKUP(B26,'S4'!$B$23:$Z$57,23,FALSE))","v":""},{"$f":"IF(VLOOKUP(B26,'S4'!$B$23:$Z$57,24,FALSE)=\"\",\"\",VLOOKUP(B26,'S4'!$B$23:$Z$57,24,FALSE))","v":""},{"$f":"IF(VLOOKUP(B26,'S4'!$B$23:$Z$57,25,FALSE)=\"\",\"\",VLOOKUP(B26,'S4'!$B$23:$Z$57,25,FALSE))","v":""},null,"Note",null,null,null,null,{"$f":"IF('S4'!$Q$18=\"\",\"\",\"erreicht\")","v":""},null,null,{"$f":"IF(VLOOKUP(U26,'S4'!$B$23:$Z$57,16,FALSE)=\"\",\"\",VLOOKUP(U26,'S4'!$B$23:$Z$57,16,FALSE))","v":""},{"$f":"IF(VLOOKUP(U26,'S4'!$B$23:$Z$57,17,FALSE)=\"\",\"\",VLOOKUP(U26,'S4'!$B$23:$Z$57,17,FALSE))","v":""},{"$f":"IF(VLOOKUP(U26,'S4'!$B$23:$Z$57,18,FALSE)=\"\",\"\",VLOOKUP(U26,'S4'!$B$23:$Z$57,18,FALSE))","v":""},{"$f":"IF(VLOOKUP(U26,'S4'!$B$23:$Z$57,19,FALSE)=\"\",\"\",VLOOKUP(U26,'S4'!$B$23:$Z$57,19,FALSE))","v":""},{"$f":"IF(VLOOKUP(U26,'S4'!$B$23:$Z$57,20,FALSE)=\"\",\"\",VLOOKUP(U26,'S4'!$B$23:$Z$57,20,FALSE))","v":""},{"$f":"IF(VLOOKUP(U26,'S4'!$B$23:$Z$57,21,FALSE)=\"\",\"\",VLOOKUP(U26,'S4'!$B$23:$Z$57,21,FALSE))","v":""},{"$f":"IF(VLOOKUP(U26,'S4'!$B$23:$Z$57,22,FALSE)=\"\",\"\",VLOOKUP(U26,'S4'!$B$23:$Z$57,22,FALSE))","v":""},{"$f":"IF(VLOOKUP(U26,'S4'!$B$23:$Z$57,23,FALSE)=\"\",\"\",VLOOKUP(U26,'S4'!$B$23:$Z$57,23,FALSE))","v":""},{"$f":"IF(VLOOKUP(U26,'S4'!$B$23:$Z$57,24,FALSE)=\"\",\"\",VLOOKUP(U26,'S4'!$B$23:$Z$57,24,FALSE))","v":""},{"$f":"IF(VLOOKUP(U26,'S4'!$B$23:$Z$57,25,FALSE)=\"\",\"\",VLOOKUP(U26,'S4'!$B$23:$Z$57,25,FALSE))","v":""},null,"Note"]
[null,{"$f":"IF('S4'!$Q$18=\"\",\"\",\"von\")","v":""},null,null,{"$f":"IF('S4'!$Q$21=\"\",\"\",'S4'!$Q$21)","v":""},{"$f":"IF('S4'!$R$21=\"\",\"\",'S4'!$R$21)","v":""},{"$f":"IF('S4'!$S$21=\"\",\"\",'S4'!$S$21)","v":""},{"$f":"IF('S4'!$T$21=\"\",\"\",'S4'!$T$21)","v":""},{"$f":"IF('S4'!$U$21=\"\",\"\",'S4'!$U$21)","v":""},{"$f":"IF('S4'!$V$21=\"\",\"\",'S4'!$V$21)","v":""},{"$f":"IF('S4'!$W$21=\"\",\"\",'S4'!$W$21)","v":""},{"$f":"IF('S4'!$X$21=\"\",\"\",'S4'!$X$21)","v":""},{"$f":"IF('S4'!$Y$21=\"\",\"\",'S4'!$Y$21)","v":""},{"$f":"IF('S4'!$Z$21=\"\",\"\",'S4'!$Z$21)","v":""},null,{"$f":"IF(VLOOKUP(B26,'S4'!$B$23:$Z$57,2,FALSE)=\"\",\"\",CONCATENATE(VLOOKUP(B26,'S4'!$B$23:$Z$57,2,FALSE),\" \",VLOOKUP(B26,'S4'!$B$23:$Z$57,3,FALSE)))","v":"- "},null,null,null,null,{"$f":"IF('S4'!$Q$18=\"\",\"\",\"von\")","v":""},null,null,{"$f":"IF('S4'!$Q$21=\"\",\"\",'S4'!$Q$21)","v":""},{"$f":"IF('S4'!$R$21=\"\",\"\",'S4'!$R$21)","v":""},{"$f":"IF('S4'!$S$21=\"\",\"\",'S4'!$S$21)","v":""},{"$f":"IF('S4'!$T$21=\"\",\"\",'S4'!$T$21)","v":""},{"$f":"IF('S4'!$U$21=\"\",\"\",'S4'!$U$21)","v":""},{"$f":"IF('S4'!$V$21=\"\",\"\",'S4'!$V$21)","v":""},{"$f":"IF('S4'!$W$21=\"\",\"\",'S4'!$W$21)","v":""},{"$f":"IF('S4'!$X$21=\"\",\"\",'S4'!$X$21)","v":""},{"$f":"IF('S4'!$Y$21=\"\",\"\",'S4'!$Y$21)","v":""},{"$f":"IF('S4'!$Z$21=\"\",\"\",'S4'!$Z$21)","v":""},null,{"$f":"IF(VLOOKUP(U26,'S4'!$B$23:$Z$57,2,FALSE)=\"\",\"\",CONCATENATE(VLOOKUP(U26,'S4'!$B$23:$Z$57,2,FALSE),\" \",VLOOKUP(U26,'S4'!$B$23:$Z$57,3,FALSE)))","v":"- "}]
[]
[]
[]
[null,{"$f":"'S4'!$B$29","v":""},null,null,null,null,null,null,null,null,null,null,null,null,null,null,null,null,null,null,{"$f":"'S4'!$B$30","v":""}]
[null,null,null,null,null,null,null,null,null,null,null,null,null,null,null,"Summe",null,null,null,null,null,null,null,null,null,null,null,null,null,null,null,null,null,null,"Summe"]
[null,"Aufgabe",null,null,{"$f":"IF('S4'!$G$18=\"\",\"\",'S4'!$G$18)","v":1},{"$f":"IF('S4'!$H$18=\"\",\"\",'S4'!$H$18)","v":2},{"$f":"IF('S4'!$I$18=\"\",\"\",'S4'!$I$18)","v":3},{"$f":"IF('S4'!$J$18=\"\",\"\",'S4'!$J$18)","v":""},{"$f":"IF('S4'!$K$18=\"\",\"\",'S4'!$K$18)","v":""},{"$f":"IF('S4'!$L$18=\"\",\"\",'S4'!$L$18)","v":""},{"$f":"IF('S4'!$M$18=\"\",\"\",'S4'!$M$18)","v":""},{"$f":"IF('S4'!$N$18=\"\",\"\",'S4'!$N$18)","v":""},{"$f":"IF('S4'!$O$18=\"\",\"\",'S4'!$O$18)","v":""},{"$f":"IF('S4'!$P$18=\"\",\"\",'S4'!$P$18)","v":""},null,{"$f":"IF(VLOOKUP(B38,'S4'!$B$23:$Z$57,5,FALSE)=\"\",\"\",VLOOKUP(B38,'S4'!$B$23:$Z$57,5,FALSE))","v":0},null,null,null,null,"Aufgabe",null,null,{"$f":"IF('S4'!$G$18=\"\",\"\",'S4'!$G$18)","v":1},{"$f":"IF('S4'!$H$18=\"\",\"\",'S4'!$H$18)","v":2},{"$f":"IF('S4'!$I$18=\"\",\"\",'S4'!$I$18)","v":3},{"$f":"IF('S4'!$J$18=\"\",\"\",'S4'!$J$18)","v":""},{"$f":"IF('S4'!$K$18=\"\",\"\",'S4'!$K$18)","v":""},{"$f":"IF('S4'!$L$18=\"\",\"\",'S4'!$L$18)","v":""},{"$f":"IF('S4'!$M$18=\"\",\"\",'S4'!$M$18)","v":""},{"$f":"IF('S4'!$N$18=\"\",\"\",'S4'!$N$18)","v":""},{"$f":"IF('S4'!$O$18=\"\",\"\",'S4'!$O$18)","v":""},{"$f":"IF('S4'!$P$18=\"\",\"\",'S4'!$P$18)","v":""},null,{"$f":"IF(VLOOKUP(U38,'S4'!$B$23:$Z$57,5,FALSE)=\"\",\"\",VLOOKUP(U38,'S4'!$B$23:$Z$57,5,FALSE))","v":0}]
[null,"erreicht",null,null,{"$f":"IF(VLOOKUP(B38,'S4'!$B$23:$Z$57,6,FALSE)=\"\",\"\",VLOOKUP(B38,'S4'!$B$23:$Z$57,6,FALSE))","v":"."},{"$f":"IF(VLOOKUP(B38,'S4'!$B$23:$Z$57,7,FALSE)=\"\",\"\",VLOOKUP(B38,'S4'!$B$23:$Z$57,7,FALSE))","v":""},{"$f":"IF(VLOOKUP(B38,'S4'!$B$23:$Z$57,8,FALSE)=\"\",\"\",VLOOKUP(B38,'S4'!$B$23:$Z$57,8,FALSE))","v":""},{"$f":"IF(VLOOKUP(B38,'S4'!$B$23:$Z$57,9,FALSE)=\"\",\"\",VLOOKUP(B38,'S4'!$B$23:$Z$57,9,FALSE))","v":""},{"$f":"IF(VLOOKUP(B38,'S4'!$B$23:$Z$57,10,FALSE)=\"\",\"\",VLOOKUP(B38,'S4'!$B$23:$Z$57,10,FALSE))","v":""},{"$f":"IF(VLOOKUP(B38,'S4'!$B$23:$Z$57,11,FALSE)=\"\",\"\",VLOOKUP(B38,'S4'!$B$23:$Z$57,11,FALSE))","v":""},{"$f":"IF(VLOOKUP(B38,'S4'!$B$23:$Z$57,12,FALSE)=\"\",\"\",VLOOKUP(B38,'S4'!$B$23:$Z$57,12,FALSE))","v":""},{"$f":"IF(VLOOKUP(B38,'S4'!$B$23:$Z$57,13,FALSE)=\"\",\"\",VLOOKUP(B38,'S4'!$B$23:$Z$57,13,FALSE))","v":""},{"$f":"IF(VLOOKUP(B38,'S4'!$B$23:$Z$57,14,FALSE)=\"\",\"\",VLOOKUP(B38,'S4'!$B$23:$Z$57,14,FALSE))","v":""},{"$f":"IF(VLOOKUP(B38,'S4'!$B$23:$Z$57,15,FALSE)=\"\",\"\",VLOOKUP(B38,'S4'!$B$23:$Z$57,15,FALSE))","v":""},null,null,null,null,null,null,"erreicht",null,null,{"$f":"IF(VLOOKUP(U38,'S4'!$B$23:$Z$57,6,FALSE)=\"\",\"\",VLOOKUP(U38,'S4'!$B$23:$Z$57,6,FALSE))","v":"."},{"$f":"IF(VLOOKUP(U38,'S4'!$B$23:$Z$57,7,FALSE)=\"\",\"\",VLOOKUP(U38,'S4'!$B$23:$Z$57,7,FALSE))","v":""},{"$f":"IF(VLOOKUP(U38,'S4'!$B$23:$Z$57,8,FALSE)=\"\",\"\",VLOOKUP(U38,'S4'!$B$23:$Z$57,8,FALSE))","v":""},{"$f":"IF(VLOOKUP(U38,'S4'!$B$23:$Z$57,9,FALSE)=\"\",\"\",VLOOKUP(U38,'S4'!$B$23:$Z$57,9,FALSE))","v":""},{"$f":"IF(VLOOKUP(U38,'S4'!$B$23:$Z$57,10,FALSE)=\"\",\"\",VLOOKUP(U38,'S4'!$B$23:$Z$57,10,FALSE))","v":""},{"$f":"IF(VLOOKUP(U38,'S4'!$B$23:$Z$57,11,FALSE)=\"\",\"\",VLOOKUP(U38,'S4'!$B$23:$Z$57,11,FALSE))","v":""},{"$f":"IF(VLOOKUP(U38,'S4'!$B$23:$Z$57,12,FALSE)=\"\",\"\",VLOOKUP(U38,'S4'!$B$23:$Z$57,12,FALSE))","v":""},{"$f":"IF(VLOOKUP(U38,'S4'!$B$23:$Z$57,13,FALSE)=\"\",\"\",VLOOKUP(U38,'S4'!$B$23:$Z$57,13,FALSE))","v":""},{"$f":"IF(VLOOKUP(U38,'S4'!$B$23:$Z$57,14,FALSE)=\"\",\"\",VLOOKUP(U38,'S4'!$B$23:$Z$57,14,FALSE))","v":""},{"$f":"IF(VLOOKUP(U38,'S4'!$B$23:$Z$57,15,FALSE)=\"\",\"\",VLOOKUP(U38,'S4'!$B$23:$Z$57,15,FALSE))","v":""}]
[null,"von",null,null,{"$f":"IF('S4'!$G$21=\"\",\"\",'S4'!$G$21)","v":""},{"$f":"IF('S4'!$H$21=\"\",\"\",'S4'!$H$21)","v":""},{"$f":"IF('S4'!$I$21=\"\",\"\",'S4'!$I$21)","v":""},{"$f":"IF('S4'!$J$21=\"\",\"\",'S4'!$J$21)","v":""},{"$f":"IF('S4'!$K$21=\"\",\"\",'S4'!$K$21)","v":""},{"$f":"IF('S4'!$L$21=\"\",\"\",'S4'!$L$21)","v":""},{"$f":"IF('S4'!$M$21=\"\",\"\",'S4'!$M$21)","v":""},{"$f":"IF('S4'!$N$21=\"\",\"\",'S4'!$N$21)","v":""},{"$f":"IF('S4'!$O$21=\"\",\"\",'S4'!$O$21)","v":""},{"$f":"IF('S4'!$P$21=\"\",\"\",'S4'!$P$21)","v":""},null,"von",null,null,null,null,"von",null,null,{"$f":"IF('S4'!$G$21=\"\",\"\",'S4'!$G$21)","v":""},{"$f":"IF('S4'!$H$21=\"\",\"\",'S4'!$H$21)","v":""},{"$f":"IF('S4'!$I$21=\"\",\"\",'S4'!$I$21)","v":""},{"$f":"IF('S4'!$J$21=\"\",\"\",'S4'!$J$21)","v":""},{"$f":"IF('S4'!$K$21=\"\",\"\",'S4'!$K$21)","v":""},{"$f":"IF('S4'!$L$21=\"\",\"\",'S4'!$L$21)","v":""},{"$f":"IF('S4'!$M$21=\"\",\"\",'S4'!$M$21)","v":""},{"$f":"IF('S4'!$N$21=\"\",\"\",'S4'!$N$21)","v":""},{"$f":"IF('S4'!$O$21=\"\",\"\",'S4'!$O$21)","v":""},{"$f":"IF('S4'!$P$21=\"\",\"\",'S4'!$P$21)","v":""},null,"von"]
[null,null,null,null,null,null,null,null,null,null,null,null,null,null,null,{"$f":"'S4'!$H$12","v":0},null,null,null,null,null,null,null,null,null,null,null,null,null,null,null,null,null,null,{"$f":"'S4'!$H$12","v":0}]
[null,{"$f":"IF('S4'!$Q$18=\"\",\"\",\"Aufgabe\")","v":""},null,null,{"$f":"IF('S4'!$Q$18=\"\",\"\",'S4'!$Q$18)","v":""},{"$f":"IF('S4'!$R$18=\"\",\"\",'S4'!$R$18)","v":""},{"$f":"IF('S4'!$S$18=\"\",\"\",'S4'!$S$18)","v":""},{"$f":"IF('S4'!$T$18=\"\",\"\",'S4'!$T$18)","v":""},{"$f":"IF('S4'!$U$18=\"\",\"\",'S4'!$U$18)","v":""},{"$f":"IF('S4'!$V$18=\"\",\"\",'S4'!$V$18)","v":""},{"$f":"IF('S4'!$W$18=\"\",\"\",'S4'!$W$18)","v":""},{"$f":"IF('S4'!$X$18=\"\",\"\",'S4'!$X$18)","v":""},{"$f":"IF('S4'!$Y$18=\"\",\"\",'S4'!$Y$18)","v":""},{"$f":"IF('S4'!$Z$18=\"\",\"\",'S4'!$Z$18)","v":""},null,null,null,null,null,null,{"$f":"IF('S4'!$Q$18=\"\",\"\",\"Aufgabe\")","v":""},null,null,{"$f":"IF('S4'!$Q$18=\"\",\"\",'S4'!$Q$18)","v":""},{"$f":"IF('S4'!$R$18=\"\",\"\",'S4'!$R$18)","v":""},{"$f":"IF('S4'!$S$18=\"\",\"\",'S4'!$S$18)","v":""},{"$f":"IF('S4'!$T$18=\"\",\"\",'S4'!$T$18)","v":""},{"$f":"IF('S4'!$U$18=\"\",\"\",'S4'!$U$18)","v":""},{"$f":"IF('S4'!$V$18=\"\",\"\",'S4'!$V$18)","v":""},{"$f":"IF('S4'!$W$18=\"\",\"\",'S4'!$W$18)","v":""},{"$f":"IF('S4'!$X$18=\"\",\"\",'S4'!$X$18)","v":""},{"$f":"IF('S4'!$Y$18=\"\",\"\",'S4'!$Y$18)","v":""},{"$f":"IF('S4'!$Z$18=\"\",\"\",'S4'!$Z$18)","v":""}]
[null,{"$f":"IF('S4'!$Q$18=\"\",\"\",\"erreicht\")","v":""},null,null,{"$f":"IF(VLOOKUP(B38,'S4'!$B$23:$Z$57,16,FALSE)=\"\",\"\",VLOOKUP(B38,'S4'!$B$23:$Z$57,16,FALSE))","v":""},{"$f":"IF(VLOOKUP(B38,'S4'!$B$23:$Z$57,17,FALSE)=\"\",\"\",VLOOKUP(B38,'S4'!$B$23:$Z$57,17,FALSE))","v":""},{"$f":"IF(VLOOKUP(B38,'S4'!$B$23:$Z$57,18,FALSE)=\"\",\"\",VLOOKUP(B38,'S4'!$B$23:$Z$57,18,FALSE))","v":""},{"$f":"IF(VLOOKUP(B38,'S4'!$B$23:$Z$57,19,FALSE)=\"\",\"\",VLOOKUP(B38,'S4'!$B$23:$Z$57,19,FALSE))","v":""},{"$f":"IF(VLOOKUP(B38,'S4'!$B$23:$Z$57,20,FALSE)=\"\",\"\",VLOOKUP(B38,'S4'!$B$23:$Z$57,20,FALSE))","v":""},{"$f":"IF(VLOOKUP(B38,'S4'!$B$23:$Z$57,21,FALSE)=\"\",\"\",VLOOKUP(B38,'S4'!$B$23:$Z$57,21,FALSE))","v":""},{"$f":"IF(VLOOKUP(B38,'S4'!$B$23:$Z$57,22,FALSE)=\"\",\"\",VLOOKUP(B38,'S4'!$B$23:$Z$57,22,FALSE))","v":""},{"$f":"IF(VLOOKUP(B38,'S4'!$B$23:$Z$57,23,FALSE)=\"\",\"\",VLOOKUP(B38,'S4'!$B$23:$Z$57,23,FALSE))","v":""},{"$f":"IF(VLOOKUP(B38,'S4'!$B$23:$Z$57,24,FALSE)=\"\",\"\",VLOOKUP(B38,'S4'!$B$23:$Z$57,24,FALSE))","v":""},{"$f":"IF(VLOOKUP(B38,'S4'!$B$23:$Z$57,25,FALSE)=\"\",\"\",VLOOKUP(B38,'S4'!$B$23:$Z$57,25,FALSE))","v":""},null,"Note",null,null,null,null,{"$f":"IF('S4'!$Q$18=\"\",\"\",\"erreicht\")","v":""},null,null,{"$f":"IF(VLOOKUP(U38,'S4'!$B$23:$Z$57,16,FALSE)=\"\",\"\",VLOOKUP(U38,'S4'!$B$23:$Z$57,16,FALSE))","v":""},{"$f":"IF(VLOOKUP(U38,'S4'!$B$23:$Z$57,17,FALSE)=\"\",\"\",VLOOKUP(U38,'S4'!$B$23:$Z$57,17,FALSE))","v":""},{"$f":"IF(VLOOKUP(U38,'S4'!$B$23:$Z$57,18,FALSE)=\"\",\"\",VLOOKUP(U38,'S4'!$B$23:$Z$57,18,FALSE))","v":""},{"$f":"IF(VLOOKUP(U38,'S4'!$B$23:$Z$57,19,FALSE)=\"\",\"\",VLOOKUP(U38,'S4'!$B$23:$Z$57,19,FALSE))","v":""},{"$f":"IF(VLOOKUP(U38,'S4'!$B$23:$Z$57,20,FALSE)=\"\",\"\",VLOOKUP(U38,'S4'!$B$23:$Z$57,20,FALSE))","v":""},{"$f":"IF(VLOOKUP(U38,'S4'!$B$23:$Z$57,21,FALSE)=\"\",\"\",VLOOKUP(U38,'S4'!$B$23:$Z$57,21,FALSE))","v":""},{"$f":"IF(VLOOKUP(U38,'S4'!$B$23:$Z$57,22,FALSE)=\"\",\"\",VLOOKUP(U38,'S4'!$B$23:$Z$57,22,FALSE))","v":""},{"$f":"IF(VLOOKUP(U38,'S4'!$B$23:$Z$57,23,FALSE)=\"\",\"\",VLOOKUP(U38,'S4'!$B$23:$Z$57,23,FALSE))","v":""},{"$f":"IF(VLOOKUP(U38,'S4'!$B$23:$Z$57,24,FALSE)=\"\",\"\",VLOOKUP(U38,'S4'!$B$23:$Z$57,24,FALSE))","v":""},{"$f":"IF(VLOOKUP(U38,'S4'!$B$23:$Z$57,25,FALSE)=\"\",\"\",VLOOKUP(U38,'S4'!$B$23:$Z$57,25,FALSE))","v":""},null,"Note"]
[null,{"$f":"IF('S4'!$Q$18=\"\",\"\",\"von\")","v":""},null,null,{"$f":"IF('S4'!$Q$21=\"\",\"\",'S4'!$Q$21)","v":""},{"$f":"IF('S4'!$R$21=\"\",\"\",'S4'!$R$21)","v":""},{"$f":"IF('S4'!$S$21=\"\",\"\",'S4'!$S$21)","v":""},{"$f":"IF('S4'!$T$21=\"\",\"\",'S4'!$T$21)","v":""},{"$f":"IF('S4'!$U$21=\"\",\"\",'S4'!$U$21)","v":""},{"$f":"IF('S4'!$V$21=\"\",\"\",'S4'!$V$21)","v":""},{"$f":"IF('S4'!$W$21=\"\",\"\",'S4'!$W$21)","v":""},{"$f":"IF('S4'!$X$21=\"\",\"\",'S4'!$X$21)","v":""},{"$f":"IF('S4'!$Y$21=\"\",\"\",'S4'!$Y$21)","v":""},{"$f":"IF('S4'!$Z$21=\"\",\"\",'S4'!$Z$21)","v":""},null,{"$f":"IF(VLOOKUP(B38,'S4'!$B$23:$Z$57,2,FALSE)=\"\",\"\",CONCATENATE(VLOOKUP(B38,'S4'!$B$23:$Z$57,2,FALSE),\" \",VLOOKUP(B38,'S4'!$B$23:$Z$57,3,FALSE)))","v":"- "},null,null,null,null,{"$f":"IF('S4'!$Q$18=\"\",\"\",\"von\")","v":""},null,null,{"$f":"IF('S4'!$Q$21=\"\",\"\",'S4'!$Q$21)","v":""},{"$f":"IF('S4'!$R$21=\"\",\"\",'S4'!$R$21)","v":""},{"$f":"IF('S4'!$S$21=\"\",\"\",'S4'!$S$21)","v":""},{"$f":"IF('S4'!$T$21=\"\",\"\",'S4'!$T$21)","v":""},{"$f":"IF('S4'!$U$21=\"\",\"\",'S4'!$U$21)","v":""},{"$f":"IF('S4'!$V$21=\"\",\"\",'S4'!$V$21)","v":""},{"$f":"IF('S4'!$W$21=\"\",\"\",'S4'!$W$21)","v":""},{"$f":"IF('S4'!$X$21=\"\",\"\",'S4'!$X$21)","v":""},{"$f":"IF('S4'!$Y$21=\"\",\"\",'S4'!$Y$21)","v":""},{"$f":"IF('S4'!$Z$21=\"\",\"\",'S4'!$Z$21)","v":""},null,{"$f":"IF(VLOOKUP(U38,'S4'!$B$23:$Z$57,2,FALSE)=\"\",\"\",CONCATENATE(VLOOKUP(U38,'S4'!$B$23:$Z$57,2,FALSE),\" \",VLOOKUP(U38,'S4'!$B$23:$Z$57,3,FALSE)))","v":"- "}]
[]
[]
[]
[null,{"$f":"'S4'!$B$31","v":""},null,null,null,null,null,null,null,null,null,null,null,null,null,null,null,null,null,null,{"$f":"'S4'!$B$32","v":""}]
[null,null,null,null,null,null,null,null,null,null,null,null,null,null,null,"Summe",null,null,null,null,null,null,null,null,null,null,null,null,null,null,null,null,null,null,"Summe"]
[null,"Aufgabe",null,null,{"$f":"IF('S4'!$G$18=\"\",\"\",'S4'!$G$18)","v":1},{"$f":"IF('S4'!$H$18=\"\",\"\",'S4'!$H$18)","v":2},{"$f":"IF('S4'!$I$18=\"\",\"\",'S4'!$I$18)","v":3},{"$f":"IF('S4'!$J$18=\"\",\"\",'S4'!$J$18)","v":""},{"$f":"IF('S4'!$K$18=\"\",\"\",'S4'!$K$18)","v":""},{"$f":"IF('S4'!$L$18=\"\",\"\",'S4'!$L$18)","v":""},{"$f":"IF('S4'!$M$18=\"\",\"\",'S4'!$M$18)","v":""},{"$f":"IF('S4'!$N$18=\"\",\"\",'S4'!$N$18)","v":""},{"$f":"IF('S4'!$O$18=\"\",\"\",'S4'!$O$18)","v":""},{"$f":"IF('S4'!$P$18=\"\",\"\",'S4'!$P$18)","v":""},null,{"$f":"IF(VLOOKUP(B50,'S4'!$B$23:$Z$57,5,FALSE)=\"\",\"\",VLOOKUP(B50,'S4'!$B$23:$Z$57,5,FALSE))","v":0},null,null,null,null,"Aufgabe",null,null,{"$f":"IF('S4'!$G$18=\"\",\"\",'S4'!$G$18)","v":1},{"$f":"IF('S4'!$H$18=\"\",\"\",'S4'!$H$18)","v":2},{"$f":"IF('S4'!$I$18=\"\",\"\",'S4'!$I$18)","v":3},{"$f":"IF('S4'!$J$18=\"\",\"\",'S4'!$J$18)","v":""},{"$f":"IF('S4'!$K$18=\"\",\"\",'S4'!$K$18)","v":""},{"$f":"IF('S4'!$L$18=\"\",\"\",'S4'!$L$18)","v":""},{"$f":"IF('S4'!$M$18=\"\",\"\",'S4'!$M$18)","v":""},{"$f":"IF('S4'!$N$18=\"\",\"\",'S4'!$N$18)","v":""},{"$f":"IF('S4'!$O$18=\"\",\"\",'S4'!$O$18)","v":""},{"$f":"IF('S4'!$P$18=\"\",\"\",'S4'!$P$18)","v":""},null,{"$f":"IF(VLOOKUP(U50,'S4'!$B$23:$Z$57,5,FALSE)=\"\",\"\",VLOOKUP(U50,'S4'!$B$23:$Z$57,5,FALSE))","v":0}]
[null,"erreicht",null,null,{"$f":"IF(VLOOKUP(B50,'S4'!$B$23:$Z$57,6,FALSE)=\"\",\"\",VLOOKUP(B50,'S4'!$B$23:$Z$57,6,FALSE))","v":"."},{"$f":"IF(VLOOKUP(B50,'S4'!$B$23:$Z$57,7,FALSE)=\"\",\"\",VLOOKUP(B50,'S4'!$B$23:$Z$57,7,FALSE))","v":""},{"$f":"IF(VLOOKUP(B50,'S4'!$B$23:$Z$57,8,FALSE)=\"\",\"\",VLOOKUP(B50,'S4'!$B$23:$Z$57,8,FALSE))","v":""},{"$f":"IF(VLOOKUP(B50,'S4'!$B$23:$Z$57,9,FALSE)=\"\",\"\",VLOOKUP(B50,'S4'!$B$23:$Z$57,9,FALSE))","v":""},{"$f":"IF(VLOOKUP(B50,'S4'!$B$23:$Z$57,10,FALSE)=\"\",\"\",VLOOKUP(B50,'S4'!$B$23:$Z$57,10,FALSE))","v":""},{"$f":"IF(VLOOKUP(B50,'S4'!$B$23:$Z$57,11,FALSE)=\"\",\"\",VLOOKUP(B50,'S4'!$B$23:$Z$57,11,FALSE))","v":""},{"$f":"IF(VLOOKUP(B50,'S4'!$B$23:$Z$57,12,FALSE)=\"\",\"\",VLOOKUP(B50,'S4'!$B$23:$Z$57,12,FALSE))","v":""},{"$f":"IF(VLOOKUP(B50,'S4'!$B$23:$Z$57,13,FALSE)=\"\",\"\",VLOOKUP(B50,'S4'!$B$23:$Z$57,13,FALSE))","v":""},{"$f":"IF(VLOOKUP(B50,'S4'!$B$23:$Z$57,14,FALSE)=\"\",\"\",VLOOKUP(B50,'S4'!$B$23:$Z$57,14,FALSE))","v":""},{"$f":"IF(VLOOKUP(B50,'S4'!$B$23:$Z$57,15,FALSE)=\"\",\"\",VLOOKUP(B50,'S4'!$B$23:$Z$57,15,FALSE))","v":""},null,null,null,null,null,null,"erreicht",null,null,{"$f":"IF(VLOOKUP(U50,'S4'!$B$23:$Z$57,6,FALSE)=\"\",\"\",VLOOKUP(U50,'S4'!$B$23:$Z$57,6,FALSE))","v":"."},{"$f":"IF(VLOOKUP(U50,'S4'!$B$23:$Z$57,7,FALSE)=\"\",\"\",VLOOKUP(U50,'S4'!$B$23:$Z$57,7,FALSE))","v":""},{"$f":"IF(VLOOKUP(U50,'S4'!$B$23:$Z$57,8,FALSE)=\"\",\"\",VLOOKUP(U50,'S4'!$B$23:$Z$57,8,FALSE))","v":""},{"$f":"IF(VLOOKUP(U50,'S4'!$B$23:$Z$57,9,FALSE)=\"\",\"\",VLOOKUP(U50,'S4'!$B$23:$Z$57,9,FALSE))","v":""},{"$f":"IF(VLOOKUP(U50,'S4'!$B$23:$Z$57,10,FALSE)=\"\",\"\",VLOOKUP(U50,'S4'!$B$23:$Z$57,10,FALSE))","v":""},{"$f":"IF(VLOOKUP(U50,'S4'!$B$23:$Z$57,11,FALSE)=\"\",\"\",VLOOKUP(U50,'S4'!$B$23:$Z$57,11,FALSE))","v":""},{"$f":"IF(VLOOKUP(U50,'S4'!$B$23:$Z$57,12,FALSE)=\"\",\"\",VLOOKUP(U50,'S4'!$B$23:$Z$57,12,FALSE))","v":""},{"$f":"IF(VLOOKUP(U50,'S4'!$B$23:$Z$57,13,FALSE)=\"\",\"\",VLOOKUP(U50,'S4'!$B$23:$Z$57,13,FALSE))","v":""},{"$f":"IF(VLOOKUP(U50,'S4'!$B$23:$Z$57,14,FALSE)=\"\",\"\",VLOOKUP(U50,'S4'!$B$23:$Z$57,14,FALSE))","v":""},{"$f":"IF(VLOOKUP(U50,'S4'!$B$23:$Z$57,15,FALSE)=\"\",\"\",VLOOKUP(U50,'S4'!$B$23:$Z$57,15,FALSE))","v":""}]
[null,"von",null,null,{"$f":"IF('S4'!$G$21=\"\",\"\",'S4'!$G$21)","v":""},{"$f":"IF('S4'!$H$21=\"\",\"\",'S4'!$H$21)","v":""},{"$f":"IF('S4'!$I$21=\"\",\"\",'S4'!$I$21)","v":""},{"$f":"IF('S4'!$J$21=\"\",\"\",'S4'!$J$21)","v":""},{"$f":"IF('S4'!$K$21=\"\",\"\",'S4'!$K$21)","v":""},{"$f":"IF('S4'!$L$21=\"\",\"\",'S4'!$L$21)","v":""},{"$f":"IF('S4'!$M$21=\"\",\"\",'S4'!$M$21)","v":""},{"$f":"IF('S4'!$N$21=\"\",\"\",'S4'!$N$21)","v":""},{"$f":"IF('S4'!$O$21=\"\",\"\",'S4'!$O$21)","v":""},{"$f":"IF('S4'!$P$21=\"\",\"\",'S4'!$P$21)","v":""},null,"von",null,null,null,null,"von",null,null,{"$f":"IF('S4'!$G$21=\"\",\"\",'S4'!$G$21)","v":""},{"$f":"IF('S4'!$H$21=\"\",\"\",'S4'!$H$21)","v":""},{"$f":"IF('S4'!$I$21=\"\",\"\",'S4'!$I$21)","v":""},{"$f":"IF('S4'!$J$21=\"\",\"\",'S4'!$J$21)","v":""},{"$f":"IF('S4'!$K$21=\"\",\"\",'S4'!$K$21)","v":""},{"$f":"IF('S4'!$L$21=\"\",\"\",'S4'!$L$21)","v":""},{"$f":"IF('S4'!$M$21=\"\",\"\",'S4'!$M$21)","v":""},{"$f":"IF('S4'!$N$21=\"\",\"\",'S4'!$N$21)","v":""},{"$f":"IF('S4'!$O$21=\"\",\"\",'S4'!$O$21)","v":""},{"$f":"IF('S4'!$P$21=\"\",\"\",'S4'!$P$21)","v":""},null,"von"]
[null,null,null,null,null,null,null,null,null,null,null,null,null,null,null,{"$f":"'S4'!$H$12","v":0},null,null,null,null,null,null,null,null,null,null,null,null,null,null,null,null,null,null,{"$f":"'S4'!$H$12","v":0}]
[null,{"$f":"IF('S4'!$Q$18=\"\",\"\",\"Aufgabe\")","v":""},null,null,{"$f":"IF('S4'!$Q$18=\"\",\"\",'S4'!$Q$18)","v":""},{"$f":"IF('S4'!$R$18=\"\",\"\",'S4'!$R$18)","v":""},{"$f":"IF('S4'!$S$18=\"\",\"\",'S4'!$S$18)","v":""},{"$f":"IF('S4'!$T$18=\"\",\"\",'S4'!$T$18)","v":""},{"$f":"IF('S4'!$U$18=\"\",\"\",'S4'!$U$18)","v":""},{"$f":"IF('S4'!$V$18=\"\",\"\",'S4'!$V$18)","v":""},{"$f":"IF('S4'!$W$18=\"\",\"\",'S4'!$W$18)","v":""},{"$f":"IF('S4'!$X$18=\"\",\"\",'S4'!$X$18)","v":""},{"$f":"IF('S4'!$Y$18=\"\",\"\",'S4'!$Y$18)","v":""},{"$f":"IF('S4'!$Z$18=\"\",\"\",'S4'!$Z$18)","v":""},null,null,null,null,null,null,{"$f":"IF('S4'!$Q$18=\"\",\"\",\"Aufgabe\")","v":""},null,null,{"$f":"IF('S4'!$Q$18=\"\",\"\",'S4'!$Q$18)","v":""},{"$f":"IF('S4'!$R$18=\"\",\"\",'S4'!$R$18)","v":""},{"$f":"IF('S4'!$S$18=\"\",\"\",'S4'!$S$18)","v":""},{"$f":"IF('S4'!$T$18=\"\",\"\",'S4'!$T$18)","v":""},{"$f":"IF('S4'!$U$18=\"\",\"\",'S4'!$U$18)","v":""},{"$f":"IF('S4'!$V$18=\"\",\"\",'S4'!$V$18)","v":""},{"$f":"IF('S4'!$W$18=\"\",\"\",'S4'!$W$18)","v":""},{"$f":"IF('S4'!$X$18=\"\",\"\",'S4'!$X$18)","v":""},{"$f":"IF('S4'!$Y$18=\"\",\"\",'S4'!$Y$18)","v":""},{"$f":"IF('S4'!$Z$18=\"\",\"\",'S4'!$Z$18)","v":""}]
[null,{"$f":"IF('S4'!$Q$18=\"\",\"\",\"erreicht\")","v":""},null,null,{"$f":"IF(VLOOKUP(B50,'S4'!$B$23:$Z$57,16,FALSE)=\"\",\"\",VLOOKUP(B50,'S4'!$B$23:$Z$57,16,FALSE))","v":""},{"$f":"IF(VLOOKUP(B50,'S4'!$B$23:$Z$57,17,FALSE)=\"\",\"\",VLOOKUP(B50,'S4'!$B$23:$Z$57,17,FALSE))","v":""},{"$f":"IF(VLOOKUP(B50,'S4'!$B$23:$Z$57,18,FALSE)=\"\",\"\",VLOOKUP(B50,'S4'!$B$23:$Z$57,18,FALSE))","v":""},{"$f":"IF(VLOOKUP(B50,'S4'!$B$23:$Z$57,19,FALSE)=\"\",\"\",VLOOKUP(B50,'S4'!$B$23:$Z$57,19,FALSE))","v":""},{"$f":"IF(VLOOKUP(B50,'S4'!$B$23:$Z$57,20,FALSE)=\"\",\"\",VLOOKUP(B50,'S4'!$B$23:$Z$57,20,FALSE))","v":""},{"$f":"IF(VLOOKUP(B50,'S4'!$B$23:$Z$57,21,FALSE)=\"\",\"\",VLOOKUP(B50,'S4'!$B$23:$Z$57,21,FALSE))","v":""},{"$f":"IF(VLOOKUP(B50,'S4'!$B$23:$Z$57,22,FALSE)=\"\",\"\",VLOOKUP(B50,'S4'!$B$23:$Z$57,22,FALSE))","v":""},{"$f":"IF(VLOOKUP(B50,'S4'!$B$23:$Z$57,23,FALSE)=\"\",\"\",VLOOKUP(B50,'S4'!$B$23:$Z$57,23,FALSE))","v":""},{"$f":"IF(VLOOKUP(B50,'S4'!$B$23:$Z$57,24,FALSE)=\"\",\"\",VLOOKUP(B50,'S4'!$B$23:$Z$57,24,FALSE))","v":""},{"$f":"IF(VLOOKUP(B50,'S4'!$B$23:$Z$57,25,FALSE)=\"\",\"\",VLOOKUP(B50,'S4'!$B$23:$Z$57,25,FALSE))","v":""},null,"Note",null,null,null,null,{"$f":"IF('S4'!$Q$18=\"\",\"\",\"erreicht\")","v":""},null,null,{"$f":"IF(VLOOKUP(U50,'S4'!$B$23:$Z$57,16,FALSE)=\"\",\"\",VLOOKUP(U50,'S4'!$B$23:$Z$57,16,FALSE))","v":""},{"$f":"IF(VLOOKUP(U50,'S4'!$B$23:$Z$57,17,FALSE)=\"\",\"\",VLOOKUP(U50,'S4'!$B$23:$Z$57,17,FALSE))","v":""},{"$f":"IF(VLOOKUP(U50,'S4'!$B$23:$Z$57,18,FALSE)=\"\",\"\",VLOOKUP(U50,'S4'!$B$23:$Z$57,18,FALSE))","v":""},{"$f":"IF(VLOOKUP(U50,'S4'!$B$23:$Z$57,19,FALSE)=\"\",\"\",VLOOKUP(U50,'S4'!$B$23:$Z$57,19,FALSE))","v":""},{"$f":"IF(VLOOKUP(U50,'S4'!$B$23:$Z$57,20,FALSE)=\"\",\"\",VLOOKUP(U50,'S4'!$B$23:$Z$57,20,FALSE))","v":""},{"$f":"IF(VLOOKUP(U50,'S4'!$B$23:$Z$57,21,FALSE)=\"\",\"\",VLOOKUP(U50,'S4'!$B$23:$Z$57,21,FALSE))","v":""},{"$f":"IF(VLOOKUP(U50,'S4'!$B$23:$Z$57,22,FALSE)=\"\",\"\",VLOOKUP(U50,'S4'!$B$23:$Z$57,22,FALSE))","v":""},{"$f":"IF(VLOOKUP(U50,'S4'!$B$23:$Z$57,23,FALSE)=\"\",\"\",VLOOKUP(U50,'S4'!$B$23:$Z$57,23,FALSE))","v":""},{"$f":"IF(VLOOKUP(U50,'S4'!$B$23:$Z$57,24,FALSE)=\"\",\"\",VLOOKUP(U50,'S4'!$B$23:$Z$57,24,FALSE))","v":""},{"$f":"IF(VLOOKUP(U50,'S4'!$B$23:$Z$57,25,FALSE)=\"\",\"\",VLOOKUP(U50,'S4'!$B$23:$Z$57,25,FALSE))","v":""},null,"Note"]
[null,{"$f":"IF('S4'!$Q$18=\"\",\"\",\"von\")","v":""},null,null,{"$f":"IF('S4'!$Q$21=\"\",\"\",'S4'!$Q$21)","v":""},{"$f":"IF('S4'!$R$21=\"\",\"\",'S4'!$R$21)","v":""},{"$f":"IF('S4'!$S$21=\"\",\"\",'S4'!$S$21)","v":""},{"$f":"IF('S4'!$T$21=\"\",\"\",'S4'!$T$21)","v":""},{"$f":"IF('S4'!$U$21=\"\",\"\",'S4'!$U$21)","v":""},{"$f":"IF('S4'!$V$21=\"\",\"\",'S4'!$V$21)","v":""},{"$f":"IF('S4'!$W$21=\"\",\"\",'S4'!$W$21)","v":""},{"$f":"IF('S4'!$X$21=\"\",\"\",'S4'!$X$21)","v":""},{"$f":"IF('S4'!$Y$21=\"\",\"\",'S4'!$Y$21)","v":""},{"$f":"IF('S4'!$Z$21=\"\",\"\",'S4'!$Z$21)","v":""},null,{"$f":"IF(VLOOKUP(B50,'S4'!$B$23:$Z$57,2,FALSE)=\"\",\"\",CONCATENATE(VLOOKUP(B50,'S4'!$B$23:$Z$57,2,FALSE),\" \",VLOOKUP(B50,'S4'!$B$23:$Z$57,3,FALSE)))","v":"- "},null,null,null,null,{"$f":"IF('S4'!$Q$18=\"\",\"\",\"von\")","v":""},null,null,{"$f":"IF('S4'!$Q$21=\"\",\"\",'S4'!$Q$21)","v":""},{"$f":"IF('S4'!$R$21=\"\",\"\",'S4'!$R$21)","v":""},{"$f":"IF('S4'!$S$21=\"\",\"\",'S4'!$S$21)","v":""},{"$f":"IF('S4'!$T$21=\"\",\"\",'S4'!$T$21)","v":""},{"$f":"IF('S4'!$U$21=\"\",\"\",'S4'!$U$21)","v":""},{"$f":"IF('S4'!$V$21=\"\",\"\",'S4'!$V$21)","v":""},{"$f":"IF('S4'!$W$21=\"\",\"\",'S4'!$W$21)","v":""},{"$f":"IF('S4'!$X$21=\"\",\"\",'S4'!$X$21)","v":""},{"$f":"IF('S4'!$Y$21=\"\",\"\",'S4'!$Y$21)","v":""},{"$f":"IF('S4'!$Z$21=\"\",\"\",'S4'!$Z$21)","v":""},null,{"$f":"IF(VLOOKUP(U50,'S4'!$B$23:$Z$57,2,FALSE)=\"\",\"\",CONCATENATE(VLOOKUP(U50,'S4'!$B$23:$Z$57,2,FALSE),\" \",VLOOKUP(U50,'S4'!$B$23:$Z$57,3,FALSE)))","v":"- "}]
[]
[]
[]
[null,{"$f":"'S4'!$B$33","v":""},null,null,null,null,null,null,null,null,null,null,null,null,null,null,null,null,null,null,{"$f":"'S4'!$B$34","v":""}]
[null,null,null,null,null,null,null,null,null,null,null,null,null,null,null,"Summe",null,null,null,null,null,null,null,null,null,null,null,null,null,null,null,null,null,null,"Summe"]
[null,"Aufgabe",null,null,{"$f":"IF('S4'!$G$18=\"\",\"\",'S4'!$G$18)","v":1},{"$f":"IF('S4'!$H$18=\"\",\"\",'S4'!$H$18)","v":2},{"$f":"IF('S4'!$I$18=\"\",\"\",'S4'!$I$18)","v":3},{"$f":"IF('S4'!$J$18=\"\",\"\",'S4'!$J$18)","v":""},{"$f":"IF('S4'!$K$18=\"\",\"\",'S4'!$K$18)","v":""},{"$f":"IF('S4'!$L$18=\"\",\"\",'S4'!$L$18)","v":""},{"$f":"IF('S4'!$M$18=\"\",\"\",'S4'!$M$18)","v":""},{"$f":"IF('S4'!$N$18=\"\",\"\",'S4'!$N$18)","v":""},{"$f":"IF('S4'!$O$18=\"\",\"\",'S4'!$O$18)","v":""},{"$f":"IF('S4'!$P$18=\"\",\"\",'S4'!$P$18)","v":""},null,{"$f":"IF(VLOOKUP(B62,'S4'!$B$23:$Z$57,5,FALSE)=\"\",\"\",VLOOKUP(B62,'S4'!$B$23:$Z$57,5,FALSE))","v":0},null,null,null,null,"Aufgabe",null,null,{"$f":"IF('S4'!$G$18=\"\",\"\",'S4'!$G$18)","v":1},{"$f":"IF('S4'!$H$18=\"\",\"\",'S4'!$H$18)","v":2},{"$f":"IF('S4'!$I$18=\"\",\"\",'S4'!$I$18)","v":3},{"$f":"IF('S4'!$J$18=\"\",\"\",'S4'!$J$18)","v":""},{"$f":"IF('S4'!$K$18=\"\",\"\",'S4'!$K$18)","v":""},{"$f":"IF('S4'!$L$18=\"\",\"\",'S4'!$L$18)","v":""},{"$f":"IF('S4'!$M$18=\"\",\"\",'S4'!$M$18)","v":""},{"$f":"IF('S4'!$N$18=\"\",\"\",'S4'!$N$18)","v":""},{"$f":"IF('S4'!$O$18=\"\",\"\",'S4'!$O$18)","v":""},{"$f":"IF('S4'!$P$18=\"\",\"\",'S4'!$P$18)","v":""},null,{"$f":"IF(VLOOKUP(U62,'S4'!$B$23:$Z$57,5,FALSE)=\"\",\"\",VLOOKUP(U62,'S4'!$B$23:$Z$57,5,FALSE))","v":0}]
[null,"erreicht",null,null,{"$f":"IF(VLOOKUP(B62,'S4'!$B$23:$Z$57,6,FALSE)=\"\",\"\",VLOOKUP(B62,'S4'!$B$23:$Z$57,6,FALSE))","v":"."},{"$f":"IF(VLOOKUP(B62,'S4'!$B$23:$Z$57,7,FALSE)=\"\",\"\",VLOOKUP(B62,'S4'!$B$23:$Z$57,7,FALSE))","v":""},{"$f":"IF(VLOOKUP(B62,'S4'!$B$23:$Z$57,8,FALSE)=\"\",\"\",VLOOKUP(B62,'S4'!$B$23:$Z$57,8,FALSE))","v":""},{"$f":"IF(VLOOKUP(B62,'S4'!$B$23:$Z$57,9,FALSE)=\"\",\"\",VLOOKUP(B62,'S4'!$B$23:$Z$57,9,FALSE))","v":""},{"$f":"IF(VLOOKUP(B62,'S4'!$B$23:$Z$57,10,FALSE)=\"\",\"\",VLOOKUP(B62,'S4'!$B$23:$Z$57,10,FALSE))","v":""},{"$f":"IF(VLOOKUP(B62,'S4'!$B$23:$Z$57,11,FALSE)=\"\",\"\",VLOOKUP(B62,'S4'!$B$23:$Z$57,11,FALSE))","v":""},{"$f":"IF(VLOOKUP(B62,'S4'!$B$23:$Z$57,12,FALSE)=\"\",\"\",VLOOKUP(B62,'S4'!$B$23:$Z$57,12,FALSE))","v":""},{"$f":"IF(VLOOKUP(B62,'S4'!$B$23:$Z$57,13,FALSE)=\"\",\"\",VLOOKUP(B62,'S4'!$B$23:$Z$57,13,FALSE))","v":""},{"$f":"IF(VLOOKUP(B62,'S4'!$B$23:$Z$57,14,FALSE)=\"\",\"\",VLOOKUP(B62,'S4'!$B$23:$Z$57,14,FALSE))","v":""},{"$f":"IF(VLOOKUP(B62,'S4'!$B$23:$Z$57,15,FALSE)=\"\",\"\",VLOOKUP(B62,'S4'!$B$23:$Z$57,15,FALSE))","v":""},null,null,null,null,null,null,"erreicht",null,null,{"$f":"IF(VLOOKUP(U62,'S4'!$B$23:$Z$57,6,FALSE)=\"\",\"\",VLOOKUP(U62,'S4'!$B$23:$Z$57,6,FALSE))","v":"."},{"$f":"IF(VLOOKUP(U62,'S4'!$B$23:$Z$57,7,FALSE)=\"\",\"\",VLOOKUP(U62,'S4'!$B$23:$Z$57,7,FALSE))","v":""},{"$f":"IF(VLOOKUP(U62,'S4'!$B$23:$Z$57,8,FALSE)=\"\",\"\",VLOOKUP(U62,'S4'!$B$23:$Z$57,8,FALSE))","v":""},{"$f":"IF(VLOOKUP(U62,'S4'!$B$23:$Z$57,9,FALSE)=\"\",\"\",VLOOKUP(U62,'S4'!$B$23:$Z$57,9,FALSE))","v":""},{"$f":"IF(VLOOKUP(U62,'S4'!$B$23:$Z$57,10,FALSE)=\"\",\"\",VLOOKUP(U62,'S4'!$B$23:$Z$57,10,FALSE))","v":""},{"$f":"IF(VLOOKUP(U62,'S4'!$B$23:$Z$57,11,FALSE)=\"\",\"\",VLOOKUP(U62,'S4'!$B$23:$Z$57,11,FALSE))","v":""},{"$f":"IF(VLOOKUP(U62,'S4'!$B$23:$Z$57,12,FALSE)=\"\",\"\",VLOOKUP(U62,'S4'!$B$23:$Z$57,12,FALSE))","v":""},{"$f":"IF(VLOOKUP(U62,'S4'!$B$23:$Z$57,13,FALSE)=\"\",\"\",VLOOKUP(U62,'S4'!$B$23:$Z$57,13,FALSE))","v":""},{"$f":"IF(VLOOKUP(U62,'S4'!$B$23:$Z$57,14,FALSE)=\"\",\"\",VLOOKUP(U62,'S4'!$B$23:$Z$57,14,FALSE))","v":""},{"$f":"IF(VLOOKUP(U62,'S4'!$B$23:$Z$57,15,FALSE)=\"\",\"\",VLOOKUP(U62,'S4'!$B$23:$Z$57,15,FALSE))","v":""}]
[null,"von",null,null,{"$f":"IF('S4'!$G$21=\"\",\"\",'S4'!$G$21)","v":""},{"$f":"IF('S4'!$H$21=\"\",\"\",'S4'!$H$21)","v":""},{"$f":"IF('S4'!$I$21=\"\",\"\",'S4'!$I$21)","v":""},{"$f":"IF('S4'!$J$21=\"\",\"\",'S4'!$J$21)","v":""},{"$f":"IF('S4'!$K$21=\"\",\"\",'S4'!$K$21)","v":""},{"$f":"IF('S4'!$L$21=\"\",\"\",'S4'!$L$21)","v":""},{"$f":"IF('S4'!$M$21=\"\",\"\",'S4'!$M$21)","v":""},{"$f":"IF('S4'!$N$21=\"\",\"\",'S4'!$N$21)","v":""},{"$f":"IF('S4'!$O$21=\"\",\"\",'S4'!$O$21)","v":""},{"$f":"IF('S4'!$P$21=\"\",\"\",'S4'!$P$21)","v":""},null,"von",null,null,null,null,"von",null,null,{"$f":"IF('S4'!$G$21=\"\",\"\",'S4'!$G$21)","v":""},{"$f":"IF('S4'!$H$21=\"\",\"\",'S4'!$H$21)","v":""},{"$f":"IF('S4'!$I$21=\"\",\"\",'S4'!$I$21)","v":""},{"$f":"IF('S4'!$J$21=\"\",\"\",'S4'!$J$21)","v":""},{"$f":"IF('S4'!$K$21=\"\",\"\",'S4'!$K$21)","v":""},{"$f":"IF('S4'!$L$21=\"\",\"\",'S4'!$L$21)","v":""},{"$f":"IF('S4'!$M$21=\"\",\"\",'S4'!$M$21)","v":""},{"$f":"IF('S4'!$N$21=\"\",\"\",'S4'!$N$21)","v":""},{"$f":"IF('S4'!$O$21=\"\",\"\",'S4'!$O$21)","v":""},{"$f":"IF('S4'!$P$21=\"\",\"\",'S4'!$P$21)","v":""},null,"von"]
[null,null,null,null,null,null,null,null,null,null,null,null,null,null,null,{"$f":"'S4'!$H$12","v":0},null,null,null,null,null,null,null,null,null,null,null,null,null,null,null,null,null,null,{"$f":"'S4'!$H$12","v":0}]
[null,{"$f":"IF('S4'!$Q$18=\"\",\"\",\"Aufgabe\")","v":""},null,null,{"$f":"IF('S4'!$Q$18=\"\",\"\",'S4'!$Q$18)","v":""},{"$f":"IF('S4'!$R$18=\"\",\"\",'S4'!$R$18)","v":""},{"$f":"IF('S4'!$S$18=\"\",\"\",'S4'!$S$18)","v":""},{"$f":"IF('S4'!$T$18=\"\",\"\",'S4'!$T$18)","v":""},{"$f":"IF('S4'!$U$18=\"\",\"\",'S4'!$U$18)","v":""},{"$f":"IF('S4'!$V$18=\"\",\"\",'S4'!$V$18)","v":""},{"$f":"IF('S4'!$W$18=\"\",\"\",'S4'!$W$18)","v":""},{"$f":"IF('S4'!$X$18=\"\",\"\",'S4'!$X$18)","v":""},{"$f":"IF('S4'!$Y$18=\"\",\"\",'S4'!$Y$18)","v":""},{"$f":"IF('S4'!$Z$18=\"\",\"\",'S4'!$Z$18)","v":""},null,null,null,null,null,null,{"$f":"IF('S4'!$Q$18=\"\",\"\",\"Aufgabe\")","v":""},null,null,{"$f":"IF('S4'!$Q$18=\"\",\"\",'S4'!$Q$18)","v":""},{"$f":"IF('S4'!$R$18=\"\",\"\",'S4'!$R$18)","v":""},{"$f":"IF('S4'!$S$18=\"\",\"\",'S4'!$S$18)","v":""},{"$f":"IF('S4'!$T$18=\"\",\"\",'S4'!$T$18)","v":""},{"$f":"IF('S4'!$U$18=\"\",\"\",'S4'!$U$18)","v":""},{"$f":"IF('S4'!$V$18=\"\",\"\",'S4'!$V$18)","v":""},{"$f":"IF('S4'!$W$18=\"\",\"\",'S4'!$W$18)","v":""},{"$f":"IF('S4'!$X$18=\"\",\"\",'S4'!$X$18)","v":""},{"$f":"IF('S4'!$Y$18=\"\",\"\",'S4'!$Y$18)","v":""},{"$f":"IF('S4'!$Z$18=\"\",\"\",'S4'!$Z$18)","v":""}]
[null,{"$f":"IF('S4'!$Q$18=\"\",\"\",\"erreicht\")","v":""},null,null,{"$f":"IF(VLOOKUP(B62,'S4'!$B$23:$Z$57,16,FALSE)=\"\",\"\",VLOOKUP(B62,'S4'!$B$23:$Z$57,16,FALSE))","v":""},{"$f":"IF(VLOOKUP(B62,'S4'!$B$23:$Z$57,17,FALSE)=\"\",\"\",VLOOKUP(B62,'S4'!$B$23:$Z$57,17,FALSE))","v":""},{"$f":"IF(VLOOKUP(B62,'S4'!$B$23:$Z$57,18,FALSE)=\"\",\"\",VLOOKUP(B62,'S4'!$B$23:$Z$57,18,FALSE))","v":""},{"$f":"IF(VLOOKUP(B62,'S4'!$B$23:$Z$57,19,FALSE)=\"\",\"\",VLOOKUP(B62,'S4'!$B$23:$Z$57,19,FALSE))","v":""},{"$f":"IF(VLOOKUP(B62,'S4'!$B$23:$Z$57,20,FALSE)=\"\",\"\",VLOOKUP(B62,'S4'!$B$23:$Z$57,20,FALSE))","v":""},{"$f":"IF(VLOOKUP(B62,'S4'!$B$23:$Z$57,21,FALSE)=\"\",\"\",VLOOKUP(B62,'S4'!$B$23:$Z$57,21,FALSE))","v":""},{"$f":"IF(VLOOKUP(B62,'S4'!$B$23:$Z$57,22,FALSE)=\"\",\"\",VLOOKUP(B62,'S4'!$B$23:$Z$57,22,FALSE))","v":""},{"$f":"IF(VLOOKUP(B62,'S4'!$B$23:$Z$57,23,FALSE)=\"\",\"\",VLOOKUP(B62,'S4'!$B$23:$Z$57,23,FALSE))","v":""},{"$f":"IF(VLOOKUP(B62,'S4'!$B$23:$Z$57,24,FALSE)=\"\",\"\",VLOOKUP(B62,'S4'!$B$23:$Z$57,24,FALSE))","v":""},{"$f":"IF(VLOOKUP(B62,'S4'!$B$23:$Z$57,25,FALSE)=\"\",\"\",VLOOKUP(B62,'S4'!$B$23:$Z$57,25,FALSE))","v":""},null,"Note",null,null,null,null,{"$f":"IF('S4'!$Q$18=\"\",\"\",\"erreicht\")","v":""},null,null,{"$f":"IF(VLOOKUP(U62,'S4'!$B$23:$Z$57,16,FALSE)=\"\",\"\",VLOOKUP(U62,'S4'!$B$23:$Z$57,16,FALSE))","v":""},{"$f":"IF(VLOOKUP(U62,'S4'!$B$23:$Z$57,17,FALSE)=\"\",\"\",VLOOKUP(U62,'S4'!$B$23:$Z$57,17,FALSE))","v":""},{"$f":"IF(VLOOKUP(U62,'S4'!$B$23:$Z$57,18,FALSE)=\"\",\"\",VLOOKUP(U62,'S4'!$B$23:$Z$57,18,FALSE))","v":""},{"$f":"IF(VLOOKUP(U62,'S4'!$B$23:$Z$57,19,FALSE)=\"\",\"\",VLOOKUP(U62,'S4'!$B$23:$Z$57,19,FALSE))","v":""},{"$f":"IF(VLOOKUP(U62,'S4'!$B$23:$Z$57,20,FALSE)=\"\",\"\",VLOOKUP(U62,'S4'!$B$23:$Z$57,20,FALSE))","v":""},{"$f":"IF(VLOOKUP(U62,'S4'!$B$23:$Z$57,21,FALSE)=\"\",\"\",VLOOKUP(U62,'S4'!$B$23:$Z$57,21,FALSE))","v":""},{"$f":"IF(VLOOKUP(U62,'S4'!$B$23:$Z$57,22,FALSE)=\"\",\"\",VLOOKUP(U62,'S4'!$B$23:$Z$57,22,FALSE))","v":""},{"$f":"IF(VLOOKUP(U62,'S4'!$B$23:$Z$57,23,FALSE)=\"\",\"\",VLOOKUP(U62,'S4'!$B$23:$Z$57,23,FALSE))","v":""},{"$f":"IF(VLOOKUP(U62,'S4'!$B$23:$Z$57,24,FALSE)=\"\",\"\",VLOOKUP(U62,'S4'!$B$23:$Z$57,24,FALSE))","v":""},{"$f":"IF(VLOOKUP(U62,'S4'!$B$23:$Z$57,25,FALSE)=\"\",\"\",VLOOKUP(U62,'S4'!$B$23:$Z$57,25,FALSE))","v":""},null,"Note"]
[null,{"$f":"IF('S4'!$Q$18=\"\",\"\",\"von\")","v":""},null,null,{"$f":"IF('S4'!$Q$21=\"\",\"\",'S4'!$Q$21)","v":""},{"$f":"IF('S4'!$R$21=\"\",\"\",'S4'!$R$21)","v":""},{"$f":"IF('S4'!$S$21=\"\",\"\",'S4'!$S$21)","v":""},{"$f":"IF('S4'!$T$21=\"\",\"\",'S4'!$T$21)","v":""},{"$f":"IF('S4'!$U$21=\"\",\"\",'S4'!$U$21)","v":""},{"$f":"IF('S4'!$V$21=\"\",\"\",'S4'!$V$21)","v":""},{"$f":"IF('S4'!$W$21=\"\",\"\",'S4'!$W$21)","v":""},{"$f":"IF('S4'!$X$21=\"\",\"\",'S4'!$X$21)","v":""},{"$f":"IF('S4'!$Y$21=\"\",\"\",'S4'!$Y$21)","v":""},{"$f":"IF('S4'!$Z$21=\"\",\"\",'S4'!$Z$21)","v":""},null,{"$f":"IF(VLOOKUP(B62,'S4'!$B$23:$Z$57,2,FALSE)=\"\",\"\",CONCATENATE(VLOOKUP(B62,'S4'!$B$23:$Z$57,2,FALSE),\" \",VLOOKUP(B62,'S4'!$B$23:$Z$57,3,FALSE)))","v":"- "},null,null,null,null,{"$f":"IF('S4'!$Q$18=\"\",\"\",\"von\")","v":""},null,null,{"$f":"IF('S4'!$Q$21=\"\",\"\",'S4'!$Q$21)","v":""},{"$f":"IF('S4'!$R$21=\"\",\"\",'S4'!$R$21)","v":""},{"$f":"IF('S4'!$S$21=\"\",\"\",'S4'!$S$21)","v":""},{"$f":"IF('S4'!$T$21=\"\",\"\",'S4'!$T$21)","v":""},{"$f":"IF('S4'!$U$21=\"\",\"\",'S4'!$U$21)","v":""},{"$f":"IF('S4'!$V$21=\"\",\"\",'S4'!$V$21)","v":""},{"$f":"IF('S4'!$W$21=\"\",\"\",'S4'!$W$21)","v":""},{"$f":"IF('S4'!$X$21=\"\",\"\",'S4'!$X$21)","v":""},{"$f":"IF('S4'!$Y$21=\"\",\"\",'S4'!$Y$21)","v":""},{"$f":"IF('S4'!$Z$21=\"\",\"\",'S4'!$Z$21)","v":""},null,{"$f":"IF(VLOOKUP(U62,'S4'!$B$23:$Z$57,2,FALSE)=\"\",\"\",CONCATENATE(VLOOKUP(U62,'S4'!$B$23:$Z$57,2,FALSE),\" \",VLOOKUP(U62,'S4'!$B$23:$Z$57,3,FALSE)))","v":"- "}]
[]
[]
[null,{"$f":"'S4'!$B$35","v":""},null,null,null,null,null,null,null,null,null,null,null,null,null,null,null,null,null,null,{"$f":"'S4'!$B$36","v":""}]
[null,null,null,null,null,null,null,null,null,null,null,null,null,null,null,"Summe",null,null,null,null,null,null,null,null,null,null,null,null,null,null,null,null,null,null,"Summe"]
[null,"Aufgabe",null,null,{"$f":"IF('S4'!$G$18=\"\",\"\",'S4'!$G$18)","v":1},{"$f":"IF('S4'!$H$18=\"\",\"\",'S4'!$H$18)","v":2},{"$f":"IF('S4'!$I$18=\"\",\"\",'S4'!$I$18)","v":3},{"$f":"IF('S4'!$J$18=\"\",\"\",'S4'!$J$18)","v":""},{"$f":"IF('S4'!$K$18=\"\",\"\",'S4'!$K$18)","v":""},{"$f":"IF('S4'!$L$18=\"\",\"\",'S4'!$L$18)","v":""},{"$f":"IF('S4'!$M$18=\"\",\"\",'S4'!$M$18)","v":""},{"$f":"IF('S4'!$N$18=\"\",\"\",'S4'!$N$18)","v":""},{"$f":"IF('S4'!$O$18=\"\",\"\",'S4'!$O$18)","v":""},{"$f":"IF('S4'!$P$18=\"\",\"\",'S4'!$P$18)","v":""},null,{"$f":"IF(VLOOKUP(B73,'S4'!$B$23:$Z$57,5,FALSE)=\"\",\"\",VLOOKUP(B73,'S4'!$B$23:$Z$57,5,FALSE))","v":0},null,null,null,null,"Aufgabe",null,null,{"$f":"IF('S4'!$G$18=\"\",\"\",'S4'!$G$18)","v":1},{"$f":"IF('S4'!$H$18=\"\",\"\",'S4'!$H$18)","v":2},{"$f":"IF('S4'!$I$18=\"\",\"\",'S4'!$I$18)","v":3},{"$f":"IF('S4'!$J$18=\"\",\"\",'S4'!$J$18)","v":""},{"$f":"IF('S4'!$K$18=\"\",\"\",'S4'!$K$18)","v":""},{"$f":"IF('S4'!$L$18=\"\",\"\",'S4'!$L$18)","v":""},{"$f":"IF('S4'!$M$18=\"\",\"\",'S4'!$M$18)","v":""},{"$f":"IF('S4'!$N$18=\"\",\"\",'S4'!$N$18)","v":""},{"$f":"IF('S4'!$O$18=\"\",\"\",'S4'!$O$18)","v":""},{"$f":"IF('S4'!$P$18=\"\",\"\",'S4'!$P$18)","v":""},null,{"$f":"IF(VLOOKUP(U73,'S4'!$B$23:$Z$57,5,FALSE)=\"\",\"\",VLOOKUP(U73,'S4'!$B$23:$Z$57,5,FALSE))","v":0}]
[null,"erreicht",null,null,{"$f":"IF(VLOOKUP(B73,'S4'!$B$23:$Z$57,6,FALSE)=\"\",\"\",VLOOKUP(B73,'S4'!$B$23:$Z$57,6,FALSE))","v":"."},{"$f":"IF(VLOOKUP(B73,'S4'!$B$23:$Z$57,7,FALSE)=\"\",\"\",VLOOKUP(B73,'S4'!$B$23:$Z$57,7,FALSE))","v":""},{"$f":"IF(VLOOKUP(B73,'S4'!$B$23:$Z$57,8,FALSE)=\"\",\"\",VLOOKUP(B73,'S4'!$B$23:$Z$57,8,FALSE))","v":""},{"$f":"IF(VLOOKUP(B73,'S4'!$B$23:$Z$57,9,FALSE)=\"\",\"\",VLOOKUP(B73,'S4'!$B$23:$Z$57,9,FALSE))","v":""},{"$f":"IF(VLOOKUP(B73,'S4'!$B$23:$Z$57,10,FALSE)=\"\",\"\",VLOOKUP(B73,'S4'!$B$23:$Z$57,10,FALSE))","v":""},{"$f":"IF(VLOOKUP(B73,'S4'!$B$23:$Z$57,11,FALSE)=\"\",\"\",VLOOKUP(B73,'S4'!$B$23:$Z$57,11,FALSE))","v":""},{"$f":"IF(VLOOKUP(B73,'S4'!$B$23:$Z$57,12,FALSE)=\"\",\"\",VLOOKUP(B73,'S4'!$B$23:$Z$57,12,FALSE))","v":""},{"$f":"IF(VLOOKUP(B73,'S4'!$B$23:$Z$57,13,FALSE)=\"\",\"\",VLOOKUP(B73,'S4'!$B$23:$Z$57,13,FALSE))","v":""},{"$f":"IF(VLOOKUP(B73,'S4'!$B$23:$Z$57,14,FALSE)=\"\",\"\",VLOOKUP(B73,'S4'!$B$23:$Z$57,14,FALSE))","v":""},{"$f":"IF(VLOOKUP(B73,'S4'!$B$23:$Z$57,15,FALSE)=\"\",\"\",VLOOKUP(B73,'S4'!$B$23:$Z$57,15,FALSE))","v":""},null,null,null,null,null,null,"erreicht",null,null,{"$f":"IF(VLOOKUP(U73,'S4'!$B$23:$Z$57,6,FALSE)=\"\",\"\",VLOOKUP(U73,'S4'!$B$23:$Z$57,6,FALSE))","v":"."},{"$f":"IF(VLOOKUP(U73,'S4'!$B$23:$Z$57,7,FALSE)=\"\",\"\",VLOOKUP(U73,'S4'!$B$23:$Z$57,7,FALSE))","v":""},{"$f":"IF(VLOOKUP(U73,'S4'!$B$23:$Z$57,8,FALSE)=\"\",\"\",VLOOKUP(U73,'S4'!$B$23:$Z$57,8,FALSE))","v":""},{"$f":"IF(VLOOKUP(U73,'S4'!$B$23:$Z$57,9,FALSE)=\"\",\"\",VLOOKUP(U73,'S4'!$B$23:$Z$57,9,FALSE))","v":""},{"$f":"IF(VLOOKUP(U73,'S4'!$B$23:$Z$57,10,FALSE)=\"\",\"\",VLOOKUP(U73,'S4'!$B$23:$Z$57,10,FALSE))","v":""},{"$f":"IF(VLOOKUP(U73,'S4'!$B$23:$Z$57,11,FALSE)=\"\",\"\",VLOOKUP(U73,'S4'!$B$23:$Z$57,11,FALSE))","v":""},{"$f":"IF(VLOOKUP(U73,'S4'!$B$23:$Z$57,12,FALSE)=\"\",\"\",VLOOKUP(U73,'S4'!$B$23:$Z$57,12,FALSE))","v":""},{"$f":"IF(VLOOKUP(U73,'S4'!$B$23:$Z$57,13,FALSE)=\"\",\"\",VLOOKUP(U73,'S4'!$B$23:$Z$57,13,FALSE))","v":""},{"$f":"IF(VLOOKUP(U73,'S4'!$B$23:$Z$57,14,FALSE)=\"\",\"\",VLOOKUP(U73,'S4'!$B$23:$Z$57,14,FALSE))","v":""},{"$f":"IF(VLOOKUP(U73,'S4'!$B$23:$Z$57,15,FALSE)=\"\",\"\",VLOOKUP(U73,'S4'!$B$23:$Z$57,15,FALSE))","v":""}]
[null,"von",null,null,{"$f":"IF('S4'!$G$21=\"\",\"\",'S4'!$G$21)","v":""},{"$f":"IF('S4'!$H$21=\"\",\"\",'S4'!$H$21)","v":""},{"$f":"IF('S4'!$I$21=\"\",\"\",'S4'!$I$21)","v":""},{"$f":"IF('S4'!$J$21=\"\",\"\",'S4'!$J$21)","v":""},{"$f":"IF('S4'!$K$21=\"\",\"\",'S4'!$K$21)","v":""},{"$f":"IF('S4'!$L$21=\"\",\"\",'S4'!$L$21)","v":""},{"$f":"IF('S4'!$M$21=\"\",\"\",'S4'!$M$21)","v":""},{"$f":"IF('S4'!$N$21=\"\",\"\",'S4'!$N$21)","v":""},{"$f":"IF('S4'!$O$21=\"\",\"\",'S4'!$O$21)","v":""},{"$f":"IF('S4'!$P$21=\"\",\"\",'S4'!$P$21)","v":""},null,"von",null,null,null,null,"von",null,null,{"$f":"IF('S4'!$G$21=\"\",\"\",'S4'!$G$21)","v":""},{"$f":"IF('S4'!$H$21=\"\",\"\",'S4'!$H$21)","v":""},{"$f":"IF('S4'!$I$21=\"\",\"\",'S4'!$I$21)","v":""},{"$f":"IF('S4'!$J$21=\"\",\"\",'S4'!$J$21)","v":""},{"$f":"IF('S4'!$K$21=\"\",\"\",'S4'!$K$21)","v":""},{"$f":"IF('S4'!$L$21=\"\",\"\",'S4'!$L$21)","v":""},{"$f":"IF('S4'!$M$21=\"\",\"\",'S4'!$M$21)","v":""},{"$f":"IF('S4'!$N$21=\"\",\"\",'S4'!$N$21)","v":""},{"$f":"IF('S4'!$O$21=\"\",\"\",'S4'!$O$21)","v":""},{"$f":"IF('S4'!$P$21=\"\",\"\",'S4'!$P$21)","v":""},null,"von"]
[null,null,null,null,null,null,null,null,null,null,null,null,null,null,null,{"$f":"'S4'!$H$12","v":0},null,null,null,null,null,null,null,null,null,null,null,null,null,null,null,null,null,null,{"$f":"'S4'!$H$12","v":0}]
[null,{"$f":"IF('S4'!$Q$18=\"\",\"\",\"Aufgabe\")","v":""},null,null,{"$f":"IF('S4'!$Q$18=\"\",\"\",'S4'!$Q$18)","v":""},{"$f":"IF('S4'!$R$18=\"\",\"\",'S4'!$R$18)","v":""},{"$f":"IF('S4'!$S$18=\"\",\"\",'S4'!$S$18)","v":""},{"$f":"IF('S4'!$T$18=\"\",\"\",'S4'!$T$18)","v":""},{"$f":"IF('S4'!$U$18=\"\",\"\",'S4'!$U$18)","v":""},{"$f":"IF('S4'!$V$18=\"\",\"\",'S4'!$V$18)","v":""},{"$f":"IF('S4'!$W$18=\"\",\"\",'S4'!$W$18)","v":""},{"$f":"IF('S4'!$X$18=\"\",\"\",'S4'!$X$18)","v":""},{"$f":"IF('S4'!$Y$18=\"\",\"\",'S4'!$Y$18)","v":""},{"$f":"IF('S4'!$Z$18=\"\",\"\",'S4'!$Z$18)","v":""},null,null,null,null,null,null,{"$f":"IF('S4'!$Q$18=\"\",\"\",\"Aufgabe\")","v":""},null,null,{"$f":"IF('S4'!$Q$18=\"\",\"\",'S4'!$Q$18)","v":""},{"$f":"IF('S4'!$R$18=\"\",\"\",'S4'!$R$18)","v":""},{"$f":"IF('S4'!$S$18=\"\",\"\",'S4'!$S$18)","v":""},{"$f":"IF('S4'!$T$18=\"\",\"\",'S4'!$T$18)","v":""},{"$f":"IF('S4'!$U$18=\"\",\"\",'S4'!$U$18)","v":""},{"$f":"IF('S4'!$V$18=\"\",\"\",'S4'!$V$18)","v":""},{"$f":"IF('S4'!$W$18=\"\",\"\",'S4'!$W$18)","v":""},{"$f":"IF('S4'!$X$18=\"\",\"\",'S4'!$X$18)","v":""},{"$f":"IF('S4'!$Y$18=\"\",\"\",'S4'!$Y$18)","v":""},{"$f":"IF('S4'!$Z$18=\"\",\"\",'S4'!$Z$18)","v":""}]
[null,{"$f":"IF('S4'!$Q$18=\"\",\"\",\"erreicht\")","v":""},null,null,{"$f":"IF(VLOOKUP(B73,'S4'!$B$23:$Z$57,16,FALSE)=\"\",\"\",VLOOKUP(B73,'S4'!$B$23:$Z$57,16,FALSE))","v":""},{"$f":"IF(VLOOKUP(B73,'S4'!$B$23:$Z$57,17,FALSE)=\"\",\"\",VLOOKUP(B73,'S4'!$B$23:$Z$57,17,FALSE))","v":""},{"$f":"IF(VLOOKUP(B73,'S4'!$B$23:$Z$57,18,FALSE)=\"\",\"\",VLOOKUP(B73,'S4'!$B$23:$Z$57,18,FALSE))","v":""},{"$f":"IF(VLOOKUP(B73,'S4'!$B$23:$Z$57,19,FALSE)=\"\",\"\",VLOOKUP(B73,'S4'!$B$23:$Z$57,19,FALSE))","v":""},{"$f":"IF(VLOOKUP(B73,'S4'!$B$23:$Z$57,20,FALSE)=\"\",\"\",VLOOKUP(B73,'S4'!$B$23:$Z$57,20,FALSE))","v":""},{"$f":"IF(VLOOKUP(B73,'S4'!$B$23:$Z$57,21,FALSE)=\"\",\"\",VLOOKUP(B73,'S4'!$B$23:$Z$57,21,FALSE))","v":""},{"$f":"IF(VLOOKUP(B73,'S4'!$B$23:$Z$57,22,FALSE)=\"\",\"\",VLOOKUP(B73,'S4'!$B$23:$Z$57,22,FALSE))","v":""},{"$f":"IF(VLOOKUP(B73,'S4'!$B$23:$Z$57,23,FALSE)=\"\",\"\",VLOOKUP(B73,'S4'!$B$23:$Z$57,23,FALSE))","v":""},{"$f":"IF(VLOOKUP(B73,'S4'!$B$23:$Z$57,24,FALSE)=\"\",\"\",VLOOKUP(B73,'S4'!$B$23:$Z$57,24,FALSE))","v":""},{"$f":"IF(VLOOKUP(B73,'S4'!$B$23:$Z$57,25,FALSE)=\"\",\"\",VLOOKUP(B73,'S4'!$B$23:$Z$57,25,FALSE))","v":""},null,"Note",null,null,null,null,{"$f":"IF('S4'!$Q$18=\"\",\"\",\"erreicht\")","v":""},null,null,{"$f":"IF(VLOOKUP(U73,'S4'!$B$23:$Z$57,16,FALSE)=\"\",\"\",VLOOKUP(U73,'S4'!$B$23:$Z$57,16,FALSE))","v":""},{"$f":"IF(VLOOKUP(U73,'S4'!$B$23:$Z$57,17,FALSE)=\"\",\"\",VLOOKUP(U73,'S4'!$B$23:$Z$57,17,FALSE))","v":""},{"$f":"IF(VLOOKUP(U73,'S4'!$B$23:$Z$57,18,FALSE)=\"\",\"\",VLOOKUP(U73,'S4'!$B$23:$Z$57,18,FALSE))","v":""},{"$f":"IF(VLOOKUP(U73,'S4'!$B$23:$Z$57,19,FALSE)=\"\",\"\",VLOOKUP(U73,'S4'!$B$23:$Z$57,19,FALSE))","v":""},{"$f":"IF(VLOOKUP(U73,'S4'!$B$23:$Z$57,20,FALSE)=\"\",\"\",VLOOKUP(U73,'S4'!$B$23:$Z$57,20,FALSE))","v":""},{"$f":"IF(VLOOKUP(U73,'S4'!$B$23:$Z$57,21,FALSE)=\"\",\"\",VLOOKUP(U73,'S4'!$B$23:$Z$57,21,FALSE))","v":""},{"$f":"IF(VLOOKUP(U73,'S4'!$B$23:$Z$57,22,FALSE)=\"\",\"\",VLOOKUP(U73,'S4'!$B$23:$Z$57,22,FALSE))","v":""},{"$f":"IF(VLOOKUP(U73,'S4'!$B$23:$Z$57,23,FALSE)=\"\",\"\",VLOOKUP(U73,'S4'!$B$23:$Z$57,23,FALSE))","v":""},{"$f":"IF(VLOOKUP(U73,'S4'!$B$23:$Z$57,24,FALSE)=\"\",\"\",VLOOKUP(U73,'S4'!$B$23:$Z$57,24,FALSE))","v":""},{"$f":"IF(VLOOKUP(U73,'S4'!$B$23:$Z$57,25,FALSE)=\"\",\"\",VLOOKUP(U73,'S4'!$B$23:$Z$57,25,FALSE))","v":""},null,"Note"]
[null,{"$f":"IF('S4'!$Q$18=\"\",\"\",\"von\")","v":""},null,null,{"$f":"IF('S4'!$Q$21=\"\",\"\",'S4'!$Q$21)","v":""},{"$f":"IF('S4'!$R$21=\"\",\"\",'S4'!$R$21)","v":""},{"$f":"IF('S4'!$S$21=\"\",\"\",'S4'!$S$21)","v":""},{"$f":"IF('S4'!$T$21=\"\",\"\",'S4'!$T$21)","v":""},{"$f":"IF('S4'!$U$21=\"\",\"\",'S4'!$U$21)","v":""},{"$f":"IF('S4'!$V$21=\"\",\"\",'S4'!$V$21)","v":""},{"$f":"IF('S4'!$W$21=\"\",\"\",'S4'!$W$21)","v":""},{"$f":"IF('S4'!$X$21=\"\",\"\",'S4'!$X$21)","v":""},{"$f":"IF('S4'!$Y$21=\"\",\"\",'S4'!$Y$21)","v":""},{"$f":"IF('S4'!$Z$21=\"\",\"\",'S4'!$Z$21)","v":""},null,{"$f":"IF(VLOOKUP(B73,'S4'!$B$23:$Z$57,2,FALSE)=\"\",\"\",CONCATENATE(VLOOKUP(B73,'S4'!$B$23:$Z$57,2,FALSE),\" \",VLOOKUP(B73,'S4'!$B$23:$Z$57,3,FALSE)))","v":"- "},null,null,null,null,{"$f":"IF('S4'!$Q$18=\"\",\"\",\"von\")","v":""},null,null,{"$f":"IF('S4'!$Q$21=\"\",\"\",'S4'!$Q$21)","v":""},{"$f":"IF('S4'!$R$21=\"\",\"\",'S4'!$R$21)","v":""},{"$f":"IF('S4'!$S$21=\"\",\"\",'S4'!$S$21)","v":""},{"$f":"IF('S4'!$T$21=\"\",\"\",'S4'!$T$21)","v":""},{"$f":"IF('S4'!$U$21=\"\",\"\",'S4'!$U$21)","v":""},{"$f":"IF('S4'!$V$21=\"\",\"\",'S4'!$V$21)","v":""},{"$f":"IF('S4'!$W$21=\"\",\"\",'S4'!$W$21)","v":""},{"$f":"IF('S4'!$X$21=\"\",\"\",'S4'!$X$21)","v":""},{"$f":"IF('S4'!$Y$21=\"\",\"\",'S4'!$Y$21)","v":""},{"$f":"IF('S4'!$Z$21=\"\",\"\",'S4'!$Z$21)","v":""},null,{"$f":"IF(VLOOKUP(U73,'S4'!$B$23:$Z$57,2,FALSE)=\"\",\"\",CONCATENATE(VLOOKUP(U73,'S4'!$B$23:$Z$57,2,FALSE),\" \",VLOOKUP(U73,'S4'!$B$23:$Z$57,3,FALSE)))","v":"- "}]
[]
[]
[]
[null,{"$f":"'S4'!$B$37","v":""},null,null,null,null,null,null,null,null,null,null,null,null,null,null,null,null,null,null,{"$f":"'S4'!$B$38","v":""}]
[null,null,null,null,null,null,null,null,null,null,null,null,null,null,null,"Summe",null,null,null,null,null,null,null,null,null,null,null,null,null,null,null,null,null,null,"Summe"]
[null,"Aufgabe",null,null,{"$f":"IF('S4'!$G$18=\"\",\"\",'S4'!$G$18)","v":1},{"$f":"IF('S4'!$H$18=\"\",\"\",'S4'!$H$18)","v":2},{"$f":"IF('S4'!$I$18=\"\",\"\",'S4'!$I$18)","v":3},{"$f":"IF('S4'!$J$18=\"\",\"\",'S4'!$J$18)","v":""},{"$f":"IF('S4'!$K$18=\"\",\"\",'S4'!$K$18)","v":""},{"$f":"IF('S4'!$L$18=\"\",\"\",'S4'!$L$18)","v":""},{"$f":"IF('S4'!$M$18=\"\",\"\",'S4'!$M$18)","v":""},{"$f":"IF('S4'!$N$18=\"\",\"\",'S4'!$N$18)","v":""},{"$f":"IF('S4'!$O$18=\"\",\"\",'S4'!$O$18)","v":""},{"$f":"IF('S4'!$P$18=\"\",\"\",'S4'!$P$18)","v":""},null,{"$f":"IF(VLOOKUP(B85,'S4'!$B$23:$Z$57,5,FALSE)=\"\",\"\",VLOOKUP(B85,'S4'!$B$23:$Z$57,5,FALSE))","v":0},null,null,null,null,"Aufgabe",null,null,{"$f":"IF('S4'!$G$18=\"\",\"\",'S4'!$G$18)","v":1},{"$f":"IF('S4'!$H$18=\"\",\"\",'S4'!$H$18)","v":2},{"$f":"IF('S4'!$I$18=\"\",\"\",'S4'!$I$18)","v":3},{"$f":"IF('S4'!$J$18=\"\",\"\",'S4'!$J$18)","v":""},{"$f":"IF('S4'!$K$18=\"\",\"\",'S4'!$K$18)","v":""},{"$f":"IF('S4'!$L$18=\"\",\"\",'S4'!$L$18)","v":""},{"$f":"IF('S4'!$M$18=\"\",\"\",'S4'!$M$18)","v":""},{"$f":"IF('S4'!$N$18=\"\",\"\",'S4'!$N$18)","v":""},{"$f":"IF('S4'!$O$18=\"\",\"\",'S4'!$O$18)","v":""},{"$f":"IF('S4'!$P$18=\"\",\"\",'S4'!$P$18)","v":""},null,{"$f":"IF(VLOOKUP(U85,'S4'!$B$23:$Z$57,5,FALSE)=\"\",\"\",VLOOKUP(U85,'S4'!$B$23:$Z$57,5,FALSE))","v":0}]
[null,"erreicht",null,null,{"$f":"IF(VLOOKUP(B85,'S4'!$B$23:$Z$57,6,FALSE)=\"\",\"\",VLOOKUP(B85,'S4'!$B$23:$Z$57,6,FALSE))","v":"."},{"$f":"IF(VLOOKUP(B85,'S4'!$B$23:$Z$57,7,FALSE)=\"\",\"\",VLOOKUP(B85,'S4'!$B$23:$Z$57,7,FALSE))","v":""},{"$f":"IF(VLOOKUP(B85,'S4'!$B$23:$Z$57,8,FALSE)=\"\",\"\",VLOOKUP(B85,'S4'!$B$23:$Z$57,8,FALSE))","v":""},{"$f":"IF(VLOOKUP(B85,'S4'!$B$23:$Z$57,9,FALSE)=\"\",\"\",VLOOKUP(B85,'S4'!$B$23:$Z$57,9,FALSE))","v":""},{"$f":"IF(VLOOKUP(B85,'S4'!$B$23:$Z$57,10,FALSE)=\"\",\"\",VLOOKUP(B85,'S4'!$B$23:$Z$57,10,FALSE))","v":""},{"$f":"IF(VLOOKUP(B85,'S4'!$B$23:$Z$57,11,FALSE)=\"\",\"\",VLOOKUP(B85,'S4'!$B$23:$Z$57,11,FALSE))","v":""},{"$f":"IF(VLOOKUP(B85,'S4'!$B$23:$Z$57,12,FALSE)=\"\",\"\",VLOOKUP(B85,'S4'!$B$23:$Z$57,12,FALSE))","v":""},{"$f":"IF(VLOOKUP(B85,'S4'!$B$23:$Z$57,13,FALSE)=\"\",\"\",VLOOKUP(B85,'S4'!$B$23:$Z$57,13,FALSE))","v":""},{"$f":"IF(VLOOKUP(B85,'S4'!$B$23:$Z$57,14,FALSE)=\"\",\"\",VLOOKUP(B85,'S4'!$B$23:$Z$57,14,FALSE))","v":""},{"$f":"IF(VLOOKUP(B85,'S4'!$B$23:$Z$57,15,FALSE)=\"\",\"\",VLOOKUP(B85,'S4'!$B$23:$Z$57,15,FALSE))","v":""},null,null,null,null,null,null,"erreicht",null,null,{"$f":"IF(VLOOKUP(U85,'S4'!$B$23:$Z$57,6,FALSE)=\"\",\"\",VLOOKUP(U85,'S4'!$B$23:$Z$57,6,FALSE))","v":"."},{"$f":"IF(VLOOKUP(U85,'S4'!$B$23:$Z$57,7,FALSE)=\"\",\"\",VLOOKUP(U85,'S4'!$B$23:$Z$57,7,FALSE))","v":""},{"$f":"IF(VLOOKUP(U85,'S4'!$B$23:$Z$57,8,FALSE)=\"\",\"\",VLOOKUP(U85,'S4'!$B$23:$Z$57,8,FALSE))","v":""},{"$f":"IF(VLOOKUP(U85,'S4'!$B$23:$Z$57,9,FALSE)=\"\",\"\",VLOOKUP(U85,'S4'!$B$23:$Z$57,9,FALSE))","v":""},{"$f":"IF(VLOOKUP(U85,'S4'!$B$23:$Z$57,10,FALSE)=\"\",\"\",VLOOKUP(U85,'S4'!$B$23:$Z$57,10,FALSE))","v":""},{"$f":"IF(VLOOKUP(U85,'S4'!$B$23:$Z$57,11,FALSE)=\"\",\"\",VLOOKUP(U85,'S4'!$B$23:$Z$57,11,FALSE))","v":""},{"$f":"IF(VLOOKUP(U85,'S4'!$B$23:$Z$57,12,FALSE)=\"\",\"\",VLOOKUP(U85,'S4'!$B$23:$Z$57,12,FALSE))","v":""},{"$f":"IF(VLOOKUP(U85,'S4'!$B$23:$Z$57,13,FALSE)=\"\",\"\",VLOOKUP(U85,'S4'!$B$23:$Z$57,13,FALSE))","v":""},{"$f":"IF(VLOOKUP(U85,'S4'!$B$23:$Z$57,14,FALSE)=\"\",\"\",VLOOKUP(U85,'S4'!$B$23:$Z$57,14,FALSE))","v":""},{"$f":"IF(VLOOKUP(U85,'S4'!$B$23:$Z$57,15,FALSE)=\"\",\"\",VLOOKUP(U85,'S4'!$B$23:$Z$57,15,FALSE))","v":""}]
[null,"von",null,null,{"$f":"IF('S4'!$G$21=\"\",\"\",'S4'!$G$21)","v":""},{"$f":"IF('S4'!$H$21=\"\",\"\",'S4'!$H$21)","v":""},{"$f":"IF('S4'!$I$21=\"\",\"\",'S4'!$I$21)","v":""},{"$f":"IF('S4'!$J$21=\"\",\"\",'S4'!$J$21)","v":""},{"$f":"IF('S4'!$K$21=\"\",\"\",'S4'!$K$21)","v":""},{"$f":"IF('S4'!$L$21=\"\",\"\",'S4'!$L$21)","v":""},{"$f":"IF('S4'!$M$21=\"\",\"\",'S4'!$M$21)","v":""},{"$f":"IF('S4'!$N$21=\"\",\"\",'S4'!$N$21)","v":""},{"$f":"IF('S4'!$O$21=\"\",\"\",'S4'!$O$21)","v":""},{"$f":"IF('S4'!$P$21=\"\",\"\",'S4'!$P$21)","v":""},null,"von",null,null,null,null,"von",null,null,{"$f":"IF('S4'!$G$21=\"\",\"\",'S4'!$G$21)","v":""},{"$f":"IF('S4'!$H$21=\"\",\"\",'S4'!$H$21)","v":""},{"$f":"IF('S4'!$I$21=\"\",\"\",'S4'!$I$21)","v":""},{"$f":"IF('S4'!$J$21=\"\",\"\",'S4'!$J$21)","v":""},{"$f":"IF('S4'!$K$21=\"\",\"\",'S4'!$K$21)","v":""},{"$f":"IF('S4'!$L$21=\"\",\"\",'S4'!$L$21)","v":""},{"$f":"IF('S4'!$M$21=\"\",\"\",'S4'!$M$21)","v":""},{"$f":"IF('S4'!$N$21=\"\",\"\",'S4'!$N$21)","v":""},{"$f":"IF('S4'!$O$21=\"\",\"\",'S4'!$O$21)","v":""},{"$f":"IF('S4'!$P$21=\"\",\"\",'S4'!$P$21)","v":""},null,"von"]
[null,null,null,null,null,null,null,null,null,null,null,null,null,null,null,{"$f":"'S4'!$H$12","v":0},null,null,null,null,null,null,null,null,null,null,null,null,null,null,null,null,null,null,{"$f":"'S4'!$H$12","v":0}]
[null,{"$f":"IF('S4'!$Q$18=\"\",\"\",\"Aufgabe\")","v":""},null,null,{"$f":"IF('S4'!$Q$18=\"\",\"\",'S4'!$Q$18)","v":""},{"$f":"IF('S4'!$R$18=\"\",\"\",'S4'!$R$18)","v":""},{"$f":"IF('S4'!$S$18=\"\",\"\",'S4'!$S$18)","v":""},{"$f":"IF('S4'!$T$18=\"\",\"\",'S4'!$T$18)","v":""},{"$f":"IF('S4'!$U$18=\"\",\"\",'S4'!$U$18)","v":""},{"$f":"IF('S4'!$V$18=\"\",\"\",'S4'!$V$18)","v":""},{"$f":"IF('S4'!$W$18=\"\",\"\",'S4'!$W$18)","v":""},{"$f":"IF('S4'!$X$18=\"\",\"\",'S4'!$X$18)","v":""},{"$f":"IF('S4'!$Y$18=\"\",\"\",'S4'!$Y$18)","v":""},{"$f":"IF('S4'!$Z$18=\"\",\"\",'S4'!$Z$18)","v":""},null,null,null,null,null,null,{"$f":"IF('S4'!$Q$18=\"\",\"\",\"Aufgabe\")","v":""},null,null,{"$f":"IF('S4'!$Q$18=\"\",\"\",'S4'!$Q$18)","v":""},{"$f":"IF('S4'!$R$18=\"\",\"\",'S4'!$R$18)","v":""},{"$f":"IF('S4'!$S$18=\"\",\"\",'S4'!$S$18)","v":""},{"$f":"IF('S4'!$T$18=\"\",\"\",'S4'!$T$18)","v":""},{"$f":"IF('S4'!$U$18=\"\",\"\",'S4'!$U$18)","v":""},{"$f":"IF('S4'!$V$18=\"\",\"\",'S4'!$V$18)","v":""},{"$f":"IF('S4'!$W$18=\"\",\"\",'S4'!$W$18)","v":""},{"$f":"IF('S4'!$X$18=\"\",\"\",'S4'!$X$18)","v":""},{"$f":"IF('S4'!$Y$18=\"\",\"\",'S4'!$Y$18)","v":""},{"$f":"IF('S4'!$Z$18=\"\",\"\",'S4'!$Z$18)","v":""}]
[null,{"$f":"IF('S4'!$Q$18=\"\",\"\",\"erreicht\")","v":""},null,null,{"$f":"IF(VLOOKUP(B85,'S4'!$B$23:$Z$57,16,FALSE)=\"\",\"\",VLOOKUP(B85,'S4'!$B$23:$Z$57,16,FALSE))","v":""},{"$f":"IF(VLOOKUP(B85,'S4'!$B$23:$Z$57,17,FALSE)=\"\",\"\",VLOOKUP(B85,'S4'!$B$23:$Z$57,17,FALSE))","v":""},{"$f":"IF(VLOOKUP(B85,'S4'!$B$23:$Z$57,18,FALSE)=\"\",\"\",VLOOKUP(B85,'S4'!$B$23:$Z$57,18,FALSE))","v":""},{"$f":"IF(VLOOKUP(B85,'S4'!$B$23:$Z$57,19,FALSE)=\"\",\"\",VLOOKUP(B85,'S4'!$B$23:$Z$57,19,FALSE))","v":""},{"$f":"IF(VLOOKUP(B85,'S4'!$B$23:$Z$57,20,FALSE)=\"\",\"\",VLOOKUP(B85,'S4'!$B$23:$Z$57,20,FALSE))","v":""},{"$f":"IF(VLOOKUP(B85,'S4'!$B$23:$Z$57,21,FALSE)=\"\",\"\",VLOOKUP(B85,'S4'!$B$23:$Z$57,21,FALSE))","v":""},{"$f":"IF(VLOOKUP(B85,'S4'!$B$23:$Z$57,22,FALSE)=\"\",\"\",VLOOKUP(B85,'S4'!$B$23:$Z$57,22,FALSE))","v":""},{"$f":"IF(VLOOKUP(B85,'S4'!$B$23:$Z$57,23,FALSE)=\"\",\"\",VLOOKUP(B85,'S4'!$B$23:$Z$57,23,FALSE))","v":""},{"$f":"IF(VLOOKUP(B85,'S4'!$B$23:$Z$57,24,FALSE)=\"\",\"\",VLOOKUP(B85,'S4'!$B$23:$Z$57,24,FALSE))","v":""},{"$f":"IF(VLOOKUP(B85,'S4'!$B$23:$Z$57,25,FALSE)=\"\",\"\",VLOOKUP(B85,'S4'!$B$23:$Z$57,25,FALSE))","v":""},null,"Note",null,null,null,null,{"$f":"IF('S4'!$Q$18=\"\",\"\",\"erreicht\")","v":""},null,null,{"$f":"IF(VLOOKUP(U85,'S4'!$B$23:$Z$57,16,FALSE)=\"\",\"\",VLOOKUP(U85,'S4'!$B$23:$Z$57,16,FALSE))","v":""},{"$f":"IF(VLOOKUP(U85,'S4'!$B$23:$Z$57,17,FALSE)=\"\",\"\",VLOOKUP(U85,'S4'!$B$23:$Z$57,17,FALSE))","v":""},{"$f":"IF(VLOOKUP(U85,'S4'!$B$23:$Z$57,18,FALSE)=\"\",\"\",VLOOKUP(U85,'S4'!$B$23:$Z$57,18,FALSE))","v":""},{"$f":"IF(VLOOKUP(U85,'S4'!$B$23:$Z$57,19,FALSE)=\"\",\"\",VLOOKUP(U85,'S4'!$B$23:$Z$57,19,FALSE))","v":""},{"$f":"IF(VLOOKUP(U85,'S4'!$B$23:$Z$57,20,FALSE)=\"\",\"\",VLOOKUP(U85,'S4'!$B$23:$Z$57,20,FALSE))","v":""},{"$f":"IF(VLOOKUP(U85,'S4'!$B$23:$Z$57,21,FALSE)=\"\",\"\",VLOOKUP(U85,'S4'!$B$23:$Z$57,21,FALSE))","v":""},{"$f":"IF(VLOOKUP(U85,'S4'!$B$23:$Z$57,22,FALSE)=\"\",\"\",VLOOKUP(U85,'S4'!$B$23:$Z$57,22,FALSE))","v":""},{"$f":"IF(VLOOKUP(U85,'S4'!$B$23:$Z$57,23,FALSE)=\"\",\"\",VLOOKUP(U85,'S4'!$B$23:$Z$57,23,FALSE))","v":""},{"$f":"IF(VLOOKUP(U85,'S4'!$B$23:$Z$57,24,FALSE)=\"\",\"\",VLOOKUP(U85,'S4'!$B$23:$Z$57,24,FALSE))","v":""},{"$f":"IF(VLOOKUP(U85,'S4'!$B$23:$Z$57,25,FALSE)=\"\",\"\",VLOOKUP(U85,'S4'!$B$23:$Z$57,25,FALSE))","v":""},null,"Note"]
[null,{"$f":"IF('S4'!$Q$18=\"\",\"\",\"von\")","v":""},null,null,{"$f":"IF('S4'!$Q$21=\"\",\"\",'S4'!$Q$21)","v":""},{"$f":"IF('S4'!$R$21=\"\",\"\",'S4'!$R$21)","v":""},{"$f":"IF('S4'!$S$21=\"\",\"\",'S4'!$S$21)","v":""},{"$f":"IF('S4'!$T$21=\"\",\"\",'S4'!$T$21)","v":""},{"$f":"IF('S4'!$U$21=\"\",\"\",'S4'!$U$21)","v":""},{"$f":"IF('S4'!$V$21=\"\",\"\",'S4'!$V$21)","v":""},{"$f":"IF('S4'!$W$21=\"\",\"\",'S4'!$W$21)","v":""},{"$f":"IF('S4'!$X$21=\"\",\"\",'S4'!$X$21)","v":""},{"$f":"IF('S4'!$Y$21=\"\",\"\",'S4'!$Y$21)","v":""},{"$f":"IF('S4'!$Z$21=\"\",\"\",'S4'!$Z$21)","v":""},null,{"$f":"IF(VLOOKUP(B85,'S4'!$B$23:$Z$57,2,FALSE)=\"\",\"\",CONCATENATE(VLOOKUP(B85,'S4'!$B$23:$Z$57,2,FALSE),\" \",VLOOKUP(B85,'S4'!$B$23:$Z$57,3,FALSE)))","v":"- "},null,null,null,null,{"$f":"IF('S4'!$Q$18=\"\",\"\",\"von\")","v":""},null,null,{"$f":"IF('S4'!$Q$21=\"\",\"\",'S4'!$Q$21)","v":""},{"$f":"IF('S4'!$R$21=\"\",\"\",'S4'!$R$21)","v":""},{"$f":"IF('S4'!$S$21=\"\",\"\",'S4'!$S$21)","v":""},{"$f":"IF('S4'!$T$21=\"\",\"\",'S4'!$T$21)","v":""},{"$f":"IF('S4'!$U$21=\"\",\"\",'S4'!$U$21)","v":""},{"$f":"IF('S4'!$V$21=\"\",\"\",'S4'!$V$21)","v":""},{"$f":"IF('S4'!$W$21=\"\",\"\",'S4'!$W$21)","v":""},{"$f":"IF('S4'!$X$21=\"\",\"\",'S4'!$X$21)","v":""},{"$f":"IF('S4'!$Y$21=\"\",\"\",'S4'!$Y$21)","v":""},{"$f":"IF('S4'!$Z$21=\"\",\"\",'S4'!$Z$21)","v":""},null,{"$f":"IF(VLOOKUP(U85,'S4'!$B$23:$Z$57,2,FALSE)=\"\",\"\",CONCATENATE(VLOOKUP(U85,'S4'!$B$23:$Z$57,2,FALSE),\" \",VLOOKUP(U85,'S4'!$B$23:$Z$57,3,FALSE)))","v":"- "}]
[]
[]
[]
[null,{"$f":"'S4'!$B$39","v":""},null,null,null,null,null,null,null,null,null,null,null,null,null,null,null,null,null,null,{"$f":"'S4'!$B$40","v":""}]
[null,null,null,null,null,null,null,null,null,null,null,null,null,null,null,"Summe",null,null,null,null,null,null,null,null,null,null,null,null,null,null,null,null,null,null,"Summe"]
[null,"Aufgabe",null,null,{"$f":"IF('S4'!$G$18=\"\",\"\",'S4'!$G$18)","v":1},{"$f":"IF('S4'!$H$18=\"\",\"\",'S4'!$H$18)","v":2},{"$f":"IF('S4'!$I$18=\"\",\"\",'S4'!$I$18)","v":3},{"$f":"IF('S4'!$J$18=\"\",\"\",'S4'!$J$18)","v":""},{"$f":"IF('S4'!$K$18=\"\",\"\",'S4'!$K$18)","v":""},{"$f":"IF('S4'!$L$18=\"\",\"\",'S4'!$L$18)","v":""},{"$f":"IF('S4'!$M$18=\"\",\"\",'S4'!$M$18)","v":""},{"$f":"IF('S4'!$N$18=\"\",\"\",'S4'!$N$18)","v":""},{"$f":"IF('S4'!$O$18=\"\",\"\",'S4'!$O$18)","v":""},{"$f":"IF('S4'!$P$18=\"\",\"\",'S4'!$P$18)","v":""},null,{"$f":"IF(VLOOKUP(B97,'S4'!$B$23:$Z$57,5,FALSE)=\"\",\"\",VLOOKUP(B97,'S4'!$B$23:$Z$57,5,FALSE))","v":0},null,null,null,null,"Aufgabe",null,null,{"$f":"IF('S4'!$G$18=\"\",\"\",'S4'!$G$18)","v":1},{"$f":"IF('S4'!$H$18=\"\",\"\",'S4'!$H$18)","v":2},{"$f":"IF('S4'!$I$18=\"\",\"\",'S4'!$I$18)","v":3},{"$f":"IF('S4'!$J$18=\"\",\"\",'S4'!$J$18)","v":""},{"$f":"IF('S4'!$K$18=\"\",\"\",'S4'!$K$18)","v":""},{"$f":"IF('S4'!$L$18=\"\",\"\",'S4'!$L$18)","v":""},{"$f":"IF('S4'!$M$18=\"\",\"\",'S4'!$M$18)","v":""},{"$f":"IF('S4'!$N$18=\"\",\"\",'S4'!$N$18)","v":""},{"$f":"IF('S4'!$O$18=\"\",\"\",'S4'!$O$18)","v":""},{"$f":"IF('S4'!$P$18=\"\",\"\",'S4'!$P$18)","v":""},null,{"$f":"IF(VLOOKUP(U97,'S4'!$B$23:$Z$57,5,FALSE)=\"\",\"\",VLOOKUP(U97,'S4'!$B$23:$Z$57,5,FALSE))","v":0}]
[null,"erreicht",null,null,{"$f":"IF(VLOOKUP(B97,'S4'!$B$23:$Z$57,6,FALSE)=\"\",\"\",VLOOKUP(B97,'S4'!$B$23:$Z$57,6,FALSE))","v":"."},{"$f":"IF(VLOOKUP(B97,'S4'!$B$23:$Z$57,7,FALSE)=\"\",\"\",VLOOKUP(B97,'S4'!$B$23:$Z$57,7,FALSE))","v":""},{"$f":"IF(VLOOKUP(B97,'S4'!$B$23:$Z$57,8,FALSE)=\"\",\"\",VLOOKUP(B97,'S4'!$B$23:$Z$57,8,FALSE))","v":""},{"$f":"IF(VLOOKUP(B97,'S4'!$B$23:$Z$57,9,FALSE)=\"\",\"\",VLOOKUP(B97,'S4'!$B$23:$Z$57,9,FALSE))","v":""},{"$f":"IF(VLOOKUP(B97,'S4'!$B$23:$Z$57,10,FALSE)=\"\",\"\",VLOOKUP(B97,'S4'!$B$23:$Z$57,10,FALSE))","v":""},{"$f":"IF(VLOOKUP(B97,'S4'!$B$23:$Z$57,11,FALSE)=\"\",\"\",VLOOKUP(B97,'S4'!$B$23:$Z$57,11,FALSE))","v":""},{"$f":"IF(VLOOKUP(B97,'S4'!$B$23:$Z$57,12,FALSE)=\"\",\"\",VLOOKUP(B97,'S4'!$B$23:$Z$57,12,FALSE))","v":""},{"$f":"IF(VLOOKUP(B97,'S4'!$B$23:$Z$57,13,FALSE)=\"\",\"\",VLOOKUP(B97,'S4'!$B$23:$Z$57,13,FALSE))","v":""},{"$f":"IF(VLOOKUP(B97,'S4'!$B$23:$Z$57,14,FALSE)=\"\",\"\",VLOOKUP(B97,'S4'!$B$23:$Z$57,14,FALSE))","v":""},{"$f":"IF(VLOOKUP(B97,'S4'!$B$23:$Z$57,15,FALSE)=\"\",\"\",VLOOKUP(B97,'S4'!$B$23:$Z$57,15,FALSE))","v":""},null,null,null,null,null,null,"erreicht",null,null,{"$f":"IF(VLOOKUP(U97,'S4'!$B$23:$Z$57,6,FALSE)=\"\",\"\",VLOOKUP(U97,'S4'!$B$23:$Z$57,6,FALSE))","v":"."},{"$f":"IF(VLOOKUP(U97,'S4'!$B$23:$Z$57,7,FALSE)=\"\",\"\",VLOOKUP(U97,'S4'!$B$23:$Z$57,7,FALSE))","v":""},{"$f":"IF(VLOOKUP(U97,'S4'!$B$23:$Z$57,8,FALSE)=\"\",\"\",VLOOKUP(U97,'S4'!$B$23:$Z$57,8,FALSE))","v":""},{"$f":"IF(VLOOKUP(U97,'S4'!$B$23:$Z$57,9,FALSE)=\"\",\"\",VLOOKUP(U97,'S4'!$B$23:$Z$57,9,FALSE))","v":""},{"$f":"IF(VLOOKUP(U97,'S4'!$B$23:$Z$57,10,FALSE)=\"\",\"\",VLOOKUP(U97,'S4'!$B$23:$Z$57,10,FALSE))","v":""},{"$f":"IF(VLOOKUP(U97,'S4'!$B$23:$Z$57,11,FALSE)=\"\",\"\",VLOOKUP(U97,'S4'!$B$23:$Z$57,11,FALSE))","v":""},{"$f":"IF(VLOOKUP(U97,'S4'!$B$23:$Z$57,12,FALSE)=\"\",\"\",VLOOKUP(U97,'S4'!$B$23:$Z$57,12,FALSE))","v":""},{"$f":"IF(VLOOKUP(U97,'S4'!$B$23:$Z$57,13,FALSE)=\"\",\"\",VLOOKUP(U97,'S4'!$B$23:$Z$57,13,FALSE))","v":""},{"$f":"IF(VLOOKUP(U97,'S4'!$B$23:$Z$57,14,FALSE)=\"\",\"\",VLOOKUP(U97,'S4'!$B$23:$Z$57,14,FALSE))","v":""},{"$f":"IF(VLOOKUP(U97,'S4'!$B$23:$Z$57,15,FALSE)=\"\",\"\",VLOOKUP(U97,'S4'!$B$23:$Z$57,15,FALSE))","v":""}]
[null,"von",null,null,{"$f":"IF('S4'!$G$21=\"\",\"\",'S4'!$G$21)","v":""},{"$f":"IF('S4'!$H$21=\"\",\"\",'S4'!$H$21)","v":""},{"$f":"IF('S4'!$I$21=\"\",\"\",'S4'!$I$21)","v":""},{"$f":"IF('S4'!$J$21=\"\",\"\",'S4'!$J$21)","v":""},{"$f":"IF('S4'!$K$21=\"\",\"\",'S4'!$K$21)","v":""},{"$f":"IF('S4'!$L$21=\"\",\"\",'S4'!$L$21)","v":""},{"$f":"IF('S4'!$M$21=\"\",\"\",'S4'!$M$21)","v":""},{"$f":"IF('S4'!$N$21=\"\",\"\",'S4'!$N$21)","v":""},{"$f":"IF('S4'!$O$21=\"\",\"\",'S4'!$O$21)","v":""},{"$f":"IF('S4'!$P$21=\"\",\"\",'S4'!$P$21)","v":""},null,"von",null,null,null,null,"von",null,null,{"$f":"IF('S4'!$G$21=\"\",\"\",'S4'!$G$21)","v":""},{"$f":"IF('S4'!$H$21=\"\",\"\",'S4'!$H$21)","v":""},{"$f":"IF('S4'!$I$21=\"\",\"\",'S4'!$I$21)","v":""},{"$f":"IF('S4'!$J$21=\"\",\"\",'S4'!$J$21)","v":""},{"$f":"IF('S4'!$K$21=\"\",\"\",'S4'!$K$21)","v":""},{"$f":"IF('S4'!$L$21=\"\",\"\",'S4'!$L$21)","v":""},{"$f":"IF('S4'!$M$21=\"\",\"\",'S4'!$M$21)","v":""},{"$f":"IF('S4'!$N$21=\"\",\"\",'S4'!$N$21)","v":""},{"$f":"IF('S4'!$O$21=\"\",\"\",'S4'!$O$21)","v":""},{"$f":"IF('S4'!$P$21=\"\",\"\",'S4'!$P$21)","v":""},null,"von"]
[null,null,null,null,null,null,null,null,null,null,null,null,null,null,null,{"$f":"'S4'!$H$12","v":0},null,null,null,null,null,null,null,null,null,null,null,null,null,null,null,null,null,null,{"$f":"'S4'!$H$12","v":0}]
[null,{"$f":"IF('S4'!$Q$18=\"\",\"\",\"Aufgabe\")","v":""},null,null,{"$f":"IF('S4'!$Q$18=\"\",\"\",'S4'!$Q$18)","v":""},{"$f":"IF('S4'!$R$18=\"\",\"\",'S4'!$R$18)","v":""},{"$f":"IF('S4'!$S$18=\"\",\"\",'S4'!$S$18)","v":""},{"$f":"IF('S4'!$T$18=\"\",\"\",'S4'!$T$18)","v":""},{"$f":"IF('S4'!$U$18=\"\",\"\",'S4'!$U$18)","v":""},{"$f":"IF('S4'!$V$18=\"\",\"\",'S4'!$V$18)","v":""},{"$f":"IF('S4'!$W$18=\"\",\"\",'S4'!$W$18)","v":""},{"$f":"IF('S4'!$X$18=\"\",\"\",'S4'!$X$18)","v":""},{"$f":"IF('S4'!$Y$18=\"\",\"\",'S4'!$Y$18)","v":""},{"$f":"IF('S4'!$Z$18=\"\",\"\",'S4'!$Z$18)","v":""},null,null,null,null,null,null,{"$f":"IF('S4'!$Q$18=\"\",\"\",\"Aufgabe\")","v":""},null,null,{"$f":"IF('S4'!$Q$18=\"\",\"\",'S4'!$Q$18)","v":""},{"$f":"IF('S4'!$R$18=\"\",\"\",'S4'!$R$18)","v":""},{"$f":"IF('S4'!$S$18=\"\",\"\",'S4'!$S$18)","v":""},{"$f":"IF('S4'!$T$18=\"\",\"\",'S4'!$T$18)","v":""},{"$f":"IF('S4'!$U$18=\"\",\"\",'S4'!$U$18)","v":""},{"$f":"IF('S4'!$V$18=\"\",\"\",'S4'!$V$18)","v":""},{"$f":"IF('S4'!$W$18=\"\",\"\",'S4'!$W$18)","v":""},{"$f":"IF('S4'!$X$18=\"\",\"\",'S4'!$X$18)","v":""},{"$f":"IF('S4'!$Y$18=\"\",\"\",'S4'!$Y$18)","v":""},{"$f":"IF('S4'!$Z$18=\"\",\"\",'S4'!$Z$18)","v":""}]
[null,{"$f":"IF('S4'!$Q$18=\"\",\"\",\"erreicht\")","v":""},null,null,{"$f":"IF(VLOOKUP(B97,'S4'!$B$23:$Z$57,16,FALSE)=\"\",\"\",VLOOKUP(B97,'S4'!$B$23:$Z$57,16,FALSE))","v":""},{"$f":"IF(VLOOKUP(B97,'S4'!$B$23:$Z$57,17,FALSE)=\"\",\"\",VLOOKUP(B97,'S4'!$B$23:$Z$57,17,FALSE))","v":""},{"$f":"IF(VLOOKUP(B97,'S4'!$B$23:$Z$57,18,FALSE)=\"\",\"\",VLOOKUP(B97,'S4'!$B$23:$Z$57,18,FALSE))","v":""},{"$f":"IF(VLOOKUP(B97,'S4'!$B$23:$Z$57,19,FALSE)=\"\",\"\",VLOOKUP(B97,'S4'!$B$23:$Z$57,19,FALSE))","v":""},{"$f":"IF(VLOOKUP(B97,'S4'!$B$23:$Z$57,20,FALSE)=\"\",\"\",VLOOKUP(B97,'S4'!$B$23:$Z$57,20,FALSE))","v":""},{"$f":"IF(VLOOKUP(B97,'S4'!$B$23:$Z$57,21,FALSE)=\"\",\"\",VLOOKUP(B97,'S4'!$B$23:$Z$57,21,FALSE))","v":""},{"$f":"IF(VLOOKUP(B97,'S4'!$B$23:$Z$57,22,FALSE)=\"\",\"\",VLOOKUP(B97,'S4'!$B$23:$Z$57,22,FALSE))","v":""},{"$f":"IF(VLOOKUP(B97,'S4'!$B$23:$Z$57,23,FALSE)=\"\",\"\",VLOOKUP(B97,'S4'!$B$23:$Z$57,23,FALSE))","v":""},{"$f":"IF(VLOOKUP(B97,'S4'!$B$23:$Z$57,24,FALSE)=\"\",\"\",VLOOKUP(B97,'S4'!$B$23:$Z$57,24,FALSE))","v":""},{"$f":"IF(VLOOKUP(B97,'S4'!$B$23:$Z$57,25,FALSE)=\"\",\"\",VLOOKUP(B97,'S4'!$B$23:$Z$57,25,FALSE))","v":""},null,"Note",null,null,null,null,{"$f":"IF('S4'!$Q$18=\"\",\"\",\"erreicht\")","v":""},null,null,{"$f":"IF(VLOOKUP(U97,'S4'!$B$23:$Z$57,16,FALSE)=\"\",\"\",VLOOKUP(U97,'S4'!$B$23:$Z$57,16,FALSE))","v":""},{"$f":"IF(VLOOKUP(U97,'S4'!$B$23:$Z$57,17,FALSE)=\"\",\"\",VLOOKUP(U97,'S4'!$B$23:$Z$57,17,FALSE))","v":""},{"$f":"IF(VLOOKUP(U97,'S4'!$B$23:$Z$57,18,FALSE)=\"\",\"\",VLOOKUP(U97,'S4'!$B$23:$Z$57,18,FALSE))","v":""},{"$f":"IF(VLOOKUP(U97,'S4'!$B$23:$Z$57,19,FALSE)=\"\",\"\",VLOOKUP(U97,'S4'!$B$23:$Z$57,19,FALSE))","v":""},{"$f":"IF(VLOOKUP(U97,'S4'!$B$23:$Z$57,20,FALSE)=\"\",\"\",VLOOKUP(U97,'S4'!$B$23:$Z$57,20,FALSE))","v":""},{"$f":"IF(VLOOKUP(U97,'S4'!$B$23:$Z$57,21,FALSE)=\"\",\"\",VLOOKUP(U97,'S4'!$B$23:$Z$57,21,FALSE))","v":""},{"$f":"IF(VLOOKUP(U97,'S4'!$B$23:$Z$57,22,FALSE)=\"\",\"\",VLOOKUP(U97,'S4'!$B$23:$Z$57,22,FALSE))","v":""},{"$f":"IF(VLOOKUP(U97,'S4'!$B$23:$Z$57,23,FALSE)=\"\",\"\",VLOOKUP(U97,'S4'!$B$23:$Z$57,23,FALSE))","v":""},{"$f":"IF(VLOOKUP(U97,'S4'!$B$23:$Z$57,24,FALSE)=\"\",\"\",VLOOKUP(U97,'S4'!$B$23:$Z$57,24,FALSE))","v":""},{"$f":"IF(VLOOKUP(U97,'S4'!$B$23:$Z$57,25,FALSE)=\"\",\"\",VLOOKUP(U97,'S4'!$B$23:$Z$57,25,FALSE))","v":""},null,"Note"]
[null,{"$f":"IF('S4'!$Q$18=\"\",\"\",\"von\")","v":""},null,null,{"$f":"IF('S4'!$Q$21=\"\",\"\",'S4'!$Q$21)","v":""},{"$f":"IF('S4'!$R$21=\"\",\"\",'S4'!$R$21)","v":""},{"$f":"IF('S4'!$S$21=\"\",\"\",'S4'!$S$21)","v":""},{"$f":"IF('S4'!$T$21=\"\",\"\",'S4'!$T$21)","v":""},{"$f":"IF('S4'!$U$21=\"\",\"\",'S4'!$U$21)","v":""},{"$f":"IF('S4'!$V$21=\"\",\"\",'S4'!$V$21)","v":""},{"$f":"IF('S4'!$W$21=\"\",\"\",'S4'!$W$21)","v":""},{"$f":"IF('S4'!$X$21=\"\",\"\",'S4'!$X$21)","v":""},{"$f":"IF('S4'!$Y$21=\"\",\"\",'S4'!$Y$21)","v":""},{"$f":"IF('S4'!$Z$21=\"\",\"\",'S4'!$Z$21)","v":""},null,{"$f":"IF(VLOOKUP(B97,'S4'!$B$23:$Z$57,2,FALSE)=\"\",\"\",CONCATENATE(VLOOKUP(B97,'S4'!$B$23:$Z$57,2,FALSE),\" \",VLOOKUP(B97,'S4'!$B$23:$Z$57,3,FALSE)))","v":"- "},null,null,null,null,{"$f":"IF('S4'!$Q$18=\"\",\"\",\"von\")","v":""},null,null,{"$f":"IF('S4'!$Q$21=\"\",\"\",'S4'!$Q$21)","v":""},{"$f":"IF('S4'!$R$21=\"\",\"\",'S4'!$R$21)","v":""},{"$f":"IF('S4'!$S$21=\"\",\"\",'S4'!$S$21)","v":""},{"$f":"IF('S4'!$T$21=\"\",\"\",'S4'!$T$21)","v":""},{"$f":"IF('S4'!$U$21=\"\",\"\",'S4'!$U$21)","v":""},{"$f":"IF('S4'!$V$21=\"\",\"\",'S4'!$V$21)","v":""},{"$f":"IF('S4'!$W$21=\"\",\"\",'S4'!$W$21)","v":""},{"$f":"IF('S4'!$X$21=\"\",\"\",'S4'!$X$21)","v":""},{"$f":"IF('S4'!$Y$21=\"\",\"\",'S4'!$Y$21)","v":""},{"$f":"IF('S4'!$Z$21=\"\",\"\",'S4'!$Z$21)","v":""},null,{"$f":"IF(VLOOKUP(U97,'S4'!$B$23:$Z$57,2,FALSE)=\"\",\"\",CONCATENATE(VLOOKUP(U97,'S4'!$B$23:$Z$57,2,FALSE),\" \",VLOOKUP(U97,'S4'!$B$23:$Z$57,3,FALSE)))","v":"- "}]
[]
[]
[]
[null,{"$f":"'S4'!$B$41","v":""},null,null,null,null,null,null,null,null,null,null,null,null,null,null,null,null,null,null,{"$f":"'S4'!$B$42","v":""}]
[null,null,null,null,null,null,null,null,null,null,null,null,null,null,null,"Summe",null,null,null,null,null,null,null,null,null,null,null,null,null,null,null,null,null,null,"Summe"]
[null,"Aufgabe",null,null,{"$f":"IF('S4'!$G$18=\"\",\"\",'S4'!$G$18)","v":1},{"$f":"IF('S4'!$H$18=\"\",\"\",'S4'!$H$18)","v":2},{"$f":"IF('S4'!$I$18=\"\",\"\",'S4'!$I$18)","v":3},{"$f":"IF('S4'!$J$18=\"\",\"\",'S4'!$J$18)","v":""},{"$f":"IF('S4'!$K$18=\"\",\"\",'S4'!$K$18)","v":""},{"$f":"IF('S4'!$L$18=\"\",\"\",'S4'!$L$18)","v":""},{"$f":"IF('S4'!$M$18=\"\",\"\",'S4'!$M$18)","v":""},{"$f":"IF('S4'!$N$18=\"\",\"\",'S4'!$N$18)","v":""},{"$f":"IF('S4'!$O$18=\"\",\"\",'S4'!$O$18)","v":""},{"$f":"IF('S4'!$P$18=\"\",\"\",'S4'!$P$18)","v":""},null,{"$f":"IF(VLOOKUP(B109,'S4'!$B$23:$Z$57,5,FALSE)=\"\",\"\",VLOOKUP(B109,'S4'!$B$23:$Z$57,5,FALSE))","v":0},null,null,null,null,"Aufgabe",null,null,{"$f":"IF('S4'!$G$18=\"\",\"\",'S4'!$G$18)","v":1},{"$f":"IF('S4'!$H$18=\"\",\"\",'S4'!$H$18)","v":2},{"$f":"IF('S4'!$I$18=\"\",\"\",'S4'!$I$18)","v":3},{"$f":"IF('S4'!$J$18=\"\",\"\",'S4'!$J$18)","v":""},{"$f":"IF('S4'!$K$18=\"\",\"\",'S4'!$K$18)","v":""},{"$f":"IF('S4'!$L$18=\"\",\"\",'S4'!$L$18)","v":""},{"$f":"IF('S4'!$M$18=\"\",\"\",'S4'!$M$18)","v":""},{"$f":"IF('S4'!$N$18=\"\",\"\",'S4'!$N$18)","v":""},{"$f":"IF('S4'!$O$18=\"\",\"\",'S4'!$O$18)","v":""},{"$f":"IF('S4'!$P$18=\"\",\"\",'S4'!$P$18)","v":""},null,{"$f":"IF(VLOOKUP(U109,'S4'!$B$23:$Z$57,5,FALSE)=\"\",\"\",VLOOKUP(U109,'S4'!$B$23:$Z$57,5,FALSE))","v":0}]
[null,"erreicht",null,null,{"$f":"IF(VLOOKUP(B109,'S4'!$B$23:$Z$57,6,FALSE)=\"\",\"\",VLOOKUP(B109,'S4'!$B$23:$Z$57,6,FALSE))","v":"."},{"$f":"IF(VLOOKUP(B109,'S4'!$B$23:$Z$57,7,FALSE)=\"\",\"\",VLOOKUP(B109,'S4'!$B$23:$Z$57,7,FALSE))","v":""},{"$f":"IF(VLOOKUP(B109,'S4'!$B$23:$Z$57,8,FALSE)=\"\",\"\",VLOOKUP(B109,'S4'!$B$23:$Z$57,8,FALSE))","v":""},{"$f":"IF(VLOOKUP(B109,'S4'!$B$23:$Z$57,9,FALSE)=\"\",\"\",VLOOKUP(B109,'S4'!$B$23:$Z$57,9,FALSE))","v":""},{"$f":"IF(VLOOKUP(B109,'S4'!$B$23:$Z$57,10,FALSE)=\"\",\"\",VLOOKUP(B109,'S4'!$B$23:$Z$57,10,FALSE))","v":""},{"$f":"IF(VLOOKUP(B109,'S4'!$B$23:$Z$57,11,FALSE)=\"\",\"\",VLOOKUP(B109,'S4'!$B$23:$Z$57,11,FALSE))","v":""},{"$f":"IF(VLOOKUP(B109,'S4'!$B$23:$Z$57,12,FALSE)=\"\",\"\",VLOOKUP(B109,'S4'!$B$23:$Z$57,12,FALSE))","v":""},{"$f":"IF(VLOOKUP(B109,'S4'!$B$23:$Z$57,13,FALSE)=\"\",\"\",VLOOKUP(B109,'S4'!$B$23:$Z$57,13,FALSE))","v":""},{"$f":"IF(VLOOKUP(B109,'S4'!$B$23:$Z$57,14,FALSE)=\"\",\"\",VLOOKUP(B109,'S4'!$B$23:$Z$57,14,FALSE))","v":""},{"$f":"IF(VLOOKUP(B109,'S4'!$B$23:$Z$57,15,FALSE)=\"\",\"\",VLOOKUP(B109,'S4'!$B$23:$Z$57,15,FALSE))","v":""},null,null,null,null,null,null,"erreicht",null,null,{"$f":"IF(VLOOKUP(U109,'S4'!$B$23:$Z$57,6,FALSE)=\"\",\"\",VLOOKUP(U109,'S4'!$B$23:$Z$57,6,FALSE))","v":"."},{"$f":"IF(VLOOKUP(U109,'S4'!$B$23:$Z$57,7,FALSE)=\"\",\"\",VLOOKUP(U109,'S4'!$B$23:$Z$57,7,FALSE))","v":""},{"$f":"IF(VLOOKUP(U109,'S4'!$B$23:$Z$57,8,FALSE)=\"\",\"\",VLOOKUP(U109,'S4'!$B$23:$Z$57,8,FALSE))","v":""},{"$f":"IF(VLOOKUP(U109,'S4'!$B$23:$Z$57,9,FALSE)=\"\",\"\",VLOOKUP(U109,'S4'!$B$23:$Z$57,9,FALSE))","v":""},{"$f":"IF(VLOOKUP(U109,'S4'!$B$23:$Z$57,10,FALSE)=\"\",\"\",VLOOKUP(U109,'S4'!$B$23:$Z$57,10,FALSE))","v":""},{"$f":"IF(VLOOKUP(U109,'S4'!$B$23:$Z$57,11,FALSE)=\"\",\"\",VLOOKUP(U109,'S4'!$B$23:$Z$57,11,FALSE))","v":""},{"$f":"IF(VLOOKUP(U109,'S4'!$B$23:$Z$57,12,FALSE)=\"\",\"\",VLOOKUP(U109,'S4'!$B$23:$Z$57,12,FALSE))","v":""},{"$f":"IF(VLOOKUP(U109,'S4'!$B$23:$Z$57,13,FALSE)=\"\",\"\",VLOOKUP(U109,'S4'!$B$23:$Z$57,13,FALSE))","v":""},{"$f":"IF(VLOOKUP(U109,'S4'!$B$23:$Z$57,14,FALSE)=\"\",\"\",VLOOKUP(U109,'S4'!$B$23:$Z$57,14,FALSE))","v":""},{"$f":"IF(VLOOKUP(U109,'S4'!$B$23:$Z$57,15,FALSE)=\"\",\"\",VLOOKUP(U109,'S4'!$B$23:$Z$57,15,FALSE))","v":""}]
[null,"von",null,null,{"$f":"IF('S4'!$G$21=\"\",\"\",'S4'!$G$21)","v":""},{"$f":"IF('S4'!$H$21=\"\",\"\",'S4'!$H$21)","v":""},{"$f":"IF('S4'!$I$21=\"\",\"\",'S4'!$I$21)","v":""},{"$f":"IF('S4'!$J$21=\"\",\"\",'S4'!$J$21)","v":""},{"$f":"IF('S4'!$K$21=\"\",\"\",'S4'!$K$21)","v":""},{"$f":"IF('S4'!$L$21=\"\",\"\",'S4'!$L$21)","v":""},{"$f":"IF('S4'!$M$21=\"\",\"\",'S4'!$M$21)","v":""},{"$f":"IF('S4'!$N$21=\"\",\"\",'S4'!$N$21)","v":""},{"$f":"IF('S4'!$O$21=\"\",\"\",'S4'!$O$21)","v":""},{"$f":"IF('S4'!$P$21=\"\",\"\",'S4'!$P$21)","v":""},null,"von",null,null,null,null,"von",null,null,{"$f":"IF('S4'!$G$21=\"\",\"\",'S4'!$G$21)","v":""},{"$f":"IF('S4'!$H$21=\"\",\"\",'S4'!$H$21)","v":""},{"$f":"IF('S4'!$I$21=\"\",\"\",'S4'!$I$21)","v":""},{"$f":"IF('S4'!$J$21=\"\",\"\",'S4'!$J$21)","v":""},{"$f":"IF('S4'!$K$21=\"\",\"\",'S4'!$K$21)","v":""},{"$f":"IF('S4'!$L$21=\"\",\"\",'S4'!$L$21)","v":""},{"$f":"IF('S4'!$M$21=\"\",\"\",'S4'!$M$21)","v":""},{"$f":"IF('S4'!$N$21=\"\",\"\",'S4'!$N$21)","v":""},{"$f":"IF('S4'!$O$21=\"\",\"\",'S4'!$O$21)","v":""},{"$f":"IF('S4'!$P$21=\"\",\"\",'S4'!$P$21)","v":""},null,"von"]
[null,null,null,null,null,null,null,null,null,null,null,null,null,null,null,{"$f":"'S4'!$H$12","v":0},null,null,null,null,null,null,null,null,null,null,null,null,null,null,null,null,null,null,{"$f":"'S4'!$H$12","v":0}]
[null,{"$f":"IF('S4'!$Q$18=\"\",\"\",\"Aufgabe\")","v":""},null,null,{"$f":"IF('S4'!$Q$18=\"\",\"\",'S4'!$Q$18)","v":""},{"$f":"IF('S4'!$R$18=\"\",\"\",'S4'!$R$18)","v":""},{"$f":"IF('S4'!$S$18=\"\",\"\",'S4'!$S$18)","v":""},{"$f":"IF('S4'!$T$18=\"\",\"\",'S4'!$T$18)","v":""},{"$f":"IF('S4'!$U$18=\"\",\"\",'S4'!$U$18)","v":""},{"$f":"IF('S4'!$V$18=\"\",\"\",'S4'!$V$18)","v":""},{"$f":"IF('S4'!$W$18=\"\",\"\",'S4'!$W$18)","v":""},{"$f":"IF('S4'!$X$18=\"\",\"\",'S4'!$X$18)","v":""},{"$f":"IF('S4'!$Y$18=\"\",\"\",'S4'!$Y$18)","v":""},{"$f":"IF('S4'!$Z$18=\"\",\"\",'S4'!$Z$18)","v":""},null,null,null,null,null,null,{"$f":"IF('S4'!$Q$18=\"\",\"\",\"Aufgabe\")","v":""},null,null,{"$f":"IF('S4'!$Q$18=\"\",\"\",'S4'!$Q$18)","v":""},{"$f":"IF('S4'!$R$18=\"\",\"\",'S4'!$R$18)","v":""},{"$f":"IF('S4'!$S$18=\"\",\"\",'S4'!$S$18)","v":""},{"$f":"IF('S4'!$T$18=\"\",\"\",'S4'!$T$18)","v":""},{"$f":"IF('S4'!$U$18=\"\",\"\",'S4'!$U$18)","v":""},{"$f":"IF('S4'!$V$18=\"\",\"\",'S4'!$V$18)","v":""},{"$f":"IF('S4'!$W$18=\"\",\"\",'S4'!$W$18)","v":""},{"$f":"IF('S4'!$X$18=\"\",\"\",'S4'!$X$18)","v":""},{"$f":"IF('S4'!$Y$18=\"\",\"\",'S4'!$Y$18)","v":""},{"$f":"IF('S4'!$Z$18=\"\",\"\",'S4'!$Z$18)","v":""}]
[null,{"$f":"IF('S4'!$Q$18=\"\",\"\",\"erreicht\")","v":""},null,null,{"$f":"IF(VLOOKUP(B109,'S4'!$B$23:$Z$57,16,FALSE)=\"\",\"\",VLOOKUP(B109,'S4'!$B$23:$Z$57,16,FALSE))","v":""},{"$f":"IF(VLOOKUP(B109,'S4'!$B$23:$Z$57,17,FALSE)=\"\",\"\",VLOOKUP(B109,'S4'!$B$23:$Z$57,17,FALSE))","v":""},{"$f":"IF(VLOOKUP(B109,'S4'!$B$23:$Z$57,18,FALSE)=\"\",\"\",VLOOKUP(B109,'S4'!$B$23:$Z$57,18,FALSE))","v":""},{"$f":"IF(VLOOKUP(B109,'S4'!$B$23:$Z$57,19,FALSE)=\"\",\"\",VLOOKUP(B109,'S4'!$B$23:$Z$57,19,FALSE))","v":""},{"$f":"IF(VLOOKUP(B109,'S4'!$B$23:$Z$57,20,FALSE)=\"\",\"\",VLOOKUP(B109,'S4'!$B$23:$Z$57,20,FALSE))","v":""},{"$f":"IF(VLOOKUP(B109,'S4'!$B$23:$Z$57,21,FALSE)=\"\",\"\",VLOOKUP(B109,'S4'!$B$23:$Z$57,21,FALSE))","v":""},{"$f":"IF(VLOOKUP(B109,'S4'!$B$23:$Z$57,22,FALSE)=\"\",\"\",VLOOKUP(B109,'S4'!$B$23:$Z$57,22,FALSE))","v":""},{"$f":"IF(VLOOKUP(B109,'S4'!$B$23:$Z$57,23,FALSE)=\"\",\"\",VLOOKUP(B109,'S4'!$B$23:$Z$57,23,FALSE))","v":""},{"$f":"IF(VLOOKUP(B109,'S4'!$B$23:$Z$57,24,FALSE)=\"\",\"\",VLOOKUP(B109,'S4'!$B$23:$Z$57,24,FALSE))","v":""},{"$f":"IF(VLOOKUP(B109,'S4'!$B$23:$Z$57,25,FALSE)=\"\",\"\",VLOOKUP(B109,'S4'!$B$23:$Z$57,25,FALSE))","v":""},null,"Note",null,null,null,null,{"$f":"IF('S4'!$Q$18=\"\",\"\",\"erreicht\")","v":""},null,null,{"$f":"IF(VLOOKUP(U109,'S4'!$B$23:$Z$57,16,FALSE)=\"\",\"\",VLOOKUP(U109,'S4'!$B$23:$Z$57,16,FALSE))","v":""},{"$f":"IF(VLOOKUP(U109,'S4'!$B$23:$Z$57,17,FALSE)=\"\",\"\",VLOOKUP(U109,'S4'!$B$23:$Z$57,17,FALSE))","v":""},{"$f":"IF(VLOOKUP(U109,'S4'!$B$23:$Z$57,18,FALSE)=\"\",\"\",VLOOKUP(U109,'S4'!$B$23:$Z$57,18,FALSE))","v":""},{"$f":"IF(VLOOKUP(U109,'S4'!$B$23:$Z$57,19,FALSE)=\"\",\"\",VLOOKUP(U109,'S4'!$B$23:$Z$57,19,FALSE))","v":""},{"$f":"IF(VLOOKUP(U109,'S4'!$B$23:$Z$57,20,FALSE)=\"\",\"\",VLOOKUP(U109,'S4'!$B$23:$Z$57,20,FALSE))","v":""},{"$f":"IF(VLOOKUP(U109,'S4'!$B$23:$Z$57,21,FALSE)=\"\",\"\",VLOOKUP(U109,'S4'!$B$23:$Z$57,21,FALSE))","v":""},{"$f":"IF(VLOOKUP(U109,'S4'!$B$23:$Z$57,22,FALSE)=\"\",\"\",VLOOKUP(U109,'S4'!$B$23:$Z$57,22,FALSE))","v":""},{"$f":"IF(VLOOKUP(U109,'S4'!$B$23:$Z$57,23,FALSE)=\"\",\"\",VLOOKUP(U109,'S4'!$B$23:$Z$57,23,FALSE))","v":""},{"$f":"IF(VLOOKUP(U109,'S4'!$B$23:$Z$57,24,FALSE)=\"\",\"\",VLOOKUP(U109,'S4'!$B$23:$Z$57,24,FALSE))","v":""},{"$f":"IF(VLOOKUP(U109,'S4'!$B$23:$Z$57,25,FALSE)=\"\",\"\",VLOOKUP(U109,'S4'!$B$23:$Z$57,25,FALSE))","v":""},null,"Note"]
[null,{"$f":"IF('S4'!$Q$18=\"\",\"\",\"von\")","v":""},null,null,{"$f":"IF('S4'!$Q$21=\"\",\"\",'S4'!$Q$21)","v":""},{"$f":"IF('S4'!$R$21=\"\",\"\",'S4'!$R$21)","v":""},{"$f":"IF('S4'!$S$21=\"\",\"\",'S4'!$S$21)","v":""},{"$f":"IF('S4'!$T$21=\"\",\"\",'S4'!$T$21)","v":""},{"$f":"IF('S4'!$U$21=\"\",\"\",'S4'!$U$21)","v":""},{"$f":"IF('S4'!$V$21=\"\",\"\",'S4'!$V$21)","v":""},{"$f":"IF('S4'!$W$21=\"\",\"\",'S4'!$W$21)","v":""},{"$f":"IF('S4'!$X$21=\"\",\"\",'S4'!$X$21)","v":""},{"$f":"IF('S4'!$Y$21=\"\",\"\",'S4'!$Y$21)","v":""},{"$f":"IF('S4'!$Z$21=\"\",\"\",'S4'!$Z$21)","v":""},null,{"$f":"IF(VLOOKUP(B109,'S4'!$B$23:$Z$57,2,FALSE)=\"\",\"\",CONCATENATE(VLOOKUP(B109,'S4'!$B$23:$Z$57,2,FALSE),\" \",VLOOKUP(B109,'S4'!$B$23:$Z$57,3,FALSE)))","v":"- "},null,null,null,null,{"$f":"IF('S4'!$Q$18=\"\",\"\",\"von\")","v":""},null,null,{"$f":"IF('S4'!$Q$21=\"\",\"\",'S4'!$Q$21)","v":""},{"$f":"IF('S4'!$R$21=\"\",\"\",'S4'!$R$21)","v":""},{"$f":"IF('S4'!$S$21=\"\",\"\",'S4'!$S$21)","v":""},{"$f":"IF('S4'!$T$21=\"\",\"\",'S4'!$T$21)","v":""},{"$f":"IF('S4'!$U$21=\"\",\"\",'S4'!$U$21)","v":""},{"$f":"IF('S4'!$V$21=\"\",\"\",'S4'!$V$21)","v":""},{"$f":"IF('S4'!$W$21=\"\",\"\",'S4'!$W$21)","v":""},{"$f":"IF('S4'!$X$21=\"\",\"\",'S4'!$X$21)","v":""},{"$f":"IF('S4'!$Y$21=\"\",\"\",'S4'!$Y$21)","v":""},{"$f":"IF('S4'!$Z$21=\"\",\"\",'S4'!$Z$21)","v":""},null,{"$f":"IF(VLOOKUP(U109,'S4'!$B$23:$Z$57,2,FALSE)=\"\",\"\",CONCATENATE(VLOOKUP(U109,'S4'!$B$23:$Z$57,2,FALSE),\" \",VLOOKUP(U109,'S4'!$B$23:$Z$57,3,FALSE)))","v":"- "}]
[]
[]
[]
[null,{"$f":"'S4'!$B$43","v":""},null,null,null,null,null,null,null,null,null,null,null,null,null,null,null,null,null,null,{"$f":"'S4'!$B$44","v":""}]
[null,null,null,null,null,null,null,null,null,null,null,null,null,null,null,"Summe",null,null,null,null,null,null,null,null,null,null,null,null,null,null,null,null,null,null,"Summe"]
[null,"Aufgabe",null,null,{"$f":"IF('S4'!$G$18=\"\",\"\",'S4'!$G$18)","v":1},{"$f":"IF('S4'!$H$18=\"\",\"\",'S4'!$H$18)","v":2},{"$f":"IF('S4'!$I$18=\"\",\"\",'S4'!$I$18)","v":3},{"$f":"IF('S4'!$J$18=\"\",\"\",'S4'!$J$18)","v":""},{"$f":"IF('S4'!$K$18=\"\",\"\",'S4'!$K$18)","v":""},{"$f":"IF('S4'!$L$18=\"\",\"\",'S4'!$L$18)","v":""},{"$f":"IF('S4'!$M$18=\"\",\"\",'S4'!$M$18)","v":""},{"$f":"IF('S4'!$N$18=\"\",\"\",'S4'!$N$18)","v":""},{"$f":"IF('S4'!$O$18=\"\",\"\",'S4'!$O$18)","v":""},{"$f":"IF('S4'!$P$18=\"\",\"\",'S4'!$P$18)","v":""},null,{"$f":"IF(VLOOKUP(B121,'S4'!$B$23:$Z$57,5,FALSE)=\"\",\"\",VLOOKUP(B121,'S4'!$B$23:$Z$57,5,FALSE))","v":0},null,null,null,null,"Aufgabe",null,null,{"$f":"IF('S4'!$G$18=\"\",\"\",'S4'!$G$18)","v":1},{"$f":"IF('S4'!$H$18=\"\",\"\",'S4'!$H$18)","v":2},{"$f":"IF('S4'!$I$18=\"\",\"\",'S4'!$I$18)","v":3},{"$f":"IF('S4'!$J$18=\"\",\"\",'S4'!$J$18)","v":""},{"$f":"IF('S4'!$K$18=\"\",\"\",'S4'!$K$18)","v":""},{"$f":"IF('S4'!$L$18=\"\",\"\",'S4'!$L$18)","v":""},{"$f":"IF('S4'!$M$18=\"\",\"\",'S4'!$M$18)","v":""},{"$f":"IF('S4'!$N$18=\"\",\"\",'S4'!$N$18)","v":""},{"$f":"IF('S4'!$O$18=\"\",\"\",'S4'!$O$18)","v":""},{"$f":"IF('S4'!$P$18=\"\",\"\",'S4'!$P$18)","v":""},null,{"$f":"IF(VLOOKUP(U121,'S4'!$B$23:$Z$57,5,FALSE)=\"\",\"\",VLOOKUP(U121,'S4'!$B$23:$Z$57,5,FALSE))","v":0}]
[null,"erreicht",null,null,{"$f":"IF(VLOOKUP(B121,'S4'!$B$23:$Z$57,6,FALSE)=\"\",\"\",VLOOKUP(B121,'S4'!$B$23:$Z$57,6,FALSE))","v":"."},{"$f":"IF(VLOOKUP(B121,'S4'!$B$23:$Z$57,7,FALSE)=\"\",\"\",VLOOKUP(B121,'S4'!$B$23:$Z$57,7,FALSE))","v":""},{"$f":"IF(VLOOKUP(B121,'S4'!$B$23:$Z$57,8,FALSE)=\"\",\"\",VLOOKUP(B121,'S4'!$B$23:$Z$57,8,FALSE))","v":""},{"$f":"IF(VLOOKUP(B121,'S4'!$B$23:$Z$57,9,FALSE)=\"\",\"\",VLOOKUP(B121,'S4'!$B$23:$Z$57,9,FALSE))","v":""},{"$f":"IF(VLOOKUP(B121,'S4'!$B$23:$Z$57,10,FALSE)=\"\",\"\",VLOOKUP(B121,'S4'!$B$23:$Z$57,10,FALSE))","v":""},{"$f":"IF(VLOOKUP(B121,'S4'!$B$23:$Z$57,11,FALSE)=\"\",\"\",VLOOKUP(B121,'S4'!$B$23:$Z$57,11,FALSE))","v":""},{"$f":"IF(VLOOKUP(B121,'S4'!$B$23:$Z$57,12,FALSE)=\"\",\"\",VLOOKUP(B121,'S4'!$B$23:$Z$57,12,FALSE))","v":""},{"$f":"IF(VLOOKUP(B121,'S4'!$B$23:$Z$57,13,FALSE)=\"\",\"\",VLOOKUP(B121,'S4'!$B$23:$Z$57,13,FALSE))","v":""},{"$f":"IF(VLOOKUP(B121,'S4'!$B$23:$Z$57,14,FALSE)=\"\",\"\",VLOOKUP(B121,'S4'!$B$23:$Z$57,14,FALSE))","v":""},{"$f":"IF(VLOOKUP(B121,'S4'!$B$23:$Z$57,15,FALSE)=\"\",\"\",VLOOKUP(B121,'S4'!$B$23:$Z$57,15,FALSE))","v":""},null,null,null,null,null,null,"erreicht",null,null,{"$f":"IF(VLOOKUP(U121,'S4'!$B$23:$Z$57,6,FALSE)=\"\",\"\",VLOOKUP(U121,'S4'!$B$23:$Z$57,6,FALSE))","v":"."},{"$f":"IF(VLOOKUP(U121,'S4'!$B$23:$Z$57,7,FALSE)=\"\",\"\",VLOOKUP(U121,'S4'!$B$23:$Z$57,7,FALSE))","v":""},{"$f":"IF(VLOOKUP(U121,'S4'!$B$23:$Z$57,8,FALSE)=\"\",\"\",VLOOKUP(U121,'S4'!$B$23:$Z$57,8,FALSE))","v":""},{"$f":"IF(VLOOKUP(U121,'S4'!$B$23:$Z$57,9,FALSE)=\"\",\"\",VLOOKUP(U121,'S4'!$B$23:$Z$57,9,FALSE))","v":""},{"$f":"IF(VLOOKUP(U121,'S4'!$B$23:$Z$57,10,FALSE)=\"\",\"\",VLOOKUP(U121,'S4'!$B$23:$Z$57,10,FALSE))","v":""},{"$f":"IF(VLOOKUP(U121,'S4'!$B$23:$Z$57,11,FALSE)=\"\",\"\",VLOOKUP(U121,'S4'!$B$23:$Z$57,11,FALSE))","v":""},{"$f":"IF(VLOOKUP(U121,'S4'!$B$23:$Z$57,12,FALSE)=\"\",\"\",VLOOKUP(U121,'S4'!$B$23:$Z$57,12,FALSE))","v":""},{"$f":"IF(VLOOKUP(U121,'S4'!$B$23:$Z$57,13,FALSE)=\"\",\"\",VLOOKUP(U121,'S4'!$B$23:$Z$57,13,FALSE))","v":""},{"$f":"IF(VLOOKUP(U121,'S4'!$B$23:$Z$57,14,FALSE)=\"\",\"\",VLOOKUP(U121,'S4'!$B$23:$Z$57,14,FALSE))","v":""},{"$f":"IF(VLOOKUP(U121,'S4'!$B$23:$Z$57,15,FALSE)=\"\",\"\",VLOOKUP(U121,'S4'!$B$23:$Z$57,15,FALSE))","v":""}]
[null,"von",null,null,{"$f":"IF('S4'!$G$21=\"\",\"\",'S4'!$G$21)","v":""},{"$f":"IF('S4'!$H$21=\"\",\"\",'S4'!$H$21)","v":""},{"$f":"IF('S4'!$I$21=\"\",\"\",'S4'!$I$21)","v":""},{"$f":"IF('S4'!$J$21=\"\",\"\",'S4'!$J$21)","v":""},{"$f":"IF('S4'!$K$21=\"\",\"\",'S4'!$K$21)","v":""},{"$f":"IF('S4'!$L$21=\"\",\"\",'S4'!$L$21)","v":""},{"$f":"IF('S4'!$M$21=\"\",\"\",'S4'!$M$21)","v":""},{"$f":"IF('S4'!$N$21=\"\",\"\",'S4'!$N$21)","v":""},{"$f":"IF('S4'!$O$21=\"\",\"\",'S4'!$O$21)","v":""},{"$f":"IF('S4'!$P$21=\"\",\"\",'S4'!$P$21)","v":""},null,"von",null,null,null,null,"von",null,null,{"$f":"IF('S4'!$G$21=\"\",\"\",'S4'!$G$21)","v":""},{"$f":"IF('S4'!$H$21=\"\",\"\",'S4'!$H$21)","v":""},{"$f":"IF('S4'!$I$21=\"\",\"\",'S4'!$I$21)","v":""},{"$f":"IF('S4'!$J$21=\"\",\"\",'S4'!$J$21)","v":""},{"$f":"IF('S4'!$K$21=\"\",\"\",'S4'!$K$21)","v":""},{"$f":"IF('S4'!$L$21=\"\",\"\",'S4'!$L$21)","v":""},{"$f":"IF('S4'!$M$21=\"\",\"\",'S4'!$M$21)","v":""},{"$f":"IF('S4'!$N$21=\"\",\"\",'S4'!$N$21)","v":""},{"$f":"IF('S4'!$O$21=\"\",\"\",'S4'!$O$21)","v":""},{"$f":"IF('S4'!$P$21=\"\",\"\",'S4'!$P$21)","v":""},null,"von"]
[null,null,null,null,null,null,null,null,null,null,null,null,null,null,null,{"$f":"'S4'!$H$12","v":0},null,null,null,null,null,null,null,null,null,null,null,null,null,null,null,null,null,null,{"$f":"'S4'!$H$12","v":0}]
[null,{"$f":"IF('S4'!$Q$18=\"\",\"\",\"Aufgabe\")","v":""},null,null,{"$f":"IF('S4'!$Q$18=\"\",\"\",'S4'!$Q$18)","v":""},{"$f":"IF('S4'!$R$18=\"\",\"\",'S4'!$R$18)","v":""},{"$f":"IF('S4'!$S$18=\"\",\"\",'S4'!$S$18)","v":""},{"$f":"IF('S4'!$T$18=\"\",\"\",'S4'!$T$18)","v":""},{"$f":"IF('S4'!$U$18=\"\",\"\",'S4'!$U$18)","v":""},{"$f":"IF('S4'!$V$18=\"\",\"\",'S4'!$V$18)","v":""},{"$f":"IF('S4'!$W$18=\"\",\"\",'S4'!$W$18)","v":""},{"$f":"IF('S4'!$X$18=\"\",\"\",'S4'!$X$18)","v":""},{"$f":"IF('S4'!$Y$18=\"\",\"\",'S4'!$Y$18)","v":""},{"$f":"IF('S4'!$Z$18=\"\",\"\",'S4'!$Z$18)","v":""},null,null,null,null,null,null,{"$f":"IF('S4'!$Q$18=\"\",\"\",\"Aufgabe\")","v":""},null,null,{"$f":"IF('S4'!$Q$18=\"\",\"\",'S4'!$Q$18)","v":""},{"$f":"IF('S4'!$R$18=\"\",\"\",'S4'!$R$18)","v":""},{"$f":"IF('S4'!$S$18=\"\",\"\",'S4'!$S$18)","v":""},{"$f":"IF('S4'!$T$18=\"\",\"\",'S4'!$T$18)","v":""},{"$f":"IF('S4'!$U$18=\"\",\"\",'S4'!$U$18)","v":""},{"$f":"IF('S4'!$V$18=\"\",\"\",'S4'!$V$18)","v":""},{"$f":"IF('S4'!$W$18=\"\",\"\",'S4'!$W$18)","v":""},{"$f":"IF('S4'!$X$18=\"\",\"\",'S4'!$X$18)","v":""},{"$f":"IF('S4'!$Y$18=\"\",\"\",'S4'!$Y$18)","v":""},{"$f":"IF('S4'!$Z$18=\"\",\"\",'S4'!$Z$18)","v":""}]
[null,{"$f":"IF('S4'!$Q$18=\"\",\"\",\"erreicht\")","v":""},null,null,{"$f":"IF(VLOOKUP(B121,'S4'!$B$23:$Z$57,16,FALSE)=\"\",\"\",VLOOKUP(B121,'S4'!$B$23:$Z$57,16,FALSE))","v":""},{"$f":"IF(VLOOKUP(B121,'S4'!$B$23:$Z$57,17,FALSE)=\"\",\"\",VLOOKUP(B121,'S4'!$B$23:$Z$57,17,FALSE))","v":""},{"$f":"IF(VLOOKUP(B121,'S4'!$B$23:$Z$57,18,FALSE)=\"\",\"\",VLOOKUP(B121,'S4'!$B$23:$Z$57,18,FALSE))","v":""},{"$f":"IF(VLOOKUP(B121,'S4'!$B$23:$Z$57,19,FALSE)=\"\",\"\",VLOOKUP(B121,'S4'!$B$23:$Z$57,19,FALSE))","v":""},{"$f":"IF(VLOOKUP(B121,'S4'!$B$23:$Z$57,20,FALSE)=\"\",\"\",VLOOKUP(B121,'S4'!$B$23:$Z$57,20,FALSE))","v":""},{"$f":"IF(VLOOKUP(B121,'S4'!$B$23:$Z$57,21,FALSE)=\"\",\"\",VLOOKUP(B121,'S4'!$B$23:$Z$57,21,FALSE))","v":""},{"$f":"IF(VLOOKUP(B121,'S4'!$B$23:$Z$57,22,FALSE)=\"\",\"\",VLOOKUP(B121,'S4'!$B$23:$Z$57,22,FALSE))","v":""},{"$f":"IF(VLOOKUP(B121,'S4'!$B$23:$Z$57,23,FALSE)=\"\",\"\",VLOOKUP(B121,'S4'!$B$23:$Z$57,23,FALSE))","v":""},{"$f":"IF(VLOOKUP(B121,'S4'!$B$23:$Z$57,24,FALSE)=\"\",\"\",VLOOKUP(B121,'S4'!$B$23:$Z$57,24,FALSE))","v":""},{"$f":"IF(VLOOKUP(B121,'S4'!$B$23:$Z$57,25,FALSE)=\"\",\"\",VLOOKUP(B121,'S4'!$B$23:$Z$57,25,FALSE))","v":""},null,"Note",null,null,null,null,{"$f":"IF('S4'!$Q$18=\"\",\"\",\"erreicht\")","v":""},null,null,{"$f":"IF(VLOOKUP(U121,'S4'!$B$23:$Z$57,16,FALSE)=\"\",\"\",VLOOKUP(U121,'S4'!$B$23:$Z$57,16,FALSE))","v":""},{"$f":"IF(VLOOKUP(U121,'S4'!$B$23:$Z$57,17,FALSE)=\"\",\"\",VLOOKUP(U121,'S4'!$B$23:$Z$57,17,FALSE))","v":""},{"$f":"IF(VLOOKUP(U121,'S4'!$B$23:$Z$57,18,FALSE)=\"\",\"\",VLOOKUP(U121,'S4'!$B$23:$Z$57,18,FALSE))","v":""},{"$f":"IF(VLOOKUP(U121,'S4'!$B$23:$Z$57,19,FALSE)=\"\",\"\",VLOOKUP(U121,'S4'!$B$23:$Z$57,19,FALSE))","v":""},{"$f":"IF(VLOOKUP(U121,'S4'!$B$23:$Z$57,20,FALSE)=\"\",\"\",VLOOKUP(U121,'S4'!$B$23:$Z$57,20,FALSE))","v":""},{"$f":"IF(VLOOKUP(U121,'S4'!$B$23:$Z$57,21,FALSE)=\"\",\"\",VLOOKUP(U121,'S4'!$B$23:$Z$57,21,FALSE))","v":""},{"$f":"IF(VLOOKUP(U121,'S4'!$B$23:$Z$57,22,FALSE)=\"\",\"\",VLOOKUP(U121,'S4'!$B$23:$Z$57,22,FALSE))","v":""},{"$f":"IF(VLOOKUP(U121,'S4'!$B$23:$Z$57,23,FALSE)=\"\",\"\",VLOOKUP(U121,'S4'!$B$23:$Z$57,23,FALSE))","v":""},{"$f":"IF(VLOOKUP(U121,'S4'!$B$23:$Z$57,24,FALSE)=\"\",\"\",VLOOKUP(U121,'S4'!$B$23:$Z$57,24,FALSE))","v":""},{"$f":"IF(VLOOKUP(U121,'S4'!$B$23:$Z$57,25,FALSE)=\"\",\"\",VLOOKUP(U121,'S4'!$B$23:$Z$57,25,FALSE))","v":""},null,"Note"]
[null,{"$f":"IF('S4'!$Q$18=\"\",\"\",\"von\")","v":""},null,null,{"$f":"IF('S4'!$Q$21=\"\",\"\",'S4'!$Q$21)","v":""},{"$f":"IF('S4'!$R$21=\"\",\"\",'S4'!$R$21)","v":""},{"$f":"IF('S4'!$S$21=\"\",\"\",'S4'!$S$21)","v":""},{"$f":"IF('S4'!$T$21=\"\",\"\",'S4'!$T$21)","v":""},{"$f":"IF('S4'!$U$21=\"\",\"\",'S4'!$U$21)","v":""},{"$f":"IF('S4'!$V$21=\"\",\"\",'S4'!$V$21)","v":""},{"$f":"IF('S4'!$W$21=\"\",\"\",'S4'!$W$21)","v":""},{"$f":"IF('S4'!$X$21=\"\",\"\",'S4'!$X$21)","v":""},{"$f":"IF('S4'!$Y$21=\"\",\"\",'S4'!$Y$21)","v":""},{"$f":"IF('S4'!$Z$21=\"\",\"\",'S4'!$Z$21)","v":""},null,{"$f":"IF(VLOOKUP(B121,'S4'!$B$23:$Z$57,2,FALSE)=\"\",\"\",CONCATENATE(VLOOKUP(B121,'S4'!$B$23:$Z$57,2,FALSE),\" \",VLOOKUP(B121,'S4'!$B$23:$Z$57,3,FALSE)))","v":"- "},null,null,null,null,{"$f":"IF('S4'!$Q$18=\"\",\"\",\"von\")","v":""},null,null,{"$f":"IF('S4'!$Q$21=\"\",\"\",'S4'!$Q$21)","v":""},{"$f":"IF('S4'!$R$21=\"\",\"\",'S4'!$R$21)","v":""},{"$f":"IF('S4'!$S$21=\"\",\"\",'S4'!$S$21)","v":""},{"$f":"IF('S4'!$T$21=\"\",\"\",'S4'!$T$21)","v":""},{"$f":"IF('S4'!$U$21=\"\",\"\",'S4'!$U$21)","v":""},{"$f":"IF('S4'!$V$21=\"\",\"\",'S4'!$V$21)","v":""},{"$f":"IF('S4'!$W$21=\"\",\"\",'S4'!$W$21)","v":""},{"$f":"IF('S4'!$X$21=\"\",\"\",'S4'!$X$21)","v":""},{"$f":"IF('S4'!$Y$21=\"\",\"\",'S4'!$Y$21)","v":""},{"$f":"IF('S4'!$Z$21=\"\",\"\",'S4'!$Z$21)","v":""},null,{"$f":"IF(VLOOKUP(U121,'S4'!$B$23:$Z$57,2,FALSE)=\"\",\"\",CONCATENATE(VLOOKUP(U121,'S4'!$B$23:$Z$57,2,FALSE),\" \",VLOOKUP(U121,'S4'!$B$23:$Z$57,3,FALSE)))","v":"- "}]
[]
[]
[]
[null,{"$f":"'S4'!$B$45","v":""},null,null,null,null,null,null,null,null,null,null,null,null,null,null,null,null,null,null,{"$f":"'S4'!$B$46","v":""}]
[null,null,null,null,null,null,null,null,null,null,null,null,null,null,null,"Summe",null,null,null,null,null,null,null,null,null,null,null,null,null,null,null,null,null,null,"Summe"]
[null,"Aufgabe",null,null,{"$f":"IF('S4'!$G$18=\"\",\"\",'S4'!$G$18)","v":1},{"$f":"IF('S4'!$H$18=\"\",\"\",'S4'!$H$18)","v":2},{"$f":"IF('S4'!$I$18=\"\",\"\",'S4'!$I$18)","v":3},{"$f":"IF('S4'!$J$18=\"\",\"\",'S4'!$J$18)","v":""},{"$f":"IF('S4'!$K$18=\"\",\"\",'S4'!$K$18)","v":""},{"$f":"IF('S4'!$L$18=\"\",\"\",'S4'!$L$18)","v":""},{"$f":"IF('S4'!$M$18=\"\",\"\",'S4'!$M$18)","v":""},{"$f":"IF('S4'!$N$18=\"\",\"\",'S4'!$N$18)","v":""},{"$f":"IF('S4'!$O$18=\"\",\"\",'S4'!$O$18)","v":""},{"$f":"IF('S4'!$P$18=\"\",\"\",'S4'!$P$18)","v":""},null,{"$f":"IF(VLOOKUP(B133,'S4'!$B$23:$Z$57,5,FALSE)=\"\",\"\",VLOOKUP(B133,'S4'!$B$23:$Z$57,5,FALSE))","v":0},null,null,null,null,"Aufgabe",null,null,{"$f":"IF('S4'!$G$18=\"\",\"\",'S4'!$G$18)","v":1},{"$f":"IF('S4'!$H$18=\"\",\"\",'S4'!$H$18)","v":2},{"$f":"IF('S4'!$I$18=\"\",\"\",'S4'!$I$18)","v":3},{"$f":"IF('S4'!$J$18=\"\",\"\",'S4'!$J$18)","v":""},{"$f":"IF('S4'!$K$18=\"\",\"\",'S4'!$K$18)","v":""},{"$f":"IF('S4'!$L$18=\"\",\"\",'S4'!$L$18)","v":""},{"$f":"IF('S4'!$M$18=\"\",\"\",'S4'!$M$18)","v":""},{"$f":"IF('S4'!$N$18=\"\",\"\",'S4'!$N$18)","v":""},{"$f":"IF('S4'!$O$18=\"\",\"\",'S4'!$O$18)","v":""},{"$f":"IF('S4'!$P$18=\"\",\"\",'S4'!$P$18)","v":""},null,{"$f":"IF(VLOOKUP(U133,'S4'!$B$23:$Z$57,5,FALSE)=\"\",\"\",VLOOKUP(U133,'S4'!$B$23:$Z$57,5,FALSE))","v":0}]
[null,"erreicht",null,null,{"$f":"IF(VLOOKUP(B133,'S4'!$B$23:$Z$57,6,FALSE)=\"\",\"\",VLOOKUP(B133,'S4'!$B$23:$Z$57,6,FALSE))","v":"."},{"$f":"IF(VLOOKUP(B133,'S4'!$B$23:$Z$57,7,FALSE)=\"\",\"\",VLOOKUP(B133,'S4'!$B$23:$Z$57,7,FALSE))","v":""},{"$f":"IF(VLOOKUP(B133,'S4'!$B$23:$Z$57,8,FALSE)=\"\",\"\",VLOOKUP(B133,'S4'!$B$23:$Z$57,8,FALSE))","v":""},{"$f":"IF(VLOOKUP(B133,'S4'!$B$23:$Z$57,9,FALSE)=\"\",\"\",VLOOKUP(B133,'S4'!$B$23:$Z$57,9,FALSE))","v":""},{"$f":"IF(VLOOKUP(B133,'S4'!$B$23:$Z$57,10,FALSE)=\"\",\"\",VLOOKUP(B133,'S4'!$B$23:$Z$57,10,FALSE))","v":""},{"$f":"IF(VLOOKUP(B133,'S4'!$B$23:$Z$57,11,FALSE)=\"\",\"\",VLOOKUP(B133,'S4'!$B$23:$Z$57,11,FALSE))","v":""},{"$f":"IF(VLOOKUP(B133,'S4'!$B$23:$Z$57,12,FALSE)=\"\",\"\",VLOOKUP(B133,'S4'!$B$23:$Z$57,12,FALSE))","v":""},{"$f":"IF(VLOOKUP(B133,'S4'!$B$23:$Z$57,13,FALSE)=\"\",\"\",VLOOKUP(B133,'S4'!$B$23:$Z$57,13,FALSE))","v":""},{"$f":"IF(VLOOKUP(B133,'S4'!$B$23:$Z$57,14,FALSE)=\"\",\"\",VLOOKUP(B133,'S4'!$B$23:$Z$57,14,FALSE))","v":""},{"$f":"IF(VLOOKUP(B133,'S4'!$B$23:$Z$57,15,FALSE)=\"\",\"\",VLOOKUP(B133,'S4'!$B$23:$Z$57,15,FALSE))","v":""},null,null,null,null,null,null,"erreicht",null,null,{"$f":"IF(VLOOKUP(U133,'S4'!$B$23:$Z$57,6,FALSE)=\"\",\"\",VLOOKUP(U133,'S4'!$B$23:$Z$57,6,FALSE))","v":"."},{"$f":"IF(VLOOKUP(U133,'S4'!$B$23:$Z$57,7,FALSE)=\"\",\"\",VLOOKUP(U133,'S4'!$B$23:$Z$57,7,FALSE))","v":""},{"$f":"IF(VLOOKUP(U133,'S4'!$B$23:$Z$57,8,FALSE)=\"\",\"\",VLOOKUP(U133,'S4'!$B$23:$Z$57,8,FALSE))","v":""},{"$f":"IF(VLOOKUP(U133,'S4'!$B$23:$Z$57,9,FALSE)=\"\",\"\",VLOOKUP(U133,'S4'!$B$23:$Z$57,9,FALSE))","v":""},{"$f":"IF(VLOOKUP(U133,'S4'!$B$23:$Z$57,10,FALSE)=\"\",\"\",VLOOKUP(U133,'S4'!$B$23:$Z$57,10,FALSE))","v":""},{"$f":"IF(VLOOKUP(U133,'S4'!$B$23:$Z$57,11,FALSE)=\"\",\"\",VLOOKUP(U133,'S4'!$B$23:$Z$57,11,FALSE))","v":""},{"$f":"IF(VLOOKUP(U133,'S4'!$B$23:$Z$57,12,FALSE)=\"\",\"\",VLOOKUP(U133,'S4'!$B$23:$Z$57,12,FALSE))","v":""},{"$f":"IF(VLOOKUP(U133,'S4'!$B$23:$Z$57,13,FALSE)=\"\",\"\",VLOOKUP(U133,'S4'!$B$23:$Z$57,13,FALSE))","v":""},{"$f":"IF(VLOOKUP(U133,'S4'!$B$23:$Z$57,14,FALSE)=\"\",\"\",VLOOKUP(U133,'S4'!$B$23:$Z$57,14,FALSE))","v":""},{"$f":"IF(VLOOKUP(U133,'S4'!$B$23:$Z$57,15,FALSE)=\"\",\"\",VLOOKUP(U133,'S4'!$B$23:$Z$57,15,FALSE))","v":""}]
[null,"von",null,null,{"$f":"IF('S4'!$G$21=\"\",\"\",'S4'!$G$21)","v":""},{"$f":"IF('S4'!$H$21=\"\",\"\",'S4'!$H$21)","v":""},{"$f":"IF('S4'!$I$21=\"\",\"\",'S4'!$I$21)","v":""},{"$f":"IF('S4'!$J$21=\"\",\"\",'S4'!$J$21)","v":""},{"$f":"IF('S4'!$K$21=\"\",\"\",'S4'!$K$21)","v":""},{"$f":"IF('S4'!$L$21=\"\",\"\",'S4'!$L$21)","v":""},{"$f":"IF('S4'!$M$21=\"\",\"\",'S4'!$M$21)","v":""},{"$f":"IF('S4'!$N$21=\"\",\"\",'S4'!$N$21)","v":""},{"$f":"IF('S4'!$O$21=\"\",\"\",'S4'!$O$21)","v":""},{"$f":"IF('S4'!$P$21=\"\",\"\",'S4'!$P$21)","v":""},null,"von",null,null,null,null,"von",null,null,{"$f":"IF('S4'!$G$21=\"\",\"\",'S4'!$G$21)","v":""},{"$f":"IF('S4'!$H$21=\"\",\"\",'S4'!$H$21)","v":""},{"$f":"IF('S4'!$I$21=\"\",\"\",'S4'!$I$21)","v":""},{"$f":"IF('S4'!$J$21=\"\",\"\",'S4'!$J$21)","v":""},{"$f":"IF('S4'!$K$21=\"\",\"\",'S4'!$K$21)","v":""},{"$f":"IF('S4'!$L$21=\"\",\"\",'S4'!$L$21)","v":""},{"$f":"IF('S4'!$M$21=\"\",\"\",'S4'!$M$21)","v":""},{"$f":"IF('S4'!$N$21=\"\",\"\",'S4'!$N$21)","v":""},{"$f":"IF('S4'!$O$21=\"\",\"\",'S4'!$O$21)","v":""},{"$f":"IF('S4'!$P$21=\"\",\"\",'S4'!$P$21)","v":""},null,"von"]
[null,null,null,null,null,null,null,null,null,null,null,null,null,null,null,{"$f":"'S4'!$H$12","v":0},null,null,null,null,null,null,null,null,null,null,null,null,null,null,null,null,null,null,{"$f":"'S4'!$H$12","v":0}]
[null,{"$f":"IF('S4'!$Q$18=\"\",\"\",\"Aufgabe\")","v":""},null,null,{"$f":"IF('S4'!$Q$18=\"\",\"\",'S4'!$Q$18)","v":""},{"$f":"IF('S4'!$R$18=\"\",\"\",'S4'!$R$18)","v":""},{"$f":"IF('S4'!$S$18=\"\",\"\",'S4'!$S$18)","v":""},{"$f":"IF('S4'!$T$18=\"\",\"\",'S4'!$T$18)","v":""},{"$f":"IF('S4'!$U$18=\"\",\"\",'S4'!$U$18)","v":""},{"$f":"IF('S4'!$V$18=\"\",\"\",'S4'!$V$18)","v":""},{"$f":"IF('S4'!$W$18=\"\",\"\",'S4'!$W$18)","v":""},{"$f":"IF('S4'!$X$18=\"\",\"\",'S4'!$X$18)","v":""},{"$f":"IF('S4'!$Y$18=\"\",\"\",'S4'!$Y$18)","v":""},{"$f":"IF('S4'!$Z$18=\"\",\"\",'S4'!$Z$18)","v":""},null,null,null,null,null,null,{"$f":"IF('S4'!$Q$18=\"\",\"\",\"Aufgabe\")","v":""},null,null,{"$f":"IF('S4'!$Q$18=\"\",\"\",'S4'!$Q$18)","v":""},{"$f":"IF('S4'!$R$18=\"\",\"\",'S4'!$R$18)","v":""},{"$f":"IF('S4'!$S$18=\"\",\"\",'S4'!$S$18)","v":""},{"$f":"IF('S4'!$T$18=\"\",\"\",'S4'!$T$18)","v":""},{"$f":"IF('S4'!$U$18=\"\",\"\",'S4'!$U$18)","v":""},{"$f":"IF('S4'!$V$18=\"\",\"\",'S4'!$V$18)","v":""},{"$f":"IF('S4'!$W$18=\"\",\"\",'S4'!$W$18)","v":""},{"$f":"IF('S4'!$X$18=\"\",\"\",'S4'!$X$18)","v":""},{"$f":"IF('S4'!$Y$18=\"\",\"\",'S4'!$Y$18)","v":""},{"$f":"IF('S4'!$Z$18=\"\",\"\",'S4'!$Z$18)","v":""}]
[null,{"$f":"IF('S4'!$Q$18=\"\",\"\",\"erreicht\")","v":""},null,null,{"$f":"IF(VLOOKUP(B133,'S4'!$B$23:$Z$57,16,FALSE)=\"\",\"\",VLOOKUP(B133,'S4'!$B$23:$Z$57,16,FALSE))","v":""},{"$f":"IF(VLOOKUP(B133,'S4'!$B$23:$Z$57,17,FALSE)=\"\",\"\",VLOOKUP(B133,'S4'!$B$23:$Z$57,17,FALSE))","v":""},{"$f":"IF(VLOOKUP(B133,'S4'!$B$23:$Z$57,18,FALSE)=\"\",\"\",VLOOKUP(B133,'S4'!$B$23:$Z$57,18,FALSE))","v":""},{"$f":"IF(VLOOKUP(B133,'S4'!$B$23:$Z$57,19,FALSE)=\"\",\"\",VLOOKUP(B133,'S4'!$B$23:$Z$57,19,FALSE))","v":""},{"$f":"IF(VLOOKUP(B133,'S4'!$B$23:$Z$57,20,FALSE)=\"\",\"\",VLOOKUP(B133,'S4'!$B$23:$Z$57,20,FALSE))","v":""},{"$f":"IF(VLOOKUP(B133,'S4'!$B$23:$Z$57,21,FALSE)=\"\",\"\",VLOOKUP(B133,'S4'!$B$23:$Z$57,21,FALSE))","v":""},{"$f":"IF(VLOOKUP(B133,'S4'!$B$23:$Z$57,22,FALSE)=\"\",\"\",VLOOKUP(B133,'S4'!$B$23:$Z$57,22,FALSE))","v":""},{"$f":"IF(VLOOKUP(B133,'S4'!$B$23:$Z$57,23,FALSE)=\"\",\"\",VLOOKUP(B133,'S4'!$B$23:$Z$57,23,FALSE))","v":""},{"$f":"IF(VLOOKUP(B133,'S4'!$B$23:$Z$57,24,FALSE)=\"\",\"\",VLOOKUP(B133,'S4'!$B$23:$Z$57,24,FALSE))","v":""},{"$f":"IF(VLOOKUP(B133,'S4'!$B$23:$Z$57,25,FALSE)=\"\",\"\",VLOOKUP(B133,'S4'!$B$23:$Z$57,25,FALSE))","v":""},null,"Note",null,null,null,null,{"$f":"IF('S4'!$Q$18=\"\",\"\",\"erreicht\")","v":""},null,null,{"$f":"IF(VLOOKUP(U133,'S4'!$B$23:$Z$57,16,FALSE)=\"\",\"\",VLOOKUP(U133,'S4'!$B$23:$Z$57,16,FALSE))","v":""},{"$f":"IF(VLOOKUP(U133,'S4'!$B$23:$Z$57,17,FALSE)=\"\",\"\",VLOOKUP(U133,'S4'!$B$23:$Z$57,17,FALSE))","v":""},{"$f":"IF(VLOOKUP(U133,'S4'!$B$23:$Z$57,18,FALSE)=\"\",\"\",VLOOKUP(U133,'S4'!$B$23:$Z$57,18,FALSE))","v":""},{"$f":"IF(VLOOKUP(U133,'S4'!$B$23:$Z$57,19,FALSE)=\"\",\"\",VLOOKUP(U133,'S4'!$B$23:$Z$57,19,FALSE))","v":""},{"$f":"IF(VLOOKUP(U133,'S4'!$B$23:$Z$57,20,FALSE)=\"\",\"\",VLOOKUP(U133,'S4'!$B$23:$Z$57,20,FALSE))","v":""},{"$f":"IF(VLOOKUP(U133,'S4'!$B$23:$Z$57,21,FALSE)=\"\",\"\",VLOOKUP(U133,'S4'!$B$23:$Z$57,21,FALSE))","v":""},{"$f":"IF(VLOOKUP(U133,'S4'!$B$23:$Z$57,22,FALSE)=\"\",\"\",VLOOKUP(U133,'S4'!$B$23:$Z$57,22,FALSE))","v":""},{"$f":"IF(VLOOKUP(U133,'S4'!$B$23:$Z$57,23,FALSE)=\"\",\"\",VLOOKUP(U133,'S4'!$B$23:$Z$57,23,FALSE))","v":""},{"$f":"IF(VLOOKUP(U133,'S4'!$B$23:$Z$57,24,FALSE)=\"\",\"\",VLOOKUP(U133,'S4'!$B$23:$Z$57,24,FALSE))","v":""},{"$f":"IF(VLOOKUP(U133,'S4'!$B$23:$Z$57,25,FALSE)=\"\",\"\",VLOOKUP(U133,'S4'!$B$23:$Z$57,25,FALSE))","v":""},null,"Note"]
[null,{"$f":"IF('S4'!$Q$18=\"\",\"\",\"von\")","v":""},null,null,{"$f":"IF('S4'!$Q$21=\"\",\"\",'S4'!$Q$21)","v":""},{"$f":"IF('S4'!$R$21=\"\",\"\",'S4'!$R$21)","v":""},{"$f":"IF('S4'!$S$21=\"\",\"\",'S4'!$S$21)","v":""},{"$f":"IF('S4'!$T$21=\"\",\"\",'S4'!$T$21)","v":""},{"$f":"IF('S4'!$U$21=\"\",\"\",'S4'!$U$21)","v":""},{"$f":"IF('S4'!$V$21=\"\",\"\",'S4'!$V$21)","v":""},{"$f":"IF('S4'!$W$21=\"\",\"\",'S4'!$W$21)","v":""},{"$f":"IF('S4'!$X$21=\"\",\"\",'S4'!$X$21)","v":""},{"$f":"IF('S4'!$Y$21=\"\",\"\",'S4'!$Y$21)","v":""},{"$f":"IF('S4'!$Z$21=\"\",\"\",'S4'!$Z$21)","v":""},null,{"$f":"IF(VLOOKUP(B133,'S4'!$B$23:$Z$57,2,FALSE)=\"\",\"\",CONCATENATE(VLOOKUP(B133,'S4'!$B$23:$Z$57,2,FALSE),\" \",VLOOKUP(B133,'S4'!$B$23:$Z$57,3,FALSE)))","v":"- "},null,null,null,null,{"$f":"IF('S4'!$Q$18=\"\",\"\",\"von\")","v":""},null,null,{"$f":"IF('S4'!$Q$21=\"\",\"\",'S4'!$Q$21)","v":""},{"$f":"IF('S4'!$R$21=\"\",\"\",'S4'!$R$21)","v":""},{"$f":"IF('S4'!$S$21=\"\",\"\",'S4'!$S$21)","v":""},{"$f":"IF('S4'!$T$21=\"\",\"\",'S4'!$T$21)","v":""},{"$f":"IF('S4'!$U$21=\"\",\"\",'S4'!$U$21)","v":""},{"$f":"IF('S4'!$V$21=\"\",\"\",'S4'!$V$21)","v":""},{"$f":"IF('S4'!$W$21=\"\",\"\",'S4'!$W$21)","v":""},{"$f":"IF('S4'!$X$21=\"\",\"\",'S4'!$X$21)","v":""},{"$f":"IF('S4'!$Y$21=\"\",\"\",'S4'!$Y$21)","v":""},{"$f":"IF('S4'!$Z$21=\"\",\"\",'S4'!$Z$21)","v":""},null,{"$f":"IF(VLOOKUP(U133,'S4'!$B$23:$Z$57,2,FALSE)=\"\",\"\",CONCATENATE(VLOOKUP(U133,'S4'!$B$23:$Z$57,2,FALSE),\" \",VLOOKUP(U133,'S4'!$B$23:$Z$57,3,FALSE)))","v":"- "}]
[]
[]
[null,{"$f":"'S4'!$B$47","v":""},null,null,null,null,null,null,null,null,null,null,null,null,null,null,null,null,null,null,{"$f":"'S4'!$B$48","v":""}]
[null,null,null,null,null,null,null,null,null,null,null,null,null,null,null,"Summe",null,null,null,null,null,null,null,null,null,null,null,null,null,null,null,null,null,null,"Summe"]
[null,"Aufgabe",null,null,{"$f":"IF('S4'!$G$18=\"\",\"\",'S4'!$G$18)","v":1},{"$f":"IF('S4'!$H$18=\"\",\"\",'S4'!$H$18)","v":2},{"$f":"IF('S4'!$I$18=\"\",\"\",'S4'!$I$18)","v":3},{"$f":"IF('S4'!$J$18=\"\",\"\",'S4'!$J$18)","v":""},{"$f":"IF('S4'!$K$18=\"\",\"\",'S4'!$K$18)","v":""},{"$f":"IF('S4'!$L$18=\"\",\"\",'S4'!$L$18)","v":""},{"$f":"IF('S4'!$M$18=\"\",\"\",'S4'!$M$18)","v":""},{"$f":"IF('S4'!$N$18=\"\",\"\",'S4'!$N$18)","v":""},{"$f":"IF('S4'!$O$18=\"\",\"\",'S4'!$O$18)","v":""},{"$f":"IF('S4'!$P$18=\"\",\"\",'S4'!$P$18)","v":""},null,{"$f":"IF(VLOOKUP(B144,'S4'!$B$23:$Z$57,5,FALSE)=\"\",\"\",VLOOKUP(B144,'S4'!$B$23:$Z$57,5,FALSE))","v":0},null,null,null,null,"Aufgabe",null,null,{"$f":"IF('S4'!$G$18=\"\",\"\",'S4'!$G$18)","v":1},{"$f":"IF('S4'!$H$18=\"\",\"\",'S4'!$H$18)","v":2},{"$f":"IF('S4'!$I$18=\"\",\"\",'S4'!$I$18)","v":3},{"$f":"IF('S4'!$J$18=\"\",\"\",'S4'!$J$18)","v":""},{"$f":"IF('S4'!$K$18=\"\",\"\",'S4'!$K$18)","v":""},{"$f":"IF('S4'!$L$18=\"\",\"\",'S4'!$L$18)","v":""},{"$f":"IF('S4'!$M$18=\"\",\"\",'S4'!$M$18)","v":""},{"$f":"IF('S4'!$N$18=\"\",\"\",'S4'!$N$18)","v":""},{"$f":"IF('S4'!$O$18=\"\",\"\",'S4'!$O$18)","v":""},{"$f":"IF('S4'!$P$18=\"\",\"\",'S4'!$P$18)","v":""},null,{"$f":"IF(VLOOKUP(U144,'S4'!$B$23:$Z$57,5,FALSE)=\"\",\"\",VLOOKUP(U144,'S4'!$B$23:$Z$57,5,FALSE))","v":0}]
[null,"erreicht",null,null,{"$f":"IF(VLOOKUP(B144,'S4'!$B$23:$Z$57,6,FALSE)=\"\",\"\",VLOOKUP(B144,'S4'!$B$23:$Z$57,6,FALSE))","v":"."},{"$f":"IF(VLOOKUP(B144,'S4'!$B$23:$Z$57,7,FALSE)=\"\",\"\",VLOOKUP(B144,'S4'!$B$23:$Z$57,7,FALSE))","v":""},{"$f":"IF(VLOOKUP(B144,'S4'!$B$23:$Z$57,8,FALSE)=\"\",\"\",VLOOKUP(B144,'S4'!$B$23:$Z$57,8,FALSE))","v":""},{"$f":"IF(VLOOKUP(B144,'S4'!$B$23:$Z$57,9,FALSE)=\"\",\"\",VLOOKUP(B144,'S4'!$B$23:$Z$57,9,FALSE))","v":""},{"$f":"IF(VLOOKUP(B144,'S4'!$B$23:$Z$57,10,FALSE)=\"\",\"\",VLOOKUP(B144,'S4'!$B$23:$Z$57,10,FALSE))","v":""},{"$f":"IF(VLOOKUP(B144,'S4'!$B$23:$Z$57,11,FALSE)=\"\",\"\",VLOOKUP(B144,'S4'!$B$23:$Z$57,11,FALSE))","v":""},{"$f":"IF(VLOOKUP(B144,'S4'!$B$23:$Z$57,12,FALSE)=\"\",\"\",VLOOKUP(B144,'S4'!$B$23:$Z$57,12,FALSE))","v":""},{"$f":"IF(VLOOKUP(B144,'S4'!$B$23:$Z$57,13,FALSE)=\"\",\"\",VLOOKUP(B144,'S4'!$B$23:$Z$57,13,FALSE))","v":""},{"$f":"IF(VLOOKUP(B144,'S4'!$B$23:$Z$57,14,FALSE)=\"\",\"\",VLOOKUP(B144,'S4'!$B$23:$Z$57,14,FALSE))","v":""},{"$f":"IF(VLOOKUP(B144,'S4'!$B$23:$Z$57,15,FALSE)=\"\",\"\",VLOOKUP(B144,'S4'!$B$23:$Z$57,15,FALSE))","v":""},null,null,null,null,null,null,"erreicht",null,null,{"$f":"IF(VLOOKUP(U144,'S4'!$B$23:$Z$57,6,FALSE)=\"\",\"\",VLOOKUP(U144,'S4'!$B$23:$Z$57,6,FALSE))","v":"."},{"$f":"IF(VLOOKUP(U144,'S4'!$B$23:$Z$57,7,FALSE)=\"\",\"\",VLOOKUP(U144,'S4'!$B$23:$Z$57,7,FALSE))","v":""},{"$f":"IF(VLOOKUP(U144,'S4'!$B$23:$Z$57,8,FALSE)=\"\",\"\",VLOOKUP(U144,'S4'!$B$23:$Z$57,8,FALSE))","v":""},{"$f":"IF(VLOOKUP(U144,'S4'!$B$23:$Z$57,9,FALSE)=\"\",\"\",VLOOKUP(U144,'S4'!$B$23:$Z$57,9,FALSE))","v":""},{"$f":"IF(VLOOKUP(U144,'S4'!$B$23:$Z$57,10,FALSE)=\"\",\"\",VLOOKUP(U144,'S4'!$B$23:$Z$57,10,FALSE))","v":""},{"$f":"IF(VLOOKUP(U144,'S4'!$B$23:$Z$57,11,FALSE)=\"\",\"\",VLOOKUP(U144,'S4'!$B$23:$Z$57,11,FALSE))","v":""},{"$f":"IF(VLOOKUP(U144,'S4'!$B$23:$Z$57,12,FALSE)=\"\",\"\",VLOOKUP(U144,'S4'!$B$23:$Z$57,12,FALSE))","v":""},{"$f":"IF(VLOOKUP(U144,'S4'!$B$23:$Z$57,13,FALSE)=\"\",\"\",VLOOKUP(U144,'S4'!$B$23:$Z$57,13,FALSE))","v":""},{"$f":"IF(VLOOKUP(U144,'S4'!$B$23:$Z$57,14,FALSE)=\"\",\"\",VLOOKUP(U144,'S4'!$B$23:$Z$57,14,FALSE))","v":""},{"$f":"IF(VLOOKUP(U144,'S4'!$B$23:$Z$57,15,FALSE)=\"\",\"\",VLOOKUP(U144,'S4'!$B$23:$Z$57,15,FALSE))","v":""}]
[null,"von",null,null,{"$f":"IF('S4'!$G$21=\"\",\"\",'S4'!$G$21)","v":""},{"$f":"IF('S4'!$H$21=\"\",\"\",'S4'!$H$21)","v":""},{"$f":"IF('S4'!$I$21=\"\",\"\",'S4'!$I$21)","v":""},{"$f":"IF('S4'!$J$21=\"\",\"\",'S4'!$J$21)","v":""},{"$f":"IF('S4'!$K$21=\"\",\"\",'S4'!$K$21)","v":""},{"$f":"IF('S4'!$L$21=\"\",\"\",'S4'!$L$21)","v":""},{"$f":"IF('S4'!$M$21=\"\",\"\",'S4'!$M$21)","v":""},{"$f":"IF('S4'!$N$21=\"\",\"\",'S4'!$N$21)","v":""},{"$f":"IF('S4'!$O$21=\"\",\"\",'S4'!$O$21)","v":""},{"$f":"IF('S4'!$P$21=\"\",\"\",'S4'!$P$21)","v":""},null,"von",null,null,null,null,"von",null,null,{"$f":"IF('S4'!$G$21=\"\",\"\",'S4'!$G$21)","v":""},{"$f":"IF('S4'!$H$21=\"\",\"\",'S4'!$H$21)","v":""},{"$f":"IF('S4'!$I$21=\"\",\"\",'S4'!$I$21)","v":""},{"$f":"IF('S4'!$J$21=\"\",\"\",'S4'!$J$21)","v":""},{"$f":"IF('S4'!$K$21=\"\",\"\",'S4'!$K$21)","v":""},{"$f":"IF('S4'!$L$21=\"\",\"\",'S4'!$L$21)","v":""},{"$f":"IF('S4'!$M$21=\"\",\"\",'S4'!$M$21)","v":""},{"$f":"IF('S4'!$N$21=\"\",\"\",'S4'!$N$21)","v":""},{"$f":"IF('S4'!$O$21=\"\",\"\",'S4'!$O$21)","v":""},{"$f":"IF('S4'!$P$21=\"\",\"\",'S4'!$P$21)","v":""},null,"von"]
[null,null,null,null,null,null,null,null,null,null,null,null,null,null,null,{"$f":"'S4'!$H$12","v":0},null,null,null,null,null,null,null,null,null,null,null,null,null,null,null,null,null,null,{"$f":"'S4'!$H$12","v":0}]
[null,{"$f":"IF('S4'!$Q$18=\"\",\"\",\"Aufgabe\")","v":""},null,null,{"$f":"IF('S4'!$Q$18=\"\",\"\",'S4'!$Q$18)","v":""},{"$f":"IF('S4'!$R$18=\"\",\"\",'S4'!$R$18)","v":""},{"$f":"IF('S4'!$S$18=\"\",\"\",'S4'!$S$18)","v":""},{"$f":"IF('S4'!$T$18=\"\",\"\",'S4'!$T$18)","v":""},{"$f":"IF('S4'!$U$18=\"\",\"\",'S4'!$U$18)","v":""},{"$f":"IF('S4'!$V$18=\"\",\"\",'S4'!$V$18)","v":""},{"$f":"IF('S4'!$W$18=\"\",\"\",'S4'!$W$18)","v":""},{"$f":"IF('S4'!$X$18=\"\",\"\",'S4'!$X$18)","v":""},{"$f":"IF('S4'!$Y$18=\"\",\"\",'S4'!$Y$18)","v":""},{"$f":"IF('S4'!$Z$18=\"\",\"\",'S4'!$Z$18)","v":""},null,null,null,null,null,null,{"$f":"IF('S4'!$Q$18=\"\",\"\",\"Aufgabe\")","v":""},null,null,{"$f":"IF('S4'!$Q$18=\"\",\"\",'S4'!$Q$18)","v":""},{"$f":"IF('S4'!$R$18=\"\",\"\",'S4'!$R$18)","v":""},{"$f":"IF('S4'!$S$18=\"\",\"\",'S4'!$S$18)","v":""},{"$f":"IF('S4'!$T$18=\"\",\"\",'S4'!$T$18)","v":""},{"$f":"IF('S4'!$U$18=\"\",\"\",'S4'!$U$18)","v":""},{"$f":"IF('S4'!$V$18=\"\",\"\",'S4'!$V$18)","v":""},{"$f":"IF('S4'!$W$18=\"\",\"\",'S4'!$W$18)","v":""},{"$f":"IF('S4'!$X$18=\"\",\"\",'S4'!$X$18)","v":""},{"$f":"IF('S4'!$Y$18=\"\",\"\",'S4'!$Y$18)","v":""},{"$f":"IF('S4'!$Z$18=\"\",\"\",'S4'!$Z$18)","v":""}]
[null,{"$f":"IF('S4'!$Q$18=\"\",\"\",\"erreicht\")","v":""},null,null,{"$f":"IF(VLOOKUP(B144,'S4'!$B$23:$Z$57,16,FALSE)=\"\",\"\",VLOOKUP(B144,'S4'!$B$23:$Z$57,16,FALSE))","v":""},{"$f":"IF(VLOOKUP(B144,'S4'!$B$23:$Z$57,17,FALSE)=\"\",\"\",VLOOKUP(B144,'S4'!$B$23:$Z$57,17,FALSE))","v":""},{"$f":"IF(VLOOKUP(B144,'S4'!$B$23:$Z$57,18,FALSE)=\"\",\"\",VLOOKUP(B144,'S4'!$B$23:$Z$57,18,FALSE))","v":""},{"$f":"IF(VLOOKUP(B144,'S4'!$B$23:$Z$57,19,FALSE)=\"\",\"\",VLOOKUP(B144,'S4'!$B$23:$Z$57,19,FALSE))","v":""},{"$f":"IF(VLOOKUP(B144,'S4'!$B$23:$Z$57,20,FALSE)=\"\",\"\",VLOOKUP(B144,'S4'!$B$23:$Z$57,20,FALSE))","v":""},{"$f":"IF(VLOOKUP(B144,'S4'!$B$23:$Z$57,21,FALSE)=\"\",\"\",VLOOKUP(B144,'S4'!$B$23:$Z$57,21,FALSE))","v":""},{"$f":"IF(VLOOKUP(B144,'S4'!$B$23:$Z$57,22,FALSE)=\"\",\"\",VLOOKUP(B144,'S4'!$B$23:$Z$57,22,FALSE))","v":""},{"$f":"IF(VLOOKUP(B144,'S4'!$B$23:$Z$57,23,FALSE)=\"\",\"\",VLOOKUP(B144,'S4'!$B$23:$Z$57,23,FALSE))","v":""},{"$f":"IF(VLOOKUP(B144,'S4'!$B$23:$Z$57,24,FALSE)=\"\",\"\",VLOOKUP(B144,'S4'!$B$23:$Z$57,24,FALSE))","v":""},{"$f":"IF(VLOOKUP(B144,'S4'!$B$23:$Z$57,25,FALSE)=\"\",\"\",VLOOKUP(B144,'S4'!$B$23:$Z$57,25,FALSE))","v":""},null,"Note",null,null,null,null,{"$f":"IF('S4'!$Q$18=\"\",\"\",\"erreicht\")","v":""},null,null,{"$f":"IF(VLOOKUP(U144,'S4'!$B$23:$Z$57,16,FALSE)=\"\",\"\",VLOOKUP(U144,'S4'!$B$23:$Z$57,16,FALSE))","v":""},{"$f":"IF(VLOOKUP(U144,'S4'!$B$23:$Z$57,17,FALSE)=\"\",\"\",VLOOKUP(U144,'S4'!$B$23:$Z$57,17,FALSE))","v":""},{"$f":"IF(VLOOKUP(U144,'S4'!$B$23:$Z$57,18,FALSE)=\"\",\"\",VLOOKUP(U144,'S4'!$B$23:$Z$57,18,FALSE))","v":""},{"$f":"IF(VLOOKUP(U144,'S4'!$B$23:$Z$57,19,FALSE)=\"\",\"\",VLOOKUP(U144,'S4'!$B$23:$Z$57,19,FALSE))","v":""},{"$f":"IF(VLOOKUP(U144,'S4'!$B$23:$Z$57,20,FALSE)=\"\",\"\",VLOOKUP(U144,'S4'!$B$23:$Z$57,20,FALSE))","v":""},{"$f":"IF(VLOOKUP(U144,'S4'!$B$23:$Z$57,21,FALSE)=\"\",\"\",VLOOKUP(U144,'S4'!$B$23:$Z$57,21,FALSE))","v":""},{"$f":"IF(VLOOKUP(U144,'S4'!$B$23:$Z$57,22,FALSE)=\"\",\"\",VLOOKUP(U144,'S4'!$B$23:$Z$57,22,FALSE))","v":""},{"$f":"IF(VLOOKUP(U144,'S4'!$B$23:$Z$57,23,FALSE)=\"\",\"\",VLOOKUP(U144,'S4'!$B$23:$Z$57,23,FALSE))","v":""},{"$f":"IF(VLOOKUP(U144,'S4'!$B$23:$Z$57,24,FALSE)=\"\",\"\",VLOOKUP(U144,'S4'!$B$23:$Z$57,24,FALSE))","v":""},{"$f":"IF(VLOOKUP(U144,'S4'!$B$23:$Z$57,25,FALSE)=\"\",\"\",VLOOKUP(U144,'S4'!$B$23:$Z$57,25,FALSE))","v":""},null,"Note"]
[null,{"$f":"IF('S4'!$Q$18=\"\",\"\",\"von\")","v":""},null,null,{"$f":"IF('S4'!$Q$21=\"\",\"\",'S4'!$Q$21)","v":""},{"$f":"IF('S4'!$R$21=\"\",\"\",'S4'!$R$21)","v":""},{"$f":"IF('S4'!$S$21=\"\",\"\",'S4'!$S$21)","v":""},{"$f":"IF('S4'!$T$21=\"\",\"\",'S4'!$T$21)","v":""},{"$f":"IF('S4'!$U$21=\"\",\"\",'S4'!$U$21)","v":""},{"$f":"IF('S4'!$V$21=\"\",\"\",'S4'!$V$21)","v":""},{"$f":"IF('S4'!$W$21=\"\",\"\",'S4'!$W$21)","v":""},{"$f":"IF('S4'!$X$21=\"\",\"\",'S4'!$X$21)","v":""},{"$f":"IF('S4'!$Y$21=\"\",\"\",'S4'!$Y$21)","v":""},{"$f":"IF('S4'!$Z$21=\"\",\"\",'S4'!$Z$21)","v":""},null,{"$f":"IF(VLOOKUP(B144,'S4'!$B$23:$Z$57,2,FALSE)=\"\",\"\",CONCATENATE(VLOOKUP(B144,'S4'!$B$23:$Z$57,2,FALSE),\" \",VLOOKUP(B144,'S4'!$B$23:$Z$57,3,FALSE)))","v":"- "},null,null,null,null,{"$f":"IF('S4'!$Q$18=\"\",\"\",\"von\")","v":""},null,null,{"$f":"IF('S4'!$Q$21=\"\",\"\",'S4'!$Q$21)","v":""},{"$f":"IF('S4'!$R$21=\"\",\"\",'S4'!$R$21)","v":""},{"$f":"IF('S4'!$S$21=\"\",\"\",'S4'!$S$21)","v":""},{"$f":"IF('S4'!$T$21=\"\",\"\",'S4'!$T$21)","v":""},{"$f":"IF('S4'!$U$21=\"\",\"\",'S4'!$U$21)","v":""},{"$f":"IF('S4'!$V$21=\"\",\"\",'S4'!$V$21)","v":""},{"$f":"IF('S4'!$W$21=\"\",\"\",'S4'!$W$21)","v":""},{"$f":"IF('S4'!$X$21=\"\",\"\",'S4'!$X$21)","v":""},{"$f":"IF('S4'!$Y$21=\"\",\"\",'S4'!$Y$21)","v":""},{"$f":"IF('S4'!$Z$21=\"\",\"\",'S4'!$Z$21)","v":""},null,{"$f":"IF(VLOOKUP(U144,'S4'!$B$23:$Z$57,2,FALSE)=\"\",\"\",CONCATENATE(VLOOKUP(U144,'S4'!$B$23:$Z$57,2,FALSE),\" \",VLOOKUP(U144,'S4'!$B$23:$Z$57,3,FALSE)))","v":"- "}]
[]
[]
[]
[null,{"$f":"'S4'!$B$49","v":""},null,null,null,null,null,null,null,null,null,null,null,null,null,null,null,null,null,null,{"$f":"'S4'!$B$50","v":""}]
[null,null,null,null,null,null,null,null,null,null,null,null,null,null,null,"Summe",null,null,null,null,null,null,null,null,null,null,null,null,null,null,null,null,null,null,"Summe"]
[null,"Aufgabe",null,null,{"$f":"IF('S4'!$G$18=\"\",\"\",'S4'!$G$18)","v":1},{"$f":"IF('S4'!$H$18=\"\",\"\",'S4'!$H$18)","v":2},{"$f":"IF('S4'!$I$18=\"\",\"\",'S4'!$I$18)","v":3},{"$f":"IF('S4'!$J$18=\"\",\"\",'S4'!$J$18)","v":""},{"$f":"IF('S4'!$K$18=\"\",\"\",'S4'!$K$18)","v":""},{"$f":"IF('S4'!$L$18=\"\",\"\",'S4'!$L$18)","v":""},{"$f":"IF('S4'!$M$18=\"\",\"\",'S4'!$M$18)","v":""},{"$f":"IF('S4'!$N$18=\"\",\"\",'S4'!$N$18)","v":""},{"$f":"IF('S4'!$O$18=\"\",\"\",'S4'!$O$18)","v":""},{"$f":"IF('S4'!$P$18=\"\",\"\",'S4'!$P$18)","v":""},null,{"$f":"IF(VLOOKUP(B156,'S4'!$B$23:$Z$57,5,FALSE)=\"\",\"\",VLOOKUP(B156,'S4'!$B$23:$Z$57,5,FALSE))","v":0},null,null,null,null,"Aufgabe",null,null,{"$f":"IF('S4'!$G$18=\"\",\"\",'S4'!$G$18)","v":1},{"$f":"IF('S4'!$H$18=\"\",\"\",'S4'!$H$18)","v":2},{"$f":"IF('S4'!$I$18=\"\",\"\",'S4'!$I$18)","v":3},{"$f":"IF('S4'!$J$18=\"\",\"\",'S4'!$J$18)","v":""},{"$f":"IF('S4'!$K$18=\"\",\"\",'S4'!$K$18)","v":""},{"$f":"IF('S4'!$L$18=\"\",\"\",'S4'!$L$18)","v":""},{"$f":"IF('S4'!$M$18=\"\",\"\",'S4'!$M$18)","v":""},{"$f":"IF('S4'!$N$18=\"\",\"\",'S4'!$N$18)","v":""},{"$f":"IF('S4'!$O$18=\"\",\"\",'S4'!$O$18)","v":""},{"$f":"IF('S4'!$P$18=\"\",\"\",'S4'!$P$18)","v":""},null,{"$f":"IF(VLOOKUP(U156,'S4'!$B$23:$Z$57,5,FALSE)=\"\",\"\",VLOOKUP(U156,'S4'!$B$23:$Z$57,5,FALSE))","v":0}]
[null,"erreicht",null,null,{"$f":"IF(VLOOKUP(B156,'S4'!$B$23:$Z$57,6,FALSE)=\"\",\"\",VLOOKUP(B156,'S4'!$B$23:$Z$57,6,FALSE))","v":"."},{"$f":"IF(VLOOKUP(B156,'S4'!$B$23:$Z$57,7,FALSE)=\"\",\"\",VLOOKUP(B156,'S4'!$B$23:$Z$57,7,FALSE))","v":""},{"$f":"IF(VLOOKUP(B156,'S4'!$B$23:$Z$57,8,FALSE)=\"\",\"\",VLOOKUP(B156,'S4'!$B$23:$Z$57,8,FALSE))","v":""},{"$f":"IF(VLOOKUP(B156,'S4'!$B$23:$Z$57,9,FALSE)=\"\",\"\",VLOOKUP(B156,'S4'!$B$23:$Z$57,9,FALSE))","v":""},{"$f":"IF(VLOOKUP(B156,'S4'!$B$23:$Z$57,10,FALSE)=\"\",\"\",VLOOKUP(B156,'S4'!$B$23:$Z$57,10,FALSE))","v":""},{"$f":"IF(VLOOKUP(B156,'S4'!$B$23:$Z$57,11,FALSE)=\"\",\"\",VLOOKUP(B156,'S4'!$B$23:$Z$57,11,FALSE))","v":""},{"$f":"IF(VLOOKUP(B156,'S4'!$B$23:$Z$57,12,FALSE)=\"\",\"\",VLOOKUP(B156,'S4'!$B$23:$Z$57,12,FALSE))","v":""},{"$f":"IF(VLOOKUP(B156,'S4'!$B$23:$Z$57,13,FALSE)=\"\",\"\",VLOOKUP(B156,'S4'!$B$23:$Z$57,13,FALSE))","v":""},{"$f":"IF(VLOOKUP(B156,'S4'!$B$23:$Z$57,14,FALSE)=\"\",\"\",VLOOKUP(B156,'S4'!$B$23:$Z$57,14,FALSE))","v":""},{"$f":"IF(VLOOKUP(B156,'S4'!$B$23:$Z$57,15,FALSE)=\"\",\"\",VLOOKUP(B156,'S4'!$B$23:$Z$57,15,FALSE))","v":""},null,null,null,null,null,null,"erreicht",null,null,{"$f":"IF(VLOOKUP(U156,'S4'!$B$23:$Z$57,6,FALSE)=\"\",\"\",VLOOKUP(U156,'S4'!$B$23:$Z$57,6,FALSE))","v":"."},{"$f":"IF(VLOOKUP(U156,'S4'!$B$23:$Z$57,7,FALSE)=\"\",\"\",VLOOKUP(U156,'S4'!$B$23:$Z$57,7,FALSE))","v":""},{"$f":"IF(VLOOKUP(U156,'S4'!$B$23:$Z$57,8,FALSE)=\"\",\"\",VLOOKUP(U156,'S4'!$B$23:$Z$57,8,FALSE))","v":""},{"$f":"IF(VLOOKUP(U156,'S4'!$B$23:$Z$57,9,FALSE)=\"\",\"\",VLOOKUP(U156,'S4'!$B$23:$Z$57,9,FALSE))","v":""},{"$f":"IF(VLOOKUP(U156,'S4'!$B$23:$Z$57,10,FALSE)=\"\",\"\",VLOOKUP(U156,'S4'!$B$23:$Z$57,10,FALSE))","v":""},{"$f":"IF(VLOOKUP(U156,'S4'!$B$23:$Z$57,11,FALSE)=\"\",\"\",VLOOKUP(U156,'S4'!$B$23:$Z$57,11,FALSE))","v":""},{"$f":"IF(VLOOKUP(U156,'S4'!$B$23:$Z$57,12,FALSE)=\"\",\"\",VLOOKUP(U156,'S4'!$B$23:$Z$57,12,FALSE))","v":""},{"$f":"IF(VLOOKUP(U156,'S4'!$B$23:$Z$57,13,FALSE)=\"\",\"\",VLOOKUP(U156,'S4'!$B$23:$Z$57,13,FALSE))","v":""},{"$f":"IF(VLOOKUP(U156,'S4'!$B$23:$Z$57,14,FALSE)=\"\",\"\",VLOOKUP(U156,'S4'!$B$23:$Z$57,14,FALSE))","v":""},{"$f":"IF(VLOOKUP(U156,'S4'!$B$23:$Z$57,15,FALSE)=\"\",\"\",VLOOKUP(U156,'S4'!$B$23:$Z$57,15,FALSE))","v":""}]
[null,"von",null,null,{"$f":"IF('S4'!$G$21=\"\",\"\",'S4'!$G$21)","v":""},{"$f":"IF('S4'!$H$21=\"\",\"\",'S4'!$H$21)","v":""},{"$f":"IF('S4'!$I$21=\"\",\"\",'S4'!$I$21)","v":""},{"$f":"IF('S4'!$J$21=\"\",\"\",'S4'!$J$21)","v":""},{"$f":"IF('S4'!$K$21=\"\",\"\",'S4'!$K$21)","v":""},{"$f":"IF('S4'!$L$21=\"\",\"\",'S4'!$L$21)","v":""},{"$f":"IF('S4'!$M$21=\"\",\"\",'S4'!$M$21)","v":""},{"$f":"IF('S4'!$N$21=\"\",\"\",'S4'!$N$21)","v":""},{"$f":"IF('S4'!$O$21=\"\",\"\",'S4'!$O$21)","v":""},{"$f":"IF('S4'!$P$21=\"\",\"\",'S4'!$P$21)","v":""},null,"von",null,null,null,null,"von",null,null,{"$f":"IF('S4'!$G$21=\"\",\"\",'S4'!$G$21)","v":""},{"$f":"IF('S4'!$H$21=\"\",\"\",'S4'!$H$21)","v":""},{"$f":"IF('S4'!$I$21=\"\",\"\",'S4'!$I$21)","v":""},{"$f":"IF('S4'!$J$21=\"\",\"\",'S4'!$J$21)","v":""},{"$f":"IF('S4'!$K$21=\"\",\"\",'S4'!$K$21)","v":""},{"$f":"IF('S4'!$L$21=\"\",\"\",'S4'!$L$21)","v":""},{"$f":"IF('S4'!$M$21=\"\",\"\",'S4'!$M$21)","v":""},{"$f":"IF('S4'!$N$21=\"\",\"\",'S4'!$N$21)","v":""},{"$f":"IF('S4'!$O$21=\"\",\"\",'S4'!$O$21)","v":""},{"$f":"IF('S4'!$P$21=\"\",\"\",'S4'!$P$21)","v":""},null,"von"]
[null,null,null,null,null,null,null,null,null,null,null,null,null,null,null,{"$f":"'S4'!$H$12","v":0},null,null,null,null,null,null,null,null,null,null,null,null,null,null,null,null,null,null,{"$f":"'S4'!$H$12","v":0}]
[null,{"$f":"IF('S4'!$Q$18=\"\",\"\",\"Aufgabe\")","v":""},null,null,{"$f":"IF('S4'!$Q$18=\"\",\"\",'S4'!$Q$18)","v":""},{"$f":"IF('S4'!$R$18=\"\",\"\",'S4'!$R$18)","v":""},{"$f":"IF('S4'!$S$18=\"\",\"\",'S4'!$S$18)","v":""},{"$f":"IF('S4'!$T$18=\"\",\"\",'S4'!$T$18)","v":""},{"$f":"IF('S4'!$U$18=\"\",\"\",'S4'!$U$18)","v":""},{"$f":"IF('S4'!$V$18=\"\",\"\",'S4'!$V$18)","v":""},{"$f":"IF('S4'!$W$18=\"\",\"\",'S4'!$W$18)","v":""},{"$f":"IF('S4'!$X$18=\"\",\"\",'S4'!$X$18)","v":""},{"$f":"IF('S4'!$Y$18=\"\",\"\",'S4'!$Y$18)","v":""},{"$f":"IF('S4'!$Z$18=\"\",\"\",'S4'!$Z$18)","v":""},null,null,null,null,null,null,{"$f":"IF('S4'!$Q$18=\"\",\"\",\"Aufgabe\")","v":""},null,null,{"$f":"IF('S4'!$Q$18=\"\",\"\",'S4'!$Q$18)","v":""},{"$f":"IF('S4'!$R$18=\"\",\"\",'S4'!$R$18)","v":""},{"$f":"IF('S4'!$S$18=\"\",\"\",'S4'!$S$18)","v":""},{"$f":"IF('S4'!$T$18=\"\",\"\",'S4'!$T$18)","v":""},{"$f":"IF('S4'!$U$18=\"\",\"\",'S4'!$U$18)","v":""},{"$f":"IF('S4'!$V$18=\"\",\"\",'S4'!$V$18)","v":""},{"$f":"IF('S4'!$W$18=\"\",\"\",'S4'!$W$18)","v":""},{"$f":"IF('S4'!$X$18=\"\",\"\",'S4'!$X$18)","v":""},{"$f":"IF('S4'!$Y$18=\"\",\"\",'S4'!$Y$18)","v":""},{"$f":"IF('S4'!$Z$18=\"\",\"\",'S4'!$Z$18)","v":""}]
[null,{"$f":"IF('S4'!$Q$18=\"\",\"\",\"erreicht\")","v":""},null,null,{"$f":"IF(VLOOKUP(B156,'S4'!$B$23:$Z$57,16,FALSE)=\"\",\"\",VLOOKUP(B156,'S4'!$B$23:$Z$57,16,FALSE))","v":""},{"$f":"IF(VLOOKUP(B156,'S4'!$B$23:$Z$57,17,FALSE)=\"\",\"\",VLOOKUP(B156,'S4'!$B$23:$Z$57,17,FALSE))","v":""},{"$f":"IF(VLOOKUP(B156,'S4'!$B$23:$Z$57,18,FALSE)=\"\",\"\",VLOOKUP(B156,'S4'!$B$23:$Z$57,18,FALSE))","v":""},{"$f":"IF(VLOOKUP(B156,'S4'!$B$23:$Z$57,19,FALSE)=\"\",\"\",VLOOKUP(B156,'S4'!$B$23:$Z$57,19,FALSE))","v":""},{"$f":"IF(VLOOKUP(B156,'S4'!$B$23:$Z$57,20,FALSE)=\"\",\"\",VLOOKUP(B156,'S4'!$B$23:$Z$57,20,FALSE))","v":""},{"$f":"IF(VLOOKUP(B156,'S4'!$B$23:$Z$57,21,FALSE)=\"\",\"\",VLOOKUP(B156,'S4'!$B$23:$Z$57,21,FALSE))","v":""},{"$f":"IF(VLOOKUP(B156,'S4'!$B$23:$Z$57,22,FALSE)=\"\",\"\",VLOOKUP(B156,'S4'!$B$23:$Z$57,22,FALSE))","v":""},{"$f":"IF(VLOOKUP(B156,'S4'!$B$23:$Z$57,23,FALSE)=\"\",\"\",VLOOKUP(B156,'S4'!$B$23:$Z$57,23,FALSE))","v":""},{"$f":"IF(VLOOKUP(B156,'S4'!$B$23:$Z$57,24,FALSE)=\"\",\"\",VLOOKUP(B156,'S4'!$B$23:$Z$57,24,FALSE))","v":""},{"$f":"IF(VLOOKUP(B156,'S4'!$B$23:$Z$57,25,FALSE)=\"\",\"\",VLOOKUP(B156,'S4'!$B$23:$Z$57,25,FALSE))","v":""},null,"Note",null,null,null,null,{"$f":"IF('S4'!$Q$18=\"\",\"\",\"erreicht\")","v":""},null,null,{"$f":"IF(VLOOKUP(U156,'S4'!$B$23:$Z$57,16,FALSE)=\"\",\"\",VLOOKUP(U156,'S4'!$B$23:$Z$57,16,FALSE))","v":""},{"$f":"IF(VLOOKUP(U156,'S4'!$B$23:$Z$57,17,FALSE)=\"\",\"\",VLOOKUP(U156,'S4'!$B$23:$Z$57,17,FALSE))","v":""},{"$f":"IF(VLOOKUP(U156,'S4'!$B$23:$Z$57,18,FALSE)=\"\",\"\",VLOOKUP(U156,'S4'!$B$23:$Z$57,18,FALSE))","v":""},{"$f":"IF(VLOOKUP(U156,'S4'!$B$23:$Z$57,19,FALSE)=\"\",\"\",VLOOKUP(U156,'S4'!$B$23:$Z$57,19,FALSE))","v":""},{"$f":"IF(VLOOKUP(U156,'S4'!$B$23:$Z$57,20,FALSE)=\"\",\"\",VLOOKUP(U156,'S4'!$B$23:$Z$57,20,FALSE))","v":""},{"$f":"IF(VLOOKUP(U156,'S4'!$B$23:$Z$57,21,FALSE)=\"\",\"\",VLOOKUP(U156,'S4'!$B$23:$Z$57,21,FALSE))","v":""},{"$f":"IF(VLOOKUP(U156,'S4'!$B$23:$Z$57,22,FALSE)=\"\",\"\",VLOOKUP(U156,'S4'!$B$23:$Z$57,22,FALSE))","v":""},{"$f":"IF(VLOOKUP(U156,'S4'!$B$23:$Z$57,23,FALSE)=\"\",\"\",VLOOKUP(U156,'S4'!$B$23:$Z$57,23,FALSE))","v":""},{"$f":"IF(VLOOKUP(U156,'S4'!$B$23:$Z$57,24,FALSE)=\"\",\"\",VLOOKUP(U156,'S4'!$B$23:$Z$57,24,FALSE))","v":""},{"$f":"IF(VLOOKUP(U156,'S4'!$B$23:$Z$57,25,FALSE)=\"\",\"\",VLOOKUP(U156,'S4'!$B$23:$Z$57,25,FALSE))","v":""},null,"Note"]
[null,{"$f":"IF('S4'!$Q$18=\"\",\"\",\"von\")","v":""},null,null,{"$f":"IF('S4'!$Q$21=\"\",\"\",'S4'!$Q$21)","v":""},{"$f":"IF('S4'!$R$21=\"\",\"\",'S4'!$R$21)","v":""},{"$f":"IF('S4'!$S$21=\"\",\"\",'S4'!$S$21)","v":""},{"$f":"IF('S4'!$T$21=\"\",\"\",'S4'!$T$21)","v":""},{"$f":"IF('S4'!$U$21=\"\",\"\",'S4'!$U$21)","v":""},{"$f":"IF('S4'!$V$21=\"\",\"\",'S4'!$V$21)","v":""},{"$f":"IF('S4'!$W$21=\"\",\"\",'S4'!$W$21)","v":""},{"$f":"IF('S4'!$X$21=\"\",\"\",'S4'!$X$21)","v":""},{"$f":"IF('S4'!$Y$21=\"\",\"\",'S4'!$Y$21)","v":""},{"$f":"IF('S4'!$Z$21=\"\",\"\",'S4'!$Z$21)","v":""},null,{"$f":"IF(VLOOKUP(B156,'S4'!$B$23:$Z$57,2,FALSE)=\"\",\"\",CONCATENATE(VLOOKUP(B156,'S4'!$B$23:$Z$57,2,FALSE),\" \",VLOOKUP(B156,'S4'!$B$23:$Z$57,3,FALSE)))","v":"- "},null,null,null,null,{"$f":"IF('S4'!$Q$18=\"\",\"\",\"von\")","v":""},null,null,{"$f":"IF('S4'!$Q$21=\"\",\"\",'S4'!$Q$21)","v":""},{"$f":"IF('S4'!$R$21=\"\",\"\",'S4'!$R$21)","v":""},{"$f":"IF('S4'!$S$21=\"\",\"\",'S4'!$S$21)","v":""},{"$f":"IF('S4'!$T$21=\"\",\"\",'S4'!$T$21)","v":""},{"$f":"IF('S4'!$U$21=\"\",\"\",'S4'!$U$21)","v":""},{"$f":"IF('S4'!$V$21=\"\",\"\",'S4'!$V$21)","v":""},{"$f":"IF('S4'!$W$21=\"\",\"\",'S4'!$W$21)","v":""},{"$f":"IF('S4'!$X$21=\"\",\"\",'S4'!$X$21)","v":""},{"$f":"IF('S4'!$Y$21=\"\",\"\",'S4'!$Y$21)","v":""},{"$f":"IF('S4'!$Z$21=\"\",\"\",'S4'!$Z$21)","v":""},null,{"$f":"IF(VLOOKUP(U156,'S4'!$B$23:$Z$57,2,FALSE)=\"\",\"\",CONCATENATE(VLOOKUP(U156,'S4'!$B$23:$Z$57,2,FALSE),\" \",VLOOKUP(U156,'S4'!$B$23:$Z$57,3,FALSE)))","v":"- "}]
[]
[]
[]
[null,{"$f":"'S4'!$B$51","v":""},null,null,null,null,null,null,null,null,null,null,null,null,null,null,null,null,null,null,{"$f":"'S4'!$B$52","v":""}]
[null,null,null,null,null,null,null,null,null,null,null,null,null,null,null,"Summe",null,null,null,null,null,null,null,null,null,null,null,null,null,null,null,null,null,null,"Summe"]
[null,"Aufgabe",null,null,{"$f":"IF('S4'!$G$18=\"\",\"\",'S4'!$G$18)","v":1},{"$f":"IF('S4'!$H$18=\"\",\"\",'S4'!$H$18)","v":2},{"$f":"IF('S4'!$I$18=\"\",\"\",'S4'!$I$18)","v":3},{"$f":"IF('S4'!$J$18=\"\",\"\",'S4'!$J$18)","v":""},{"$f":"IF('S4'!$K$18=\"\",\"\",'S4'!$K$18)","v":""},{"$f":"IF('S4'!$L$18=\"\",\"\",'S4'!$L$18)","v":""},{"$f":"IF('S4'!$M$18=\"\",\"\",'S4'!$M$18)","v":""},{"$f":"IF('S4'!$N$18=\"\",\"\",'S4'!$N$18)","v":""},{"$f":"IF('S4'!$O$18=\"\",\"\",'S4'!$O$18)","v":""},{"$f":"IF('S4'!$P$18=\"\",\"\",'S4'!$P$18)","v":""},null,{"$f":"IF(VLOOKUP(B168,'S4'!$B$23:$Z$57,5,FALSE)=\"\",\"\",VLOOKUP(B168,'S4'!$B$23:$Z$57,5,FALSE))","v":0},null,null,null,null,"Aufgabe",null,null,{"$f":"IF('S4'!$G$18=\"\",\"\",'S4'!$G$18)","v":1},{"$f":"IF('S4'!$H$18=\"\",\"\",'S4'!$H$18)","v":2},{"$f":"IF('S4'!$I$18=\"\",\"\",'S4'!$I$18)","v":3},{"$f":"IF('S4'!$J$18=\"\",\"\",'S4'!$J$18)","v":""},{"$f":"IF('S4'!$K$18=\"\",\"\",'S4'!$K$18)","v":""},{"$f":"IF('S4'!$L$18=\"\",\"\",'S4'!$L$18)","v":""},{"$f":"IF('S4'!$M$18=\"\",\"\",'S4'!$M$18)","v":""},{"$f":"IF('S4'!$N$18=\"\",\"\",'S4'!$N$18)","v":""},{"$f":"IF('S4'!$O$18=\"\",\"\",'S4'!$O$18)","v":""},{"$f":"IF('S4'!$P$18=\"\",\"\",'S4'!$P$18)","v":""},null,{"$f":"IF(VLOOKUP(U168,'S4'!$B$23:$Z$57,5,FALSE)=\"\",\"\",VLOOKUP(U168,'S4'!$B$23:$Z$57,5,FALSE))","v":0}]
[null,"erreicht",null,null,{"$f":"IF(VLOOKUP(B168,'S4'!$B$23:$Z$57,6,FALSE)=\"\",\"\",VLOOKUP(B168,'S4'!$B$23:$Z$57,6,FALSE))","v":"."},{"$f":"IF(VLOOKUP(B168,'S4'!$B$23:$Z$57,7,FALSE)=\"\",\"\",VLOOKUP(B168,'S4'!$B$23:$Z$57,7,FALSE))","v":""},{"$f":"IF(VLOOKUP(B168,'S4'!$B$23:$Z$57,8,FALSE)=\"\",\"\",VLOOKUP(B168,'S4'!$B$23:$Z$57,8,FALSE))","v":""},{"$f":"IF(VLOOKUP(B168,'S4'!$B$23:$Z$57,9,FALSE)=\"\",\"\",VLOOKUP(B168,'S4'!$B$23:$Z$57,9,FALSE))","v":""},{"$f":"IF(VLOOKUP(B168,'S4'!$B$23:$Z$57,10,FALSE)=\"\",\"\",VLOOKUP(B168,'S4'!$B$23:$Z$57,10,FALSE))","v":""},{"$f":"IF(VLOOKUP(B168,'S4'!$B$23:$Z$57,11,FALSE)=\"\",\"\",VLOOKUP(B168,'S4'!$B$23:$Z$57,11,FALSE))","v":""},{"$f":"IF(VLOOKUP(B168,'S4'!$B$23:$Z$57,12,FALSE)=\"\",\"\",VLOOKUP(B168,'S4'!$B$23:$Z$57,12,FALSE))","v":""},{"$f":"IF(VLOOKUP(B168,'S4'!$B$23:$Z$57,13,FALSE)=\"\",\"\",VLOOKUP(B168,'S4'!$B$23:$Z$57,13,FALSE))","v":""},{"$f":"IF(VLOOKUP(B168,'S4'!$B$23:$Z$57,14,FALSE)=\"\",\"\",VLOOKUP(B168,'S4'!$B$23:$Z$57,14,FALSE))","v":""},{"$f":"IF(VLOOKUP(B168,'S4'!$B$23:$Z$57,15,FALSE)=\"\",\"\",VLOOKUP(B168,'S4'!$B$23:$Z$57,15,FALSE))","v":""},null,null,null,null,null,null,"erreicht",null,null,{"$f":"IF(VLOOKUP(U168,'S4'!$B$23:$Z$57,6,FALSE)=\"\",\"\",VLOOKUP(U168,'S4'!$B$23:$Z$57,6,FALSE))","v":"."},{"$f":"IF(VLOOKUP(U168,'S4'!$B$23:$Z$57,7,FALSE)=\"\",\"\",VLOOKUP(U168,'S4'!$B$23:$Z$57,7,FALSE))","v":""},{"$f":"IF(VLOOKUP(U168,'S4'!$B$23:$Z$57,8,FALSE)=\"\",\"\",VLOOKUP(U168,'S4'!$B$23:$Z$57,8,FALSE))","v":""},{"$f":"IF(VLOOKUP(U168,'S4'!$B$23:$Z$57,9,FALSE)=\"\",\"\",VLOOKUP(U168,'S4'!$B$23:$Z$57,9,FALSE))","v":""},{"$f":"IF(VLOOKUP(U168,'S4'!$B$23:$Z$57,10,FALSE)=\"\",\"\",VLOOKUP(U168,'S4'!$B$23:$Z$57,10,FALSE))","v":""},{"$f":"IF(VLOOKUP(U168,'S4'!$B$23:$Z$57,11,FALSE)=\"\",\"\",VLOOKUP(U168,'S4'!$B$23:$Z$57,11,FALSE))","v":""},{"$f":"IF(VLOOKUP(U168,'S4'!$B$23:$Z$57,12,FALSE)=\"\",\"\",VLOOKUP(U168,'S4'!$B$23:$Z$57,12,FALSE))","v":""},{"$f":"IF(VLOOKUP(U168,'S4'!$B$23:$Z$57,13,FALSE)=\"\",\"\",VLOOKUP(U168,'S4'!$B$23:$Z$57,13,FALSE))","v":""},{"$f":"IF(VLOOKUP(U168,'S4'!$B$23:$Z$57,14,FALSE)=\"\",\"\",VLOOKUP(U168,'S4'!$B$23:$Z$57,14,FALSE))","v":""},{"$f":"IF(VLOOKUP(U168,'S4'!$B$23:$Z$57,15,FALSE)=\"\",\"\",VLOOKUP(U168,'S4'!$B$23:$Z$57,15,FALSE))","v":""}]
[null,"von",null,null,{"$f":"IF('S4'!$G$21=\"\",\"\",'S4'!$G$21)","v":""},{"$f":"IF('S4'!$H$21=\"\",\"\",'S4'!$H$21)","v":""},{"$f":"IF('S4'!$I$21=\"\",\"\",'S4'!$I$21)","v":""},{"$f":"IF('S4'!$J$21=\"\",\"\",'S4'!$J$21)","v":""},{"$f":"IF('S4'!$K$21=\"\",\"\",'S4'!$K$21)","v":""},{"$f":"IF('S4'!$L$21=\"\",\"\",'S4'!$L$21)","v":""},{"$f":"IF('S4'!$M$21=\"\",\"\",'S4'!$M$21)","v":""},{"$f":"IF('S4'!$N$21=\"\",\"\",'S4'!$N$21)","v":""},{"$f":"IF('S4'!$O$21=\"\",\"\",'S4'!$O$21)","v":""},{"$f":"IF('S4'!$P$21=\"\",\"\",'S4'!$P$21)","v":""},null,"von",null,null,null,null,"von",null,null,{"$f":"IF('S4'!$G$21=\"\",\"\",'S4'!$G$21)","v":""},{"$f":"IF('S4'!$H$21=\"\",\"\",'S4'!$H$21)","v":""},{"$f":"IF('S4'!$I$21=\"\",\"\",'S4'!$I$21)","v":""},{"$f":"IF('S4'!$J$21=\"\",\"\",'S4'!$J$21)","v":""},{"$f":"IF('S4'!$K$21=\"\",\"\",'S4'!$K$21)","v":""},{"$f":"IF('S4'!$L$21=\"\",\"\",'S4'!$L$21)","v":""},{"$f":"IF('S4'!$M$21=\"\",\"\",'S4'!$M$21)","v":""},{"$f":"IF('S4'!$N$21=\"\",\"\",'S4'!$N$21)","v":""},{"$f":"IF('S4'!$O$21=\"\",\"\",'S4'!$O$21)","v":""},{"$f":"IF('S4'!$P$21=\"\",\"\",'S4'!$P$21)","v":""},null,"von"]
[null,null,null,null,null,null,null,null,null,null,null,null,null,null,null,{"$f":"'S4'!$H$12","v":0},null,null,null,null,null,null,null,null,null,null,null,null,null,null,null,null,null,null,{"$f":"'S4'!$H$12","v":0}]
[null,{"$f":"IF('S4'!$Q$18=\"\",\"\",\"Aufgabe\")","v":""},null,null,{"$f":"IF('S4'!$Q$18=\"\",\"\",'S4'!$Q$18)","v":""},{"$f":"IF('S4'!$R$18=\"\",\"\",'S4'!$R$18)","v":""},{"$f":"IF('S4'!$S$18=\"\",\"\",'S4'!$S$18)","v":""},{"$f":"IF('S4'!$T$18=\"\",\"\",'S4'!$T$18)","v":""},{"$f":"IF('S4'!$U$18=\"\",\"\",'S4'!$U$18)","v":""},{"$f":"IF('S4'!$V$18=\"\",\"\",'S4'!$V$18)","v":""},{"$f":"IF('S4'!$W$18=\"\",\"\",'S4'!$W$18)","v":""},{"$f":"IF('S4'!$X$18=\"\",\"\",'S4'!$X$18)","v":""},{"$f":"IF('S4'!$Y$18=\"\",\"\",'S4'!$Y$18)","v":""},{"$f":"IF('S4'!$Z$18=\"\",\"\",'S4'!$Z$18)","v":""},null,null,null,null,null,null,{"$f":"IF('S4'!$Q$18=\"\",\"\",\"Aufgabe\")","v":""},null,null,{"$f":"IF('S4'!$Q$18=\"\",\"\",'S4'!$Q$18)","v":""},{"$f":"IF('S4'!$R$18=\"\",\"\",'S4'!$R$18)","v":""},{"$f":"IF('S4'!$S$18=\"\",\"\",'S4'!$S$18)","v":""},{"$f":"IF('S4'!$T$18=\"\",\"\",'S4'!$T$18)","v":""},{"$f":"IF('S4'!$U$18=\"\",\"\",'S4'!$U$18)","v":""},{"$f":"IF('S4'!$V$18=\"\",\"\",'S4'!$V$18)","v":""},{"$f":"IF('S4'!$W$18=\"\",\"\",'S4'!$W$18)","v":""},{"$f":"IF('S4'!$X$18=\"\",\"\",'S4'!$X$18)","v":""},{"$f":"IF('S4'!$Y$18=\"\",\"\",'S4'!$Y$18)","v":""},{"$f":"IF('S4'!$Z$18=\"\",\"\",'S4'!$Z$18)","v":""}]
[null,{"$f":"IF('S4'!$Q$18=\"\",\"\",\"erreicht\")","v":""},null,null,{"$f":"IF(VLOOKUP(B168,'S4'!$B$23:$Z$57,16,FALSE)=\"\",\"\",VLOOKUP(B168,'S4'!$B$23:$Z$57,16,FALSE))","v":""},{"$f":"IF(VLOOKUP(B168,'S4'!$B$23:$Z$57,17,FALSE)=\"\",\"\",VLOOKUP(B168,'S4'!$B$23:$Z$57,17,FALSE))","v":""},{"$f":"IF(VLOOKUP(B168,'S4'!$B$23:$Z$57,18,FALSE)=\"\",\"\",VLOOKUP(B168,'S4'!$B$23:$Z$57,18,FALSE))","v":""},{"$f":"IF(VLOOKUP(B168,'S4'!$B$23:$Z$57,19,FALSE)=\"\",\"\",VLOOKUP(B168,'S4'!$B$23:$Z$57,19,FALSE))","v":""},{"$f":"IF(VLOOKUP(B168,'S4'!$B$23:$Z$57,20,FALSE)=\"\",\"\",VLOOKUP(B168,'S4'!$B$23:$Z$57,20,FALSE))","v":""},{"$f":"IF(VLOOKUP(B168,'S4'!$B$23:$Z$57,21,FALSE)=\"\",\"\",VLOOKUP(B168,'S4'!$B$23:$Z$57,21,FALSE))","v":""},{"$f":"IF(VLOOKUP(B168,'S4'!$B$23:$Z$57,22,FALSE)=\"\",\"\",VLOOKUP(B168,'S4'!$B$23:$Z$57,22,FALSE))","v":""},{"$f":"IF(VLOOKUP(B168,'S4'!$B$23:$Z$57,23,FALSE)=\"\",\"\",VLOOKUP(B168,'S4'!$B$23:$Z$57,23,FALSE))","v":""},{"$f":"IF(VLOOKUP(B168,'S4'!$B$23:$Z$57,24,FALSE)=\"\",\"\",VLOOKUP(B168,'S4'!$B$23:$Z$57,24,FALSE))","v":""},{"$f":"IF(VLOOKUP(B168,'S4'!$B$23:$Z$57,25,FALSE)=\"\",\"\",VLOOKUP(B168,'S4'!$B$23:$Z$57,25,FALSE))","v":""},null,"Note",null,null,null,null,{"$f":"IF('S4'!$Q$18=\"\",\"\",\"erreicht\")","v":""},null,null,{"$f":"IF(VLOOKUP(U168,'S4'!$B$23:$Z$57,16,FALSE)=\"\",\"\",VLOOKUP(U168,'S4'!$B$23:$Z$57,16,FALSE))","v":""},{"$f":"IF(VLOOKUP(U168,'S4'!$B$23:$Z$57,17,FALSE)=\"\",\"\",VLOOKUP(U168,'S4'!$B$23:$Z$57,17,FALSE))","v":""},{"$f":"IF(VLOOKUP(U168,'S4'!$B$23:$Z$57,18,FALSE)=\"\",\"\",VLOOKUP(U168,'S4'!$B$23:$Z$57,18,FALSE))","v":""},{"$f":"IF(VLOOKUP(U168,'S4'!$B$23:$Z$57,19,FALSE)=\"\",\"\",VLOOKUP(U168,'S4'!$B$23:$Z$57,19,FALSE))","v":""},{"$f":"IF(VLOOKUP(U168,'S4'!$B$23:$Z$57,20,FALSE)=\"\",\"\",VLOOKUP(U168,'S4'!$B$23:$Z$57,20,FALSE))","v":""},{"$f":"IF(VLOOKUP(U168,'S4'!$B$23:$Z$57,21,FALSE)=\"\",\"\",VLOOKUP(U168,'S4'!$B$23:$Z$57,21,FALSE))","v":""},{"$f":"IF(VLOOKUP(U168,'S4'!$B$23:$Z$57,22,FALSE)=\"\",\"\",VLOOKUP(U168,'S4'!$B$23:$Z$57,22,FALSE))","v":""},{"$f":"IF(VLOOKUP(U168,'S4'!$B$23:$Z$57,23,FALSE)=\"\",\"\",VLOOKUP(U168,'S4'!$B$23:$Z$57,23,FALSE))","v":""},{"$f":"IF(VLOOKUP(U168,'S4'!$B$23:$Z$57,24,FALSE)=\"\",\"\",VLOOKUP(U168,'S4'!$B$23:$Z$57,24,FALSE))","v":""},{"$f":"IF(VLOOKUP(U168,'S4'!$B$23:$Z$57,25,FALSE)=\"\",\"\",VLOOKUP(U168,'S4'!$B$23:$Z$57,25,FALSE))","v":""},null,"Note"]
[null,{"$f":"IF('S4'!$Q$18=\"\",\"\",\"von\")","v":""},null,null,{"$f":"IF('S4'!$Q$21=\"\",\"\",'S4'!$Q$21)","v":""},{"$f":"IF('S4'!$R$21=\"\",\"\",'S4'!$R$21)","v":""},{"$f":"IF('S4'!$S$21=\"\",\"\",'S4'!$S$21)","v":""},{"$f":"IF('S4'!$T$21=\"\",\"\",'S4'!$T$21)","v":""},{"$f":"IF('S4'!$U$21=\"\",\"\",'S4'!$U$21)","v":""},{"$f":"IF('S4'!$V$21=\"\",\"\",'S4'!$V$21)","v":""},{"$f":"IF('S4'!$W$21=\"\",\"\",'S4'!$W$21)","v":""},{"$f":"IF('S4'!$X$21=\"\",\"\",'S4'!$X$21)","v":""},{"$f":"IF('S4'!$Y$21=\"\",\"\",'S4'!$Y$21)","v":""},{"$f":"IF('S4'!$Z$21=\"\",\"\",'S4'!$Z$21)","v":""},null,{"$f":"IF(VLOOKUP(B168,'S4'!$B$23:$Z$57,2,FALSE)=\"\",\"\",CONCATENATE(VLOOKUP(B168,'S4'!$B$23:$Z$57,2,FALSE),\" \",VLOOKUP(B168,'S4'!$B$23:$Z$57,3,FALSE)))","v":"- "},null,null,null,null,{"$f":"IF('S4'!$Q$18=\"\",\"\",\"von\")","v":""},null,null,{"$f":"IF('S4'!$Q$21=\"\",\"\",'S4'!$Q$21)","v":""},{"$f":"IF('S4'!$R$21=\"\",\"\",'S4'!$R$21)","v":""},{"$f":"IF('S4'!$S$21=\"\",\"\",'S4'!$S$21)","v":""},{"$f":"IF('S4'!$T$21=\"\",\"\",'S4'!$T$21)","v":""},{"$f":"IF('S4'!$U$21=\"\",\"\",'S4'!$U$21)","v":""},{"$f":"IF('S4'!$V$21=\"\",\"\",'S4'!$V$21)","v":""},{"$f":"IF('S4'!$W$21=\"\",\"\",'S4'!$W$21)","v":""},{"$f":"IF('S4'!$X$21=\"\",\"\",'S4'!$X$21)","v":""},{"$f":"IF('S4'!$Y$21=\"\",\"\",'S4'!$Y$21)","v":""},{"$f":"IF('S4'!$Z$21=\"\",\"\",'S4'!$Z$21)","v":""},null,{"$f":"IF(VLOOKUP(U168,'S4'!$B$23:$Z$57,2,FALSE)=\"\",\"\",CONCATENATE(VLOOKUP(U168,'S4'!$B$23:$Z$57,2,FALSE),\" \",VLOOKUP(U168,'S4'!$B$23:$Z$57,3,FALSE)))","v":"- "}]
[]
[]
[]
[null,{"$f":"'S4'!$B$53","v":""},null,null,null,null,null,null,null,null,null,null,null,null,null,null,null,null,null,null,{"$f":"'S4'!$B$54","v":""}]
[null,null,null,null,null,null,null,null,null,null,null,null,null,null,null,"Summe",null,null,null,null,null,null,null,null,null,null,null,null,null,null,null,null,null,null,"Summe"]
[null,"Aufgabe",null,null,{"$f":"IF('S4'!$G$18=\"\",\"\",'S4'!$G$18)","v":1},{"$f":"IF('S4'!$H$18=\"\",\"\",'S4'!$H$18)","v":2},{"$f":"IF('S4'!$I$18=\"\",\"\",'S4'!$I$18)","v":3},{"$f":"IF('S4'!$J$18=\"\",\"\",'S4'!$J$18)","v":""},{"$f":"IF('S4'!$K$18=\"\",\"\",'S4'!$K$18)","v":""},{"$f":"IF('S4'!$L$18=\"\",\"\",'S4'!$L$18)","v":""},{"$f":"IF('S4'!$M$18=\"\",\"\",'S4'!$M$18)","v":""},{"$f":"IF('S4'!$N$18=\"\",\"\",'S4'!$N$18)","v":""},{"$f":"IF('S4'!$O$18=\"\",\"\",'S4'!$O$18)","v":""},{"$f":"IF('S4'!$P$18=\"\",\"\",'S4'!$P$18)","v":""},null,{"$f":"IF(VLOOKUP(B180,'S4'!$B$23:$Z$57,5,FALSE)=\"\",\"\",VLOOKUP(B180,'S4'!$B$23:$Z$57,5,FALSE))","v":0},null,null,null,null,"Aufgabe",null,null,{"$f":"IF('S4'!$G$18=\"\",\"\",'S4'!$G$18)","v":1},{"$f":"IF('S4'!$H$18=\"\",\"\",'S4'!$H$18)","v":2},{"$f":"IF('S4'!$I$18=\"\",\"\",'S4'!$I$18)","v":3},{"$f":"IF('S4'!$J$18=\"\",\"\",'S4'!$J$18)","v":""},{"$f":"IF('S4'!$K$18=\"\",\"\",'S4'!$K$18)","v":""},{"$f":"IF('S4'!$L$18=\"\",\"\",'S4'!$L$18)","v":""},{"$f":"IF('S4'!$M$18=\"\",\"\",'S4'!$M$18)","v":""},{"$f":"IF('S4'!$N$18=\"\",\"\",'S4'!$N$18)","v":""},{"$f":"IF('S4'!$O$18=\"\",\"\",'S4'!$O$18)","v":""},{"$f":"IF('S4'!$P$18=\"\",\"\",'S4'!$P$18)","v":""},null,{"$f":"IF(VLOOKUP(U180,'S4'!$B$23:$Z$57,5,FALSE)=\"\",\"\",VLOOKUP(U180,'S4'!$B$23:$Z$57,5,FALSE))","v":0}]
[null,"erreicht",null,null,{"$f":"IF(VLOOKUP(B180,'S4'!$B$23:$Z$57,6,FALSE)=\"\",\"\",VLOOKUP(B180,'S4'!$B$23:$Z$57,6,FALSE))","v":"."},{"$f":"IF(VLOOKUP(B180,'S4'!$B$23:$Z$57,7,FALSE)=\"\",\"\",VLOOKUP(B180,'S4'!$B$23:$Z$57,7,FALSE))","v":""},{"$f":"IF(VLOOKUP(B180,'S4'!$B$23:$Z$57,8,FALSE)=\"\",\"\",VLOOKUP(B180,'S4'!$B$23:$Z$57,8,FALSE))","v":""},{"$f":"IF(VLOOKUP(B180,'S4'!$B$23:$Z$57,9,FALSE)=\"\",\"\",VLOOKUP(B180,'S4'!$B$23:$Z$57,9,FALSE))","v":""},{"$f":"IF(VLOOKUP(B180,'S4'!$B$23:$Z$57,10,FALSE)=\"\",\"\",VLOOKUP(B180,'S4'!$B$23:$Z$57,10,FALSE))","v":""},{"$f":"IF(VLOOKUP(B180,'S4'!$B$23:$Z$57,11,FALSE)=\"\",\"\",VLOOKUP(B180,'S4'!$B$23:$Z$57,11,FALSE))","v":""},{"$f":"IF(VLOOKUP(B180,'S4'!$B$23:$Z$57,12,FALSE)=\"\",\"\",VLOOKUP(B180,'S4'!$B$23:$Z$57,12,FALSE))","v":""},{"$f":"IF(VLOOKUP(B180,'S4'!$B$23:$Z$57,13,FALSE)=\"\",\"\",VLOOKUP(B180,'S4'!$B$23:$Z$57,13,FALSE))","v":""},{"$f":"IF(VLOOKUP(B180,'S4'!$B$23:$Z$57,14,FALSE)=\"\",\"\",VLOOKUP(B180,'S4'!$B$23:$Z$57,14,FALSE))","v":""},{"$f":"IF(VLOOKUP(B180,'S4'!$B$23:$Z$57,15,FALSE)=\"\",\"\",VLOOKUP(B180,'S4'!$B$23:$Z$57,15,FALSE))","v":""},null,null,null,null,null,null,"erreicht",null,null,{"$f":"IF(VLOOKUP(U180,'S4'!$B$23:$Z$57,6,FALSE)=\"\",\"\",VLOOKUP(U180,'S4'!$B$23:$Z$57,6,FALSE))","v":"."},{"$f":"IF(VLOOKUP(U180,'S4'!$B$23:$Z$57,7,FALSE)=\"\",\"\",VLOOKUP(U180,'S4'!$B$23:$Z$57,7,FALSE))","v":""},{"$f":"IF(VLOOKUP(U180,'S4'!$B$23:$Z$57,8,FALSE)=\"\",\"\",VLOOKUP(U180,'S4'!$B$23:$Z$57,8,FALSE))","v":""},{"$f":"IF(VLOOKUP(U180,'S4'!$B$23:$Z$57,9,FALSE)=\"\",\"\",VLOOKUP(U180,'S4'!$B$23:$Z$57,9,FALSE))","v":""},{"$f":"IF(VLOOKUP(U180,'S4'!$B$23:$Z$57,10,FALSE)=\"\",\"\",VLOOKUP(U180,'S4'!$B$23:$Z$57,10,FALSE))","v":""},{"$f":"IF(VLOOKUP(U180,'S4'!$B$23:$Z$57,11,FALSE)=\"\",\"\",VLOOKUP(U180,'S4'!$B$23:$Z$57,11,FALSE))","v":""},{"$f":"IF(VLOOKUP(U180,'S4'!$B$23:$Z$57,12,FALSE)=\"\",\"\",VLOOKUP(U180,'S4'!$B$23:$Z$57,12,FALSE))","v":""},{"$f":"IF(VLOOKUP(U180,'S4'!$B$23:$Z$57,13,FALSE)=\"\",\"\",VLOOKUP(U180,'S4'!$B$23:$Z$57,13,FALSE))","v":""},{"$f":"IF(VLOOKUP(U180,'S4'!$B$23:$Z$57,14,FALSE)=\"\",\"\",VLOOKUP(U180,'S4'!$B$23:$Z$57,14,FALSE))","v":""},{"$f":"IF(VLOOKUP(U180,'S4'!$B$23:$Z$57,15,FALSE)=\"\",\"\",VLOOKUP(U180,'S4'!$B$23:$Z$57,15,FALSE))","v":""}]
[null,"von",null,null,{"$f":"IF('S4'!$G$21=\"\",\"\",'S4'!$G$21)","v":""},{"$f":"IF('S4'!$H$21=\"\",\"\",'S4'!$H$21)","v":""},{"$f":"IF('S4'!$I$21=\"\",\"\",'S4'!$I$21)","v":""},{"$f":"IF('S4'!$J$21=\"\",\"\",'S4'!$J$21)","v":""},{"$f":"IF('S4'!$K$21=\"\",\"\",'S4'!$K$21)","v":""},{"$f":"IF('S4'!$L$21=\"\",\"\",'S4'!$L$21)","v":""},{"$f":"IF('S4'!$M$21=\"\",\"\",'S4'!$M$21)","v":""},{"$f":"IF('S4'!$N$21=\"\",\"\",'S4'!$N$21)","v":""},{"$f":"IF('S4'!$O$21=\"\",\"\",'S4'!$O$21)","v":""},{"$f":"IF('S4'!$P$21=\"\",\"\",'S4'!$P$21)","v":""},null,"von",null,null,null,null,"von",null,null,{"$f":"IF('S4'!$G$21=\"\",\"\",'S4'!$G$21)","v":""},{"$f":"IF('S4'!$H$21=\"\",\"\",'S4'!$H$21)","v":""},{"$f":"IF('S4'!$I$21=\"\",\"\",'S4'!$I$21)","v":""},{"$f":"IF('S4'!$J$21=\"\",\"\",'S4'!$J$21)","v":""},{"$f":"IF('S4'!$K$21=\"\",\"\",'S4'!$K$21)","v":""},{"$f":"IF('S4'!$L$21=\"\",\"\",'S4'!$L$21)","v":""},{"$f":"IF('S4'!$M$21=\"\",\"\",'S4'!$M$21)","v":""},{"$f":"IF('S4'!$N$21=\"\",\"\",'S4'!$N$21)","v":""},{"$f":"IF('S4'!$O$21=\"\",\"\",'S4'!$O$21)","v":""},{"$f":"IF('S4'!$P$21=\"\",\"\",'S4'!$P$21)","v":""},null,"von"]
[null,null,null,null,null,null,null,null,null,null,null,null,null,null,null,{"$f":"'S4'!$H$12","v":0},null,null,null,null,null,null,null,null,null,null,null,null,null,null,null,null,null,null,{"$f":"'S4'!$H$12","v":0}]
[null,{"$f":"IF('S4'!$Q$18=\"\",\"\",\"Aufgabe\")","v":""},null,null,{"$f":"IF('S4'!$Q$18=\"\",\"\",'S4'!$Q$18)","v":""},{"$f":"IF('S4'!$R$18=\"\",\"\",'S4'!$R$18)","v":""},{"$f":"IF('S4'!$S$18=\"\",\"\",'S4'!$S$18)","v":""},{"$f":"IF('S4'!$T$18=\"\",\"\",'S4'!$T$18)","v":""},{"$f":"IF('S4'!$U$18=\"\",\"\",'S4'!$U$18)","v":""},{"$f":"IF('S4'!$V$18=\"\",\"\",'S4'!$V$18)","v":""},{"$f":"IF('S4'!$W$18=\"\",\"\",'S4'!$W$18)","v":""},{"$f":"IF('S4'!$X$18=\"\",\"\",'S4'!$X$18)","v":""},{"$f":"IF('S4'!$Y$18=\"\",\"\",'S4'!$Y$18)","v":""},{"$f":"IF('S4'!$Z$18=\"\",\"\",'S4'!$Z$18)","v":""},null,null,null,null,null,null,{"$f":"IF('S4'!$Q$18=\"\",\"\",\"Aufgabe\")","v":""},null,null,{"$f":"IF('S4'!$Q$18=\"\",\"\",'S4'!$Q$18)","v":""},{"$f":"IF('S4'!$R$18=\"\",\"\",'S4'!$R$18)","v":""},{"$f":"IF('S4'!$S$18=\"\",\"\",'S4'!$S$18)","v":""},{"$f":"IF('S4'!$T$18=\"\",\"\",'S4'!$T$18)","v":""},{"$f":"IF('S4'!$U$18=\"\",\"\",'S4'!$U$18)","v":""},{"$f":"IF('S4'!$V$18=\"\",\"\",'S4'!$V$18)","v":""},{"$f":"IF('S4'!$W$18=\"\",\"\",'S4'!$W$18)","v":""},{"$f":"IF('S4'!$X$18=\"\",\"\",'S4'!$X$18)","v":""},{"$f":"IF('S4'!$Y$18=\"\",\"\",'S4'!$Y$18)","v":""},{"$f":"IF('S4'!$Z$18=\"\",\"\",'S4'!$Z$18)","v":""}]
[null,{"$f":"IF('S4'!$Q$18=\"\",\"\",\"erreicht\")","v":""},null,null,{"$f":"IF(VLOOKUP(B180,'S4'!$B$23:$Z$57,16,FALSE)=\"\",\"\",VLOOKUP(B180,'S4'!$B$23:$Z$57,16,FALSE))","v":""},{"$f":"IF(VLOOKUP(B180,'S4'!$B$23:$Z$57,17,FALSE)=\"\",\"\",VLOOKUP(B180,'S4'!$B$23:$Z$57,17,FALSE))","v":""},{"$f":"IF(VLOOKUP(B180,'S4'!$B$23:$Z$57,18,FALSE)=\"\",\"\",VLOOKUP(B180,'S4'!$B$23:$Z$57,18,FALSE))","v":""},{"$f":"IF(VLOOKUP(B180,'S4'!$B$23:$Z$57,19,FALSE)=\"\",\"\",VLOOKUP(B180,'S4'!$B$23:$Z$57,19,FALSE))","v":""},{"$f":"IF(VLOOKUP(B180,'S4'!$B$23:$Z$57,20,FALSE)=\"\",\"\",VLOOKUP(B180,'S4'!$B$23:$Z$57,20,FALSE))","v":""},{"$f":"IF(VLOOKUP(B180,'S4'!$B$23:$Z$57,21,FALSE)=\"\",\"\",VLOOKUP(B180,'S4'!$B$23:$Z$57,21,FALSE))","v":""},{"$f":"IF(VLOOKUP(B180,'S4'!$B$23:$Z$57,22,FALSE)=\"\",\"\",VLOOKUP(B180,'S4'!$B$23:$Z$57,22,FALSE))","v":""},{"$f":"IF(VLOOKUP(B180,'S4'!$B$23:$Z$57,23,FALSE)=\"\",\"\",VLOOKUP(B180,'S4'!$B$23:$Z$57,23,FALSE))","v":""},{"$f":"IF(VLOOKUP(B180,'S4'!$B$23:$Z$57,24,FALSE)=\"\",\"\",VLOOKUP(B180,'S4'!$B$23:$Z$57,24,FALSE))","v":""},{"$f":"IF(VLOOKUP(B180,'S4'!$B$23:$Z$57,25,FALSE)=\"\",\"\",VLOOKUP(B180,'S4'!$B$23:$Z$57,25,FALSE))","v":""},null,"Note",null,null,null,null,{"$f":"IF('S4'!$Q$18=\"\",\"\",\"erreicht\")","v":""},null,null,{"$f":"IF(VLOOKUP(U180,'S4'!$B$23:$Z$57,16,FALSE)=\"\",\"\",VLOOKUP(U180,'S4'!$B$23:$Z$57,16,FALSE))","v":""},{"$f":"IF(VLOOKUP(U180,'S4'!$B$23:$Z$57,17,FALSE)=\"\",\"\",VLOOKUP(U180,'S4'!$B$23:$Z$57,17,FALSE))","v":""},{"$f":"IF(VLOOKUP(U180,'S4'!$B$23:$Z$57,18,FALSE)=\"\",\"\",VLOOKUP(U180,'S4'!$B$23:$Z$57,18,FALSE))","v":""},{"$f":"IF(VLOOKUP(U180,'S4'!$B$23:$Z$57,19,FALSE)=\"\",\"\",VLOOKUP(U180,'S4'!$B$23:$Z$57,19,FALSE))","v":""},{"$f":"IF(VLOOKUP(U180,'S4'!$B$23:$Z$57,20,FALSE)=\"\",\"\",VLOOKUP(U180,'S4'!$B$23:$Z$57,20,FALSE))","v":""},{"$f":"IF(VLOOKUP(U180,'S4'!$B$23:$Z$57,21,FALSE)=\"\",\"\",VLOOKUP(U180,'S4'!$B$23:$Z$57,21,FALSE))","v":""},{"$f":"IF(VLOOKUP(U180,'S4'!$B$23:$Z$57,22,FALSE)=\"\",\"\",VLOOKUP(U180,'S4'!$B$23:$Z$57,22,FALSE))","v":""},{"$f":"IF(VLOOKUP(U180,'S4'!$B$23:$Z$57,23,FALSE)=\"\",\"\",VLOOKUP(U180,'S4'!$B$23:$Z$57,23,FALSE))","v":""},{"$f":"IF(VLOOKUP(U180,'S4'!$B$23:$Z$57,24,FALSE)=\"\",\"\",VLOOKUP(U180,'S4'!$B$23:$Z$57,24,FALSE))","v":""},{"$f":"IF(VLOOKUP(U180,'S4'!$B$23:$Z$57,25,FALSE)=\"\",\"\",VLOOKUP(U180,'S4'!$B$23:$Z$57,25,FALSE))","v":""},null,"Note"]
[null,{"$f":"IF('S4'!$Q$18=\"\",\"\",\"von\")","v":""},null,null,{"$f":"IF('S4'!$Q$21=\"\",\"\",'S4'!$Q$21)","v":""},{"$f":"IF('S4'!$R$21=\"\",\"\",'S4'!$R$21)","v":""},{"$f":"IF('S4'!$S$21=\"\",\"\",'S4'!$S$21)","v":""},{"$f":"IF('S4'!$T$21=\"\",\"\",'S4'!$T$21)","v":""},{"$f":"IF('S4'!$U$21=\"\",\"\",'S4'!$U$21)","v":""},{"$f":"IF('S4'!$V$21=\"\",\"\",'S4'!$V$21)","v":""},{"$f":"IF('S4'!$W$21=\"\",\"\",'S4'!$W$21)","v":""},{"$f":"IF('S4'!$X$21=\"\",\"\",'S4'!$X$21)","v":""},{"$f":"IF('S4'!$Y$21=\"\",\"\",'S4'!$Y$21)","v":""},{"$f":"IF('S4'!$Z$21=\"\",\"\",'S4'!$Z$21)","v":""},null,{"$f":"IF(VLOOKUP(B180,'S4'!$B$23:$Z$57,2,FALSE)=\"\",\"\",CONCATENATE(VLOOKUP(B180,'S4'!$B$23:$Z$57,2,FALSE),\" \",VLOOKUP(B180,'S4'!$B$23:$Z$57,3,FALSE)))","v":"- "},null,null,null,null,{"$f":"IF('S4'!$Q$18=\"\",\"\",\"von\")","v":""},null,null,{"$f":"IF('S4'!$Q$21=\"\",\"\",'S4'!$Q$21)","v":""},{"$f":"IF('S4'!$R$21=\"\",\"\",'S4'!$R$21)","v":""},{"$f":"IF('S4'!$S$21=\"\",\"\",'S4'!$S$21)","v":""},{"$f":"IF('S4'!$T$21=\"\",\"\",'S4'!$T$21)","v":""},{"$f":"IF('S4'!$U$21=\"\",\"\",'S4'!$U$21)","v":""},{"$f":"IF('S4'!$V$21=\"\",\"\",'S4'!$V$21)","v":""},{"$f":"IF('S4'!$W$21=\"\",\"\",'S4'!$W$21)","v":""},{"$f":"IF('S4'!$X$21=\"\",\"\",'S4'!$X$21)","v":""},{"$f":"IF('S4'!$Y$21=\"\",\"\",'S4'!$Y$21)","v":""},{"$f":"IF('S4'!$Z$21=\"\",\"\",'S4'!$Z$21)","v":""},null,{"$f":"IF(VLOOKUP(U180,'S4'!$B$23:$Z$57,2,FALSE)=\"\",\"\",CONCATENATE(VLOOKUP(U180,'S4'!$B$23:$Z$57,2,FALSE),\" \",VLOOKUP(U180,'S4'!$B$23:$Z$57,3,FALSE)))","v":"- "}]
[]
[]
[]
[null,{"$f":"'S4'!$B$55","v":""},null,null,null,null,null,null,null,null,null,null,null,null,null,null,null,null,null,null,{"$f":"'S4'!$B$56","v":""}]
[null,null,null,null,null,null,null,null,null,null,null,null,null,null,null,"Summe",null,null,null,null,null,null,null,null,null,null,null,null,null,null,null,null,null,null,"Summe"]
[null,"Aufgabe",null,null,{"$f":"IF('S4'!$G$18=\"\",\"\",'S4'!$G$18)","v":1},{"$f":"IF('S4'!$H$18=\"\",\"\",'S4'!$H$18)","v":2},{"$f":"IF('S4'!$I$18=\"\",\"\",'S4'!$I$18)","v":3},{"$f":"IF('S4'!$J$18=\"\",\"\",'S4'!$J$18)","v":""},{"$f":"IF('S4'!$K$18=\"\",\"\",'S4'!$K$18)","v":""},{"$f":"IF('S4'!$L$18=\"\",\"\",'S4'!$L$18)","v":""},{"$f":"IF('S4'!$M$18=\"\",\"\",'S4'!$M$18)","v":""},{"$f":"IF('S4'!$N$18=\"\",\"\",'S4'!$N$18)","v":""},{"$f":"IF('S4'!$O$18=\"\",\"\",'S4'!$O$18)","v":""},{"$f":"IF('S4'!$P$18=\"\",\"\",'S4'!$P$18)","v":""},null,{"$f":"IF(VLOOKUP(B192,'S4'!$B$23:$Z$57,5,FALSE)=\"\",\"\",VLOOKUP(B192,'S4'!$B$23:$Z$57,5,FALSE))","v":0},null,null,null,null,"Aufgabe",null,null,{"$f":"IF('S4'!$G$18=\"\",\"\",'S4'!$G$18)","v":1},{"$f":"IF('S4'!$H$18=\"\",\"\",'S4'!$H$18)","v":2},{"$f":"IF('S4'!$I$18=\"\",\"\",'S4'!$I$18)","v":3},{"$f":"IF('S4'!$J$18=\"\",\"\",'S4'!$J$18)","v":""},{"$f":"IF('S4'!$K$18=\"\",\"\",'S4'!$K$18)","v":""},{"$f":"IF('S4'!$L$18=\"\",\"\",'S4'!$L$18)","v":""},{"$f":"IF('S4'!$M$18=\"\",\"\",'S4'!$M$18)","v":""},{"$f":"IF('S4'!$N$18=\"\",\"\",'S4'!$N$18)","v":""},{"$f":"IF('S4'!$O$18=\"\",\"\",'S4'!$O$18)","v":""},{"$f":"IF('S4'!$P$18=\"\",\"\",'S4'!$P$18)","v":""},null,{"$f":"IF(VLOOKUP(U192,'S4'!$B$23:$Z$57,5,FALSE)=\"\",\"\",VLOOKUP(U192,'S4'!$B$23:$Z$57,5,FALSE))","v":0}]
[null,"erreicht",null,null,{"$f":"IF(VLOOKUP(B192,'S4'!$B$23:$Z$57,6,FALSE)=\"\",\"\",VLOOKUP(B192,'S4'!$B$23:$Z$57,6,FALSE))","v":"."},{"$f":"IF(VLOOKUP(B192,'S4'!$B$23:$Z$57,7,FALSE)=\"\",\"\",VLOOKUP(B192,'S4'!$B$23:$Z$57,7,FALSE))","v":""},{"$f":"IF(VLOOKUP(B192,'S4'!$B$23:$Z$57,8,FALSE)=\"\",\"\",VLOOKUP(B192,'S4'!$B$23:$Z$57,8,FALSE))","v":""},{"$f":"IF(VLOOKUP(B192,'S4'!$B$23:$Z$57,9,FALSE)=\"\",\"\",VLOOKUP(B192,'S4'!$B$23:$Z$57,9,FALSE))","v":""},{"$f":"IF(VLOOKUP(B192,'S4'!$B$23:$Z$57,10,FALSE)=\"\",\"\",VLOOKUP(B192,'S4'!$B$23:$Z$57,10,FALSE))","v":""},{"$f":"IF(VLOOKUP(B192,'S4'!$B$23:$Z$57,11,FALSE)=\"\",\"\",VLOOKUP(B192,'S4'!$B$23:$Z$57,11,FALSE))","v":""},{"$f":"IF(VLOOKUP(B192,'S4'!$B$23:$Z$57,12,FALSE)=\"\",\"\",VLOOKUP(B192,'S4'!$B$23:$Z$57,12,FALSE))","v":""},{"$f":"IF(VLOOKUP(B192,'S4'!$B$23:$Z$57,13,FALSE)=\"\",\"\",VLOOKUP(B192,'S4'!$B$23:$Z$57,13,FALSE))","v":""},{"$f":"IF(VLOOKUP(B192,'S4'!$B$23:$Z$57,14,FALSE)=\"\",\"\",VLOOKUP(B192,'S4'!$B$23:$Z$57,14,FALSE))","v":""},{"$f":"IF(VLOOKUP(B192,'S4'!$B$23:$Z$57,15,FALSE)=\"\",\"\",VLOOKUP(B192,'S4'!$B$23:$Z$57,15,FALSE))","v":""},null,null,null,null,null,null,"erreicht",null,null,{"$f":"IF(VLOOKUP(U192,'S4'!$B$23:$Z$57,6,FALSE)=\"\",\"\",VLOOKUP(U192,'S4'!$B$23:$Z$57,6,FALSE))","v":"."},{"$f":"IF(VLOOKUP(U192,'S4'!$B$23:$Z$57,7,FALSE)=\"\",\"\",VLOOKUP(U192,'S4'!$B$23:$Z$57,7,FALSE))","v":""},{"$f":"IF(VLOOKUP(U192,'S4'!$B$23:$Z$57,8,FALSE)=\"\",\"\",VLOOKUP(U192,'S4'!$B$23:$Z$57,8,FALSE))","v":""},{"$f":"IF(VLOOKUP(U192,'S4'!$B$23:$Z$57,9,FALSE)=\"\",\"\",VLOOKUP(U192,'S4'!$B$23:$Z$57,9,FALSE))","v":""},{"$f":"IF(VLOOKUP(U192,'S4'!$B$23:$Z$57,10,FALSE)=\"\",\"\",VLOOKUP(U192,'S4'!$B$23:$Z$57,10,FALSE))","v":""},{"$f":"IF(VLOOKUP(U192,'S4'!$B$23:$Z$57,11,FALSE)=\"\",\"\",VLOOKUP(U192,'S4'!$B$23:$Z$57,11,FALSE))","v":""},{"$f":"IF(VLOOKUP(U192,'S4'!$B$23:$Z$57,12,FALSE)=\"\",\"\",VLOOKUP(U192,'S4'!$B$23:$Z$57,12,FALSE))","v":""},{"$f":"IF(VLOOKUP(U192,'S4'!$B$23:$Z$57,13,FALSE)=\"\",\"\",VLOOKUP(U192,'S4'!$B$23:$Z$57,13,FALSE))","v":""},{"$f":"IF(VLOOKUP(U192,'S4'!$B$23:$Z$57,14,FALSE)=\"\",\"\",VLOOKUP(U192,'S4'!$B$23:$Z$57,14,FALSE))","v":""},{"$f":"IF(VLOOKUP(U192,'S4'!$B$23:$Z$57,15,FALSE)=\"\",\"\",VLOOKUP(U192,'S4'!$B$23:$Z$57,15,FALSE))","v":""}]
[null,"von",null,null,{"$f":"IF('S4'!$G$21=\"\",\"\",'S4'!$G$21)","v":""},{"$f":"IF('S4'!$H$21=\"\",\"\",'S4'!$H$21)","v":""},{"$f":"IF('S4'!$I$21=\"\",\"\",'S4'!$I$21)","v":""},{"$f":"IF('S4'!$J$21=\"\",\"\",'S4'!$J$21)","v":""},{"$f":"IF('S4'!$K$21=\"\",\"\",'S4'!$K$21)","v":""},{"$f":"IF('S4'!$L$21=\"\",\"\",'S4'!$L$21)","v":""},{"$f":"IF('S4'!$M$21=\"\",\"\",'S4'!$M$21)","v":""},{"$f":"IF('S4'!$N$21=\"\",\"\",'S4'!$N$21)","v":""},{"$f":"IF('S4'!$O$21=\"\",\"\",'S4'!$O$21)","v":""},{"$f":"IF('S4'!$P$21=\"\",\"\",'S4'!$P$21)","v":""},null,"von",null,null,null,null,"von",null,null,{"$f":"IF('S4'!$G$21=\"\",\"\",'S4'!$G$21)","v":""},{"$f":"IF('S4'!$H$21=\"\",\"\",'S4'!$H$21)","v":""},{"$f":"IF('S4'!$I$21=\"\",\"\",'S4'!$I$21)","v":""},{"$f":"IF('S4'!$J$21=\"\",\"\",'S4'!$J$21)","v":""},{"$f":"IF('S4'!$K$21=\"\",\"\",'S4'!$K$21)","v":""},{"$f":"IF('S4'!$L$21=\"\",\"\",'S4'!$L$21)","v":""},{"$f":"IF('S4'!$M$21=\"\",\"\",'S4'!$M$21)","v":""},{"$f":"IF('S4'!$N$21=\"\",\"\",'S4'!$N$21)","v":""},{"$f":"IF('S4'!$O$21=\"\",\"\",'S4'!$O$21)","v":""},{"$f":"IF('S4'!$P$21=\"\",\"\",'S4'!$P$21)","v":""},null,"von"]
[null,null,null,null,null,null,null,null,null,null,null,null,null,null,null,{"$f":"'S4'!$H$12","v":0},null,null,null,null,null,null,null,null,null,null,null,null,null,null,null,null,null,null,{"$f":"'S4'!$H$12","v":0}]
[null,{"$f":"IF('S4'!$Q$18=\"\",\"\",\"Aufgabe\")","v":""},null,null,{"$f":"IF('S4'!$Q$18=\"\",\"\",'S4'!$Q$18)","v":""},{"$f":"IF('S4'!$R$18=\"\",\"\",'S4'!$R$18)","v":""},{"$f":"IF('S4'!$S$18=\"\",\"\",'S4'!$S$18)","v":""},{"$f":"IF('S4'!$T$18=\"\",\"\",'S4'!$T$18)","v":""},{"$f":"IF('S4'!$U$18=\"\",\"\",'S4'!$U$18)","v":""},{"$f":"IF('S4'!$V$18=\"\",\"\",'S4'!$V$18)","v":""},{"$f":"IF('S4'!$W$18=\"\",\"\",'S4'!$W$18)","v":""},{"$f":"IF('S4'!$X$18=\"\",\"\",'S4'!$X$18)","v":""},{"$f":"IF('S4'!$Y$18=\"\",\"\",'S4'!$Y$18)","v":""},{"$f":"IF('S4'!$Z$18=\"\",\"\",'S4'!$Z$18)","v":""},null,null,null,null,null,null,{"$f":"IF('S4'!$Q$18=\"\",\"\",\"Aufgabe\")","v":""},null,null,{"$f":"IF('S4'!$Q$18=\"\",\"\",'S4'!$Q$18)","v":""},{"$f":"IF('S4'!$R$18=\"\",\"\",'S4'!$R$18)","v":""},{"$f":"IF('S4'!$S$18=\"\",\"\",'S4'!$S$18)","v":""},{"$f":"IF('S4'!$T$18=\"\",\"\",'S4'!$T$18)","v":""},{"$f":"IF('S4'!$U$18=\"\",\"\",'S4'!$U$18)","v":""},{"$f":"IF('S4'!$V$18=\"\",\"\",'S4'!$V$18)","v":""},{"$f":"IF('S4'!$W$18=\"\",\"\",'S4'!$W$18)","v":""},{"$f":"IF('S4'!$X$18=\"\",\"\",'S4'!$X$18)","v":""},{"$f":"IF('S4'!$Y$18=\"\",\"\",'S4'!$Y$18)","v":""},{"$f":"IF('S4'!$Z$18=\"\",\"\",'S4'!$Z$18)","v":""}]
[null,{"$f":"IF('S4'!$Q$18=\"\",\"\",\"erreicht\")","v":""},null,null,{"$f":"IF(VLOOKUP(B192,'S4'!$B$23:$Z$57,16,FALSE)=\"\",\"\",VLOOKUP(B192,'S4'!$B$23:$Z$57,16,FALSE))","v":""},{"$f":"IF(VLOOKUP(B192,'S4'!$B$23:$Z$57,17,FALSE)=\"\",\"\",VLOOKUP(B192,'S4'!$B$23:$Z$57,17,FALSE))","v":""},{"$f":"IF(VLOOKUP(B192,'S4'!$B$23:$Z$57,18,FALSE)=\"\",\"\",VLOOKUP(B192,'S4'!$B$23:$Z$57,18,FALSE))","v":""},{"$f":"IF(VLOOKUP(B192,'S4'!$B$23:$Z$57,19,FALSE)=\"\",\"\",VLOOKUP(B192,'S4'!$B$23:$Z$57,19,FALSE))","v":""},{"$f":"IF(VLOOKUP(B192,'S4'!$B$23:$Z$57,20,FALSE)=\"\",\"\",VLOOKUP(B192,'S4'!$B$23:$Z$57,20,FALSE))","v":""},{"$f":"IF(VLOOKUP(B192,'S4'!$B$23:$Z$57,21,FALSE)=\"\",\"\",VLOOKUP(B192,'S4'!$B$23:$Z$57,21,FALSE))","v":""},{"$f":"IF(VLOOKUP(B192,'S4'!$B$23:$Z$57,22,FALSE)=\"\",\"\",VLOOKUP(B192,'S4'!$B$23:$Z$57,22,FALSE))","v":""},{"$f":"IF(VLOOKUP(B192,'S4'!$B$23:$Z$57,23,FALSE)=\"\",\"\",VLOOKUP(B192,'S4'!$B$23:$Z$57,23,FALSE))","v":""},{"$f":"IF(VLOOKUP(B192,'S4'!$B$23:$Z$57,24,FALSE)=\"\",\"\",VLOOKUP(B192,'S4'!$B$23:$Z$57,24,FALSE))","v":""},{"$f":"IF(VLOOKUP(B192,'S4'!$B$23:$Z$57,25,FALSE)=\"\",\"\",VLOOKUP(B192,'S4'!$B$23:$Z$57,25,FALSE))","v":""},null,"Note",null,null,null,null,{"$f":"IF('S4'!$Q$18=\"\",\"\",\"erreicht\")","v":""},null,null,{"$f":"IF(VLOOKUP(U192,'S4'!$B$23:$Z$57,16,FALSE)=\"\",\"\",VLOOKUP(U192,'S4'!$B$23:$Z$57,16,FALSE))","v":""},{"$f":"IF(VLOOKUP(U192,'S4'!$B$23:$Z$57,17,FALSE)=\"\",\"\",VLOOKUP(U192,'S4'!$B$23:$Z$57,17,FALSE))","v":""},{"$f":"IF(VLOOKUP(U192,'S4'!$B$23:$Z$57,18,FALSE)=\"\",\"\",VLOOKUP(U192,'S4'!$B$23:$Z$57,18,FALSE))","v":""},{"$f":"IF(VLOOKUP(U192,'S4'!$B$23:$Z$57,19,FALSE)=\"\",\"\",VLOOKUP(U192,'S4'!$B$23:$Z$57,19,FALSE))","v":""},{"$f":"IF(VLOOKUP(U192,'S4'!$B$23:$Z$57,20,FALSE)=\"\",\"\",VLOOKUP(U192,'S4'!$B$23:$Z$57,20,FALSE))","v":""},{"$f":"IF(VLOOKUP(U192,'S4'!$B$23:$Z$57,21,FALSE)=\"\",\"\",VLOOKUP(U192,'S4'!$B$23:$Z$57,21,FALSE))","v":""},{"$f":"IF(VLOOKUP(U192,'S4'!$B$23:$Z$57,22,FALSE)=\"\",\"\",VLOOKUP(U192,'S4'!$B$23:$Z$57,22,FALSE))","v":""},{"$f":"IF(VLOOKUP(U192,'S4'!$B$23:$Z$57,23,FALSE)=\"\",\"\",VLOOKUP(U192,'S4'!$B$23:$Z$57,23,FALSE))","v":""},{"$f":"IF(VLOOKUP(U192,'S4'!$B$23:$Z$57,24,FALSE)=\"\",\"\",VLOOKUP(U192,'S4'!$B$23:$Z$57,24,FALSE))","v":""},{"$f":"IF(VLOOKUP(U192,'S4'!$B$23:$Z$57,25,FALSE)=\"\",\"\",VLOOKUP(U192,'S4'!$B$23:$Z$57,25,FALSE))","v":""},null,"Note"]
[null,{"$f":"IF('S4'!$Q$18=\"\",\"\",\"von\")","v":""},null,null,{"$f":"IF('S4'!$Q$21=\"\",\"\",'S4'!$Q$21)","v":""},{"$f":"IF('S4'!$R$21=\"\",\"\",'S4'!$R$21)","v":""},{"$f":"IF('S4'!$S$21=\"\",\"\",'S4'!$S$21)","v":""},{"$f":"IF('S4'!$T$21=\"\",\"\",'S4'!$T$21)","v":""},{"$f":"IF('S4'!$U$21=\"\",\"\",'S4'!$U$21)","v":""},{"$f":"IF('S4'!$V$21=\"\",\"\",'S4'!$V$21)","v":""},{"$f":"IF('S4'!$W$21=\"\",\"\",'S4'!$W$21)","v":""},{"$f":"IF('S4'!$X$21=\"\",\"\",'S4'!$X$21)","v":""},{"$f":"IF('S4'!$Y$21=\"\",\"\",'S4'!$Y$21)","v":""},{"$f":"IF('S4'!$Z$21=\"\",\"\",'S4'!$Z$21)","v":""},null,{"$f":"IF(VLOOKUP(B192,'S4'!$B$23:$Z$57,2,FALSE)=\"\",\"\",CONCATENATE(VLOOKUP(B192,'S4'!$B$23:$Z$57,2,FALSE),\" \",VLOOKUP(B192,'S4'!$B$23:$Z$57,3,FALSE)))","v":"- "},null,null,null,null,{"$f":"IF('S4'!$Q$18=\"\",\"\",\"von\")","v":""},null,null,{"$f":"IF('S4'!$Q$21=\"\",\"\",'S4'!$Q$21)","v":""},{"$f":"IF('S4'!$R$21=\"\",\"\",'S4'!$R$21)","v":""},{"$f":"IF('S4'!$S$21=\"\",\"\",'S4'!$S$21)","v":""},{"$f":"IF('S4'!$T$21=\"\",\"\",'S4'!$T$21)","v":""},{"$f":"IF('S4'!$U$21=\"\",\"\",'S4'!$U$21)","v":""},{"$f":"IF('S4'!$V$21=\"\",\"\",'S4'!$V$21)","v":""},{"$f":"IF('S4'!$W$21=\"\",\"\",'S4'!$W$21)","v":""},{"$f":"IF('S4'!$X$21=\"\",\"\",'S4'!$X$21)","v":""},{"$f":"IF('S4'!$Y$21=\"\",\"\",'S4'!$Y$21)","v":""},{"$f":"IF('S4'!$Z$21=\"\",\"\",'S4'!$Z$21)","v":""},null,{"$f":"IF(VLOOKUP(U192,'S4'!$B$23:$Z$57,2,FALSE)=\"\",\"\",CONCATENATE(VLOOKUP(U192,'S4'!$B$23:$Z$57,2,FALSE),\" \",VLOOKUP(U192,'S4'!$B$23:$Z$57,3,FALSE)))","v":"- "}]
[]
[]
[]
[null,{"$f":"'S4'!$B$57","v":""}]
[null,null,null,null,null,null,null,null,null,null,null,null,null,null,null,"Summe"]
[null,"Aufgabe",null,null,{"$f":"IF('S4'!$G$18=\"\",\"\",'S4'!$G$18)","v":1},{"$f":"IF('S4'!$H$18=\"\",\"\",'S4'!$H$18)","v":2},{"$f":"IF('S4'!$I$18=\"\",\"\",'S4'!$I$18)","v":3},{"$f":"IF('S4'!$J$18=\"\",\"\",'S4'!$J$18)","v":""},{"$f":"IF('S4'!$K$18=\"\",\"\",'S4'!$K$18)","v":""},{"$f":"IF('S4'!$L$18=\"\",\"\",'S4'!$L$18)","v":""},{"$f":"IF('S4'!$M$18=\"\",\"\",'S4'!$M$18)","v":""},{"$f":"IF('S4'!$N$18=\"\",\"\",'S4'!$N$18)","v":""},{"$f":"IF('S4'!$O$18=\"\",\"\",'S4'!$O$18)","v":""},{"$f":"IF('S4'!$P$18=\"\",\"\",'S4'!$P$18)","v":""},null,{"$f":"IF(VLOOKUP(B204,'S4'!$B$23:$Z$57,5,FALSE)=\"\",\"\",VLOOKUP(B204,'S4'!$B$23:$Z$57,5,FALSE))","v":0}]
[null,"erreicht",null,null,{"$f":"IF(VLOOKUP(B204,'S4'!$B$23:$Z$57,6,FALSE)=\"\",\"\",VLOOKUP(B204,'S4'!$B$23:$Z$57,6,FALSE))","v":"."},{"$f":"IF(VLOOKUP(B204,'S4'!$B$23:$Z$57,7,FALSE)=\"\",\"\",VLOOKUP(B204,'S4'!$B$23:$Z$57,7,FALSE))","v":""},{"$f":"IF(VLOOKUP(B204,'S4'!$B$23:$Z$57,8,FALSE)=\"\",\"\",VLOOKUP(B204,'S4'!$B$23:$Z$57,8,FALSE))","v":""},{"$f":"IF(VLOOKUP(B204,'S4'!$B$23:$Z$57,9,FALSE)=\"\",\"\",VLOOKUP(B204,'S4'!$B$23:$Z$57,9,FALSE))","v":""},{"$f":"IF(VLOOKUP(B204,'S4'!$B$23:$Z$57,10,FALSE)=\"\",\"\",VLOOKUP(B204,'S4'!$B$23:$Z$57,10,FALSE))","v":""},{"$f":"IF(VLOOKUP(B204,'S4'!$B$23:$Z$57,11,FALSE)=\"\",\"\",VLOOKUP(B204,'S4'!$B$23:$Z$57,11,FALSE))","v":""},{"$f":"IF(VLOOKUP(B204,'S4'!$B$23:$Z$57,12,FALSE)=\"\",\"\",VLOOKUP(B204,'S4'!$B$23:$Z$57,12,FALSE))","v":""},{"$f":"IF(VLOOKUP(B204,'S4'!$B$23:$Z$57,13,FALSE)=\"\",\"\",VLOOKUP(B204,'S4'!$B$23:$Z$57,13,FALSE))","v":""},{"$f":"IF(VLOOKUP(B204,'S4'!$B$23:$Z$57,14,FALSE)=\"\",\"\",VLOOKUP(B204,'S4'!$B$23:$Z$57,14,FALSE))","v":""},{"$f":"IF(VLOOKUP(B204,'S4'!$B$23:$Z$57,15,FALSE)=\"\",\"\",VLOOKUP(B204,'S4'!$B$23:$Z$57,15,FALSE))","v":""}]
[null,"von",null,null,{"$f":"IF('S4'!$G$21=\"\",\"\",'S4'!$G$21)","v":""},{"$f":"IF('S4'!$H$21=\"\",\"\",'S4'!$H$21)","v":""},{"$f":"IF('S4'!$I$21=\"\",\"\",'S4'!$I$21)","v":""},{"$f":"IF('S4'!$J$21=\"\",\"\",'S4'!$J$21)","v":""},{"$f":"IF('S4'!$K$21=\"\",\"\",'S4'!$K$21)","v":""},{"$f":"IF('S4'!$L$21=\"\",\"\",'S4'!$L$21)","v":""},{"$f":"IF('S4'!$M$21=\"\",\"\",'S4'!$M$21)","v":""},{"$f":"IF('S4'!$N$21=\"\",\"\",'S4'!$N$21)","v":""},{"$f":"IF('S4'!$O$21=\"\",\"\",'S4'!$O$21)","v":""},{"$f":"IF('S4'!$P$21=\"\",\"\",'S4'!$P$21)","v":""},null,"von"]
[null,null,null,null,null,null,null,null,null,null,null,null,null,null,null,{"$f":"'S4'!$H$12","v":0}]
[null,{"$f":"IF('S4'!$Q$18=\"\",\"\",\"Aufgabe\")","v":""},null,null,{"$f":"IF('S4'!$Q$18=\"\",\"\",'S4'!$Q$18)","v":""},{"$f":"IF('S4'!$R$18=\"\",\"\",'S4'!$R$18)","v":""},{"$f":"IF('S4'!$S$18=\"\",\"\",'S4'!$S$18)","v":""},{"$f":"IF('S4'!$T$18=\"\",\"\",'S4'!$T$18)","v":""},{"$f":"IF('S4'!$U$18=\"\",\"\",'S4'!$U$18)","v":""},{"$f":"IF('S4'!$V$18=\"\",\"\",'S4'!$V$18)","v":""},{"$f":"IF('S4'!$W$18=\"\",\"\",'S4'!$W$18)","v":""},{"$f":"IF('S4'!$X$18=\"\",\"\",'S4'!$X$18)","v":""},{"$f":"IF('S4'!$Y$18=\"\",\"\",'S4'!$Y$18)","v":""},{"$f":"IF('S4'!$Z$18=\"\",\"\",'S4'!$Z$18)","v":""}]
[null,{"$f":"IF('S4'!$Q$18=\"\",\"\",\"erreicht\")","v":""},null,null,{"$f":"IF(VLOOKUP(B204,'S4'!$B$23:$Z$57,16,FALSE)=\"\",\"\",VLOOKUP(B204,'S4'!$B$23:$Z$57,16,FALSE))","v":""},{"$f":"IF(VLOOKUP(B204,'S4'!$B$23:$Z$57,17,FALSE)=\"\",\"\",VLOOKUP(B204,'S4'!$B$23:$Z$57,17,FALSE))","v":""},{"$f":"IF(VLOOKUP(B204,'S4'!$B$23:$Z$57,18,FALSE)=\"\",\"\",VLOOKUP(B204,'S4'!$B$23:$Z$57,18,FALSE))","v":""},{"$f":"IF(VLOOKUP(B204,'S4'!$B$23:$Z$57,19,FALSE)=\"\",\"\",VLOOKUP(B204,'S4'!$B$23:$Z$57,19,FALSE))","v":""},{"$f":"IF(VLOOKUP(B204,'S4'!$B$23:$Z$57,20,FALSE)=\"\",\"\",VLOOKUP(B204,'S4'!$B$23:$Z$57,20,FALSE))","v":""},{"$f":"IF(VLOOKUP(B204,'S4'!$B$23:$Z$57,21,FALSE)=\"\",\"\",VLOOKUP(B204,'S4'!$B$23:$Z$57,21,FALSE))","v":""},{"$f":"IF(VLOOKUP(B204,'S4'!$B$23:$Z$57,22,FALSE)=\"\",\"\",VLOOKUP(B204,'S4'!$B$23:$Z$57,22,FALSE))","v":""},{"$f":"IF(VLOOKUP(B204,'S4'!$B$23:$Z$57,23,FALSE)=\"\",\"\",VLOOKUP(B204,'S4'!$B$23:$Z$57,23,FALSE))","v":""},{"$f":"IF(VLOOKUP(B204,'S4'!$B$23:$Z$57,24,FALSE)=\"\",\"\",VLOOKUP(B204,'S4'!$B$23:$Z$57,24,FALSE))","v":""},{"$f":"IF(VLOOKUP(B204,'S4'!$B$23:$Z$57,25,FALSE)=\"\",\"\",VLOOKUP(B204,'S4'!$B$23:$Z$57,25,FALSE))","v":""},null,"Note"]
[null,{"$f":"IF('S4'!$Q$18=\"\",\"\",\"von\")","v":""},null,null,{"$f":"IF('S4'!$Q$21=\"\",\"\",'S4'!$Q$21)","v":""},{"$f":"IF('S4'!$R$21=\"\",\"\",'S4'!$R$21)","v":""},{"$f":"IF('S4'!$S$21=\"\",\"\",'S4'!$S$21)","v":""},{"$f":"IF('S4'!$T$21=\"\",\"\",'S4'!$T$21)","v":""},{"$f":"IF('S4'!$U$21=\"\",\"\",'S4'!$U$21)","v":""},{"$f":"IF('S4'!$V$21=\"\",\"\",'S4'!$V$21)","v":""},{"$f":"IF('S4'!$W$21=\"\",\"\",'S4'!$W$21)","v":""},{"$f":"IF('S4'!$X$21=\"\",\"\",'S4'!$X$21)","v":""},{"$f":"IF('S4'!$Y$21=\"\",\"\",'S4'!$Y$21)","v":""},{"$f":"IF('S4'!$Z$21=\"\",\"\",'S4'!$Z$21)","v":""},null,{"$f":"IF(VLOOKUP(B204,'S4'!$B$23:$Z$57,2,FALSE)=\"\",\"\",CONCATENATE(VLOOKUP(B204,'S4'!$B$23:$Z$57,2,FALSE),\" \",VLOOKUP(B204,'S4'!$B$23:$Z$57,3,FALSE)))","v":"- "}]

{"sheet":"L4","index":21,"n_rows":57,"n_cols":27,"rows_kept":57,"cut":false,"hidden":false,"merged":[[12,2,12,3],[13,2,13,3],[14,2,15,11],[0,1,4,3],[2,6,4,6],[8,2,8,11],[9,2,9,3],[10,2,10,3],[11,2,11,3]]}
[null,{"$f":"Dateneingabe!A1","v":"Mustergymnasium\nMusterstraße 1\n12345 Musterstadt"}]
[null,null,null,null,null,"Schuljahr:",{"$f":"Dateneingabe!F2","v":0}]
[null,null,null,null,null,null,{"$f":"Dateneingabe!F3","v":0},null,null,null,null,null,null,null,null,null,null,null,null,null,null,null,null,null,null,null,1]
[null,null,null,null,null,"Klasse:"]
[]
[]
[null,{"$f":"'S4'!B7","v":"Schriftliche Arbeit 4"}]
[]
[null,"Art der Arbeit:",{"$f":"'S4'!C9","v":0}]
[null,"Geschrieben am:",{"$f":"'S4'!C10","v":"00:00:00"}]
[null,"Arbeitszeit:",{"$f":"'S4'!C11","v":0}]
[null,"Zurückgegeben am:",{"$f":"'S4'!C12","v":"00:00:00"},null,null,"Gewichtung der Arbeit:",null,null,{"$f":"'S4'!T12","v":1}]
[null,"Dem Direktorat vorgelegt:",{"$f":"'S4'!C13","v":"00:00:00"}]
[null,"Notenlisteneintrag am:",{"$f":"'S4'!C14","v":"00:00:00"}]
[null,"Lehrstoff:",{"$f":"'S4'!C15","v":0}]
[]
[]
[]
[null,"Name","Note",null,null,null,null,"Auswertung Häufigkeit"]
[null,null,null,null,null,null,null,"Note","Anzahl"]
[]
[null,null,null,null,null,null,null,"0",{"$f":"'S4'!AF25","v":0}]
[1,{"$f":"'S4'!B23","v":""},{"$f":"'S4'!C23","v":"-"},null,null,null,null,1,{"$f":"'S4'!AF26","v":0}]
[2,{"$f":"'S4'!B24","v":""},{"$f":"'S4'!C24","v":"-"},null,null,null,null,2,{"$f":"'S4'!AF27","v":0}]
[3,{"$f":"'S4'!B25","v":""},{"$f":"'S4'!C25","v":"-"},null,null,null,null,3,{"$f":"'S4'!AF28","v":0}]
[4,{"$f":"'S4'!B26","v":""},{"$f":"'S4'!C26","v":"-"},null,null,null,null,4,{"$f":"'S4'!AF29","v":0}]
[5,{"$f":"'S4'!B27","v":""},{"$f":"'S4'!C27","v":"-"},null,null,null,null,5,{"$f":"'S4'!AF30","v":0}]
[6,{"$f":"'S4'!B28","v":""},{"$f":"'S4'!C28","v":"-"},null,null,null,null,6,{"$f":"'S4'!AF31","v":0}]
[7,{"$f":"'S4'!B29","v":""},{"$f":"'S4'!C29","v":"-"},null,null,null,null,7,{"$f":"'S4'!AF32","v":0}]
[8,{"$f":"'S4'!B30","v":""},{"$f":"'S4'!C30","v":"-"},null,null,null,null,8,{"$f":"'S4'!AF33","v":0}]
[9,{"$f":"'S4'!B31","v":""},{"$f":"'S4'!C31","v":"-"},null,null,null,null,9,{"$f":"'S4'!AF34","v":0}]
[10,{"$f":"'S4'!B32","v":""},{"$f":"'S4'!C32","v":"-"},null,null,null,null,10,{"$f":"'S4'!AF35","v":0}]
[11,{"$f":"'S4'!B33","v":""},{"$f":"'S4'!C33","v":"-"},null,null,null,null,11,{"$f":"'S4'!AF36","v":0}]
[12,{"$f":"'S4'!B34","v":""},{"$f":"'S4'!C34","v":"-"},null,null,null,null,12,{"$f":"'S4'!AF37","v":0}]
[13,{"$f":"'S4'!B35","v":""},{"$f":"'S4'!C35","v":"-"},null,null,null,null,13,{"$f":"'S4'!AF38","v":0}]
[14,{"$f":"'S4'!B36","v":""},{"$f":"'S4'!C36","v":"-"},null,null,null,null,14,{"$f":"'S4'!AF39","v":0}]
[15,{"$f":"'S4'!B37","v":""},{"$f":"'S4'!C37","v":"-"},null,null,null,null,15,{"$f":"'S4'!AF40","v":0}]
[16,{"$f":"'S4'!B38","v":""},{"$f":"'S4'!C38","v":"-"}]
[17,{"$f":"'S4'!B39","v":""},{"$f":"'S4'!C39","v":"-"}]
[18,{"$f":"'S4'!B40","v":""},{"$f":"'S4'!C40","v":"-"}]
[19,{"$f":"'S4'!B41","v":""},{"$f":"'S4'!C41","v":"-"}]
[20,{"$f":"'S4'!B42","v":""},{"$f":"'S4'!C42","v":"-"}]
[21,{"$f":"'S4'!B43","v":""},{"$f":"'S4'!C43","v":"-"}]
[22,{"$f":"'S4'!B44","v":""},{"$f":"'S4'!C44","v":"-"}]
[23,{"$f":"'S4'!B45","v":""},{"$f":"'S4'!C45","v":"-"}]
[24,{"$f":"'S4'!B46","v":""},{"$f":"'S4'!C46","v":"-"}]
[25,{"$f":"'S4'!B47","v":""},{"$f":"'S4'!C47","v":"-"}]
[26,{"$f":"'S4'!B48","v":""},{"$f":"'S4'!C48","v":"-"}]
[27,{"$f":"'S4'!B49","v":""},{"$f":"'S4'!C49","v":"-"}]
[28,{"$f":"'S4'!B50","v":""},{"$f":"'S4'!C50","v":"-"}]
[29,{"$f":"'S4'!B51","v":""},{"$f":"'S4'!C51","v":"-"}]
[30,{"$f":"'S4'!B52","v":""},{"$f":"'S4'!C52","v":"-"}]
[31,{"$f":"'S4'!B53","v":""},{"$f":"'S4'!C53","v":"-"}]
[32,{"$f":"'S4'!B54","v":""},{"$f":"'S4'!C54","v":"-"}]
[33,{"$f":"'S4'!B55","v":""},{"$f":"'S4'!C55","v":"-"},null,null,null,"Notendurchschnitt:",null,{"$f":"'S4'!AD60","v":"-"}]
[34,{"$f":"'S4'!B56","v":""},{"$f":"'S4'!C56","v":"-"}]
[35,{"$f":"'S4'!B57","v":""},{"$f":"'S4'!C57","v":"-"},null,null,null,"% 5er und 6er",null,{"$f":"'S4'!AD62","v":"0 %"}]

{"sheet":"M4","index":22,"n_rows":37,"n_cols":27,"rows_kept":37,"cut":false,"hidden":false,"merged":[[32,18,32,19],[4,17,4,23],[16,18,16,22],[18,15,19,23],[26,11,26,13],[26,14,26,16],[26,17,26,19],[26,20,26,22],[26,23,26,25],[6,12,6,23],[8,16,8,20],[10,15,10,20],[12,17,12,22],[14,20,14,23],[0,11,0,26]]}
[null,null,null,null,null,null,null,null,null,null,null,{"$f":"Dateneingabe!I28","v":0}]
[]
[null,null,null,null,null,null,null,null,null,null,null,"ABA",null,{"$f":"Dateneingabe!F6","v":0},null,null,null,null,null,null,null,"Schuljahr",null,null,{"$f":"Dateneingabe!F2","v":0}]
[]
[null,null,null,null,null,null,null,null,null,null,null,null,"Schülerarbeiten",null,null,null,null,"________________________"]
[]
[null,null,null,null,null,null,null,null,null,null,null,null,"_________________________________"]
[]
[null,null,null,null,null,null,null,null,null,null,null,"Geschrieben am:",null,null,null,null,{"$f":"'S4'!C10","v":"00:00:00"}]
[]
[null,null,null,null,null,null,null,null,null,null,null,"Arbeitszeit: ",null,null,null,{"$f":"'S4'!C11","v":0}]
[]
[null,null,null,null,null,null,null,null,null,null,null,"Zurückgegeben am:",null,null,null,null,null,{"$f":"'S4'!C12","v":"00:00:00"}]
[]
[null,null,null,null,null,null,null,null,null,null,null,"Dem Direktorat vorgelegt am:",null,null,null,null,null,null,null,null,{"$f":"'S4'!C13","v":"00:00:00"}]
[]
[null,null,null,null,null,null,null,null,null,null,null,"Notenlisteneintrag am: ",null,null,null,null,null,null,{"$f":"'S4'!C14","v":"00:00:00"}]
[]
[null,null,null,null,null,null,null,null,null,null,null,"Lehrstoff:",null,null,null,{"$f":"'S4'!C15","v":0}]
[]
[]
[null,null,null,null,null,null,null,null,null,null,null,"Nicht mitgeschrieben haben:",null,null,null,null,null,null,null,"_________________"]
[]
[]
[null,null,null,null,null,null,null,null,null,null,null,"Notenstatistik:"]
[]
[null,null,null,null,null,null,null,null,null,null,null,1,null,null,2,null,null,3,null,null,4,null,null,5,null,null,6]
[null,null,null,null,null,null,null,null,null,null,null,15,14,13,12,11,10,9,8,7,6,5,4,3,2,1,0]
[null,null,null,null,null,null,null,null,null,null,null,{"$f":"'S4'!$AF40","v":0},{"$f":"'S4'!$AF39","v":0},{"$f":"'S4'!$AF38","v":0},{"$f":"'S4'!$AF37","v":0},{"$f":"'S4'!$AF36","v":0},{"$f":"'S4'!$AF35","v":0},{"$f":"'S4'!$AF34","v":0},{"$f":"'S4'!$AF33","v":0},{"$f":"'S4'!$AF32","v":0},{"$f":"'S4'!$AF31","v":0},{"$f":"'S4'!$AF30","v":0},{"$f":"'S4'!$AF29","v":0},{"$f":"'S4'!$AF28","v":0},{"$f":"'S4'!$AF27","v":0},{"$f":"'S4'!$AF26","v":0},{"$f":"'S4'!$AF25","v":0}]
[]
[null,null,null,null,null,null,null,null,null,null,null,"Punktedurchschnitt:",null,null,null,null,null,null,{"$f":"'S4'!AD60","v":"-"}]
[]
[null,null,null,null,null,null,null,null,null,null,null,"Anteil Note 5 und 6:",null,null,null,null,null,null,{"$f":"'S4'!AD62","v":"0 %"}]
[]
[]
[]
[null,null,null,null,null,null,null,null,null,null,null,"Unterschrift: __________________________"]

{"sheet":"E5","index":23,"n_rows":212,"n_cols":35,"rows_kept":212,"cut":false,"hidden":false,"merged":[[2,15,2,17],[2,34,2,36],[3,15,3,17],[3,34,3,36],[5,15,5,17],[5,34,5,36],[6,15,6,17],[6,34,6,36],[8,15,8,17],[8,34,8,36],[9,15,9,17],[9,34,9,36],[14,15,14,17],[14,34,14,36],[15,15,15,17],[15,34,15,36],[17,15,17,17],[17,34,17,36],[18,15,18,17],[18,34,18,36],[20,15,20,17],[20,34,20,36],[21,15,21,17],[21,34,21,36],[26,15,26,17],[26,34,26,36],[27,15,27,17],[27,34,27,36],[29,15,29,17],[29,34,29,36],[30,15,30,17],[30,34,30,36],[32,15,32,17],[32,34,32,36],[33,15,33,17],[33,34,33,36],[38,15,38,17],[38,34,38,36],[39,15,39,17],[39,34,39,36],[41,15,41,17],[41,34,41,36],[42,15,42,17],[42,34,42,36],[44,15,44,17],[44,34,44,36],[45,15,45,17],[45,34,45,36],[50,15,50,17],[50,34,50,36],[51,15,51,17],[51,34,51,36],[53,15,53,17],[53,34,53,36],[54,15,54,17],[54,34,54,36],[56,15,56,17],[56,34,56,36],[57,15,57,17],[57,34,57,36],[62,15,62,17],[62,34,62,36],[63,15,63,17],[63,34,63,36],[65,15,65,17],[65,34,65,36],[66,15,66,17],[66,34,66,36],[68,15,68,17],[68,34,68,36],[69,15,69,17],[69,34,69,36],[73,15,73,17],[73,34,73,36],[74,15,74,17],[74,34,74,36],[76,15,76,17],[76,34,76,36],[77,15,77,17],[77,34,77,36],[79,15,79,17],[79,34,79,36],[80,15,80,17],[80,34,80,36],[85,15,85,17],[85,34,85,36],[86,15,86,17],[86,34,86,36],[88,15,88,17],[88,34,88,36],[89,15,89,17],[89,34,89,36],[91,15,91,17],[91,34,91,36],[92,15,92,17],[92,34,92,36],[97,15,97,17],[97,34,97,36],[98,15,98,17],[98,34,98,36],[100,15,100,17],[100,34,100,36],[101,15,101,17],[101,34,101,36],[103,15,103,17],[103,34,103,36],[104,15,104,17],[104,34,104,36],[109,15,109,17],[109,34,109,36],[110,15,110,17],[110,34,110,36],[112,15,112,17],[112,34,112,36],[113,15,113,17],[113,34,113,36],[115,15,115,17],[115,34,115,36],[116,15,116,17],[116,34,116,36],[121,15,121,17],[121,34,121,36],[122,15,122,17],[122,34,122,36],[124,15,124,17],[124,34,124,36],[125,15,125,17],[125,34,125,36],[127,15,127,17],[127,34,127,36],[128,15,128,17],[128,34,128,36],[133,15,133,17],[133,34,133,36],[134,15,134,17],[134,34,134,36],[136,15,136,17],[136,34,136,36],[137,15,137,17],[137,34,137,36],[139,15,139,17],[139,34,139,36],[140,15,140,17],[140,34,140,36],[144,15,144,17],[144,34,144,36],[145,15,145,17],[145,34,145,36],[147,15,147,17],[147,34,147,36],[148,15,148,17],[148,34,148,36],[150,15,150,17],[150,34,150,36],[151,15,151,17],[151,34,151,36],[156,15,156,17],[156,34,156,36],[157,15,157,17],[157,34,157,36],[159,15,159,17],[159,34,159,36],[160,15,160,17],[160,34,160,36],[162,15,162,17],[162,34,162,36],[163,15,163,17],[163,34,163,36],[168,15,168,17],[168,34,168,36],[169,15,169,17],[169,34,169,36],[171,15,171,17],[171,34,171,36],[172,15,172,17],[172,34,172,36],[174,15,174,17],[174,34,174,36],[175,15,175,17],[175,34,175,36],[180,15,180,17],[180,34,180,36],[181,15,181,17],[181,34,181,36],[183,15,183,17],[183,34,183,36],[184,15,184,17],[184,34,184,36],[186,15,186,17],[186,34,186,36],[187,15,187,17],[187,34,187,36],[192,15,192,17],[192,34,192,36],[193,15,193,17],[193,34,193,36],[195,15,195,17],[195,34,195,36],[196,15,196,17],[196,34,196,36],[198,15,198,17],[198,34,198,36],[199,15,199,17],[199,34,199,36],[204,15,204,17],[204,34,204,36],[205,15,205,17],[205,34,205,36],[207,15,207,17],[207,34,207,36],[208,15,208,17],[208,34,208,36],[210,15,210,17],[210,34,210,36],[211,15,211,17],[211,34,211,36]]}
[]
[null,{"$f":"'S5'!$B$23","v":""},null,null,null,null,null,null,null,null,null,null,null,null,null,null,null,null,null,null,{"$f":"'S5'!$B$24","v":""}]
[null,null,null,null,null,null,null,null,null,null,null,null,null,null,null,"Summe",null,null,null,null,null,null,null,null,null,null,null,null,null,null,null,null,null,null,"Summe"]
[null,"Aufgabe",null,null,{"$f":"IF('S5'!$G$18=\"\",\"\",'S5'!$G$18)","v":1},{"$f":"IF('S5'!$H$18=\"\",\"\",'S5'!$H$18)","v":2},{"$f":"IF('S5'!$I$18=\"\",\"\",'S5'!$I$18)","v":3},{"$f":"IF('S5'!$J$18=\"\",\"\",'S5'!$J$18)","v":""},{"$f":"IF('S5'!$K$18=\"\",\"\",'S5'!$K$18)","v":""},{"$f":"IF('S5'!$L$18=\"\",\"\",'S5'!$L$18)","v":""},{"$f":"IF('S5'!$M$18=\"\",\"\",'S5'!$M$18)","v":""},{"$f":"IF('S5'!$N$18=\"\",\"\",'S5'!$N$18)","v":""},{"$f":"IF('S5'!$O$18=\"\",\"\",'S5'!$O$18)","v":""},{"$f":"IF('S5'!$P$18=\"\",\"\",'S5'!$P$18)","v":""},null,{"$f":"IF(VLOOKUP(B2,'S5'!$B$23:$Z$57,5,FALSE)=\"\",\"\",VLOOKUP(B2,'S5'!$B$23:$Z$57,5,FALSE))","v":0},null,null,null,null,"Aufgabe",null,null,{"$f":"IF('S5'!$G$18=\"\",\"\",'S5'!$G$18)","v":1},{"$f":"IF('S5'!$H$18=\"\",\"\",'S5'!$H$18)","v":2},{"$f":"IF('S5'!$I$18=\"\",\"\",'S5'!$I$18)","v":3},{"$f":"IF('S5'!$J$18=\"\",\"\",'S5'!$J$18)","v":""},{"$f":"IF('S5'!$K$18=\"\",\"\",'S5'!$K$18)","v":""},{"$f":"IF('S5'!$L$18=\"\",\"\",'S5'!$L$18)","v":""},{"$f":"IF('S5'!$M$18=\"\",\"\",'S5'!$M$18)","v":""},{"$f":"IF('S5'!$N$18=\"\",\"\",'S5'!$N$18)","v":""},{"$f":"IF('S5'!$O$18=\"\",\"\",'S5'!$O$18)","v":""},{"$f":"IF('S5'!$P$18=\"\",\"\",'S5'!$P$18)","v":""},null,{"$f":"IF(VLOOKUP(U2,'S5'!$B$23:$Z$57,5,FALSE)=\"\",\"\",VLOOKUP(U2,'S5'!$B$23:$Z$57,5,FALSE))","v":0}]
[null,"erreicht",null,null,{"$f":"IF(VLOOKUP(B2,'S5'!$B$23:$Z$57,6,FALSE)=\"\",\"\",VLOOKUP(B2,'S5'!$B$23:$Z$57,6,FALSE))","v":"."},{"$f":"IF(VLOOKUP(B2,'S5'!$B$23:$Z$57,7,FALSE)=\"\",\"\",VLOOKUP(B2,'S5'!$B$23:$Z$57,7,FALSE))","v":""},{"$f":"IF(VLOOKUP(B2,'S5'!$B$23:$Z$57,8,FALSE)=\"\",\"\",VLOOKUP(B2,'S5'!$B$23:$Z$57,8,FALSE))","v":""},{"$f":"IF(VLOOKUP(B2,'S5'!$B$23:$Z$57,9,FALSE)=\"\",\"\",VLOOKUP(B2,'S5'!$B$23:$Z$57,9,FALSE))","v":""},{"$f":"IF(VLOOKUP(B2,'S5'!$B$23:$Z$57,10,FALSE)=\"\",\"\",VLOOKUP(B2,'S5'!$B$23:$Z$57,10,FALSE))","v":""},{"$f":"IF(VLOOKUP(B2,'S5'!$B$23:$Z$57,11,FALSE)=\"\",\"\",VLOOKUP(B2,'S5'!$B$23:$Z$57,11,FALSE))","v":""},{"$f":"IF(VLOOKUP(B2,'S5'!$B$23:$Z$57,12,FALSE)=\"\",\"\",VLOOKUP(B2,'S5'!$B$23:$Z$57,12,FALSE))","v":""},{"$f":"IF(VLOOKUP(B2,'S5'!$B$23:$Z$57,13,FALSE)=\"\",\"\",VLOOKUP(B2,'S5'!$B$23:$Z$57,13,FALSE))","v":""},{"$f":"IF(VLOOKUP(B2,'S5'!$B$23:$Z$57,14,FALSE)=\"\",\"\",VLOOKUP(B2,'S5'!$B$23:$Z$57,14,FALSE))","v":""},{"$f":"IF(VLOOKUP(B2,'S5'!$B$23:$Z$57,15,FALSE)=\"\",\"\",VLOOKUP(B2,'S5'!$B$23:$Z$57,15,FALSE))","v":""},null,null,null,null,null,null,"erreicht",null,null,{"$f":"IF(VLOOKUP(U2,'S5'!$B$23:$Z$57,6,FALSE)=\"\",\"\",VLOOKUP(U2,'S5'!$B$23:$Z$57,6,FALSE))","v":"."},{"$f":"IF(VLOOKUP(U2,'S5'!$B$23:$Z$57,7,FALSE)=\"\",\"\",VLOOKUP(U2,'S5'!$B$23:$Z$57,7,FALSE))","v":""},{"$f":"IF(VLOOKUP(U2,'S5'!$B$23:$Z$57,8,FALSE)=\"\",\"\",VLOOKUP(U2,'S5'!$B$23:$Z$57,8,FALSE))","v":""},{"$f":"IF(VLOOKUP(U2,'S5'!$B$23:$Z$57,9,FALSE)=\"\",\"\",VLOOKUP(U2,'S5'!$B$23:$Z$57,9,FALSE))","v":""},{"$f":"IF(VLOOKUP(U2,'S5'!$B$23:$Z$57,10,FALSE)=\"\",\"\",VLOOKUP(U2,'S5'!$B$23:$Z$57,10,FALSE))","v":""},{"$f":"IF(VLOOKUP(U2,'S5'!$B$23:$Z$57,11,FALSE)=\"\",\"\",VLOOKUP(U2,'S5'!$B$23:$Z$57,11,FALSE))","v":""},{"$f":"IF(VLOOKUP(U2,'S5'!$B$23:$Z$57,12,FALSE)=\"\",\"\",VLOOKUP(U2,'S5'!$B$23:$Z$57,12,FALSE))","v":""},{"$f":"IF(VLOOKUP(U2,'S5'!$B$23:$Z$57,13,FALSE)=\"\",\"\",VLOOKUP(U2,'S5'!$B$23:$Z$57,13,FALSE))","v":""},{"$f":"IF(VLOOKUP(U2,'S5'!$B$23:$Z$57,14,FALSE)=\"\",\"\",VLOOKUP(U2,'S5'!$B$23:$Z$57,14,FALSE))","v":""},{"$f":"IF(VLOOKUP(U2,'S5'!$B$23:$Z$57,15,FALSE)=\"\",\"\",VLOOKUP(U2,'S5'!$B$23:$Z$57,15,FALSE))","v":""}]
[null,"von",null,null,{"$f":"IF('S5'!$G$21=\"\",\"\",'S5'!$G$21)","v":""},{"$f":"IF('S5'!$H$21=\"\",\"\",'S5'!$H$21)","v":""},{"$f":"IF('S5'!$I$21=\"\",\"\",'S5'!$I$21)","v":""},{"$f":"IF('S5'!$J$21=\"\",\"\",'S5'!$J$21)","v":""},{"$f":"IF('S5'!$K$21=\"\",\"\",'S5'!$K$21)","v":""},{"$f":"IF('S5'!$L$21=\"\",\"\",'S5'!$L$21)","v":""},{"$f":"IF('S5'!$M$21=\"\",\"\",'S5'!$M$21)","v":""},{"$f":"IF('S5'!$N$21=\"\",\"\",'S5'!$N$21)","v":""},{"$f":"IF('S5'!$O$21=\"\",\"\",'S5'!$O$21)","v":""},{"$f":"IF('S5'!$P$21=\"\",\"\",'S5'!$P$21)","v":""},null,"von",null,null,null,null,"von",null,null,{"$f":"IF('S5'!$G$21=\"\",\"\",'S5'!$G$21)","v":""},{"$f":"IF('S5'!$H$21=\"\",\"\",'S5'!$H$21)","v":""},{"$f":"IF('S5'!$I$21=\"\",\"\",'S5'!$I$21)","v":""},{"$f":"IF('S5'!$J$21=\"\",\"\",'S5'!$J$21)","v":""},{"$f":"IF('S5'!$K$21=\"\",\"\",'S5'!$K$21)","v":""},{"$f":"IF('S5'!$L$21=\"\",\"\",'S5'!$L$21)","v":""},{"$f":"IF('S5'!$M$21=\"\",\"\",'S5'!$M$21)","v":""},{"$f":"IF('S5'!$N$21=\"\",\"\",'S5'!$N$21)","v":""},{"$f":"IF('S5'!$O$21=\"\",\"\",'S5'!$O$21)","v":""},{"$f":"IF('S5'!$P$21=\"\",\"\",'S5'!$P$21)","v":""},null,"von"]
[null,null,null,null,null,null,null,null,null,null,null,null,null,null,null,{"$f":"'S5'!$H$12","v":0},null,null,null,null,null,null,null,null,null,null,null,null,null,null,null,null,null,null,{"$f":"'S5'!$H$12","v":0}]
[null,{"$f":"IF('S5'!$Q$18=\"\",\"\",\"Aufgabe\")","v":""},null,null,{"$f":"IF('S5'!$Q$18=\"\",\"\",'S5'!$Q$18)","v":""},{"$f":"IF('S5'!$R$18=\"\",\"\",'S5'!$R$18)","v":""},{"$f":"IF('S5'!$S$18=\"\",\"\",'S5'!$S$18)","v":""},{"$f":"IF('S5'!$T$18=\"\",\"\",'S5'!$T$18)","v":""},{"$f":"IF('S5'!$U$18=\"\",\"\",'S5'!$U$18)","v":""},{"$f":"IF('S5'!$V$18=\"\",\"\",'S5'!$V$18)","v":""},{"$f":"IF('S5'!$W$18=\"\",\"\",'S5'!$W$18)","v":""},{"$f":"IF('S5'!$X$18=\"\",\"\",'S5'!$X$18)","v":""},{"$f":"IF('S5'!$Y$18=\"\",\"\",'S5'!$Y$18)","v":""},{"$f":"IF('S5'!$Z$18=\"\",\"\",'S5'!$Z$18)","v":""},null,null,null,null,null,null,{"$f":"IF('S5'!$Q$18=\"\",\"\",\"Aufgabe\")","v":""},null,null,{"$f":"IF('S5'!$Q$18=\"\",\"\",'S5'!$Q$18)","v":""},{"$f":"IF('S5'!$R$18=\"\",\"\",'S5'!$R$18)","v":""},{"$f":"IF('S5'!$S$18=\"\",\"\",'S5'!$S$18)","v":""},{"$f":"IF('S5'!$T$18=\"\",\"\",'S5'!$T$18)","v":""},{"$f":"IF('S5'!$U$18=\"\",\"\",'S5'!$U$18)","v":""},{"$f":"IF('S5'!$V$18=\"\",\"\",'S5'!$V$18)","v":""},{"$f":"IF('S5'!$W$18=\"\",\"\",'S5'!$W$18)","v":""},{"$f":"IF('S5'!$X$18=\"\",\"\",'S5'!$X$18)","v":""},{"$f":"IF('S5'!$Y$18=\"\",\"\",'S5'!$Y$18)","v":""},{"$f":"IF('S5'!$Z$18=\"\",\"\",'S5'!$Z$18)","v":""}]
[null,{"$f":"IF('S5'!$Q$18=\"\",\"\",\"erreicht\")","v":""},null,null,{"$f":"IF(VLOOKUP(B2,'S5'!$B$23:$Z$57,16,FALSE)=\"\",\"\",VLOOKUP(B2,'S5'!$B$23:$Z$57,16,FALSE))","v":""},{"$f":"IF(VLOOKUP(B2,'S5'!$B$23:$Z$57,17,FALSE)=\"\",\"\",VLOOKUP(B2,'S5'!$B$23:$Z$57,17,FALSE))","v":""},{"$f":"IF(VLOOKUP(B2,'S5'!$B$23:$Z$57,18,FALSE)=\"\",\"\",VLOOKUP(B2,'S5'!$B$23:$Z$57,18,FALSE))","v":""},{"$f":"IF(VLOOKUP(B2,'S5'!$B$23:$Z$57,19,FALSE)=\"\",\"\",VLOOKUP(B2,'S5'!$B$23:$Z$57,19,FALSE))","v":""},{"$f":"IF(VLOOKUP(B2,'S5'!$B$23:$Z$57,20,FALSE)=\"\",\"\",VLOOKUP(B2,'S5'!$B$23:$Z$57,20,FALSE))","v":""},{"$f":"IF(VLOOKUP(B2,'S5'!$B$23:$Z$57,21,FALSE)=\"\",\"\",VLOOKUP(B2,'S5'!$B$23:$Z$57,21,FALSE))","v":""},{"$f":"IF(VLOOKUP(B2,'S5'!$B$23:$Z$57,22,FALSE)=\"\",\"\",VLOOKUP(B2,'S5'!$B$23:$Z$57,22,FALSE))","v":""},{"$f":"IF(VLOOKUP(B2,'S5'!$B$23:$Z$57,23,FALSE)=\"\",\"\",VLOOKUP(B2,'S5'!$B$23:$Z$57,23,FALSE))","v":""},{"$f":"IF(VLOOKUP(B2,'S5'!$B$23:$Z$57,24,FALSE)=\"\",\"\",VLOOKUP(B2,'S5'!$B$23:$Z$57,24,FALSE))","v":""},{"$f":"IF(VLOOKUP(B2,'S5'!$B$23:$Z$57,25,FALSE)=\"\",\"\",VLOOKUP(B2,'S5'!$B$23:$Z$57,25,FALSE))","v":""},null,"Note",null,null,null,null,{"$f":"IF('S5'!$Q$18=\"\",\"\",\"erreicht\")","v":""},null,null,{"$f":"IF(VLOOKUP(U2,'S5'!$B$23:$Z$57,16,FALSE)=\"\",\"\",VLOOKUP(U2,'S5'!$B$23:$Z$57,16,FALSE))","v":""},{"$f":"IF(VLOOKUP(U2,'S5'!$B$23:$Z$57,17,FALSE)=\"\",\"\",VLOOKUP(U2,'S5'!$B$23:$Z$57,17,FALSE))","v":""},{"$f":"IF(VLOOKUP(U2,'S5'!$B$23:$Z$57,18,FALSE)=\"\",\"\",VLOOKUP(U2,'S5'!$B$23:$Z$57,18,FALSE))","v":""},{"$f":"IF(VLOOKUP(U2,'S5'!$B$23:$Z$57,19,FALSE)=\"\",\"\",VLOOKUP(U2,'S5'!$B$23:$Z$57,19,FALSE))","v":""},{"$f":"IF(VLOOKUP(U2,'S5'!$B$23:$Z$57,20,FALSE)=\"\",\"\",VLOOKUP(U2,'S5'!$B$23:$Z$57,20,FALSE))","v":""},{"$f":"IF(VLOOKUP(U2,'S5'!$B$23:$Z$57,21,FALSE)=\"\",\"\",VLOOKUP(U2,'S5'!$B$23:$Z$57,21,FALSE))","v":""},{"$f":"IF(VLOOKUP(U2,'S5'!$B$23:$Z$57,22,FALSE)=\"\",\"\",VLOOKUP(U2,'S5'!$B$23:$Z$57,22,FALSE))","v":""},{"$f":"IF(VLOOKUP(U2,'S5'!$B$23:$Z$57,23,FALSE)=\"\",\"\",VLOOKUP(U2,'S5'!$B$23:$Z$57,23,FALSE))","v":""},{"$f":"IF(VLOOKUP(U2,'S5'!$B$23:$Z$57,24,FALSE)=\"\",\"\",VLOOKUP(U2,'S5'!$B$23:$Z$57,24,FALSE))","v":""},{"$f":"IF(VLOOKUP(U2,'S5'!$B$23:$Z$57,25,FALSE)=\"\",\"\",VLOOKUP(U2,'S5'!$B$23:$Z$57,25,FALSE))","v":""},null,"Note"]
[null,{"$f":"IF('S5'!$Q$18=\"\",\"\",\"von\")","v":""},null,null,{"$f":"IF('S5'!$Q$21=\"\",\"\",'S5'!$Q$21)","v":""},{"$f":"IF('S5'!$R$21=\"\",\"\",'S5'!$R$21)","v":""},{"$f":"IF('S5'!$S$21=\"\",\"\",'S5'!$S$21)","v":""},{"$f":"IF('S5'!$T$21=\"\",\"\",'S5'!$T$21)","v":""},{"$f":"IF('S5'!$U$21=\"\",\"\",'S5'!$U$21)","v":""},{"$f":"IF('S5'!$V$21=\"\",\"\",'S5'!$V$21)","v":""},{"$f":"IF('S5'!$W$21=\"\",\"\",'S5'!$W$21)","v":""},{"$f":"IF('S5'!$X$21=\"\",\"\",'S5'!$X$21)","v":""},{"$f":"IF('S5'!$Y$21=\"\",\"\",'S5'!$Y$21)","v":""},{"$f":"IF('S5'!$Z$21=\"\",\"\",'S5'!$Z$21)","v":""},null,{"$f":"IF(VLOOKUP(B2,'S5'!$B$23:$Z$57,2,FALSE)=\"\",\"\",CONCATENATE(VLOOKUP(B2,'S5'!$B$23:$Z$57,2,FALSE),\" \",VLOOKUP(B2,'S5'!$B$23:$Z$57,3,FALSE)))","v":"- "},null,null,null,null,{"$f":"IF('S5'!$Q$18=\"\",\"\",\"von\")","v":""},null,null,{"$f":"IF('S5'!$Q$21=\"\",\"\",'S5'!$Q$21)","v":""},{"$f":"IF('S5'!$R$21=\"\",\"\",'S5'!$R$21)","v":""},{"$f":"IF('S5'!$S$21=\"\",\"\",'S5'!$S$21)","v":""},{"$f":"IF('S5'!$T$21=\"\",\"\",'S5'!$T$21)","v":""},{"$f":"IF('S5'!$U$21=\"\",\"\",'S5'!$U$21)","v":""},{"$f":"IF('S5'!$V$21=\"\",\"\",'S5'!$V$21)","v":""},{"$f":"IF('S5'!$W$21=\"\",\"\",'S5'!$W$21)","v":""},{"$f":"IF('S5'!$X$21=\"\",\"\",'S5'!$X$21)","v":""},{"$f":"IF('S5'!$Y$21=\"\",\"\",'S5'!$Y$21)","v":""},{"$f":"IF('S5'!$Z$21=\"\",\"\",'S5'!$Z$21)","v":""},null,{"$f":"IF(VLOOKUP(U2,'S5'!$B$23:$Z$57,2,FALSE)=\"\",\"\",CONCATENATE(VLOOKUP(U2,'S5'!$B$23:$Z$57,2,FALSE),\" \",VLOOKUP(U2,'S5'!$B$23:$Z$57,3,FALSE)))","v":"- "}]
[]
[]
[]
[null,{"$f":"'S5'!$B$25","v":""},null,null,null,null,null,null,null,null,null,null,null,null,null,null,null,null,null,null,{"$f":"'S5'!$B$26","v":""}]
[null,null,null,null,null,null,null,null,null,null,null,null,null,null,null,"Summe",null,null,null,null,null,null,null,null,null,null,null,null,null,null,null,null,null,null,"Summe"]
[null,"Aufgabe",null,null,{"$f":"IF('S5'!$G$18=\"\",\"\",'S5'!$G$18)","v":1},{"$f":"IF('S5'!$H$18=\"\",\"\",'S5'!$H$18)","v":2},{"$f":"IF('S5'!$I$18=\"\",\"\",'S5'!$I$18)","v":3},{"$f":"IF('S5'!$J$18=\"\",\"\",'S5'!$J$18)","v":""},{"$f":"IF('S5'!$K$18=\"\",\"\",'S5'!$K$18)","v":""},{"$f":"IF('S5'!$L$18=\"\",\"\",'S5'!$L$18)","v":""},{"$f":"IF('S5'!$M$18=\"\",\"\",'S5'!$M$18)","v":""},{"$f":"IF('S5'!$N$18=\"\",\"\",'S5'!$N$18)","v":""},{"$f":"IF('S5'!$O$18=\"\",\"\",'S5'!$O$18)","v":""},{"$f":"IF('S5'!$P$18=\"\",\"\",'S5'!$P$18)","v":""},null,{"$f":"IF(VLOOKUP(B14,'S5'!$B$23:$Z$57,5,FALSE)=\"\",\"\",VLOOKUP(B14,'S5'!$B$23:$Z$57,5,FALSE))","v":0},null,null,null,null,"Aufgabe",null,null,{"$f":"IF('S5'!$G$18=\"\",\"\",'S5'!$G$18)","v":1},{"$f":"IF('S5'!$H$18=\"\",\"\",'S5'!$H$18)","v":2},{"$f":"IF('S5'!$I$18=\"\",\"\",'S5'!$I$18)","v":3},{"$f":"IF('S5'!$J$18=\"\",\"\",'S5'!$J$18)","v":""},{"$f":"IF('S5'!$K$18=\"\",\"\",'S5'!$K$18)","v":""},{"$f":"IF('S5'!$L$18=\"\",\"\",'S5'!$L$18)","v":""},{"$f":"IF('S5'!$M$18=\"\",\"\",'S5'!$M$18)","v":""},{"$f":"IF('S5'!$N$18=\"\",\"\",'S5'!$N$18)","v":""},{"$f":"IF('S5'!$O$18=\"\",\"\",'S5'!$O$18)","v":""},{"$f":"IF('S5'!$P$18=\"\",\"\",'S5'!$P$18)","v":""},null,{"$f":"IF(VLOOKUP(U14,'S5'!$B$23:$Z$57,5,FALSE)=\"\",\"\",VLOOKUP(U14,'S5'!$B$23:$Z$57,5,FALSE))","v":0}]
[null,"erreicht",null,null,{"$f":"IF(VLOOKUP(B14,'S5'!$B$23:$Z$57,6,FALSE)=\"\",\"\",VLOOKUP(B14,'S5'!$B$23:$Z$57,6,FALSE))","v":"."},{"$f":"IF(VLOOKUP(B14,'S5'!$B$23:$Z$57,7,FALSE)=\"\",\"\",VLOOKUP(B14,'S5'!$B$23:$Z$57,7,FALSE))","v":""},{"$f":"IF(VLOOKUP(B14,'S5'!$B$23:$Z$57,8,FALSE)=\"\",\"\",VLOOKUP(B14,'S5'!$B$23:$Z$57,8,FALSE))","v":""},{"$f":"IF(VLOOKUP(B14,'S5'!$B$23:$Z$57,9,FALSE)=\"\",\"\",VLOOKUP(B14,'S5'!$B$23:$Z$57,9,FALSE))","v":""},{"$f":"IF(VLOOKUP(B14,'S5'!$B$23:$Z$57,10,FALSE)=\"\",\"\",VLOOKUP(B14,'S5'!$B$23:$Z$57,10,FALSE))","v":""},{"$f":"IF(VLOOKUP(B14,'S5'!$B$23:$Z$57,11,FALSE)=\"\",\"\",VLOOKUP(B14,'S5'!$B$23:$Z$57,11,FALSE))","v":""},{"$f":"IF(VLOOKUP(B14,'S5'!$B$23:$Z$57,12,FALSE)=\"\",\"\",VLOOKUP(B14,'S5'!$B$23:$Z$57,12,FALSE))","v":""},{"$f":"IF(VLOOKUP(B14,'S5'!$B$23:$Z$57,13,FALSE)=\"\",\"\",VLOOKUP(B14,'S5'!$B$23:$Z$57,13,FALSE))","v":""},{"$f":"IF(VLOOKUP(B14,'S5'!$B$23:$Z$57,14,FALSE)=\"\",\"\",VLOOKUP(B14,'S5'!$B$23:$Z$57,14,FALSE))","v":""},{"$f":"IF(VLOOKUP(B14,'S5'!$B$23:$Z$57,15,FALSE)=\"\",\"\",VLOOKUP(B14,'S5'!$B$23:$Z$57,15,FALSE))","v":""},null,null,null,null,null,null,"erreicht",null,null,{"$f":"IF(VLOOKUP(U14,'S5'!$B$23:$Z$57,6,FALSE)=\"\",\"\",VLOOKUP(U14,'S5'!$B$23:$Z$57,6,FALSE))","v":"."},{"$f":"IF(VLOOKUP(U14,'S5'!$B$23:$Z$57,7,FALSE)=\"\",\"\",VLOOKUP(U14,'S5'!$B$23:$Z$57,7,FALSE))","v":""},{"$f":"IF(VLOOKUP(U14,'S5'!$B$23:$Z$57,8,FALSE)=\"\",\"\",VLOOKUP(U14,'S5'!$B$23:$Z$57,8,FALSE))","v":""},{"$f":"IF(VLOOKUP(U14,'S5'!$B$23:$Z$57,9,FALSE)=\"\",\"\",VLOOKUP(U14,'S5'!$B$23:$Z$57,9,FALSE))","v":""},{"$f":"IF(VLOOKUP(U14,'S5'!$B$23:$Z$57,10,FALSE)=\"\",\"\",VLOOKUP(U14,'S5'!$B$23:$Z$57,10,FALSE))","v":""},{"$f":"IF(VLOOKUP(U14,'S5'!$B$23:$Z$57,11,FALSE)=\"\",\"\",VLOOKUP(U14,'S5'!$B$23:$Z$57,11,FALSE))","v":""},{"$f":"IF(VLOOKUP(U14,'S5'!$B$23:$Z$57,12,FALSE)=\"\",\"\",VLOOKUP(U14,'S5'!$B$23:$Z$57,12,FALSE))","v":""},{"$f":"IF(VLOOKUP(U14,'S5'!$B$23:$Z$57,13,FALSE)=\"\",\"\",VLOOKUP(U14,'S5'!$B$23:$Z$57,13,FALSE))","v":""},{"$f":"IF(VLOOKUP(U14,'S5'!$B$23:$Z$57,14,FALSE)=\"\",\"\",VLOOKUP(U14,'S5'!$B$23:$Z$57,14,FALSE))","v":""},{"$f":"IF(VLOOKUP(U14,'S5'!$B$23:$Z$57,15,FALSE)=\"\",\"\",VLOOKUP(U14,'S5'!$B$23:$Z$57,15,FALSE))","v":""}]
[null,"von",null,null,{"$f":"IF('S5'!$G$21=\"\",\"\",'S5'!$G$21)","v":""},{"$f":"IF('S5'!$H$21=\"\",\"\",'S5'!$H$21)","v":""},{"$f":"IF('S5'!$I$21=\"\",\"\",'S5'!$I$21)","v":""},{"$f":"IF('S5'!$J$21=\"\",\"\",'S5'!$J$21)","v":""},{"$f":"IF('S5'!$K$21=\"\",\"\",'S5'!$K$21)","v":""},{"$f":"IF('S5'!$L$21=\"\",\"\",'S5'!$L$21)","v":""},{"$f":"IF('S5'!$M$21=\"\",\"\",'S5'!$M$21)","v":""},{"$f":"IF('S5'!$N$21=\"\",\"\",'S5'!$N$21)","v":""},{"$f":"IF('S5'!$O$21=\"\",\"\",'S5'!$O$21)","v":""},{"$f":"IF('S5'!$P$21=\"\",\"\",'S5'!$P$21)","v":""},null,"von",null,null,null,null,"von",null,null,{"$f":"IF('S5'!$G$21=\"\",\"\",'S5'!$G$21)","v":""},{"$f":"IF('S5'!$H$21=\"\",\"\",'S5'!$H$21)","v":""},{"$f":"IF('S5'!$I$21=\"\",\"\",'S5'!$I$21)","v":""},{"$f":"IF('S5'!$J$21=\"\",\"\",'S5'!$J$21)","v":""},{"$f":"IF('S5'!$K$21=\"\",\"\",'S5'!$K$21)","v":""},{"$f":"IF('S5'!$L$21=\"\",\"\",'S5'!$L$21)","v":""},{"$f":"IF('S5'!$M$21=\"\",\"\",'S5'!$M$21)","v":""},{"$f":"IF('S5'!$N$21=\"\",\"\",'S5'!$N$21)","v":""},{"$f":"IF('S5'!$O$21=\"\",\"\",'S5'!$O$21)","v":""},{"$f":"IF('S5'!$P$21=\"\",\"\",'S5'!$P$21)","v":""},null,"von"]
[null,null,null,null,null,null,null,null,null,null,null,null,null,null,null,{"$f":"'S5'!$H$12","v":0},null,null,null,null,null,null,null,null,null,null,null,null,null,null,null,null,null,null,{"$f":"'S5'!$H$12","v":0}]
[null,{"$f":"IF('S5'!$Q$18=\"\",\"\",\"Aufgabe\")","v":""},null,null,{"$f":"IF('S5'!$Q$18=\"\",\"\",'S5'!$Q$18)","v":""},{"$f":"IF('S5'!$R$18=\"\",\"\",'S5'!$R$18)","v":""},{"$f":"IF('S5'!$S$18=\"\",\"\",'S5'!$S$18)","v":""},{"$f":"IF('S5'!$T$18=\"\",\"\",'S5'!$T$18)","v":""},{"$f":"IF('S5'!$U$18=\"\",\"\",'S5'!$U$18)","v":""},{"$f":"IF('S5'!$V$18=\"\",\"\",'S5'!$V$18)","v":""},{"$f":"IF('S5'!$W$18=\"\",\"\",'S5'!$W$18)","v":""},{"$f":"IF('S5'!$X$18=\"\",\"\",'S5'!$X$18)","v":""},{"$f":"IF('S5'!$Y$18=\"\",\"\",'S5'!$Y$18)","v":""},{"$f":"IF('S5'!$Z$18=\"\",\"\",'S5'!$Z$18)","v":""},null,null,null,null,null,null,{"$f":"IF('S5'!$Q$18=\"\",\"\",\"Aufgabe\")","v":""},null,null,{"$f":"IF('S5'!$Q$18=\"\",\"\",'S5'!$Q$18)","v":""},{"$f":"IF('S5'!$R$18=\"\",\"\",'S5'!$R$18)","v":""},{"$f":"IF('S5'!$S$18=\"\",\"\",'S5'!$S$18)","v":""},{"$f":"IF('S5'!$T$18=\"\",\"\",'S5'!$T$18)","v":""},{"$f":"IF('S5'!$U$18=\"\",\"\",'S5'!$U$18)","v":""},{"$f":"IF('S5'!$V$18=\"\",\"\",'S5'!$V$18)","v":""},{"$f":"IF('S5'!$W$18=\"\",\"\",'S5'!$W$18)","v":""},{"$f":"IF('S5'!$X$18=\"\",\"\",'S5'!$X$18)","v":""},{"$f":"IF('S5'!$Y$18=\"\",\"\",'S5'!$Y$18)","v":""},{"$f":"IF('S5'!$Z$18=\"\",\"\",'S5'!$Z$18)","v":""}]
[null,{"$f":"IF('S5'!$Q$18=\"\",\"\",\"erreicht\")","v":""},null,null,{"$f":"IF(VLOOKUP(B14,'S5'!$B$23:$Z$57,16,FALSE)=\"\",\"\",VLOOKUP(B14,'S5'!$B$23:$Z$57,16,FALSE))","v":""},{"$f":"IF(VLOOKUP(B14,'S5'!$B$23:$Z$57,17,FALSE)=\"\",\"\",VLOOKUP(B14,'S5'!$B$23:$Z$57,17,FALSE))","v":""},{"$f":"IF(VLOOKUP(B14,'S5'!$B$23:$Z$57,18,FALSE)=\"\",\"\",VLOOKUP(B14,'S5'!$B$23:$Z$57,18,FALSE))","v":""},{"$f":"IF(VLOOKUP(B14,'S5'!$B$23:$Z$57,19,FALSE)=\"\",\"\",VLOOKUP(B14,'S5'!$B$23:$Z$57,19,FALSE))","v":""},{"$f":"IF(VLOOKUP(B14,'S5'!$B$23:$Z$57,20,FALSE)=\"\",\"\",VLOOKUP(B14,'S5'!$B$23:$Z$57,20,FALSE))","v":""},{"$f":"IF(VLOOKUP(B14,'S5'!$B$23:$Z$57,21,FALSE)=\"\",\"\",VLOOKUP(B14,'S5'!$B$23:$Z$57,21,FALSE))","v":""},{"$f":"IF(VLOOKUP(B14,'S5'!$B$23:$Z$57,22,FALSE)=\"\",\"\",VLOOKUP(B14,'S5'!$B$23:$Z$57,22,FALSE))","v":""},{"$f":"IF(VLOOKUP(B14,'S5'!$B$23:$Z$57,23,FALSE)=\"\",\"\",VLOOKUP(B14,'S5'!$B$23:$Z$57,23,FALSE))","v":""},{"$f":"IF(VLOOKUP(B14,'S5'!$B$23:$Z$57,24,FALSE)=\"\",\"\",VLOOKUP(B14,'S5'!$B$23:$Z$57,24,FALSE))","v":""},{"$f":"IF(VLOOKUP(B14,'S5'!$B$23:$Z$57,25,FALSE)=\"\",\"\",VLOOKUP(B14,'S5'!$B$23:$Z$57,25,FALSE))","v":""},null,"Note",null,null,null,null,{"$f":"IF('S5'!$Q$18=\"\",\"\",\"erreicht\")","v":""},null,null,{"$f":"IF(VLOOKUP(U14,'S5'!$B$23:$Z$57,16,FALSE)=\"\",\"\",VLOOKUP(U14,'S5'!$B$23:$Z$57,16,FALSE))","v":""},{"$f":"IF(VLOOKUP(U14,'S5'!$B$23:$Z$57,17,FALSE)=\"\",\"\",VLOOKUP(U14,'S5'!$B$23:$Z$57,17,FALSE))","v":""},{"$f":"IF(VLOOKUP(U14,'S5'!$B$23:$Z$57,18,FALSE)=\"\",\"\",VLOOKUP(U14,'S5'!$B$23:$Z$57,18,FALSE))","v":""},{"$f":"IF(VLOOKUP(U14,'S5'!$B$23:$Z$57,19,FALSE)=\"\",\"\",VLOOKUP(U14,'S5'!$B$23:$Z$57,19,FALSE))","v":""},{"$f":"IF(VLOOKUP(U14,'S5'!$B$23:$Z$57,20,FALSE)=\"\",\"\",VLOOKUP(U14,'S5'!$B$23:$Z$57,20,FALSE))","v":""},{"$f":"IF(VLOOKUP(U14,'S5'!$B$23:$Z$57,21,FALSE)=\"\",\"\",VLOOKUP(U14,'S5'!$B$23:$Z$57,21,FALSE))","v":""},{"$f":"IF(VLOOKUP(U14,'S5'!$B$23:$Z$57,22,FALSE)=\"\",\"\",VLOOKUP(U14,'S5'!$B$23:$Z$57,22,FALSE))","v":""},{"$f":"IF(VLOOKUP(U14,'S5'!$B$23:$Z$57,23,FALSE)=\"\",\"\",VLOOKUP(U14,'S5'!$B$23:$Z$57,23,FALSE))","v":""},{"$f":"IF(VLOOKUP(U14,'S5'!$B$23:$Z$57,24,FALSE)=\"\",\"\",VLOOKUP(U14,'S5'!$B$23:$Z$57,24,FALSE))","v":""},{"$f":"IF(VLOOKUP(U14,'S5'!$B$23:$Z$57,25,FALSE)=\"\",\"\",VLOOKUP(U14,'S5'!$B$23:$Z$57,25,FALSE))","v":""},null,"Note"]
[null,{"$f":"IF('S5'!$Q$18=\"\",\"\",\"von\")","v":""},null,null,{"$f":"IF('S5'!$Q$21=\"\",\"\",'S5'!$Q$21)","v":""},{"$f":"IF('S5'!$R$21=\"\",\"\",'S5'!$R$21)","v":""},{"$f":"IF('S5'!$S$21=\"\",\"\",'S5'!$S$21)","v":""},{"$f":"IF('S5'!$T$21=\"\",\"\",'S5'!$T$21)","v":""},{"$f":"IF('S5'!$U$21=\"\",\"\",'S5'!$U$21)","v":""},{"$f":"IF('S5'!$V$21=\"\",\"\",'S5'!$V$21)","v":""},{"$f":"IF('S5'!$W$21=\"\",\"\",'S5'!$W$21)","v":""},{"$f":"IF('S5'!$X$21=\"\",\"\",'S5'!$X$21)","v":""},{"$f":"IF('S5'!$Y$21=\"\",\"\",'S5'!$Y$21)","v":""},{"$f":"IF('S5'!$Z$21=\"\",\"\",'S5'!$Z$21)","v":""},null,{"$f":"IF(VLOOKUP(B14,'S5'!$B$23:$Z$57,2,FALSE)=\"\",\"\",CONCATENATE(VLOOKUP(B14,'S5'!$B$23:$Z$57,2,FALSE),\" \",VLOOKUP(B14,'S5'!$B$23:$Z$57,3,FALSE)))","v":"- "},null,null,null,null,{"$f":"IF('S5'!$Q$18=\"\",\"\",\"von\")","v":""},null,null,{"$f":"IF('S5'!$Q$21=\"\",\"\",'S5'!$Q$21)","v":""},{"$f":"IF('S5'!$R$21=\"\",\"\",'S5'!$R$21)","v":""},{"$f":"IF('S5'!$S$21=\"\",\"\",'S5'!$S$21)","v":""},{"$f":"IF('S5'!$T$21=\"\",\"\",'S5'!$T$21)","v":""},{"$f":"IF('S5'!$U$21=\"\",\"\",'S5'!$U$21)","v":""},{"$f":"IF('S5'!$V$21=\"\",\"\",'S5'!$V$21)","v":""},{"$f":"IF('S5'!$W$21=\"\",\"\",'S5'!$W$21)","v":""},{"$f":"IF('S5'!$X$21=\"\",\"\",'S5'!$X$21)","v":""},{"$f":"IF('S5'!$Y$21=\"\",\"\",'S5'!$Y$21)","v":""},{"$f":"IF('S5'!$Z$21=\"\",\"\",'S5'!$Z$21)","v":""},null,{"$f":"IF(VLOOKUP(U14,'S5'!$B$23:$Z$57,2,FALSE)=\"\",\"\",CONCATENATE(VLOOKUP(U14,'S5'!$B$23:$Z$57,2,FALSE),\" \",VLOOKUP(U14,'S5'!$B$23:$Z$57,3,FALSE)))","v":"- "}]
[]
[]
[]
[null,{"$f":"'S5'!$B$27","v":""},null,null,null,null,null,null,null,null,null,null,null,null,null,null,null,null,null,null,{"$f":"'S5'!$B$28","v":""}]
[null,null,null,null,null,null,null,null,null,null,null,null,null,null,null,"Summe",null,null,null,null,null,null,null,null,null,null,null,null,null,null,null,null,null,null,"Summe"]
[null,"Aufgabe",null,null,{"$f":"IF('S5'!$G$18=\"\",\"\",'S5'!$G$18)","v":1},{"$f":"IF('S5'!$H$18=\"\",\"\",'S5'!$H$18)","v":2},{"$f":"IF('S5'!$I$18=\"\",\"\",'S5'!$I$18)","v":3},{"$f":"IF('S5'!$J$18=\"\",\"\",'S5'!$J$18)","v":""},{"$f":"IF('S5'!$K$18=\"\",\"\",'S5'!$K$18)","v":""},{"$f":"IF('S5'!$L$18=\"\",\"\",'S5'!$L$18)","v":""},{"$f":"IF('S5'!$M$18=\"\",\"\",'S5'!$M$18)","v":""},{"$f":"IF('S5'!$N$18=\"\",\"\",'S5'!$N$18)","v":""},{"$f":"IF('S5'!$O$18=\"\",\"\",'S5'!$O$18)","v":""},{"$f":"IF('S5'!$P$18=\"\",\"\",'S5'!$P$18)","v":""},null,{"$f":"IF(VLOOKUP(B26,'S5'!$B$23:$Z$57,5,FALSE)=\"\",\"\",VLOOKUP(B26,'S5'!$B$23:$Z$57,5,FALSE))","v":0},null,null,null,null,"Aufgabe",null,null,{"$f":"IF('S5'!$G$18=\"\",\"\",'S5'!$G$18)","v":1},{"$f":"IF('S5'!$H$18=\"\",\"\",'S5'!$H$18)","v":2},{"$f":"IF('S5'!$I$18=\"\",\"\",'S5'!$I$18)","v":3},{"$f":"IF('S5'!$J$18=\"\",\"\",'S5'!$J$18)","v":""},{"$f":"IF('S5'!$K$18=\"\",\"\",'S5'!$K$18)","v":""},{"$f":"IF('S5'!$L$18=\"\",\"\",'S5'!$L$18)","v":""},{"$f":"IF('S5'!$M$18=\"\",\"\",'S5'!$M$18)","v":""},{"$f":"IF('S5'!$N$18=\"\",\"\",'S5'!$N$18)","v":""},{"$f":"IF('S5'!$O$18=\"\",\"\",'S5'!$O$18)","v":""},{"$f":"IF('S5'!$P$18=\"\",\"\",'S5'!$P$18)","v":""},null,{"$f":"IF(VLOOKUP(U26,'S5'!$B$23:$Z$57,5,FALSE)=\"\",\"\",VLOOKUP(U26,'S5'!$B$23:$Z$57,5,FALSE))","v":0}]
[null,"erreicht",null,null,{"$f":"IF(VLOOKUP(B26,'S5'!$B$23:$Z$57,6,FALSE)=\"\",\"\",VLOOKUP(B26,'S5'!$B$23:$Z$57,6,FALSE))","v":"."},{"$f":"IF(VLOOKUP(B26,'S5'!$B$23:$Z$57,7,FALSE)=\"\",\"\",VLOOKUP(B26,'S5'!$B$23:$Z$57,7,FALSE))","v":""},{"$f":"IF(VLOOKUP(B26,'S5'!$B$23:$Z$57,8,FALSE)=\"\",\"\",VLOOKUP(B26,'S5'!$B$23:$Z$57,8,FALSE))","v":""},{"$f":"IF(VLOOKUP(B26,'S5'!$B$23:$Z$57,9,FALSE)=\"\",\"\",VLOOKUP(B26,'S5'!$B$23:$Z$57,9,FALSE))","v":""},{"$f":"IF(VLOOKUP(B26,'S5'!$B$23:$Z$57,10,FALSE)=\"\",\"\",VLOOKUP(B26,'S5'!$B$23:$Z$57,10,FALSE))","v":""},{"$f":"IF(VLOOKUP(B26,'S5'!$B$23:$Z$57,11,FALSE)=\"\",\"\",VLOOKUP(B26,'S5'!$B$23:$Z$57,11,FALSE))","v":""},{"$f":"IF(VLOOKUP(B26,'S5'!$B$23:$Z$57,12,FALSE)=\"\",\"\",VLOOKUP(B26,'S5'!$B$23:$Z$57,12,FALSE))","v":""},{"$f":"IF(VLOOKUP(B26,'S5'!$B$23:$Z$57,13,FALSE)=\"\",\"\",VLOOKUP(B26,'S5'!$B$23:$Z$57,13,FALSE))","v":""},{"$f":"IF(VLOOKUP(B26,'S5'!$B$23:$Z$57,14,FALSE)=\"\",\"\",VLOOKUP(B26,'S5'!$B$23:$Z$57,14,FALSE))","v":""},{"$f":"IF(VLOOKUP(B26,'S5'!$B$23:$Z$57,15,FALSE)=\"\",\"\",VLOOKUP(B26,'S5'!$B$23:$Z$57,15,FALSE))","v":""},null,null,null,null,null,null,"erreicht",null,null,{"$f":"IF(VLOOKUP(U26,'S5'!$B$23:$Z$57,6,FALSE)=\"\",\"\",VLOOKUP(U26,'S5'!$B$23:$Z$57,6,FALSE))","v":"."},{"$f":"IF(VLOOKUP(U26,'S5'!$B$23:$Z$57,7,FALSE)=\"\",\"\",VLOOKUP(U26,'S5'!$B$23:$Z$57,7,FALSE))","v":""},{"$f":"IF(VLOOKUP(U26,'S5'!$B$23:$Z$57,8,FALSE)=\"\",\"\",VLOOKUP(U26,'S5'!$B$23:$Z$57,8,FALSE))","v":""},{"$f":"IF(VLOOKUP(U26,'S5'!$B$23:$Z$57,9,FALSE)=\"\",\"\",VLOOKUP(U26,'S5'!$B$23:$Z$57,9,FALSE))","v":""},{"$f":"IF(VLOOKUP(U26,'S5'!$B$23:$Z$57,10,FALSE)=\"\",\"\",VLOOKUP(U26,'S5'!$B$23:$Z$57,10,FALSE))","v":""},{"$f":"IF(VLOOKUP(U26,'S5'!$B$23:$Z$57,11,FALSE)=\"\",\"\",VLOOKUP(U26,'S5'!$B$23:$Z$57,11,FALSE))","v":""},{"$f":"IF(VLOOKUP(U26,'S5'!$B$23:$Z$57,12,FALSE)=\"\",\"\",VLOOKUP(U26,'S5'!$B$23:$Z$57,12,FALSE))","v":""},{"$f":"IF(VLOOKUP(U26,'S5'!$B$23:$Z$57,13,FALSE)=\"\",\"\",VLOOKUP(U26,'S5'!$B$23:$Z$57,13,FALSE))","v":""},{"$f":"IF(VLOOKUP(U26,'S5'!$B$23:$Z$57,14,FALSE)=\"\",\"\",VLOOKUP(U26,'S5'!$B$23:$Z$57,14,FALSE))","v":""},{"$f":"IF(VLOOKUP(U26,'S5'!$B$23:$Z$57,15,FALSE)=\"\",\"\",VLOOKUP(U26,'S5'!$B$23:$Z$57,15,FALSE))","v":""}]
[null,"von",null,null,{"$f":"IF('S5'!$G$21=\"\",\"\",'S5'!$G$21)","v":""},{"$f":"IF('S5'!$H$21=\"\",\"\",'S5'!$H$21)","v":""},{"$f":"IF('S5'!$I$21=\"\",\"\",'S5'!$I$21)","v":""},{"$f":"IF('S5'!$J$21=\"\",\"\",'S5'!$J$21)","v":""},{"$f":"IF('S5'!$K$21=\"\",\"\",'S5'!$K$21)","v":""},{"$f":"IF('S5'!$L$21=\"\",\"\",'S5'!$L$21)","v":""},{"$f":"IF('S5'!$M$21=\"\",\"\",'S5'!$M$21)","v":""},{"$f":"IF('S5'!$N$21=\"\",\"\",'S5'!$N$21)","v":""},{"$f":"IF('S5'!$O$21=\"\",\"\",'S5'!$O$21)","v":""},{"$f":"IF('S5'!$P$21=\"\",\"\",'S5'!$P$21)","v":""},null,"von",null,null,null,null,"von",null,null,{"$f":"IF('S5'!$G$21=\"\",\"\",'S5'!$G$21)","v":""},{"$f":"IF('S5'!$H$21=\"\",\"\",'S5'!$H$21)","v":""},{"$f":"IF('S5'!$I$21=\"\",\"\",'S5'!$I$21)","v":""},{"$f":"IF('S5'!$J$21=\"\",\"\",'S5'!$J$21)","v":""},{"$f":"IF('S5'!$K$21=\"\",\"\",'S5'!$K$21)","v":""},{"$f":"IF('S5'!$L$21=\"\",\"\",'S5'!$L$21)","v":""},{"$f":"IF('S5'!$M$21=\"\",\"\",'S5'!$M$21)","v":""},{"$f":"IF('S5'!$N$21=\"\",\"\",'S5'!$N$21)","v":""},{"$f":"IF('S5'!$O$21=\"\",\"\",'S5'!$O$21)","v":""},{"$f":"IF('S5'!$P$21=\"\",\"\",'S5'!$P$21)","v":""},null,"von"]
[null,null,null,null,null,null,null,null,null,null,null,null,null,null,null,{"$f":"'S5'!$H$12","v":0},null,null,null,null,null,null,null,null,null,null,null,null,null,null,null,null,null,null,{"$f":"'S5'!$H$12","v":0}]
[null,{"$f":"IF('S5'!$Q$18=\"\",\"\",\"Aufgabe\")","v":""},null,null,{"$f":"IF('S5'!$Q$18=\"\",\"\",'S5'!$Q$18)","v":""},{"$f":"IF('S5'!$R$18=\"\",\"\",'S5'!$R$18)","v":""},{"$f":"IF('S5'!$S$18=\"\",\"\",'S5'!$S$18)","v":""},{"$f":"IF('S5'!$T$18=\"\",\"\",'S5'!$T$18)","v":""},{"$f":"IF('S5'!$U$18=\"\",\"\",'S5'!$U$18)","v":""},{"$f":"IF('S5'!$V$18=\"\",\"\",'S5'!$V$18)","v":""},{"$f":"IF('S5'!$W$18=\"\",\"\",'S5'!$W$18)","v":""},{"$f":"IF('S5'!$X$18=\"\",\"\",'S5'!$X$18)","v":""},{"$f":"IF('S5'!$Y$18=\"\",\"\",'S5'!$Y$18)","v":""},{"$f":"IF('S5'!$Z$18=\"\",\"\",'S5'!$Z$18)","v":""},null,null,null,null,null,null,{"$f":"IF('S5'!$Q$18=\"\",\"\",\"Aufgabe\")","v":""},null,null,{"$f":"IF('S5'!$Q$18=\"\",\"\",'S5'!$Q$18)","v":""},{"$f":"IF('S5'!$R$18=\"\",\"\",'S5'!$R$18)","v":""},{"$f":"IF('S5'!$S$18=\"\",\"\",'S5'!$S$18)","v":""},{"$f":"IF('S5'!$T$18=\"\",\"\",'S5'!$T$18)","v":""},{"$f":"IF('S5'!$U$18=\"\",\"\",'S5'!$U$18)","v":""},{"$f":"IF('S5'!$V$18=\"\",\"\",'S5'!$V$18)","v":""},{"$f":"IF('S5'!$W$18=\"\",\"\",'S5'!$W$18)","v":""},{"$f":"IF('S5'!$X$18=\"\",\"\",'S5'!$X$18)","v":""},{"$f":"IF('S5'!$Y$18=\"\",\"\",'S5'!$Y$18)","v":""},{"$f":"IF('S5'!$Z$18=\"\",\"\",'S5'!$Z$18)","v":""}]
[null,{"$f":"IF('S5'!$Q$18=\"\",\"\",\"erreicht\")","v":""},null,null,{"$f":"IF(VLOOKUP(B26,'S5'!$B$23:$Z$57,16,FALSE)=\"\",\"\",VLOOKUP(B26,'S5'!$B$23:$Z$57,16,FALSE))","v":""},{"$f":"IF(VLOOKUP(B26,'S5'!$B$23:$Z$57,17,FALSE)=\"\",\"\",VLOOKUP(B26,'S5'!$B$23:$Z$57,17,FALSE))","v":""},{"$f":"IF(VLOOKUP(B26,'S5'!$B$23:$Z$57,18,FALSE)=\"\",\"\",VLOOKUP(B26,'S5'!$B$23:$Z$57,18,FALSE))","v":""},{"$f":"IF(VLOOKUP(B26,'S5'!$B$23:$Z$57,19,FALSE)=\"\",\"\",VLOOKUP(B26,'S5'!$B$23:$Z$57,19,FALSE))","v":""},{"$f":"IF(VLOOKUP(B26,'S5'!$B$23:$Z$57,20,FALSE)=\"\",\"\",VLOOKUP(B26,'S5'!$B$23:$Z$57,20,FALSE))","v":""},{"$f":"IF(VLOOKUP(B26,'S5'!$B$23:$Z$57,21,FALSE)=\"\",\"\",VLOOKUP(B26,'S5'!$B$23:$Z$57,21,FALSE))","v":""},{"$f":"IF(VLOOKUP(B26,'S5'!$B$23:$Z$57,22,FALSE)=\"\",\"\",VLOOKUP(B26,'S5'!$B$23:$Z$57,22,FALSE))","v":""},{"$f":"IF(VLOOKUP(B26,'S5'!$B$23:$Z$57,23,FALSE)=\"\",\"\",VLOOKUP(B26,'S5'!$B$23:$Z$57,23,FALSE))","v":""},{"$f":"IF(VLOOKUP(B26,'S5'!$B$23:$Z$57,24,FALSE)=\"\",\"\",VLOOKUP(B26,'S5'!$B$23:$Z$57,24,FALSE))","v":""},{"$f":"IF(VLOOKUP(B26,'S5'!$B$23:$Z$57,25,FALSE)=\"\",\"\",VLOOKUP(B26,'S5'!$B$23:$Z$57,25,FALSE))","v":""},null,"Note",null,null,null,null,{"$f":"IF('S5'!$Q$18=\"\",\"\",\"erreicht\")","v":""},null,null,{"$f":"IF(VLOOKUP(U26,'S5'!$B$23:$Z$57,16,FALSE)=\"\",\"\",VLOOKUP(U26,'S5'!$B$23:$Z$57,16,FALSE))","v":""},{"$f":"IF(VLOOKUP(U26,'S5'!$B$23:$Z$57,17,FALSE)=\"\",\"\",VLOOKUP(U26,'S5'!$B$23:$Z$57,17,FALSE))","v":""},{"$f":"IF(VLOOKUP(U26,'S5'!$B$23:$Z$57,18,FALSE)=\"\",\"\",VLOOKUP(U26,'S5'!$B$23:$Z$57,18,FALSE))","v":""},{"$f":"IF(VLOOKUP(U26,'S5'!$B$23:$Z$57,19,FALSE)=\"\",\"\",VLOOKUP(U26,'S5'!$B$23:$Z$57,19,FALSE))","v":""},{"$f":"IF(VLOOKUP(U26,'S5'!$B$23:$Z$57,20,FALSE)=\"\",\"\",VLOOKUP(U26,'S5'!$B$23:$Z$57,20,FALSE))","v":""},{"$f":"IF(VLOOKUP(U26,'S5'!$B$23:$Z$57,21,FALSE)=\"\",\"\",VLOOKUP(U26,'S5'!$B$23:$Z$57,21,FALSE))","v":""},{"$f":"IF(VLOOKUP(U26,'S5'!$B$23:$Z$57,22,FALSE)=\"\",\"\",VLOOKUP(U26,'S5'!$B$23:$Z$57,22,FALSE))","v":""},{"$f":"IF(VLOOKUP(U26,'S5'!$B$23:$Z$57,23,FALSE)=\"\",\"\",VLOOKUP(U26,'S5'!$B$23:$Z$57,23,FALSE))","v":""},{"$f":"IF(VLOOKUP(U26,'S5'!$B$23:$Z$57,24,FALSE)=\"\",\"\",VLOOKUP(U26,'S5'!$B$23:$Z$57,24,FALSE))","v":""},{"$f":"IF(VLOOKUP(U26,'S5'!$B$23:$Z$57,25,FALSE)=\"\",\"\",VLOOKUP(U26,'S5'!$B$23:$Z$57,25,FALSE))","v":""},null,"Note"]
[null,{"$f":"IF('S5'!$Q$18=\"\",\"\",\"von\")","v":""},null,null,{"$f":"IF('S5'!$Q$21=\"\",\"\",'S5'!$Q$21)","v":""},{"$f":"IF('S5'!$R$21=\"\",\"\",'S5'!$R$21)","v":""},{"$f":"IF('S5'!$S$21=\"\",\"\",'S5'!$S$21)","v":""},{"$f":"IF('S5'!$T$21=\"\",\"\",'S5'!$T$21)","v":""},{"$f":"IF('S5'!$U$21=\"\",\"\",'S5'!$U$21)","v":""},{"$f":"IF('S5'!$V$21=\"\",\"\",'S5'!$V$21)","v":""},{"$f":"IF('S5'!$W$21=\"\",\"\",'S5'!$W$21)","v":""},{"$f":"IF('S5'!$X$21=\"\",\"\",'S5'!$X$21)","v":""},{"$f":"IF('S5'!$Y$21=\"\",\"\",'S5'!$Y$21)","v":""},{"$f":"IF('S5'!$Z$21=\"\",\"\",'S5'!$Z$21)","v":""},null,{"$f":"IF(VLOOKUP(B26,'S5'!$B$23:$Z$57,2,FALSE)=\"\",\"\",CONCATENATE(VLOOKUP(B26,'S5'!$B$23:$Z$57,2,FALSE),\" \",VLOOKUP(B26,'S5'!$B$23:$Z$57,3,FALSE)))","v":"- "},null,null,null,null,{"$f":"IF('S5'!$Q$18=\"\",\"\",\"von\")","v":""},null,null,{"$f":"IF('S5'!$Q$21=\"\",\"\",'S5'!$Q$21)","v":""},{"$f":"IF('S5'!$R$21=\"\",\"\",'S5'!$R$21)","v":""},{"$f":"IF('S5'!$S$21=\"\",\"\",'S5'!$S$21)","v":""},{"$f":"IF('S5'!$T$21=\"\",\"\",'S5'!$T$21)","v":""},{"$f":"IF('S5'!$U$21=\"\",\"\",'S5'!$U$21)","v":""},{"$f":"IF('S5'!$V$21=\"\",\"\",'S5'!$V$21)","v":""},{"$f":"IF('S5'!$W$21=\"\",\"\",'S5'!$W$21)","v":""},{"$f":"IF('S5'!$X$21=\"\",\"\",'S5'!$X$21)","v":""},{"$f":"IF('S5'!$Y$21=\"\",\"\",'S5'!$Y$21)","v":""},{"$f":"IF('S5'!$Z$21=\"\",\"\",'S5'!$Z$21)","v":""},null,{"$f":"IF(VLOOKUP(U26,'S5'!$B$23:$Z$57,2,FALSE)=\"\",\"\",CONCATENATE(VLOOKUP(U26,'S5'!$B$23:$Z$57,2,FALSE),\" \",VLOOKUP(U26,'S5'!$B$23:$Z$57,3,FALSE)))","v":"- "}]
[]
[]
[]
[null,{"$f":"'S5'!$B$29","v":""},null,null,null,null,null,null,null,null,null,null,null,null,null,null,null,null,null,null,{"$f":"'S5'!$B$30","v":""}]
[null,null,null,null,null,null,null,null,null,null,null,null,null,null,null,"Summe",null,null,null,null,null,null,null,null,null,null,null,null,null,null,null,null,null,null,"Summe"]
[null,"Aufgabe",null,null,{"$f":"IF('S5'!$G$18=\"\",\"\",'S5'!$G$18)","v":1},{"$f":"IF('S5'!$H$18=\"\",\"\",'S5'!$H$18)","v":2},{"$f":"IF('S5'!$I$18=\"\",\"\",'S5'!$I$18)","v":3},{"$f":"IF('S5'!$J$18=\"\",\"\",'S5'!$J$18)","v":""},{"$f":"IF('S5'!$K$18=\"\",\"\",'S5'!$K$18)","v":""},{"$f":"IF('S5'!$L$18=\"\",\"\",'S5'!$L$18)","v":""},{"$f":"IF('S5'!$M$18=\"\",\"\",'S5'!$M$18)","v":""},{"$f":"IF('S5'!$N$18=\"\",\"\",'S5'!$N$18)","v":""},{"$f":"IF('S5'!$O$18=\"\",\"\",'S5'!$O$18)","v":""},{"$f":"IF('S5'!$P$18=\"\",\"\",'S5'!$P$18)","v":""},null,{"$f":"IF(VLOOKUP(B38,'S5'!$B$23:$Z$57,5,FALSE)=\"\",\"\",VLOOKUP(B38,'S5'!$B$23:$Z$57,5,FALSE))","v":0},null,null,null,null,"Aufgabe",null,null,{"$f":"IF('S5'!$G$18=\"\",\"\",'S5'!$G$18)","v":1},{"$f":"IF('S5'!$H$18=\"\",\"\",'S5'!$H$18)","v":2},{"$f":"IF('S5'!$I$18=\"\",\"\",'S5'!$I$18)","v":3},{"$f":"IF('S5'!$J$18=\"\",\"\",'S5'!$J$18)","v":""},{"$f":"IF('S5'!$K$18=\"\",\"\",'S5'!$K$18)","v":""},{"$f":"IF('S5'!$L$18=\"\",\"\",'S5'!$L$18)","v":""},{"$f":"IF('S5'!$M$18=\"\",\"\",'S5'!$M$18)","v":""},{"$f":"IF('S5'!$N$18=\"\",\"\",'S5'!$N$18)","v":""},{"$f":"IF('S5'!$O$18=\"\",\"\",'S5'!$O$18)","v":""},{"$f":"IF('S5'!$P$18=\"\",\"\",'S5'!$P$18)","v":""},null,{"$f":"IF(VLOOKUP(U38,'S5'!$B$23:$Z$57,5,FALSE)=\"\",\"\",VLOOKUP(U38,'S5'!$B$23:$Z$57,5,FALSE))","v":0}]
[null,"erreicht",null,null,{"$f":"IF(VLOOKUP(B38,'S5'!$B$23:$Z$57,6,FALSE)=\"\",\"\",VLOOKUP(B38,'S5'!$B$23:$Z$57,6,FALSE))","v":"."},{"$f":"IF(VLOOKUP(B38,'S5'!$B$23:$Z$57,7,FALSE)=\"\",\"\",VLOOKUP(B38,'S5'!$B$23:$Z$57,7,FALSE))","v":""},{"$f":"IF(VLOOKUP(B38,'S5'!$B$23:$Z$57,8,FALSE)=\"\",\"\",VLOOKUP(B38,'S5'!$B$23:$Z$57,8,FALSE))","v":""},{"$f":"IF(VLOOKUP(B38,'S5'!$B$23:$Z$57,9,FALSE)=\"\",\"\",VLOOKUP(B38,'S5'!$B$23:$Z$57,9,FALSE))","v":""},{"$f":"IF(VLOOKUP(B38,'S5'!$B$23:$Z$57,10,FALSE)=\"\",\"\",VLOOKUP(B38,'S5'!$B$23:$Z$57,10,FALSE))","v":""},{"$f":"IF(VLOOKUP(B38,'S5'!$B$23:$Z$57,11,FALSE)=\"\",\"\",VLOOKUP(B38,'S5'!$B$23:$Z$57,11,FALSE))","v":""},{"$f":"IF(VLOOKUP(B38,'S5'!$B$23:$Z$57,12,FALSE)=\"\",\"\",VLOOKUP(B38,'S5'!$B$23:$Z$57,12,FALSE))","v":""},{"$f":"IF(VLOOKUP(B38,'S5'!$B$23:$Z$57,13,FALSE)=\"\",\"\",VLOOKUP(B38,'S5'!$B$23:$Z$57,13,FALSE))","v":""},{"$f":"IF(VLOOKUP(B38,'S5'!$B$23:$Z$57,14,FALSE)=\"\",\"\",VLOOKUP(B38,'S5'!$B$23:$Z$57,14,FALSE))","v":""},{"$f":"IF(VLOOKUP(B38,'S5'!$B$23:$Z$57,15,FALSE)=\"\",\"\",VLOOKUP(B38,'S5'!$B$23:$Z$57,15,FALSE))","v":""},null,null,null,null,null,null,"erreicht",null,null,{"$f":"IF(VLOOKUP(U38,'S5'!$B$23:$Z$57,6,FALSE)=\"\",\"\",VLOOKUP(U38,'S5'!$B$23:$Z$57,6,FALSE))","v":"."},{"$f":"IF(VLOOKUP(U38,'S5'!$B$23:$Z$57,7,FALSE)=\"\",\"\",VLOOKUP(U38,'S5'!$B$23:$Z$57,7,FALSE))","v":""},{"$f":"IF(VLOOKUP(U38,'S5'!$B$23:$Z$57,8,FALSE)=\"\",\"\",VLOOKUP(U38,'S5'!$B$23:$Z$57,8,FALSE))","v":""},{"$f":"IF(VLOOKUP(U38,'S5'!$B$23:$Z$57,9,FALSE)=\"\",\"\",VLOOKUP(U38,'S5'!$B$23:$Z$57,9,FALSE))","v":""},{"$f":"IF(VLOOKUP(U38,'S5'!$B$23:$Z$57,10,FALSE)=\"\",\"\",VLOOKUP(U38,'S5'!$B$23:$Z$57,10,FALSE))","v":""},{"$f":"IF(VLOOKUP(U38,'S5'!$B$23:$Z$57,11,FALSE)=\"\",\"\",VLOOKUP(U38,'S5'!$B$23:$Z$57,11,FALSE))","v":""},{"$f":"IF(VLOOKUP(U38,'S5'!$B$23:$Z$57,12,FALSE)=\"\",\"\",VLOOKUP(U38,'S5'!$B$23:$Z$57,12,FALSE))","v":""},{"$f":"IF(VLOOKUP(U38,'S5'!$B$23:$Z$57,13,FALSE)=\"\",\"\",VLOOKUP(U38,'S5'!$B$23:$Z$57,13,FALSE))","v":""},{"$f":"IF(VLOOKUP(U38,'S5'!$B$23:$Z$57,14,FALSE)=\"\",\"\",VLOOKUP(U38,'S5'!$B$23:$Z$57,14,FALSE))","v":""},{"$f":"IF(VLOOKUP(U38,'S5'!$B$23:$Z$57,15,FALSE)=\"\",\"\",VLOOKUP(U38,'S5'!$B$23:$Z$57,15,FALSE))","v":""}]
[null,"von",null,null,{"$f":"IF('S5'!$G$21=\"\",\"\",'S5'!$G$21)","v":""},{"$f":"IF('S5'!$H$21=\"\",\"\",'S5'!$H$21)","v":""},{"$f":"IF('S5'!$I$21=\"\",\"\",'S5'!$I$21)","v":""},{"$f":"IF('S5'!$J$21=\"\",\"\",'S5'!$J$21)","v":""},{"$f":"IF('S5'!$K$21=\"\",\"\",'S5'!$K$21)","v":""},{"$f":"IF('S5'!$L$21=\"\",\"\",'S5'!$L$21)","v":""},{"$f":"IF('S5'!$M$21=\"\",\"\",'S5'!$M$21)","v":""},{"$f":"IF('S5'!$N$21=\"\",\"\",'S5'!$N$21)","v":""},{"$f":"IF('S5'!$O$21=\"\",\"\",'S5'!$O$21)","v":""},{"$f":"IF('S5'!$P$21=\"\",\"\",'S5'!$P$21)","v":""},null,"von",null,null,null,null,"von",null,null,{"$f":"IF('S5'!$G$21=\"\",\"\",'S5'!$G$21)","v":""},{"$f":"IF('S5'!$H$21=\"\",\"\",'S5'!$H$21)","v":""},{"$f":"IF('S5'!$I$21=\"\",\"\",'S5'!$I$21)","v":""},{"$f":"IF('S5'!$J$21=\"\",\"\",'S5'!$J$21)","v":""},{"$f":"IF('S5'!$K$21=\"\",\"\",'S5'!$K$21)","v":""},{"$f":"IF('S5'!$L$21=\"\",\"\",'S5'!$L$21)","v":""},{"$f":"IF('S5'!$M$21=\"\",\"\",'S5'!$M$21)","v":""},{"$f":"IF('S5'!$N$21=\"\",\"\",'S5'!$N$21)","v":""},{"$f":"IF('S5'!$O$21=\"\",\"\",'S5'!$O$21)","v":""},{"$f":"IF('S5'!$P$21=\"\",\"\",'S5'!$P$21)","v":""},null,"von"]
[null,null,null,null,null,null,null,null,null,null,null,null,null,null,null,{"$f":"'S5'!$H$12","v":0},null,null,null,null,null,null,null,null,null,null,null,null,null,null,null,null,null,null,{"$f":"'S5'!$H$12","v":0}]
[null,{"$f":"IF('S5'!$Q$18=\"\",\"\",\"Aufgabe\")","v":""},null,null,{"$f":"IF('S5'!$Q$18=\"\",\"\",'S5'!$Q$18)","v":""},{"$f":"IF('S5'!$R$18=\"\",\"\",'S5'!$R$18)","v":""},{"$f":"IF('S5'!$S$18=\"\",\"\",'S5'!$S$18)","v":""},{"$f":"IF('S5'!$T$18=\"\",\"\",'S5'!$T$18)","v":""},{"$f":"IF('S5'!$U$18=\"\",\"\",'S5'!$U$18)","v":""},{"$f":"IF('S5'!$V$18=\"\",\"\",'S5'!$V$18)","v":""},{"$f":"IF('S5'!$W$18=\"\",\"\",'S5'!$W$18)","v":""},{"$f":"IF('S5'!$X$18=\"\",\"\",'S5'!$X$18)","v":""},{"$f":"IF('S5'!$Y$18=\"\",\"\",'S5'!$Y$18)","v":""},{"$f":"IF('S5'!$Z$18=\"\",\"\",'S5'!$Z$18)","v":""},null,null,null,null,null,null,{"$f":"IF('S5'!$Q$18=\"\",\"\",\"Aufgabe\")","v":""},null,null,{"$f":"IF('S5'!$Q$18=\"\",\"\",'S5'!$Q$18)","v":""},{"$f":"IF('S5'!$R$18=\"\",\"\",'S5'!$R$18)","v":""},{"$f":"IF('S5'!$S$18=\"\",\"\",'S5'!$S$18)","v":""},{"$f":"IF('S5'!$T$18=\"\",\"\",'S5'!$T$18)","v":""},{"$f":"IF('S5'!$U$18=\"\",\"\",'S5'!$U$18)","v":""},{"$f":"IF('S5'!$V$18=\"\",\"\",'S5'!$V$18)","v":""},{"$f":"IF('S5'!$W$18=\"\",\"\",'S5'!$W$18)","v":""},{"$f":"IF('S5'!$X$18=\"\",\"\",'S5'!$X$18)","v":""},{"$f":"IF('S5'!$Y$18=\"\",\"\",'S5'!$Y$18)","v":""},{"$f":"IF('S5'!$Z$18=\"\",\"\",'S5'!$Z$18)","v":""}]
[null,{"$f":"IF('S5'!$Q$18=\"\",\"\",\"erreicht\")","v":""},null,null,{"$f":"IF(VLOOKUP(B38,'S5'!$B$23:$Z$57,16,FALSE)=\"\",\"\",VLOOKUP(B38,'S5'!$B$23:$Z$57,16,FALSE))","v":""},{"$f":"IF(VLOOKUP(B38,'S5'!$B$23:$Z$57,17,FALSE)=\"\",\"\",VLOOKUP(B38,'S5'!$B$23:$Z$57,17,FALSE))","v":""},{"$f":"IF(VLOOKUP(B38,'S5'!$B$23:$Z$57,18,FALSE)=\"\",\"\",VLOOKUP(B38,'S5'!$B$23:$Z$57,18,FALSE))","v":""},{"$f":"IF(VLOOKUP(B38,'S5'!$B$23:$Z$57,19,FALSE)=\"\",\"\",VLOOKUP(B38,'S5'!$B$23:$Z$57,19,FALSE))","v":""},{"$f":"IF(VLOOKUP(B38,'S5'!$B$23:$Z$57,20,FALSE)=\"\",\"\",VLOOKUP(B38,'S5'!$B$23:$Z$57,20,FALSE))","v":""},{"$f":"IF(VLOOKUP(B38,'S5'!$B$23:$Z$57,21,FALSE)=\"\",\"\",VLOOKUP(B38,'S5'!$B$23:$Z$57,21,FALSE))","v":""},{"$f":"IF(VLOOKUP(B38,'S5'!$B$23:$Z$57,22,FALSE)=\"\",\"\",VLOOKUP(B38,'S5'!$B$23:$Z$57,22,FALSE))","v":""},{"$f":"IF(VLOOKUP(B38,'S5'!$B$23:$Z$57,23,FALSE)=\"\",\"\",VLOOKUP(B38,'S5'!$B$23:$Z$57,23,FALSE))","v":""},{"$f":"IF(VLOOKUP(B38,'S5'!$B$23:$Z$57,24,FALSE)=\"\",\"\",VLOOKUP(B38,'S5'!$B$23:$Z$57,24,FALSE))","v":""},{"$f":"IF(VLOOKUP(B38,'S5'!$B$23:$Z$57,25,FALSE)=\"\",\"\",VLOOKUP(B38,'S5'!$B$23:$Z$57,25,FALSE))","v":""},null,"Note",null,null,null,null,{"$f":"IF('S5'!$Q$18=\"\",\"\",\"erreicht\")","v":""},null,null,{"$f":"IF(VLOOKUP(U38,'S5'!$B$23:$Z$57,16,FALSE)=\"\",\"\",VLOOKUP(U38,'S5'!$B$23:$Z$57,16,FALSE))","v":""},{"$f":"IF(VLOOKUP(U38,'S5'!$B$23:$Z$57,17,FALSE)=\"\",\"\",VLOOKUP(U38,'S5'!$B$23:$Z$57,17,FALSE))","v":""},{"$f":"IF(VLOOKUP(U38,'S5'!$B$23:$Z$57,18,FALSE)=\"\",\"\",VLOOKUP(U38,'S5'!$B$23:$Z$57,18,FALSE))","v":""},{"$f":"IF(VLOOKUP(U38,'S5'!$B$23:$Z$57,19,FALSE)=\"\",\"\",VLOOKUP(U38,'S5'!$B$23:$Z$57,19,FALSE))","v":""},{"$f":"IF(VLOOKUP(U38,'S5'!$B$23:$Z$57,20,FALSE)=\"\",\"\",VLOOKUP(U38,'S5'!$B$23:$Z$57,20,FALSE))","v":""},{"$f":"IF(VLOOKUP(U38,'S5'!$B$23:$Z$57,21,FALSE)=\"\",\"\",VLOOKUP(U38,'S5'!$B$23:$Z$57,21,FALSE))","v":""},{"$f":"IF(VLOOKUP(U38,'S5'!$B$23:$Z$57,22,FALSE)=\"\",\"\",VLOOKUP(U38,'S5'!$B$23:$Z$57,22,FALSE))","v":""},{"$f":"IF(VLOOKUP(U38,'S5'!$B$23:$Z$57,23,FALSE)=\"\",\"\",VLOOKUP(U38,'S5'!$B$23:$Z$57,23,FALSE))","v":""},{"$f":"IF(VLOOKUP(U38,'S5'!$B$23:$Z$57,24,FALSE)=\"\",\"\",VLOOKUP(U38,'S5'!$B$23:$Z$57,24,FALSE))","v":""},{"$f":"IF(VLOOKUP(U38,'S5'!$B$23:$Z$57,25,FALSE)=\"\",\"\",VLOOKUP(U38,'S5'!$B$23:$Z$57,25,FALSE))","v":""},null,"Note"]
[null,{"$f":"IF('S5'!$Q$18=\"\",\"\",\"von\")","v":""},null,null,{"$f":"IF('S5'!$Q$21=\"\",\"\",'S5'!$Q$21)","v":""},{"$f":"IF('S5'!$R$21=\"\",\"\",'S5'!$R$21)","v":""},{"$f":"IF('S5'!$S$21=\"\",\"\",'S5'!$S$21)","v":""},{"$f":"IF('S5'!$T$21=\"\",\"\",'S5'!$T$21)","v":""},{"$f":"IF('S5'!$U$21=\"\",\"\",'S5'!$U$21)","v":""},{"$f":"IF('S5'!$V$21=\"\",\"\",'S5'!$V$21)","v":""},{"$f":"IF('S5'!$W$21=\"\",\"\",'S5'!$W$21)","v":""},{"$f":"IF('S5'!$X$21=\"\",\"\",'S5'!$X$21)","v":""},{"$f":"IF('S5'!$Y$21=\"\",\"\",'S5'!$Y$21)","v":""},{"$f":"IF('S5'!$Z$21=\"\",\"\",'S5'!$Z$21)","v":""},null,{"$f":"IF(VLOOKUP(B38,'S5'!$B$23:$Z$57,2,FALSE)=\"\",\"\",CONCATENATE(VLOOKUP(B38,'S5'!$B$23:$Z$57,2,FALSE),\" \",VLOOKUP(B38,'S5'!$B$23:$Z$57,3,FALSE)))","v":"- "},null,null,null,null,{"$f":"IF('S5'!$Q$18=\"\",\"\",\"von\")","v":""},null,null,{"$f":"IF('S5'!$Q$21=\"\",\"\",'S5'!$Q$21)","v":""},{"$f":"IF('S5'!$R$21=\"\",\"\",'S5'!$R$21)","v":""},{"$f":"IF('S5'!$S$21=\"\",\"\",'S5'!$S$21)","v":""},{"$f":"IF('S5'!$T$21=\"\",\"\",'S5'!$T$21)","v":""},{"$f":"IF('S5'!$U$21=\"\",\"\",'S5'!$U$21)","v":""},{"$f":"IF('S5'!$V$21=\"\",\"\",'S5'!$V$21)","v":""},{"$f":"IF('S5'!$W$21=\"\",\"\",'S5'!$W$21)","v":""},{"$f":"IF('S5'!$X$21=\"\",\"\",'S5'!$X$21)","v":""},{"$f":"IF('S5'!$Y$21=\"\",\"\",'S5'!$Y$21)","v":""},{"$f":"IF('S5'!$Z$21=\"\",\"\",'S5'!$Z$21)","v":""},null,{"$f":"IF(VLOOKUP(U38,'S5'!$B$23:$Z$57,2,FALSE)=\"\",\"\",CONCATENATE(VLOOKUP(U38,'S5'!$B$23:$Z$57,2,FALSE),\" \",VLOOKUP(U38,'S5'!$B$23:$Z$57,3,FALSE)))","v":"- "}]
[]
[]
[]
[null,{"$f":"'S5'!$B$31","v":""},null,null,null,null,null,null,null,null,null,null,null,null,null,null,null,null,null,null,{"$f":"'S5'!$B$32","v":""}]
[null,null,null,null,null,null,null,null,null,null,null,null,null,null,null,"Summe",null,null,null,null,null,null,null,null,null,null,null,null,null,null,null,null,null,null,"Summe"]
[null,"Aufgabe",null,null,{"$f":"IF('S5'!$G$18=\"\",\"\",'S5'!$G$18)","v":1},{"$f":"IF('S5'!$H$18=\"\",\"\",'S5'!$H$18)","v":2},{"$f":"IF('S5'!$I$18=\"\",\"\",'S5'!$I$18)","v":3},{"$f":"IF('S5'!$J$18=\"\",\"\",'S5'!$J$18)","v":""},{"$f":"IF('S5'!$K$18=\"\",\"\",'S5'!$K$18)","v":""},{"$f":"IF('S5'!$L$18=\"\",\"\",'S5'!$L$18)","v":""},{"$f":"IF('S5'!$M$18=\"\",\"\",'S5'!$M$18)","v":""},{"$f":"IF('S5'!$N$18=\"\",\"\",'S5'!$N$18)","v":""},{"$f":"IF('S5'!$O$18=\"\",\"\",'S5'!$O$18)","v":""},{"$f":"IF('S5'!$P$18=\"\",\"\",'S5'!$P$18)","v":""},null,{"$f":"IF(VLOOKUP(B50,'S5'!$B$23:$Z$57,5,FALSE)=\"\",\"\",VLOOKUP(B50,'S5'!$B$23:$Z$57,5,FALSE))","v":0},null,null,null,null,"Aufgabe",null,null,{"$f":"IF('S5'!$G$18=\"\",\"\",'S5'!$G$18)","v":1},{"$f":"IF('S5'!$H$18=\"\",\"\",'S5'!$H$18)","v":2},{"$f":"IF('S5'!$I$18=\"\",\"\",'S5'!$I$18)","v":3},{"$f":"IF('S5'!$J$18=\"\",\"\",'S5'!$J$18)","v":""},{"$f":"IF('S5'!$K$18=\"\",\"\",'S5'!$K$18)","v":""},{"$f":"IF('S5'!$L$18=\"\",\"\",'S5'!$L$18)","v":""},{"$f":"IF('S5'!$M$18=\"\",\"\",'S5'!$M$18)","v":""},{"$f":"IF('S5'!$N$18=\"\",\"\",'S5'!$N$18)","v":""},{"$f":"IF('S5'!$O$18=\"\",\"\",'S5'!$O$18)","v":""},{"$f":"IF('S5'!$P$18=\"\",\"\",'S5'!$P$18)","v":""},null,{"$f":"IF(VLOOKUP(U50,'S5'!$B$23:$Z$57,5,FALSE)=\"\",\"\",VLOOKUP(U50,'S5'!$B$23:$Z$57,5,FALSE))","v":0}]
[null,"erreicht",null,null,{"$f":"IF(VLOOKUP(B50,'S5'!$B$23:$Z$57,6,FALSE)=\"\",\"\",VLOOKUP(B50,'S5'!$B$23:$Z$57,6,FALSE))","v":"."},{"$f":"IF(VLOOKUP(B50,'S5'!$B$23:$Z$57,7,FALSE)=\"\",\"\",VLOOKUP(B50,'S5'!$B$23:$Z$57,7,FALSE))","v":""},{"$f":"IF(VLOOKUP(B50,'S5'!$B$23:$Z$57,8,FALSE)=\"\",\"\",VLOOKUP(B50,'S5'!$B$23:$Z$57,8,FALSE))","v":""},{"$f":"IF(VLOOKUP(B50,'S5'!$B$23:$Z$57,9,FALSE)=\"\",\"\",VLOOKUP(B50,'S5'!$B$23:$Z$57,9,FALSE))","v":""},{"$f":"IF(VLOOKUP(B50,'S5'!$B$23:$Z$57,10,FALSE)=\"\",\"\",VLOOKUP(B50,'S5'!$B$23:$Z$57,10,FALSE))","v":""},{"$f":"IF(VLOOKUP(B50,'S5'!$B$23:$Z$57,11,FALSE)=\"\",\"\",VLOOKUP(B50,'S5'!$B$23:$Z$57,11,FALSE))","v":""},{"$f":"IF(VLOOKUP(B50,'S5'!$B$23:$Z$57,12,FALSE)=\"\",\"\",VLOOKUP(B50,'S5'!$B$23:$Z$57,12,FALSE))","v":""},{"$f":"IF(VLOOKUP(B50,'S5'!$B$23:$Z$57,13,FALSE)=\"\",\"\",VLOOKUP(B50,'S5'!$B$23:$Z$57,13,FALSE))","v":""},{"$f":"IF(VLOOKUP(B50,'S5'!$B$23:$Z$57,14,FALSE)=\"\",\"\",VLOOKUP(B50,'S5'!$B$23:$Z$57,14,FALSE))","v":""},{"$f":"IF(VLOOKUP(B50,'S5'!$B$23:$Z$57,15,FALSE)=\"\",\"\",VLOOKUP(B50,'S5'!$B$23:$Z$57,15,FALSE))","v":""},null,null,null,null,null,null,"erreicht",null,null,{"$f":"IF(VLOOKUP(U50,'S5'!$B$23:$Z$57,6,FALSE)=\"\",\"\",VLOOKUP(U50,'S5'!$B$23:$Z$57,6,FALSE))","v":"."},{"$f":"IF(VLOOKUP(U50,'S5'!$B$23:$Z$57,7,FALSE)=\"\",\"\",VLOOKUP(U50,'S5'!$B$23:$Z$57,7,FALSE))","v":""},{"$f":"IF(VLOOKUP(U50,'S5'!$B$23:$Z$57,8,FALSE)=\"\",\"\",VLOOKUP(U50,'S5'!$B$23:$Z$57,8,FALSE))","v":""},{"$f":"IF(VLOOKUP(U50,'S5'!$B$23:$Z$57,9,FALSE)=\"\",\"\",VLOOKUP(U50,'S5'!$B$23:$Z$57,9,FALSE))","v":""},{"$f":"IF(VLOOKUP(U50,'S5'!$B$23:$Z$57,10,FALSE)=\"\",\"\",VLOOKUP(U50,'S5'!$B$23:$Z$57,10,FALSE))","v":""},{"$f":"IF(VLOOKUP(U50,'S5'!$B$23:$Z$57,11,FALSE)=\"\",\"\",VLOOKUP(U50,'S5'!$B$23:$Z$57,11,FALSE))","v":""},{"$f":"IF(VLOOKUP(U50,'S5'!$B$23:$Z$57,12,FALSE)=\"\",\"\",VLOOKUP(U50,'S5'!$B$23:$Z$57,12,FALSE))","v":""},{"$f":"IF(VLOOKUP(U50,'S5'!$B$23:$Z$57,13,FALSE)=\"\",\"\",VLOOKUP(U50,'S5'!$B$23:$Z$57,13,FALSE))","v":""},{"$f":"IF(VLOOKUP(U50,'S5'!$B$23:$Z$57,14,FALSE)=\"\",\"\",VLOOKUP(U50,'S5'!$B$23:$Z$57,14,FALSE))","v":""},{"$f":"IF(VLOOKUP(U50,'S5'!$B$23:$Z$57,15,FALSE)=\"\",\"\",VLOOKUP(U50,'S5'!$B$23:$Z$57,15,FALSE))","v":""}]
[null,"von",null,null,{"$f":"IF('S5'!$G$21=\"\",\"\",'S5'!$G$21)","v":""},{"$f":"IF('S5'!$H$21=\"\",\"\",'S5'!$H$21)","v":""},{"$f":"IF('S5'!$I$21=\"\",\"\",'S5'!$I$21)","v":""},{"$f":"IF('S5'!$J$21=\"\",\"\",'S5'!$J$21)","v":""},{"$f":"IF('S5'!$K$21=\"\",\"\",'S5'!$K$21)","v":""},{"$f":"IF('S5'!$L$21=\"\",\"\",'S5'!$L$21)","v":""},{"$f":"IF('S5'!$M$21=\"\",\"\",'S5'!$M$21)","v":""},{"$f":"IF('S5'!$N$21=\"\",\"\",'S5'!$N$21)","v":""},{"$f":"IF('S5'!$O$21=\"\",\"\",'S5'!$O$21)","v":""},{"$f":"IF('S5'!$P$21=\"\",\"\",'S5'!$P$21)","v":""},null,"von",null,null,null,null,"von",null,null,{"$f":"IF('S5'!$G$21=\"\",\"\",'S5'!$G$21)","v":""},{"$f":"IF('S5'!$H$21=\"\",\"\",'S5'!$H$21)","v":""},{"$f":"IF('S5'!$I$21=\"\",\"\",'S5'!$I$21)","v":""},{"$f":"IF('S5'!$J$21=\"\",\"\",'S5'!$J$21)","v":""},{"$f":"IF('S5'!$K$21=\"\",\"\",'S5'!$K$21)","v":""},{"$f":"IF('S5'!$L$21=\"\",\"\",'S5'!$L$21)","v":""},{"$f":"IF('S5'!$M$21=\"\",\"\",'S5'!$M$21)","v":""},{"$f":"IF('S5'!$N$21=\"\",\"\",'S5'!$N$21)","v":""},{"$f":"IF('S5'!$O$21=\"\",\"\",'S5'!$O$21)","v":""},{"$f":"IF('S5'!$P$21=\"\",\"\",'S5'!$P$21)","v":""},null,"von"]
[null,null,null,null,null,null,null,null,null,null,null,null,null,null,null,{"$f":"'S5'!$H$12","v":0},null,null,null,null,null,null,null,null,null,null,null,null,null,null,null,null,null,null,{"$f":"'S5'!$H$12","v":0}]
[null,{"$f":"IF('S5'!$Q$18=\"\",\"\",\"Aufgabe\")","v":""},null,null,{"$f":"IF('S5'!$Q$18=\"\",\"\",'S5'!$Q$18)","v":""},{"$f":"IF('S5'!$R$18=\"\",\"\",'S5'!$R$18)","v":""},{"$f":"IF('S5'!$S$18=\"\",\"\",'S5'!$S$18)","v":""},{"$f":"IF('S5'!$T$18=\"\",\"\",'S5'!$T$18)","v":""},{"$f":"IF('S5'!$U$18=\"\",\"\",'S5'!$U$18)","v":""},{"$f":"IF('S5'!$V$18=\"\",\"\",'S5'!$V$18)","v":""},{"$f":"IF('S5'!$W$18=\"\",\"\",'S5'!$W$18)","v":""},{"$f":"IF('S5'!$X$18=\"\",\"\",'S5'!$X$18)","v":""},{"$f":"IF('S5'!$Y$18=\"\",\"\",'S5'!$Y$18)","v":""},{"$f":"IF('S5'!$Z$18=\"\",\"\",'S5'!$Z$18)","v":""},null,null,null,null,null,null,{"$f":"IF('S5'!$Q$18=\"\",\"\",\"Aufgabe\")","v":""},null,null,{"$f":"IF('S5'!$Q$18=\"\",\"\",'S5'!$Q$18)","v":""},{"$f":"IF('S5'!$R$18=\"\",\"\",'S5'!$R$18)","v":""},{"$f":"IF('S5'!$S$18=\"\",\"\",'S5'!$S$18)","v":""},{"$f":"IF('S5'!$T$18=\"\",\"\",'S5'!$T$18)","v":""},{"$f":"IF('S5'!$U$18=\"\",\"\",'S5'!$U$18)","v":""},{"$f":"IF('S5'!$V$18=\"\",\"\",'S5'!$V$18)","v":""},{"$f":"IF('S5'!$W$18=\"\",\"\",'S5'!$W$18)","v":""},{"$f":"IF('S5'!$X$18=\"\",\"\",'S5'!$X$18)","v":""},{"$f":"IF('S5'!$Y$18=\"\",\"\",'S5'!$Y$18)","v":""},{"$f":"IF('S5'!$Z$18=\"\",\"\",'S5'!$Z$18)","v":""}]
[null,{"$f":"IF('S5'!$Q$18=\"\",\"\",\"erreicht\")","v":""},null,null,{"$f":"IF(VLOOKUP(B50,'S5'!$B$23:$Z$57,16,FALSE)=\"\",\"\",VLOOKUP(B50,'S5'!$B$23:$Z$57,16,FALSE))","v":""},{"$f":"IF(VLOOKUP(B50,'S5'!$B$23:$Z$57,17,FALSE)=\"\",\"\",VLOOKUP(B50,'S5'!$B$23:$Z$57,17,FALSE))","v":""},{"$f":"IF(VLOOKUP(B50,'S5'!$B$23:$Z$57,18,FALSE)=\"\",\"\",VLOOKUP(B50,'S5'!$B$23:$Z$57,18,FALSE))","v":""},{"$f":"IF(VLOOKUP(B50,'S5'!$B$23:$Z$57,19,FALSE)=\"\",\"\",VLOOKUP(B50,'S5'!$B$23:$Z$57,19,FALSE))","v":""},{"$f":"IF(VLOOKUP(B50,'S5'!$B$23:$Z$57,20,FALSE)=\"\",\"\",VLOOKUP(B50,'S5'!$B$23:$Z$57,20,FALSE))","v":""},{"$f":"IF(VLOOKUP(B50,'S5'!$B$23:$Z$57,21,FALSE)=\"\",\"\",VLOOKUP(B50,'S5'!$B$23:$Z$57,21,FALSE))","v":""},{"$f":"IF(VLOOKUP(B50,'S5'!$B$23:$Z$57,22,FALSE)=\"\",\"\",VLOOKUP(B50,'S5'!$B$23:$Z$57,22,FALSE))","v":""},{"$f":"IF(VLOOKUP(B50,'S5'!$B$23:$Z$57,23,FALSE)=\"\",\"\",VLOOKUP(B50,'S5'!$B$23:$Z$57,23,FALSE))","v":""},{"$f":"IF(VLOOKUP(B50,'S5'!$B$23:$Z$57,24,FALSE)=\"\",\"\",VLOOKUP(B50,'S5'!$B$23:$Z$57,24,FALSE))","v":""},{"$f":"IF(VLOOKUP(B50,'S5'!$B$23:$Z$57,25,FALSE)=\"\",\"\",VLOOKUP(B50,'S5'!$B$23:$Z$57,25,FALSE))","v":""},null,"Note",null,null,null,null,{"$f":"IF('S5'!$Q$18=\"\",\"\",\"erreicht\")","v":""},null,null,{"$f":"IF(VLOOKUP(U50,'S5'!$B$23:$Z$57,16,FALSE)=\"\",\"\",VLOOKUP(U50,'S5'!$B$23:$Z$57,16,FALSE))","v":""},{"$f":"IF(VLOOKUP(U50,'S5'!$B$23:$Z$57,17,FALSE)=\"\",\"\",VLOOKUP(U50,'S5'!$B$23:$Z$57,17,FALSE))","v":""},{"$f":"IF(VLOOKUP(U50,'S5'!$B$23:$Z$57,18,FALSE)=\"\",\"\",VLOOKUP(U50,'S5'!$B$23:$Z$57,18,FALSE))","v":""},{"$f":"IF(VLOOKUP(U50,'S5'!$B$23:$Z$57,19,FALSE)=\"\",\"\",VLOOKUP(U50,'S5'!$B$23:$Z$57,19,FALSE))","v":""},{"$f":"IF(VLOOKUP(U50,'S5'!$B$23:$Z$57,20,FALSE)=\"\",\"\",VLOOKUP(U50,'S5'!$B$23:$Z$57,20,FALSE))","v":""},{"$f":"IF(VLOOKUP(U50,'S5'!$B$23:$Z$57,21,FALSE)=\"\",\"\",VLOOKUP(U50,'S5'!$B$23:$Z$57,21,FALSE))","v":""},{"$f":"IF(VLOOKUP(U50,'S5'!$B$23:$Z$57,22,FALSE)=\"\",\"\",VLOOKUP(U50,'S5'!$B$23:$Z$57,22,FALSE))","v":""},{"$f":"IF(VLOOKUP(U50,'S5'!$B$23:$Z$57,23,FALSE)=\"\",\"\",VLOOKUP(U50,'S5'!$B$23:$Z$57,23,FALSE))","v":""},{"$f":"IF(VLOOKUP(U50,'S5'!$B$23:$Z$57,24,FALSE)=\"\",\"\",VLOOKUP(U50,'S5'!$B$23:$Z$57,24,FALSE))","v":""},{"$f":"IF(VLOOKUP(U50,'S5'!$B$23:$Z$57,25,FALSE)=\"\",\"\",VLOOKUP(U50,'S5'!$B$23:$Z$57,25,FALSE))","v":""},null,"Note"]
[null,{"$f":"IF('S5'!$Q$18=\"\",\"\",\"von\")","v":""},null,null,{"$f":"IF('S5'!$Q$21=\"\",\"\",'S5'!$Q$21)","v":""},{"$f":"IF('S5'!$R$21=\"\",\"\",'S5'!$R$21)","v":""},{"$f":"IF('S5'!$S$21=\"\",\"\",'S5'!$S$21)","v":""},{"$f":"IF('S5'!$T$21=\"\",\"\",'S5'!$T$21)","v":""},{"$f":"IF('S5'!$U$21=\"\",\"\",'S5'!$U$21)","v":""},{"$f":"IF('S5'!$V$21=\"\",\"\",'S5'!$V$21)","v":""},{"$f":"IF('S5'!$W$21=\"\",\"\",'S5'!$W$21)","v":""},{"$f":"IF('S5'!$X$21=\"\",\"\",'S5'!$X$21)","v":""},{"$f":"IF('S5'!$Y$21=\"\",\"\",'S5'!$Y$21)","v":""},{"$f":"IF('S5'!$Z$21=\"\",\"\",'S5'!$Z$21)","v":""},null,{"$f":"IF(VLOOKUP(B50,'S5'!$B$23:$Z$57,2,FALSE)=\"\",\"\",CONCATENATE(VLOOKUP(B50,'S5'!$B$23:$Z$57,2,FALSE),\" \",VLOOKUP(B50,'S5'!$B$23:$Z$57,3,FALSE)))","v":"- "},null,null,null,null,{"$f":"IF('S5'!$Q$18=\"\",\"\",\"von\")","v":""},null,null,{"$f":"IF('S5'!$Q$21=\"\",\"\",'S5'!$Q$21)","v":""},{"$f":"IF('S5'!$R$21=\"\",\"\",'S5'!$R$21)","v":""},{"$f":"IF('S5'!$S$21=\"\",\"\",'S5'!$S$21)","v":""},{"$f":"IF('S5'!$T$21=\"\",\"\",'S5'!$T$21)","v":""},{"$f":"IF('S5'!$U$21=\"\",\"\",'S5'!$U$21)","v":""},{"$f":"IF('S5'!$V$21=\"\",\"\",'S5'!$V$21)","v":""},{"$f":"IF('S5'!$W$21=\"\",\"\",'S5'!$W$21)","v":""},{"$f":"IF('S5'!$X$21=\"\",\"\",'S5'!$X$21)","v":""},{"$f":"IF('S5'!$Y$21=\"\",\"\",'S5'!$Y$21)","v":""},{"$f":"IF('S5'!$Z$21=\"\",\"\",'S5'!$Z$21)","v":""},null,{"$f":"IF(VLOOKUP(U50,'S5'!$B$23:$Z$57,2,FALSE)=\"\",\"\",CONCATENATE(VLOOKUP(U50,'S5'!$B$23:$Z$57,2,FALSE),\" \",VLOOKUP(U50,'S5'!$B$23:$Z$57,3,FALSE)))","v":"- "}]
[]
[]
[]
[null,{"$f":"'S5'!$B$33","v":""},null,null,null,null,null,null,null,null,null,null,null,null,null,null,null,null,null,null,{"$f":"'S5'!$B$34","v":""}]
[null,null,null,null,null,null,null,null,null,null,null,null,null,null,null,"Summe",null,null,null,null,null,null,null,null,null,null,null,null,null,null,null,null,null,null,"Summe"]
[null,"Aufgabe",null,null,{"$f":"IF('S5'!$G$18=\"\",\"\",'S5'!$G$18)","v":1},{"$f":"IF('S5'!$H$18=\"\",\"\",'S5'!$H$18)","v":2},{"$f":"IF('S5'!$I$18=\"\",\"\",'S5'!$I$18)","v":3},{"$f":"IF('S5'!$J$18=\"\",\"\",'S5'!$J$18)","v":""},{"$f":"IF('S5'!$K$18=\"\",\"\",'S5'!$K$18)","v":""},{"$f":"IF('S5'!$L$18=\"\",\"\",'S5'!$L$18)","v":""},{"$f":"IF('S5'!$M$18=\"\",\"\",'S5'!$M$18)","v":""},{"$f":"IF('S5'!$N$18=\"\",\"\",'S5'!$N$18)","v":""},{"$f":"IF('S5'!$O$18=\"\",\"\",'S5'!$O$18)","v":""},{"$f":"IF('S5'!$P$18=\"\",\"\",'S5'!$P$18)","v":""},null,{"$f":"IF(VLOOKUP(B62,'S5'!$B$23:$Z$57,5,FALSE)=\"\",\"\",VLOOKUP(B62,'S5'!$B$23:$Z$57,5,FALSE))","v":0},null,null,null,null,"Aufgabe",null,null,{"$f":"IF('S5'!$G$18=\"\",\"\",'S5'!$G$18)","v":1},{"$f":"IF('S5'!$H$18=\"\",\"\",'S5'!$H$18)","v":2},{"$f":"IF('S5'!$I$18=\"\",\"\",'S5'!$I$18)","v":3},{"$f":"IF('S5'!$J$18=\"\",\"\",'S5'!$J$18)","v":""},{"$f":"IF('S5'!$K$18=\"\",\"\",'S5'!$K$18)","v":""},{"$f":"IF('S5'!$L$18=\"\",\"\",'S5'!$L$18)","v":""},{"$f":"IF('S5'!$M$18=\"\",\"\",'S5'!$M$18)","v":""},{"$f":"IF('S5'!$N$18=\"\",\"\",'S5'!$N$18)","v":""},{"$f":"IF('S5'!$O$18=\"\",\"\",'S5'!$O$18)","v":""},{"$f":"IF('S5'!$P$18=\"\",\"\",'S5'!$P$18)","v":""},null,{"$f":"IF(VLOOKUP(U62,'S5'!$B$23:$Z$57,5,FALSE)=\"\",\"\",VLOOKUP(U62,'S5'!$B$23:$Z$57,5,FALSE))","v":0}]
[null,"erreicht",null,null,{"$f":"IF(VLOOKUP(B62,'S5'!$B$23:$Z$57,6,FALSE)=\"\",\"\",VLOOKUP(B62,'S5'!$B$23:$Z$57,6,FALSE))","v":"."},{"$f":"IF(VLOOKUP(B62,'S5'!$B$23:$Z$57,7,FALSE)=\"\",\"\",VLOOKUP(B62,'S5'!$B$23:$Z$57,7,FALSE))","v":""},{"$f":"IF(VLOOKUP(B62,'S5'!$B$23:$Z$57,8,FALSE)=\"\",\"\",VLOOKUP(B62,'S5'!$B$23:$Z$57,8,FALSE))","v":""},{"$f":"IF(VLOOKUP(B62,'S5'!$B$23:$Z$57,9,FALSE)=\"\",\"\",VLOOKUP(B62,'S5'!$B$23:$Z$57,9,FALSE))","v":""},{"$f":"IF(VLOOKUP(B62,'S5'!$B$23:$Z$57,10,FALSE)=\"\",\"\",VLOOKUP(B62,'S5'!$B$23:$Z$57,10,FALSE))","v":""},{"$f":"IF(VLOOKUP(B62,'S5'!$B$23:$Z$57,11,FALSE)=\"\",\"\",VLOOKUP(B62,'S5'!$B$23:$Z$57,11,FALSE))","v":""},{"$f":"IF(VLOOKUP(B62,'S5'!$B$23:$Z$57,12,FALSE)=\"\",\"\",VLOOKUP(B62,'S5'!$B$23:$Z$57,12,FALSE))","v":""},{"$f":"IF(VLOOKUP(B62,'S5'!$B$23:$Z$57,13,FALSE)=\"\",\"\",VLOOKUP(B62,'S5'!$B$23:$Z$57,13,FALSE))","v":""},{"$f":"IF(VLOOKUP(B62,'S5'!$B$23:$Z$57,14,FALSE)=\"\",\"\",VLOOKUP(B62,'S5'!$B$23:$Z$57,14,FALSE))","v":""},{"$f":"IF(VLOOKUP(B62,'S5'!$B$23:$Z$57,15,FALSE)=\"\",\"\",VLOOKUP(B62,'S5'!$B$23:$Z$57,15,FALSE))","v":""},null,null,null,null,null,null,"erreicht",null,null,{"$f":"IF(VLOOKUP(U62,'S5'!$B$23:$Z$57,6,FALSE)=\"\",\"\",VLOOKUP(U62,'S5'!$B$23:$Z$57,6,FALSE))","v":"."},{"$f":"IF(VLOOKUP(U62,'S5'!$B$23:$Z$57,7,FALSE)=\"\",\"\",VLOOKUP(U62,'S5'!$B$23:$Z$57,7,FALSE))","v":""},{"$f":"IF(VLOOKUP(U62,'S5'!$B$23:$Z$57,8,FALSE)=\"\",\"\",VLOOKUP(U62,'S5'!$B$23:$Z$57,8,FALSE))","v":""},{"$f":"IF(VLOOKUP(U62,'S5'!$B$23:$Z$57,9,FALSE)=\"\",\"\",VLOOKUP(U62,'S5'!$B$23:$Z$57,9,FALSE))","v":""},{"$f":"IF(VLOOKUP(U62,'S5'!$B$23:$Z$57,10,FALSE)=\"\",\"\",VLOOKUP(U62,'S5'!$B$23:$Z$57,10,FALSE))","v":""},{"$f":"IF(VLOOKUP(U62,'S5'!$B$23:$Z$57,11,FALSE)=\"\",\"\",VLOOKUP(U62,'S5'!$B$23:$Z$57,11,FALSE))","v":""},{"$f":"IF(VLOOKUP(U62,'S5'!$B$23:$Z$57,12,FALSE)=\"\",\"\",VLOOKUP(U62,'S5'!$B$23:$Z$57,12,FALSE))","v":""},{"$f":"IF(VLOOKUP(U62,'S5'!$B$23:$Z$57,13,FALSE)=\"\",\"\",VLOOKUP(U62,'S5'!$B$23:$Z$57,13,FALSE))","v":""},{"$f":"IF(VLOOKUP(U62,'S5'!$B$23:$Z$57,14,FALSE)=\"\",\"\",VLOOKUP(U62,'S5'!$B$23:$Z$57,14,FALSE))","v":""},{"$f":"IF(VLOOKUP(U62,'S5'!$B$23:$Z$57,15,FALSE)=\"\",\"\",VLOOKUP(U62,'S5'!$B$23:$Z$57,15,FALSE))","v":""}]
[null,"von",null,null,{"$f":"IF('S5'!$G$21=\"\",\"\",'S5'!$G$21)","v":""},{"$f":"IF('S5'!$H$21=\"\",\"\",'S5'!$H$21)","v":""},{"$f":"IF('S5'!$I$21=\"\",\"\",'S5'!$I$21)","v":""},{"$f":"IF('S5'!$J$21=\"\",\"\",'S5'!$J$21)","v":""},{"$f":"IF('S5'!$K$21=\"\",\"\",'S5'!$K$21)","v":""},{"$f":"IF('S5'!$L$21=\"\",\"\",'S5'!$L$21)","v":""},{"$f":"IF('S5'!$M$21=\"\",\"\",'S5'!$M$21)","v":""},{"$f":"IF('S5'!$N$21=\"\",\"\",'S5'!$N$21)","v":""},{"$f":"IF('S5'!$O$21=\"\",\"\",'S5'!$O$21)","v":""},{"$f":"IF('S5'!$P$21=\"\",\"\",'S5'!$P$21)","v":""},null,"von",null,null,null,null,"von",null,null,{"$f":"IF('S5'!$G$21=\"\",\"\",'S5'!$G$21)","v":""},{"$f":"IF('S5'!$H$21=\"\",\"\",'S5'!$H$21)","v":""},{"$f":"IF('S5'!$I$21=\"\",\"\",'S5'!$I$21)","v":""},{"$f":"IF('S5'!$J$21=\"\",\"\",'S5'!$J$21)","v":""},{"$f":"IF('S5'!$K$21=\"\",\"\",'S5'!$K$21)","v":""},{"$f":"IF('S5'!$L$21=\"\",\"\",'S5'!$L$21)","v":""},{"$f":"IF('S5'!$M$21=\"\",\"\",'S5'!$M$21)","v":""},{"$f":"IF('S5'!$N$21=\"\",\"\",'S5'!$N$21)","v":""},{"$f":"IF('S5'!$O$21=\"\",\"\",'S5'!$O$21)","v":""},{"$f":"IF('S5'!$P$21=\"\",\"\",'S5'!$P$21)","v":""},null,"von"]
[null,null,null,null,null,null,null,null,null,null,null,null,null,null,null,{"$f":"'S5'!$H$12","v":0},null,null,null,null,null,null,null,null,null,null,null,null,null,null,null,null,null,null,{"$f":"'S5'!$H$12","v":0}]
[null,{"$f":"IF('S5'!$Q$18=\"\",\"\",\"Aufgabe\")","v":""},null,null,{"$f":"IF('S5'!$Q$18=\"\",\"\",'S5'!$Q$18)","v":""},{"$f":"IF('S5'!$R$18=\"\",\"\",'S5'!$R$18)","v":""},{"$f":"IF('S5'!$S$18=\"\",\"\",'S5'!$S$18)","v":""},{"$f":"IF('S5'!$T$18=\"\",\"\",'S5'!$T$18)","v":""},{"$f":"IF('S5'!$U$18=\"\",\"\",'S5'!$U$18)","v":""},{"$f":"IF('S5'!$V$18=\"\",\"\",'S5'!$V$18)","v":""},{"$f":"IF('S5'!$W$18=\"\",\"\",'S5'!$W$18)","v":""},{"$f":"IF('S5'!$X$18=\"\",\"\",'S5'!$X$18)","v":""},{"$f":"IF('S5'!$Y$18=\"\",\"\",'S5'!$Y$18)","v":""},{"$f":"IF('S5'!$Z$18=\"\",\"\",'S5'!$Z$18)","v":""},null,null,null,null,null,null,{"$f":"IF('S5'!$Q$18=\"\",\"\",\"Aufgabe\")","v":""},null,null,{"$f":"IF('S5'!$Q$18=\"\",\"\",'S5'!$Q$18)","v":""},{"$f":"IF('S5'!$R$18=\"\",\"\",'S5'!$R$18)","v":""},{"$f":"IF('S5'!$S$18=\"\",\"\",'S5'!$S$18)","v":""},{"$f":"IF('S5'!$T$18=\"\",\"\",'S5'!$T$18)","v":""},{"$f":"IF('S5'!$U$18=\"\",\"\",'S5'!$U$18)","v":""},{"$f":"IF('S5'!$V$18=\"\",\"\",'S5'!$V$18)","v":""},{"$f":"IF('S5'!$W$18=\"\",\"\",'S5'!$W$18)","v":""},{"$f":"IF('S5'!$X$18=\"\",\"\",'S5'!$X$18)","v":""},{"$f":"IF('S5'!$Y$18=\"\",\"\",'S5'!$Y$18)","v":""},{"$f":"IF('S5'!$Z$18=\"\",\"\",'S5'!$Z$18)","v":""}]
[null,{"$f":"IF('S5'!$Q$18=\"\",\"\",\"erreicht\")","v":""},null,null,{"$f":"IF(VLOOKUP(B62,'S5'!$B$23:$Z$57,16,FALSE)=\"\",\"\",VLOOKUP(B62,'S5'!$B$23:$Z$57,16,FALSE))","v":""},{"$f":"IF(VLOOKUP(B62,'S5'!$B$23:$Z$57,17,FALSE)=\"\",\"\",VLOOKUP(B62,'S5'!$B$23:$Z$57,17,FALSE))","v":""},{"$f":"IF(VLOOKUP(B62,'S5'!$B$23:$Z$57,18,FALSE)=\"\",\"\",VLOOKUP(B62,'S5'!$B$23:$Z$57,18,FALSE))","v":""},{"$f":"IF(VLOOKUP(B62,'S5'!$B$23:$Z$57,19,FALSE)=\"\",\"\",VLOOKUP(B62,'S5'!$B$23:$Z$57,19,FALSE))","v":""},{"$f":"IF(VLOOKUP(B62,'S5'!$B$23:$Z$57,20,FALSE)=\"\",\"\",VLOOKUP(B62,'S5'!$B$23:$Z$57,20,FALSE))","v":""},{"$f":"IF(VLOOKUP(B62,'S5'!$B$23:$Z$57,21,FALSE)=\"\",\"\",VLOOKUP(B62,'S5'!$B$23:$Z$57,21,FALSE))","v":""},{"$f":"IF(VLOOKUP(B62,'S5'!$B$23:$Z$57,22,FALSE)=\"\",\"\",VLOOKUP(B62,'S5'!$B$23:$Z$57,22,FALSE))","v":""},{"$f":"IF(VLOOKUP(B62,'S5'!$B$23:$Z$57,23,FALSE)=\"\",\"\",VLOOKUP(B62,'S5'!$B$23:$Z$57,23,FALSE))","v":""},{"$f":"IF(VLOOKUP(B62,'S5'!$B$23:$Z$57,24,FALSE)=\"\",\"\",VLOOKUP(B62,'S5'!$B$23:$Z$57,24,FALSE))","v":""},{"$f":"IF(VLOOKUP(B62,'S5'!$B$23:$Z$57,25,FALSE)=\"\",\"\",VLOOKUP(B62,'S5'!$B$23:$Z$57,25,FALSE))","v":""},null,"Note",null,null,null,null,{"$f":"IF('S5'!$Q$18=\"\",\"\",\"erreicht\")","v":""},null,null,{"$f":"IF(VLOOKUP(U62,'S5'!$B$23:$Z$57,16,FALSE)=\"\",\"\",VLOOKUP(U62,'S5'!$B$23:$Z$57,16,FALSE))","v":""},{"$f":"IF(VLOOKUP(U62,'S5'!$B$23:$Z$57,17,FALSE)=\"\",\"\",VLOOKUP(U62,'S5'!$B$23:$Z$57,17,FALSE))","v":""},{"$f":"IF(VLOOKUP(U62,'S5'!$B$23:$Z$57,18,FALSE)=\"\",\"\",VLOOKUP(U62,'S5'!$B$23:$Z$57,18,FALSE))","v":""},{"$f":"IF(VLOOKUP(U62,'S5'!$B$23:$Z$57,19,FALSE)=\"\",\"\",VLOOKUP(U62,'S5'!$B$23:$Z$57,19,FALSE))","v":""},{"$f":"IF(VLOOKUP(U62,'S5'!$B$23:$Z$57,20,FALSE)=\"\",\"\",VLOOKUP(U62,'S5'!$B$23:$Z$57,20,FALSE))","v":""},{"$f":"IF(VLOOKUP(U62,'S5'!$B$23:$Z$57,21,FALSE)=\"\",\"\",VLOOKUP(U62,'S5'!$B$23:$Z$57,21,FALSE))","v":""},{"$f":"IF(VLOOKUP(U62,'S5'!$B$23:$Z$57,22,FALSE)=\"\",\"\",VLOOKUP(U62,'S5'!$B$23:$Z$57,22,FALSE))","v":""},{"$f":"IF(VLOOKUP(U62,'S5'!$B$23:$Z$57,23,FALSE)=\"\",\"\",VLOOKUP(U62,'S5'!$B$23:$Z$57,23,FALSE))","v":""},{"$f":"IF(VLOOKUP(U62,'S5'!$B$23:$Z$57,24,FALSE)=\"\",\"\",VLOOKUP(U62,'S5'!$B$23:$Z$57,24,FALSE))","v":""},{"$f":"IF(VLOOKUP(U62,'S5'!$B$23:$Z$57,25,FALSE)=\"\",\"\",VLOOKUP(U62,'S5'!$B$23:$Z$57,25,FALSE))","v":""},null,"Note"]
[null,{"$f":"IF('S5'!$Q$18=\"\",\"\",\"von\")","v":""},null,null,{"$f":"IF('S5'!$Q$21=\"\",\"\",'S5'!$Q$21)","v":""},{"$f":"IF('S5'!$R$21=\"\",\"\",'S5'!$R$21)","v":""},{"$f":"IF('S5'!$S$21=\"\",\"\",'S5'!$S$21)","v":""},{"$f":"IF('S5'!$T$21=\"\",\"\",'S5'!$T$21)","v":""},{"$f":"IF('S5'!$U$21=\"\",\"\",'S5'!$U$21)","v":""},{"$f":"IF('S5'!$V$21=\"\",\"\",'S5'!$V$21)","v":""},{"$f":"IF('S5'!$W$21=\"\",\"\",'S5'!$W$21)","v":""},{"$f":"IF('S5'!$X$21=\"\",\"\",'S5'!$X$21)","v":""},{"$f":"IF('S5'!$Y$21=\"\",\"\",'S5'!$Y$21)","v":""},{"$f":"IF('S5'!$Z$21=\"\",\"\",'S5'!$Z$21)","v":""},null,{"$f":"IF(VLOOKUP(B62,'S5'!$B$23:$Z$57,2,FALSE)=\"\",\"\",CONCATENATE(VLOOKUP(B62,'S5'!$B$23:$Z$57,2,FALSE),\" \",VLOOKUP(B62,'S5'!$B$23:$Z$57,3,FALSE)))","v":"- "},null,null,null,null,{"$f":"IF('S5'!$Q$18=\"\",\"\",\"von\")","v":""},null,null,{"$f":"IF('S5'!$Q$21=\"\",\"\",'S5'!$Q$21)","v":""},{"$f":"IF('S5'!$R$21=\"\",\"\",'S5'!$R$21)","v":""},{"$f":"IF('S5'!$S$21=\"\",\"\",'S5'!$S$21)","v":""},{"$f":"IF('S5'!$T$21=\"\",\"\",'S5'!$T$21)","v":""},{"$f":"IF('S5'!$U$21=\"\",\"\",'S5'!$U$21)","v":""},{"$f":"IF('S5'!$V$21=\"\",\"\",'S5'!$V$21)","v":""},{"$f":"IF('S5'!$W$21=\"\",\"\",'S5'!$W$21)","v":""},{"$f":"IF('S5'!$X$21=\"\",\"\",'S5'!$X$21)","v":""},{"$f":"IF('S5'!$Y$21=\"\",\"\",'S5'!$Y$21)","v":""},{"$f":"IF('S5'!$Z$21=\"\",\"\",'S5'!$Z$21)","v":""},null,{"$f":"IF(VLOOKUP(U62,'S5'!$B$23:$Z$57,2,FALSE)=\"\",\"\",CONCATENATE(VLOOKUP(U62,'S5'!$B$23:$Z$57,2,FALSE),\" \",VLOOKUP(U62,'S5'!$B$23:$Z$57,3,FALSE)))","v":"- "}]
[]
[]
[null,{"$f":"'S5'!$B$35","v":""},null,null,null,null,null,null,null,null,null,null,null,null,null,null,null,null,null,null,{"$f":"'S5'!$B$36","v":""}]
[null,null,null,null,null,null,null,null,null,null,null,null,null,null,null,"Summe",null,null,null,null,null,null,null,null,null,null,null,null,null,null,null,null,null,null,"Summe"]
[null,"Aufgabe",null,null,{"$f":"IF('S5'!$G$18=\"\",\"\",'S5'!$G$18)","v":1},{"$f":"IF('S5'!$H$18=\"\",\"\",'S5'!$H$18)","v":2},{"$f":"IF('S5'!$I$18=\"\",\"\",'S5'!$I$18)","v":3},{"$f":"IF('S5'!$J$18=\"\",\"\",'S5'!$J$18)","v":""},{"$f":"IF('S5'!$K$18=\"\",\"\",'S5'!$K$18)","v":""},{"$f":"IF('S5'!$L$18=\"\",\"\",'S5'!$L$18)","v":""},{"$f":"IF('S5'!$M$18=\"\",\"\",'S5'!$M$18)","v":""},{"$f":"IF('S5'!$N$18=\"\",\"\",'S5'!$N$18)","v":""},{"$f":"IF('S5'!$O$18=\"\",\"\",'S5'!$O$18)","v":""},{"$f":"IF('S5'!$P$18=\"\",\"\",'S5'!$P$18)","v":""},null,{"$f":"IF(VLOOKUP(B73,'S5'!$B$23:$Z$57,5,FALSE)=\"\",\"\",VLOOKUP(B73,'S5'!$B$23:$Z$57,5,FALSE))","v":0},null,null,null,null,"Aufgabe",null,null,{"$f":"IF('S5'!$G$18=\"\",\"\",'S5'!$G$18)","v":1},{"$f":"IF('S5'!$H$18=\"\",\"\",'S5'!$H$18)","v":2},{"$f":"IF('S5'!$I$18=\"\",\"\",'S5'!$I$18)","v":3},{"$f":"IF('S5'!$J$18=\"\",\"\",'S5'!$J$18)","v":""},{"$f":"IF('S5'!$K$18=\"\",\"\",'S5'!$K$18)","v":""},{"$f":"IF('S5'!$L$18=\"\",\"\",'S5'!$L$18)","v":""},{"$f":"IF('S5'!$M$18=\"\",\"\",'S5'!$M$18)","v":""},{"$f":"IF('S5'!$N$18=\"\",\"\",'S5'!$N$18)","v":""},{"$f":"IF('S5'!$O$18=\"\",\"\",'S5'!$O$18)","v":""},{"$f":"IF('S5'!$P$18=\"\",\"\",'S5'!$P$18)","v":""},null,{"$f":"IF(VLOOKUP(U73,'S5'!$B$23:$Z$57,5,FALSE)=\"\",\"\",VLOOKUP(U73,'S5'!$B$23:$Z$57,5,FALSE))","v":0}]
[null,"erreicht",null,null,{"$f":"IF(VLOOKUP(B73,'S5'!$B$23:$Z$57,6,FALSE)=\"\",\"\",VLOOKUP(B73,'S5'!$B$23:$Z$57,6,FALSE))","v":"."},{"$f":"IF(VLOOKUP(B73,'S5'!$B$23:$Z$57,7,FALSE)=\"\",\"\",VLOOKUP(B73,'S5'!$B$23:$Z$57,7,FALSE))","v":""},{"$f":"IF(VLOOKUP(B73,'S5'!$B$23:$Z$57,8,FALSE)=\"\",\"\",VLOOKUP(B73,'S5'!$B$23:$Z$57,8,FALSE))","v":""},{"$f":"IF(VLOOKUP(B73,'S5'!$B$23:$Z$57,9,FALSE)=\"\",\"\",VLOOKUP(B73,'S5'!$B$23:$Z$57,9,FALSE))","v":""},{"$f":"IF(VLOOKUP(B73,'S5'!$B$23:$Z$57,10,FALSE)=\"\",\"\",VLOOKUP(B73,'S5'!$B$23:$Z$57,10,FALSE))","v":""},{"$f":"IF(VLOOKUP(B73,'S5'!$B$23:$Z$57,11,FALSE)=\"\",\"\",VLOOKUP(B73,'S5'!$B$23:$Z$57,11,FALSE))","v":""},{"$f":"IF(VLOOKUP(B73,'S5'!$B$23:$Z$57,12,FALSE)=\"\",\"\",VLOOKUP(B73,'S5'!$B$23:$Z$57,12,FALSE))","v":""},{"$f":"IF(VLOOKUP(B73,'S5'!$B$23:$Z$57,13,FALSE)=\"\",\"\",VLOOKUP(B73,'S5'!$B$23:$Z$57,13,FALSE))","v":""},{"$f":"IF(VLOOKUP(B73,'S5'!$B$23:$Z$57,14,FALSE)=\"\",\"\",VLOOKUP(B73,'S5'!$B$23:$Z$57,14,FALSE))","v":""},{"$f":"IF(VLOOKUP(B73,'S5'!$B$23:$Z$57,15,FALSE)=\"\",\"\",VLOOKUP(B73,'S5'!$B$23:$Z$57,15,FALSE))","v":""},null,null,null,null,null,null,"erreicht",null,null,{"$f":"IF(VLOOKUP(U73,'S5'!$B$23:$Z$57,6,FALSE)=\"\",\"\",VLOOKUP(U73,'S5'!$B$23:$Z$57,6,FALSE))","v":"."},{"$f":"IF(VLOOKUP(U73,'S5'!$B$23:$Z$57,7,FALSE)=\"\",\"\",VLOOKUP(U73,'S5'!$B$23:$Z$57,7,FALSE))","v":""},{"$f":"IF(VLOOKUP(U73,'S5'!$B$23:$Z$57,8,FALSE)=\"\",\"\",VLOOKUP(U73,'S5'!$B$23:$Z$57,8,FALSE))","v":""},{"$f":"IF(VLOOKUP(U73,'S5'!$B$23:$Z$57,9,FALSE)=\"\",\"\",VLOOKUP(U73,'S5'!$B$23:$Z$57,9,FALSE))","v":""},{"$f":"IF(VLOOKUP(U73,'S5'!$B$23:$Z$57,10,FALSE)=\"\",\"\",VLOOKUP(U73,'S5'!$B$23:$Z$57,10,FALSE))","v":""},{"$f":"IF(VLOOKUP(U73,'S5'!$B$23:$Z$57,11,FALSE)=\"\",\"\",VLOOKUP(U73,'S5'!$B$23:$Z$57,11,FALSE))","v":""},{"$f":"IF(VLOOKUP(U73,'S5'!$B$23:$Z$57,12,FALSE)=\"\",\"\",VLOOKUP(U73,'S5'!$B$23:$Z$57,12,FALSE))","v":""},{"$f":"IF(VLOOKUP(U73,'S5'!$B$23:$Z$57,13,FALSE)=\"\",\"\",VLOOKUP(U73,'S5'!$B$23:$Z$57,13,FALSE))","v":""},{"$f":"IF(VLOOKUP(U73,'S5'!$B$23:$Z$57,14,FALSE)=\"\",\"\",VLOOKUP(U73,'S5'!$B$23:$Z$57,14,FALSE))","v":""},{"$f":"IF(VLOOKUP(U73,'S5'!$B$23:$Z$57,15,FALSE)=\"\",\"\",VLOOKUP(U73,'S5'!$B$23:$Z$57,15,FALSE))","v":""}]
[null,"von",null,null,{"$f":"IF('S5'!$G$21=\"\",\"\",'S5'!$G$21)","v":""},{"$f":"IF('S5'!$H$21=\"\",\"\",'S5'!$H$21)","v":""},{"$f":"IF('S5'!$I$21=\"\",\"\",'S5'!$I$21)","v":""},{"$f":"IF('S5'!$J$21=\"\",\"\",'S5'!$J$21)","v":""},{"$f":"IF('S5'!$K$21=\"\",\"\",'S5'!$K$21)","v":""},{"$f":"IF('S5'!$L$21=\"\",\"\",'S5'!$L$21)","v":""},{"$f":"IF('S5'!$M$21=\"\",\"\",'S5'!$M$21)","v":""},{"$f":"IF('S5'!$N$21=\"\",\"\",'S5'!$N$21)","v":""},{"$f":"IF('S5'!$O$21=\"\",\"\",'S5'!$O$21)","v":""},{"$f":"IF('S5'!$P$21=\"\",\"\",'S5'!$P$21)","v":""},null,"von",null,null,null,null,"von",null,null,{"$f":"IF('S5'!$G$21=\"\",\"\",'S5'!$G$21)","v":""},{"$f":"IF('S5'!$H$21=\"\",\"\",'S5'!$H$21)","v":""},{"$f":"IF('S5'!$I$21=\"\",\"\",'S5'!$I$21)","v":""},{"$f":"IF('S5'!$J$21=\"\",\"\",'S5'!$J$21)","v":""},{"$f":"IF('S5'!$K$21=\"\",\"\",'S5'!$K$21)","v":""},{"$f":"IF('S5'!$L$21=\"\",\"\",'S5'!$L$21)","v":""},{"$f":"IF('S5'!$M$21=\"\",\"\",'S5'!$M$21)","v":""},{"$f":"IF('S5'!$N$21=\"\",\"\",'S5'!$N$21)","v":""},{"$f":"IF('S5'!$O$21=\"\",\"\",'S5'!$O$21)","v":""},{"$f":"IF('S5'!$P$21=\"\",\"\",'S5'!$P$21)","v":""},null,"von"]
[null,null,null,null,null,null,null,null,null,null,null,null,null,null,null,{"$f":"'S5'!$H$12","v":0},null,null,null,null,null,null,null,null,null,null,null,null,null,null,null,null,null,null,{"$f":"'S5'!$H$12","v":0}]
[null,{"$f":"IF('S5'!$Q$18=\"\",\"\",\"Aufgabe\")","v":""},null,null,{"$f":"IF('S5'!$Q$18=\"\",\"\",'S5'!$Q$18)","v":""},{"$f":"IF('S5'!$R$18=\"\",\"\",'S5'!$R$18)","v":""},{"$f":"IF('S5'!$S$18=\"\",\"\",'S5'!$S$18)","v":""},{"$f":"IF('S5'!$T$18=\"\",\"\",'S5'!$T$18)","v":""},{"$f":"IF('S5'!$U$18=\"\",\"\",'S5'!$U$18)","v":""},{"$f":"IF('S5'!$V$18=\"\",\"\",'S5'!$V$18)","v":""},{"$f":"IF('S5'!$W$18=\"\",\"\",'S5'!$W$18)","v":""},{"$f":"IF('S5'!$X$18=\"\",\"\",'S5'!$X$18)","v":""},{"$f":"IF('S5'!$Y$18=\"\",\"\",'S5'!$Y$18)","v":""},{"$f":"IF('S5'!$Z$18=\"\",\"\",'S5'!$Z$18)","v":""},null,null,null,null,null,null,{"$f":"IF('S5'!$Q$18=\"\",\"\",\"Aufgabe\")","v":""},null,null,{"$f":"IF('S5'!$Q$18=\"\",\"\",'S5'!$Q$18)","v":""},{"$f":"IF('S5'!$R$18=\"\",\"\",'S5'!$R$18)","v":""},{"$f":"IF('S5'!$S$18=\"\",\"\",'S5'!$S$18)","v":""},{"$f":"IF('S5'!$T$18=\"\",\"\",'S5'!$T$18)","v":""},{"$f":"IF('S5'!$U$18=\"\",\"\",'S5'!$U$18)","v":""},{"$f":"IF('S5'!$V$18=\"\",\"\",'S5'!$V$18)","v":""},{"$f":"IF('S5'!$W$18=\"\",\"\",'S5'!$W$18)","v":""},{"$f":"IF('S5'!$X$18=\"\",\"\",'S5'!$X$18)","v":""},{"$f":"IF('S5'!$Y$18=\"\",\"\",'S5'!$Y$18)","v":""},{"$f":"IF('S5'!$Z$18=\"\",\"\",'S5'!$Z$18)","v":""}]
[null,{"$f":"IF('S5'!$Q$18=\"\",\"\",\"erreicht\")","v":""},null,null,{"$f":"IF(VLOOKUP(B73,'S5'!$B$23:$Z$57,16,FALSE)=\"\",\"\",VLOOKUP(B73,'S5'!$B$23:$Z$57,16,FALSE))","v":""},{"$f":"IF(VLOOKUP(B73,'S5'!$B$23:$Z$57,17,FALSE)=\"\",\"\",VLOOKUP(B73,'S5'!$B$23:$Z$57,17,FALSE))","v":""},{"$f":"IF(VLOOKUP(B73,'S5'!$B$23:$Z$57,18,FALSE)=\"\",\"\",VLOOKUP(B73,'S5'!$B$23:$Z$57,18,FALSE))","v":""},{"$f":"IF(VLOOKUP(B73,'S5'!$B$23:$Z$57,19,FALSE)=\"\",\"\",VLOOKUP(B73,'S5'!$B$23:$Z$57,19,FALSE))","v":""},{"$f":"IF(VLOOKUP(B73,'S5'!$B$23:$Z$57,20,FALSE)=\"\",\"\",VLOOKUP(B73,'S5'!$B$23:$Z$57,20,FALSE))","v":""},{"$f":"IF(VLOOKUP(B73,'S5'!$B$23:$Z$57,21,FALSE)=\"\",\"\",VLOOKUP(B73,'S5'!$B$23:$Z$57,21,FALSE))","v":""},{"$f":"IF(VLOOKUP(B73,'S5'!$B$23:$Z$57,22,FALSE)=\"\",\"\",VLOOKUP(B73,'S5'!$B$23:$Z$57,22,FALSE))","v":""},{"$f":"IF(VLOOKUP(B73,'S5'!$B$23:$Z$57,23,FALSE)=\"\",\"\",VLOOKUP(B73,'S5'!$B$23:$Z$57,23,FALSE))","v":""},{"$f":"IF(VLOOKUP(B73,'S5'!$B$23:$Z$57,24,FALSE)=\"\",\"\",VLOOKUP(B73,'S5'!$B$23:$Z$57,24,FALSE))","v":""},{"$f":"IF(VLOOKUP(B73,'S5'!$B$23:$Z$57,25,FALSE)=\"\",\"\",VLOOKUP(B73,'S5'!$B$23:$Z$57,25,FALSE))","v":""},null,"Note",null,null,null,null,{"$f":"IF('S5'!$Q$18=\"\",\"\",\"erreicht\")","v":""},null,null,{"$f":"IF(VLOOKUP(U73,'S5'!$B$23:$Z$57,16,FALSE)=\"\",\"\",VLOOKUP(U73,'S5'!$B$23:$Z$57,16,FALSE))","v":""},{"$f":"IF(VLOOKUP(U73,'S5'!$B$23:$Z$57,17,FALSE)=\"\",\"\",VLOOKUP(U73,'S5'!$B$23:$Z$57,17,FALSE))","v":""},{"$f":"IF(VLOOKUP(U73,'S5'!$B$23:$Z$57,18,FALSE)=\"\",\"\",VLOOKUP(U73,'S5'!$B$23:$Z$57,18,FALSE))","v":""},{"$f":"IF(VLOOKUP(U73,'S5'!$B$23:$Z$57,19,FALSE)=\"\",\"\",VLOOKUP(U73,'S5'!$B$23:$Z$57,19,FALSE))","v":""},{"$f":"IF(VLOOKUP(U73,'S5'!$B$23:$Z$57,20,FALSE)=\"\",\"\",VLOOKUP(U73,'S5'!$B$23:$Z$57,20,FALSE))","v":""},{"$f":"IF(VLOOKUP(U73,'S5'!$B$23:$Z$57,21,FALSE)=\"\",\"\",VLOOKUP(U73,'S5'!$B$23:$Z$57,21,FALSE))","v":""},{"$f":"IF(VLOOKUP(U73,'S5'!$B$23:$Z$57,22,FALSE)=\"\",\"\",VLOOKUP(U73,'S5'!$B$23:$Z$57,22,FALSE))","v":""},{"$f":"IF(VLOOKUP(U73,'S5'!$B$23:$Z$57,23,FALSE)=\"\",\"\",VLOOKUP(U73,'S5'!$B$23:$Z$57,23,FALSE))","v":""},{"$f":"IF(VLOOKUP(U73,'S5'!$B$23:$Z$57,24,FALSE)=\"\",\"\",VLOOKUP(U73,'S5'!$B$23:$Z$57,24,FALSE))","v":""},{"$f":"IF(VLOOKUP(U73,'S5'!$B$23:$Z$57,25,FALSE)=\"\",\"\",VLOOKUP(U73,'S5'!$B$23:$Z$57,25,FALSE))","v":""},null,"Note"]
[null,{"$f":"IF('S5'!$Q$18=\"\",\"\",\"von\")","v":""},null,null,{"$f":"IF('S5'!$Q$21=\"\",\"\",'S5'!$Q$21)","v":""},{"$f":"IF('S5'!$R$21=\"\",\"\",'S5'!$R$21)","v":""},{"$f":"IF('S5'!$S$21=\"\",\"\",'S5'!$S$21)","v":""},{"$f":"IF('S5'!$T$21=\"\",\"\",'S5'!$T$21)","v":""},{"$f":"IF('S5'!$U$21=\"\",\"\",'S5'!$U$21)","v":""},{"$f":"IF('S5'!$V$21=\"\",\"\",'S5'!$V$21)","v":""},{"$f":"IF('S5'!$W$21=\"\",\"\",'S5'!$W$21)","v":""},{"$f":"IF('S5'!$X$21=\"\",\"\",'S5'!$X$21)","v":""},{"$f":"IF('S5'!$Y$21=\"\",\"\",'S5'!$Y$21)","v":""},{"$f":"IF('S5'!$Z$21=\"\",\"\",'S5'!$Z$21)","v":""},null,{"$f":"IF(VLOOKUP(B73,'S5'!$B$23:$Z$57,2,FALSE)=\"\",\"\",CONCATENATE(VLOOKUP(B73,'S5'!$B$23:$Z$57,2,FALSE),\" \",VLOOKUP(B73,'S5'!$B$23:$Z$57,3,FALSE)))","v":"- "},null,null,null,null,{"$f":"IF('S5'!$Q$18=\"\",\"\",\"von\")","v":""},null,null,{"$f":"IF('S5'!$Q$21=\"\",\"\",'S5'!$Q$21)","v":""},{"$f":"IF('S5'!$R$21=\"\",\"\",'S5'!$R$21)","v":""},{"$f":"IF('S5'!$S$21=\"\",\"\",'S5'!$S$21)","v":""},{"$f":"IF('S5'!$T$21=\"\",\"\",'S5'!$T$21)","v":""},{"$f":"IF('S5'!$U$21=\"\",\"\",'S5'!$U$21)","v":""},{"$f":"IF('S5'!$V$21=\"\",\"\",'S5'!$V$21)","v":""},{"$f":"IF('S5'!$W$21=\"\",\"\",'S5'!$W$21)","v":""},{"$f":"IF('S5'!$X$21=\"\",\"\",'S5'!$X$21)","v":""},{"$f":"IF('S5'!$Y$21=\"\",\"\",'S5'!$Y$21)","v":""},{"$f":"IF('S5'!$Z$21=\"\",\"\",'S5'!$Z$21)","v":""},null,{"$f":"IF(VLOOKUP(U73,'S5'!$B$23:$Z$57,2,FALSE)=\"\",\"\",CONCATENATE(VLOOKUP(U73,'S5'!$B$23:$Z$57,2,FALSE),\" \",VLOOKUP(U73,'S5'!$B$23:$Z$57,3,FALSE)))","v":"- "}]
[]
[]
[]
[null,{"$f":"'S5'!$B$37","v":""},null,null,null,null,null,null,null,null,null,null,null,null,null,null,null,null,null,null,{"$f":"'S5'!$B$38","v":""}]
[null,null,null,null,null,null,null,null,null,null,null,null,null,null,null,"Summe",null,null,null,null,null,null,null,null,null,null,null,null,null,null,null,null,null,null,"Summe"]
[null,"Aufgabe",null,null,{"$f":"IF('S5'!$G$18=\"\",\"\",'S5'!$G$18)","v":1},{"$f":"IF('S5'!$H$18=\"\",\"\",'S5'!$H$18)","v":2},{"$f":"IF('S5'!$I$18=\"\",\"\",'S5'!$I$18)","v":3},{"$f":"IF('S5'!$J$18=\"\",\"\",'S5'!$J$18)","v":""},{"$f":"IF('S5'!$K$18=\"\",\"\",'S5'!$K$18)","v":""},{"$f":"IF('S5'!$L$18=\"\",\"\",'S5'!$L$18)","v":""},{"$f":"IF('S5'!$M$18=\"\",\"\",'S5'!$M$18)","v":""},{"$f":"IF('S5'!$N$18=\"\",\"\",'S5'!$N$18)","v":""},{"$f":"IF('S5'!$O$18=\"\",\"\",'S5'!$O$18)","v":""},{"$f":"IF('S5'!$P$18=\"\",\"\",'S5'!$P$18)","v":""},null,{"$f":"IF(VLOOKUP(B85,'S5'!$B$23:$Z$57,5,FALSE)=\"\",\"\",VLOOKUP(B85,'S5'!$B$23:$Z$57,5,FALSE))","v":0},null,null,null,null,"Aufgabe",null,null,{"$f":"IF('S5'!$G$18=\"\",\"\",'S5'!$G$18)","v":1},{"$f":"IF('S5'!$H$18=\"\",\"\",'S5'!$H$18)","v":2},{"$f":"IF('S5'!$I$18=\"\",\"\",'S5'!$I$18)","v":3},{"$f":"IF('S5'!$J$18=\"\",\"\",'S5'!$J$18)","v":""},{"$f":"IF('S5'!$K$18=\"\",\"\",'S5'!$K$18)","v":""},{"$f":"IF('S5'!$L$18=\"\",\"\",'S5'!$L$18)","v":""},{"$f":"IF('S5'!$M$18=\"\",\"\",'S5'!$M$18)","v":""},{"$f":"IF('S5'!$N$18=\"\",\"\",'S5'!$N$18)","v":""},{"$f":"IF('S5'!$O$18=\"\",\"\",'S5'!$O$18)","v":""},{"$f":"IF('S5'!$P$18=\"\",\"\",'S5'!$P$18)","v":""},null,{"$f":"IF(VLOOKUP(U85,'S5'!$B$23:$Z$57,5,FALSE)=\"\",\"\",VLOOKUP(U85,'S5'!$B$23:$Z$57,5,FALSE))","v":0}]
[null,"erreicht",null,null,{"$f":"IF(VLOOKUP(B85,'S5'!$B$23:$Z$57,6,FALSE)=\"\",\"\",VLOOKUP(B85,'S5'!$B$23:$Z$57,6,FALSE))","v":"."},{"$f":"IF(VLOOKUP(B85,'S5'!$B$23:$Z$57,7,FALSE)=\"\",\"\",VLOOKUP(B85,'S5'!$B$23:$Z$57,7,FALSE))","v":""},{"$f":"IF(VLOOKUP(B85,'S5'!$B$23:$Z$57,8,FALSE)=\"\",\"\",VLOOKUP(B85,'S5'!$B$23:$Z$57,8,FALSE))","v":""},{"$f":"IF(VLOOKUP(B85,'S5'!$B$23:$Z$57,9,FALSE)=\"\",\"\",VLOOKUP(B85,'S5'!$B$23:$Z$57,9,FALSE))","v":""},{"$f":"IF(VLOOKUP(B85,'S5'!$B$23:$Z$57,10,FALSE)=\"\",\"\",VLOOKUP(B85,'S5'!$B$23:$Z$57,10,FALSE))","v":""},{"$f":"IF(VLOOKUP(B85,'S5'!$B$23:$Z$57,11,FALSE)=\"\",\"\",VLOOKUP(B85,'S5'!$B$23:$Z$57,11,FALSE))","v":""},{"$f":"IF(VLOOKUP(B85,'S5'!$B$23:$Z$57,12,FALSE)=\"\",\"\",VLOOKUP(B85,'S5'!$B$23:$Z$57,12,FALSE))","v":""},{"$f":"IF(VLOOKUP(B85,'S5'!$B$23:$Z$57,13,FALSE)=\"\",\"\",VLOOKUP(B85,'S5'!$B$23:$Z$57,13,FALSE))","v":""},{"$f":"IF(VLOOKUP(B85,'S5'!$B$23:$Z$57,14,FALSE)=\"\",\"\",VLOOKUP(B85,'S5'!$B$23:$Z$57,14,FALSE))","v":""},{"$f":"IF(VLOOKUP(B85,'S5'!$B$23:$Z$57,15,FALSE)=\"\",\"\",VLOOKUP(B85,'S5'!$B$23:$Z$57,15,FALSE))","v":""},null,null,null,null,null,null,"erreicht",null,null,{"$f":"IF(VLOOKUP(U85,'S5'!$B$23:$Z$57,6,FALSE)=\"\",\"\",VLOOKUP(U85,'S5'!$B$23:$Z$57,6,FALSE))","v":"."},{"$f":"IF(VLOOKUP(U85,'S5'!$B$23:$Z$57,7,FALSE)=\"\",\"\",VLOOKUP(U85,'S5'!$B$23:$Z$57,7,FALSE))","v":""},{"$f":"IF(VLOOKUP(U85,'S5'!$B$23:$Z$57,8,FALSE)=\"\",\"\",VLOOKUP(U85,'S5'!$B$23:$Z$57,8,FALSE))","v":""},{"$f":"IF(VLOOKUP(U85,'S5'!$B$23:$Z$57,9,FALSE)=\"\",\"\",VLOOKUP(U85,'S5'!$B$23:$Z$57,9,FALSE))","v":""},{"$f":"IF(VLOOKUP(U85,'S5'!$B$23:$Z$57,10,FALSE)=\"\",\"\",VLOOKUP(U85,'S5'!$B$23:$Z$57,10,FALSE))","v":""},{"$f":"IF(VLOOKUP(U85,'S5'!$B$23:$Z$57,11,FALSE)=\"\",\"\",VLOOKUP(U85,'S5'!$B$23:$Z$57,11,FALSE))","v":""},{"$f":"IF(VLOOKUP(U85,'S5'!$B$23:$Z$57,12,FALSE)=\"\",\"\",VLOOKUP(U85,'S5'!$B$23:$Z$57,12,FALSE))","v":""},{"$f":"IF(VLOOKUP(U85,'S5'!$B$23:$Z$57,13,FALSE)=\"\",\"\",VLOOKUP(U85,'S5'!$B$23:$Z$57,13,FALSE))","v":""},{"$f":"IF(VLOOKUP(U85,'S5'!$B$23:$Z$57,14,FALSE)=\"\",\"\",VLOOKUP(U85,'S5'!$B$23:$Z$57,14,FALSE))","v":""},{"$f":"IF(VLOOKUP(U85,'S5'!$B$23:$Z$57,15,FALSE)=\"\",\"\",VLOOKUP(U85,'S5'!$B$23:$Z$57,15,FALSE))","v":""}]
[null,"von",null,null,{"$f":"IF('S5'!$G$21=\"\",\"\",'S5'!$G$21)","v":""},{"$f":"IF('S5'!$H$21=\"\",\"\",'S5'!$H$21)","v":""},{"$f":"IF('S5'!$I$21=\"\",\"\",'S5'!$I$21)","v":""},{"$f":"IF('S5'!$J$21=\"\",\"\",'S5'!$J$21)","v":""},{"$f":"IF('S5'!$K$21=\"\",\"\",'S5'!$K$21)","v":""},{"$f":"IF('S5'!$L$21=\"\",\"\",'S5'!$L$21)","v":""},{"$f":"IF('S5'!$M$21=\"\",\"\",'S5'!$M$21)","v":""},{"$f":"IF('S5'!$N$21=\"\",\"\",'S5'!$N$21)","v":""},{"$f":"IF('S5'!$O$21=\"\",\"\",'S5'!$O$21)","v":""},{"$f":"IF('S5'!$P$21=\"\",\"\",'S5'!$P$21)","v":""},null,"von",null,null,null,null,"von",null,null,{"$f":"IF('S5'!$G$21=\"\",\"\",'S5'!$G$21)","v":""},{"$f":"IF('S5'!$H$21=\"\",\"\",'S5'!$H$21)","v":""},{"$f":"IF('S5'!$I$21=\"\",\"\",'S5'!$I$21)","v":""},{"$f":"IF('S5'!$J$21=\"\",\"\",'S5'!$J$21)","v":""},{"$f":"IF('S5'!$K$21=\"\",\"\",'S5'!$K$21)","v":""},{"$f":"IF('S5'!$L$21=\"\",\"\",'S5'!$L$21)","v":""},{"$f":"IF('S5'!$M$21=\"\",\"\",'S5'!$M$21)","v":""},{"$f":"IF('S5'!$N$21=\"\",\"\",'S5'!$N$21)","v":""},{"$f":"IF('S5'!$O$21=\"\",\"\",'S5'!$O$21)","v":""},{"$f":"IF('S5'!$P$21=\"\",\"\",'S5'!$P$21)","v":""},null,"von"]
[null,null,null,null,null,null,null,null,null,null,null,null,null,null,null,{"$f":"'S5'!$H$12","v":0},null,null,null,null,null,null,null,null,null,null,null,null,null,null,null,null,null,null,{"$f":"'S5'!$H$12","v":0}]
[null,{"$f":"IF('S5'!$Q$18=\"\",\"\",\"Aufgabe\")","v":""},null,null,{"$f":"IF('S5'!$Q$18=\"\",\"\",'S5'!$Q$18)","v":""},{"$f":"IF('S5'!$R$18=\"\",\"\",'S5'!$R$18)","v":""},{"$f":"IF('S5'!$S$18=\"\",\"\",'S5'!$S$18)","v":""},{"$f":"IF('S5'!$T$18=\"\",\"\",'S5'!$T$18)","v":""},{"$f":"IF('S5'!$U$18=\"\",\"\",'S5'!$U$18)","v":""},{"$f":"IF('S5'!$V$18=\"\",\"\",'S5'!$V$18)","v":""},{"$f":"IF('S5'!$W$18=\"\",\"\",'S5'!$W$18)","v":""},{"$f":"IF('S5'!$X$18=\"\",\"\",'S5'!$X$18)","v":""},{"$f":"IF('S5'!$Y$18=\"\",\"\",'S5'!$Y$18)","v":""},{"$f":"IF('S5'!$Z$18=\"\",\"\",'S5'!$Z$18)","v":""},null,null,null,null,null,null,{"$f":"IF('S5'!$Q$18=\"\",\"\",\"Aufgabe\")","v":""},null,null,{"$f":"IF('S5'!$Q$18=\"\",\"\",'S5'!$Q$18)","v":""},{"$f":"IF('S5'!$R$18=\"\",\"\",'S5'!$R$18)","v":""},{"$f":"IF('S5'!$S$18=\"\",\"\",'S5'!$S$18)","v":""},{"$f":"IF('S5'!$T$18=\"\",\"\",'S5'!$T$18)","v":""},{"$f":"IF('S5'!$U$18=\"\",\"\",'S5'!$U$18)","v":""},{"$f":"IF('S5'!$V$18=\"\",\"\",'S5'!$V$18)","v":""},{"$f":"IF('S5'!$W$18=\"\",\"\",'S5'!$W$18)","v":""},{"$f":"IF('S5'!$X$18=\"\",\"\",'S5'!$X$18)","v":""},{"$f":"IF('S5'!$Y$18=\"\",\"\",'S5'!$Y$18)","v":""},{"$f":"IF('S5'!$Z$18=\"\",\"\",'S5'!$Z$18)","v":""}]
[null,{"$f":"IF('S5'!$Q$18=\"\",\"\",\"erreicht\")","v":""},null,null,{"$f":"IF(VLOOKUP(B85,'S5'!$B$23:$Z$57,16,FALSE)=\"\",\"\",VLOOKUP(B85,'S5'!$B$23:$Z$57,16,FALSE))","v":""},{"$f":"IF(VLOOKUP(B85,'S5'!$B$23:$Z$57,17,FALSE)=\"\",\"\",VLOOKUP(B85,'S5'!$B$23:$Z$57,17,FALSE))","v":""},{"$f":"IF(VLOOKUP(B85,'S5'!$B$23:$Z$57,18,FALSE)=\"\",\"\",VLOOKUP(B85,'S5'!$B$23:$Z$57,18,FALSE))","v":""},{"$f":"IF(VLOOKUP(B85,'S5'!$B$23:$Z$57,19,FALSE)=\"\",\"\",VLOOKUP(B85,'S5'!$B$23:$Z$57,19,FALSE))","v":""},{"$f":"IF(VLOOKUP(B85,'S5'!$B$23:$Z$57,20,FALSE)=\"\",\"\",VLOOKUP(B85,'S5'!$B$23:$Z$57,20,FALSE))","v":""},{"$f":"IF(VLOOKUP(B85,'S5'!$B$23:$Z$57,21,FALSE)=\"\",\"\",VLOOKUP(B85,'S5'!$B$23:$Z$57,21,FALSE))","v":""},{"$f":"IF(VLOOKUP(B85,'S5'!$B$23:$Z$57,22,FALSE)=\"\",\"\",VLOOKUP(B85,'S5'!$B$23:$Z$57,22,FALSE))","v":""},{"$f":"IF(VLOOKUP(B85,'S5'!$B$23:$Z$57,23,FALSE)=\"\",\"\",VLOOKUP(B85,'S5'!$B$23:$Z$57,23,FALSE))","v":""},{"$f":"IF(VLOOKUP(B85,'S5'!$B$23:$Z$57,24,FALSE)=\"\",\"\",VLOOKUP(B85,'S5'!$B$23:$Z$57,24,FALSE))","v":""},{"$f":"IF(VLOOKUP(B85,'S5'!$B$23:$Z$57,25,FALSE)=\"\",\"\",VLOOKUP(B85,'S5'!$B$23:$Z$57,25,FALSE))","v":""},null,"Note",null,null,null,null,{"$f":"IF('S5'!$Q$18=\"\",\"\",\"erreicht\")","v":""},null,null,{"$f":"IF(VLOOKUP(U85,'S5'!$B$23:$Z$57,16,FALSE)=\"\",\"\",VLOOKUP(U85,'S5'!$B$23:$Z$57,16,FALSE))","v":""},{"$f":"IF(VLOOKUP(U85,'S5'!$B$23:$Z$57,17,FALSE)=\"\",\"\",VLOOKUP(U85,'S5'!$B$23:$Z$57,17,FALSE))","v":""},{"$f":"IF(VLOOKUP(U85,'S5'!$B$23:$Z$57,18,FALSE)=\"\",\"\",VLOOKUP(U85,'S5'!$B$23:$Z$57,18,FALSE))","v":""},{"$f":"IF(VLOOKUP(U85,'S5'!$B$23:$Z$57,19,FALSE)=\"\",\"\",VLOOKUP(U85,'S5'!$B$23:$Z$57,19,FALSE))","v":""},{"$f":"IF(VLOOKUP(U85,'S5'!$B$23:$Z$57,20,FALSE)=\"\",\"\",VLOOKUP(U85,'S5'!$B$23:$Z$57,20,FALSE))","v":""},{"$f":"IF(VLOOKUP(U85,'S5'!$B$23:$Z$57,21,FALSE)=\"\",\"\",VLOOKUP(U85,'S5'!$B$23:$Z$57,21,FALSE))","v":""},{"$f":"IF(VLOOKUP(U85,'S5'!$B$23:$Z$57,22,FALSE)=\"\",\"\",VLOOKUP(U85,'S5'!$B$23:$Z$57,22,FALSE))","v":""},{"$f":"IF(VLOOKUP(U85,'S5'!$B$23:$Z$57,23,FALSE)=\"\",\"\",VLOOKUP(U85,'S5'!$B$23:$Z$57,23,FALSE))","v":""},{"$f":"IF(VLOOKUP(U85,'S5'!$B$23:$Z$57,24,FALSE)=\"\",\"\",VLOOKUP(U85,'S5'!$B$23:$Z$57,24,FALSE))","v":""},{"$f":"IF(VLOOKUP(U85,'S5'!$B$23:$Z$57,25,FALSE)=\"\",\"\",VLOOKUP(U85,'S5'!$B$23:$Z$57,25,FALSE))","v":""},null,"Note"]
[null,{"$f":"IF('S5'!$Q$18=\"\",\"\",\"von\")","v":""},null,null,{"$f":"IF('S5'!$Q$21=\"\",\"\",'S5'!$Q$21)","v":""},{"$f":"IF('S5'!$R$21=\"\",\"\",'S5'!$R$21)","v":""},{"$f":"IF('S5'!$S$21=\"\",\"\",'S5'!$S$21)","v":""},{"$f":"IF('S5'!$T$21=\"\",\"\",'S5'!$T$21)","v":""},{"$f":"IF('S5'!$U$21=\"\",\"\",'S5'!$U$21)","v":""},{"$f":"IF('S5'!$V$21=\"\",\"\",'S5'!$V$21)","v":""},{"$f":"IF('S5'!$W$21=\"\",\"\",'S5'!$W$21)","v":""},{"$f":"IF('S5'!$X$21=\"\",\"\",'S5'!$X$21)","v":""},{"$f":"IF('S5'!$Y$21=\"\",\"\",'S5'!$Y$21)","v":""},{"$f":"IF('S5'!$Z$21=\"\",\"\",'S5'!$Z$21)","v":""},null,{"$f":"IF(VLOOKUP(B85,'S5'!$B$23:$Z$57,2,FALSE)=\"\",\"\",CONCATENATE(VLOOKUP(B85,'S5'!$B$23:$Z$57,2,FALSE),\" \",VLOOKUP(B85,'S5'!$B$23:$Z$57,3,FALSE)))","v":"- "},null,null,null,null,{"$f":"IF('S5'!$Q$18=\"\",\"\",\"von\")","v":""},null,null,{"$f":"IF('S5'!$Q$21=\"\",\"\",'S5'!$Q$21)","v":""},{"$f":"IF('S5'!$R$21=\"\",\"\",'S5'!$R$21)","v":""},{"$f":"IF('S5'!$S$21=\"\",\"\",'S5'!$S$21)","v":""},{"$f":"IF('S5'!$T$21=\"\",\"\",'S5'!$T$21)","v":""},{"$f":"IF('S5'!$U$21=\"\",\"\",'S5'!$U$21)","v":""},{"$f":"IF('S5'!$V$21=\"\",\"\",'S5'!$V$21)","v":""},{"$f":"IF('S5'!$W$21=\"\",\"\",'S5'!$W$21)","v":""},{"$f":"IF('S5'!$X$21=\"\",\"\",'S5'!$X$21)","v":""},{"$f":"IF('S5'!$Y$21=\"\",\"\",'S5'!$Y$21)","v":""},{"$f":"IF('S5'!$Z$21=\"\",\"\",'S5'!$Z$21)","v":""},null,{"$f":"IF(VLOOKUP(U85,'S5'!$B$23:$Z$57,2,FALSE)=\"\",\"\",CONCATENATE(VLOOKUP(U85,'S5'!$B$23:$Z$57,2,FALSE),\" \",VLOOKUP(U85,'S5'!$B$23:$Z$57,3,FALSE)))","v":"- "}]
[]
[]
[]
[null,{"$f":"'S5'!$B$39","v":""},null,null,null,null,null,null,null,null,null,null,null,null,null,null,null,null,null,null,{"$f":"'S5'!$B$40","v":""}]
[null,null,null,null,null,null,null,null,null,null,null,null,null,null,null,"Summe",null,null,null,null,null,null,null,null,null,null,null,null,null,null,null,null,null,null,"Summe"]
[null,"Aufgabe",null,null,{"$f":"IF('S5'!$G$18=\"\",\"\",'S5'!$G$18)","v":1},{"$f":"IF('S5'!$H$18=\"\",\"\",'S5'!$H$18)","v":2},{"$f":"IF('S5'!$I$18=\"\",\"\",'S5'!$I$18)","v":3},{"$f":"IF('S5'!$J$18=\"\",\"\",'S5'!$J$18)","v":""},{"$f":"IF('S5'!$K$18=\"\",\"\",'S5'!$K$18)","v":""},{"$f":"IF('S5'!$L$18=\"\",\"\",'S5'!$L$18)","v":""},{"$f":"IF('S5'!$M$18=\"\",\"\",'S5'!$M$18)","v":""},{"$f":"IF('S5'!$N$18=\"\",\"\",'S5'!$N$18)","v":""},{"$f":"IF('S5'!$O$18=\"\",\"\",'S5'!$O$18)","v":""},{"$f":"IF('S5'!$P$18=\"\",\"\",'S5'!$P$18)","v":""},null,{"$f":"IF(VLOOKUP(B97,'S5'!$B$23:$Z$57,5,FALSE)=\"\",\"\",VLOOKUP(B97,'S5'!$B$23:$Z$57,5,FALSE))","v":0},null,null,null,null,"Aufgabe",null,null,{"$f":"IF('S5'!$G$18=\"\",\"\",'S5'!$G$18)","v":1},{"$f":"IF('S5'!$H$18=\"\",\"\",'S5'!$H$18)","v":2},{"$f":"IF('S5'!$I$18=\"\",\"\",'S5'!$I$18)","v":3},{"$f":"IF('S5'!$J$18=\"\",\"\",'S5'!$J$18)","v":""},{"$f":"IF('S5'!$K$18=\"\",\"\",'S5'!$K$18)","v":""},{"$f":"IF('S5'!$L$18=\"\",\"\",'S5'!$L$18)","v":""},{"$f":"IF('S5'!$M$18=\"\",\"\",'S5'!$M$18)","v":""},{"$f":"IF('S5'!$N$18=\"\",\"\",'S5'!$N$18)","v":""},{"$f":"IF('S5'!$O$18=\"\",\"\",'S5'!$O$18)","v":""},{"$f":"IF('S5'!$P$18=\"\",\"\",'S5'!$P$18)","v":""},null,{"$f":"IF(VLOOKUP(U97,'S5'!$B$23:$Z$57,5,FALSE)=\"\",\"\",VLOOKUP(U97,'S5'!$B$23:$Z$57,5,FALSE))","v":0}]
[null,"erreicht",null,null,{"$f":"IF(VLOOKUP(B97,'S5'!$B$23:$Z$57,6,FALSE)=\"\",\"\",VLOOKUP(B97,'S5'!$B$23:$Z$57,6,FALSE))","v":"."},{"$f":"IF(VLOOKUP(B97,'S5'!$B$23:$Z$57,7,FALSE)=\"\",\"\",VLOOKUP(B97,'S5'!$B$23:$Z$57,7,FALSE))","v":""},{"$f":"IF(VLOOKUP(B97,'S5'!$B$23:$Z$57,8,FALSE)=\"\",\"\",VLOOKUP(B97,'S5'!$B$23:$Z$57,8,FALSE))","v":""},{"$f":"IF(VLOOKUP(B97,'S5'!$B$23:$Z$57,9,FALSE)=\"\",\"\",VLOOKUP(B97,'S5'!$B$23:$Z$57,9,FALSE))","v":""},{"$f":"IF(VLOOKUP(B97,'S5'!$B$23:$Z$57,10,FALSE)=\"\",\"\",VLOOKUP(B97,'S5'!$B$23:$Z$57,10,FALSE))","v":""},{"$f":"IF(VLOOKUP(B97,'S5'!$B$23:$Z$57,11,FALSE)=\"\",\"\",VLOOKUP(B97,'S5'!$B$23:$Z$57,11,FALSE))","v":""},{"$f":"IF(VLOOKUP(B97,'S5'!$B$23:$Z$57,12,FALSE)=\"\",\"\",VLOOKUP(B97,'S5'!$B$23:$Z$57,12,FALSE))","v":""},{"$f":"IF(VLOOKUP(B97,'S5'!$B$23:$Z$57,13,FALSE)=\"\",\"\",VLOOKUP(B97,'S5'!$B$23:$Z$57,13,FALSE))","v":""},{"$f":"IF(VLOOKUP(B97,'S5'!$B$23:$Z$57,14,FALSE)=\"\",\"\",VLOOKUP(B97,'S5'!$B$23:$Z$57,14,FALSE))","v":""},{"$f":"IF(VLOOKUP(B97,'S5'!$B$23:$Z$57,15,FALSE)=\"\",\"\",VLOOKUP(B97,'S5'!$B$23:$Z$57,15,FALSE))","v":""},null,null,null,null,null,null,"erreicht",null,null,{"$f":"IF(VLOOKUP(U97,'S5'!$B$23:$Z$57,6,FALSE)=\"\",\"\",VLOOKUP(U97,'S5'!$B$23:$Z$57,6,FALSE))","v":"."},{"$f":"IF(VLOOKUP(U97,'S5'!$B$23:$Z$57,7,FALSE)=\"\",\"\",VLOOKUP(U97,'S5'!$B$23:$Z$57,7,FALSE))","v":""},{"$f":"IF(VLOOKUP(U97,'S5'!$B$23:$Z$57,8,FALSE)=\"\",\"\",VLOOKUP(U97,'S5'!$B$23:$Z$57,8,FALSE))","v":""},{"$f":"IF(VLOOKUP(U97,'S5'!$B$23:$Z$57,9,FALSE)=\"\",\"\",VLOOKUP(U97,'S5'!$B$23:$Z$57,9,FALSE))","v":""},{"$f":"IF(VLOOKUP(U97,'S5'!$B$23:$Z$57,10,FALSE)=\"\",\"\",VLOOKUP(U97,'S5'!$B$23:$Z$57,10,FALSE))","v":""},{"$f":"IF(VLOOKUP(U97,'S5'!$B$23:$Z$57,11,FALSE)=\"\",\"\",VLOOKUP(U97,'S5'!$B$23:$Z$57,11,FALSE))","v":""},{"$f":"IF(VLOOKUP(U97,'S5'!$B$23:$Z$57,12,FALSE)=\"\",\"\",VLOOKUP(U97,'S5'!$B$23:$Z$57,12,FALSE))","v":""},{"$f":"IF(VLOOKUP(U97,'S5'!$B$23:$Z$57,13,FALSE)=\"\",\"\",VLOOKUP(U97,'S5'!$B$23:$Z$57,13,FALSE))","v":""},{"$f":"IF(VLOOKUP(U97,'S5'!$B$23:$Z$57,14,FALSE)=\"\",\"\",VLOOKUP(U97,'S5'!$B$23:$Z$57,14,FALSE))","v":""},{"$f":"IF(VLOOKUP(U97,'S5'!$B$23:$Z$57,15,FALSE)=\"\",\"\",VLOOKUP(U97,'S5'!$B$23:$Z$57,15,FALSE))","v":""}]
[null,"von",null,null,{"$f":"IF('S5'!$G$21=\"\",\"\",'S5'!$G$21)","v":""},{"$f":"IF('S5'!$H$21=\"\",\"\",'S5'!$H$21)","v":""},{"$f":"IF('S5'!$I$21=\"\",\"\",'S5'!$I$21)","v":""},{"$f":"IF('S5'!$J$21=\"\",\"\",'S5'!$J$21)","v":""},{"$f":"IF('S5'!$K$21=\"\",\"\",'S5'!$K$21)","v":""},{"$f":"IF('S5'!$L$21=\"\",\"\",'S5'!$L$21)","v":""},{"$f":"IF('S5'!$M$21=\"\",\"\",'S5'!$M$21)","v":""},{"$f":"IF('S5'!$N$21=\"\",\"\",'S5'!$N$21)","v":""},{"$f":"IF('S5'!$O$21=\"\",\"\",'S5'!$O$21)","v":""},{"$f":"IF('S5'!$P$21=\"\",\"\",'S5'!$P$21)","v":""},null,"von",null,null,null,null,"von",null,null,{"$f":"IF('S5'!$G$21=\"\",\"\",'S5'!$G$21)","v":""},{"$f":"IF('S5'!$H$21=\"\",\"\",'S5'!$H$21)","v":""},{"$f":"IF('S5'!$I$21=\"\",\"\",'S5'!$I$21)","v":""},{"$f":"IF('S5'!$J$21=\"\",\"\",'S5'!$J$21)","v":""},{"$f":"IF('S5'!$K$21=\"\",\"\",'S5'!$K$21)","v":""},{"$f":"IF('S5'!$L$21=\"\",\"\",'S5'!$L$21)","v":""},{"$f":"IF('S5'!$M$21=\"\",\"\",'S5'!$M$21)","v":""},{"$f":"IF('S5'!$N$21=\"\",\"\",'S5'!$N$21)","v":""},{"$f":"IF('S5'!$O$21=\"\",\"\",'S5'!$O$21)","v":""},{"$f":"IF('S5'!$P$21=\"\",\"\",'S5'!$P$21)","v":""},null,"von"]
[null,null,null,null,null,null,null,null,null,null,null,null,null,null,null,{"$f":"'S5'!$H$12","v":0},null,null,null,null,null,null,null,null,null,null,null,null,null,null,null,null,null,null,{"$f":"'S5'!$H$12","v":0}]
[null,{"$f":"IF('S5'!$Q$18=\"\",\"\",\"Aufgabe\")","v":""},null,null,{"$f":"IF('S5'!$Q$18=\"\",\"\",'S5'!$Q$18)","v":""},{"$f":"IF('S5'!$R$18=\"\",\"\",'S5'!$R$18)","v":""},{"$f":"IF('S5'!$S$18=\"\",\"\",'S5'!$S$18)","v":""},{"$f":"IF('S5'!$T$18=\"\",\"\",'S5'!$T$18)","v":""},{"$f":"IF('S5'!$U$18=\"\",\"\",'S5'!$U$18)","v":""},{"$f":"IF('S5'!$V$18=\"\",\"\",'S5'!$V$18)","v":""},{"$f":"IF('S5'!$W$18=\"\",\"\",'S5'!$W$18)","v":""},{"$f":"IF('S5'!$X$18=\"\",\"\",'S5'!$X$18)","v":""},{"$f":"IF('S5'!$Y$18=\"\",\"\",'S5'!$Y$18)","v":""},{"$f":"IF('S5'!$Z$18=\"\",\"\",'S5'!$Z$18)","v":""},null,null,null,null,null,null,{"$f":"IF('S5'!$Q$18=\"\",\"\",\"Aufgabe\")","v":""},null,null,{"$f":"IF('S5'!$Q$18=\"\",\"\",'S5'!$Q$18)","v":""},{"$f":"IF('S5'!$R$18=\"\",\"\",'S5'!$R$18)","v":""},{"$f":"IF('S5'!$S$18=\"\",\"\",'S5'!$S$18)","v":""},{"$f":"IF('S5'!$T$18=\"\",\"\",'S5'!$T$18)","v":""},{"$f":"IF('S5'!$U$18=\"\",\"\",'S5'!$U$18)","v":""},{"$f":"IF('S5'!$V$18=\"\",\"\",'S5'!$V$18)","v":""},{"$f":"IF('S5'!$W$18=\"\",\"\",'S5'!$W$18)","v":""},{"$f":"IF('S5'!$X$18=\"\",\"\",'S5'!$X$18)","v":""},{"$f":"IF('S5'!$Y$18=\"\",\"\",'S5'!$Y$18)","v":""},{"$f":"IF('S5'!$Z$18=\"\",\"\",'S5'!$Z$18)","v":""}]
[null,{"$f":"IF('S5'!$Q$18=\"\",\"\",\"erreicht\")","v":""},null,null,{"$f":"IF(VLOOKUP(B97,'S5'!$B$23:$Z$57,16,FALSE)=\"\",\"\",VLOOKUP(B97,'S5'!$B$23:$Z$57,16,FALSE))","v":""},{"$f":"IF(VLOOKUP(B97,'S5'!$B$23:$Z$57,17,FALSE)=\"\",\"\",VLOOKUP(B97,'S5'!$B$23:$Z$57,17,FALSE))","v":""},{"$f":"IF(VLOOKUP(B97,'S5'!$B$23:$Z$57,18,FALSE)=\"\",\"\",VLOOKUP(B97,'S5'!$B$23:$Z$57,18,FALSE))","v":""},{"$f":"IF(VLOOKUP(B97,'S5'!$B$23:$Z$57,19,FALSE)=\"\",\"\",VLOOKUP(B97,'S5'!$B$23:$Z$57,19,FALSE))","v":""},{"$f":"IF(VLOOKUP(B97,'S5'!$B$23:$Z$57,20,FALSE)=\"\",\"\",VLOOKUP(B97,'S5'!$B$23:$Z$57,20,FALSE))","v":""},{"$f":"IF(VLOOKUP(B97,'S5'!$B$23:$Z$57,21,FALSE)=\"\",\"\",VLOOKUP(B97,'S5'!$B$23:$Z$57,21,FALSE))","v":""},{"$f":"IF(VLOOKUP(B97,'S5'!$B$23:$Z$57,22,FALSE)=\"\",\"\",VLOOKUP(B97,'S5'!$B$23:$Z$57,22,FALSE))","v":""},{"$f":"IF(VLOOKUP(B97,'S5'!$B$23:$Z$57,23,FALSE)=\"\",\"\",VLOOKUP(B97,'S5'!$B$23:$Z$57,23,FALSE))","v":""},{"$f":"IF(VLOOKUP(B97,'S5'!$B$23:$Z$57,24,FALSE)=\"\",\"\",VLOOKUP(B97,'S5'!$B$23:$Z$57,24,FALSE))","v":""},{"$f":"IF(VLOOKUP(B97,'S5'!$B$23:$Z$57,25,FALSE)=\"\",\"\",VLOOKUP(B97,'S5'!$B$23:$Z$57,25,FALSE))","v":""},null,"Note",null,null,null,null,{"$f":"IF('S5'!$Q$18=\"\",\"\",\"erreicht\")","v":""},null,null,{"$f":"IF(VLOOKUP(U97,'S5'!$B$23:$Z$57,16,FALSE)=\"\",\"\",VLOOKUP(U97,'S5'!$B$23:$Z$57,16,FALSE))","v":""},{"$f":"IF(VLOOKUP(U97,'S5'!$B$23:$Z$57,17,FALSE)=\"\",\"\",VLOOKUP(U97,'S5'!$B$23:$Z$57,17,FALSE))","v":""},{"$f":"IF(VLOOKUP(U97,'S5'!$B$23:$Z$57,18,FALSE)=\"\",\"\",VLOOKUP(U97,'S5'!$B$23:$Z$57,18,FALSE))","v":""},{"$f":"IF(VLOOKUP(U97,'S5'!$B$23:$Z$57,19,FALSE)=\"\",\"\",VLOOKUP(U97,'S5'!$B$23:$Z$57,19,FALSE))","v":""},{"$f":"IF(VLOOKUP(U97,'S5'!$B$23:$Z$57,20,FALSE)=\"\",\"\",VLOOKUP(U97,'S5'!$B$23:$Z$57,20,FALSE))","v":""},{"$f":"IF(VLOOKUP(U97,'S5'!$B$23:$Z$57,21,FALSE)=\"\",\"\",VLOOKUP(U97,'S5'!$B$23:$Z$57,21,FALSE))","v":""},{"$f":"IF(VLOOKUP(U97,'S5'!$B$23:$Z$57,22,FALSE)=\"\",\"\",VLOOKUP(U97,'S5'!$B$23:$Z$57,22,FALSE))","v":""},{"$f":"IF(VLOOKUP(U97,'S5'!$B$23:$Z$57,23,FALSE)=\"\",\"\",VLOOKUP(U97,'S5'!$B$23:$Z$57,23,FALSE))","v":""},{"$f":"IF(VLOOKUP(U97,'S5'!$B$23:$Z$57,24,FALSE)=\"\",\"\",VLOOKUP(U97,'S5'!$B$23:$Z$57,24,FALSE))","v":""},{"$f":"IF(VLOOKUP(U97,'S5'!$B$23:$Z$57,25,FALSE)=\"\",\"\",VLOOKUP(U97,'S5'!$B$23:$Z$57,25,FALSE))","v":""},null,"Note"]
[null,{"$f":"IF('S5'!$Q$18=\"\",\"\",\"von\")","v":""},null,null,{"$f":"IF('S5'!$Q$21=\"\",\"\",'S5'!$Q$21)","v":""},{"$f":"IF('S5'!$R$21=\"\",\"\",'S5'!$R$21)","v":""},{"$f":"IF('S5'!$S$21=\"\",\"\",'S5'!$S$21)","v":""},{"$f":"IF('S5'!$T$21=\"\",\"\",'S5'!$T$21)","v":""},{"$f":"IF('S5'!$U$21=\"\",\"\",'S5'!$U$21)","v":""},{"$f":"IF('S5'!$V$21=\"\",\"\",'S5'!$V$21)","v":""},{"$f":"IF('S5'!$W$21=\"\",\"\",'S5'!$W$21)","v":""},{"$f":"IF('S5'!$X$21=\"\",\"\",'S5'!$X$21)","v":""},{"$f":"IF('S5'!$Y$21=\"\",\"\",'S5'!$Y$21)","v":""},{"$f":"IF('S5'!$Z$21=\"\",\"\",'S5'!$Z$21)","v":""},null,{"$f":"IF(VLOOKUP(B97,'S5'!$B$23:$Z$57,2,FALSE)=\"\",\"\",CONCATENATE(VLOOKUP(B97,'S5'!$B$23:$Z$57,2,FALSE),\" \",VLOOKUP(B97,'S5'!$B$23:$Z$57,3,FALSE)))","v":"- "},null,null,null,null,{"$f":"IF('S5'!$Q$18=\"\",\"\",\"von\")","v":""},null,null,{"$f":"IF('S5'!$Q$21=\"\",\"\",'S5'!$Q$21)","v":""},{"$f":"IF('S5'!$R$21=\"\",\"\",'S5'!$R$21)","v":""},{"$f":"IF('S5'!$S$21=\"\",\"\",'S5'!$S$21)","v":""},{"$f":"IF('S5'!$T$21=\"\",\"\",'S5'!$T$21)","v":""},{"$f":"IF('S5'!$U$21=\"\",\"\",'S5'!$U$21)","v":""},{"$f":"IF('S5'!$V$21=\"\",\"\",'S5'!$V$21)","v":""},{"$f":"IF('S5'!$W$21=\"\",\"\",'S5'!$W$21)","v":""},{"$f":"IF('S5'!$X$21=\"\",\"\",'S5'!$X$21)","v":""},{"$f":"IF('S5'!$Y$21=\"\",\"\",'S5'!$Y$21)","v":""},{"$f":"IF('S5'!$Z$21=\"\",\"\",'S5'!$Z$21)","v":""},null,{"$f":"IF(VLOOKUP(U97,'S5'!$B$23:$Z$57,2,FALSE)=\"\",\"\",CONCATENATE(VLOOKUP(U97,'S5'!$B$23:$Z$57,2,FALSE),\" \",VLOOKUP(U97,'S5'!$B$23:$Z$57,3,FALSE)))","v":"- "}]
[]
[]
[]
[null,{"$f":"'S5'!$B$41","v":""},null,null,null,null,null,null,null,null,null,null,null,null,null,null,null,null,null,null,{"$f":"'S5'!$B$42","v":""}]
[null,null,null,null,null,null,null,null,null,null,null,null,null,null,null,"Summe",null,null,null,null,null,null,null,null,null,null,null,null,null,null,null,null,null,null,"Summe"]
[null,"Aufgabe",null,null,{"$f":"IF('S5'!$G$18=\"\",\"\",'S5'!$G$18)","v":1},{"$f":"IF('S5'!$H$18=\"\",\"\",'S5'!$H$18)","v":2},{"$f":"IF('S5'!$I$18=\"\",\"\",'S5'!$I$18)","v":3},{"$f":"IF('S5'!$J$18=\"\",\"\",'S5'!$J$18)","v":""},{"$f":"IF('S5'!$K$18=\"\",\"\",'S5'!$K$18)","v":""},{"$f":"IF('S5'!$L$18=\"\",\"\",'S5'!$L$18)","v":""},{"$f":"IF('S5'!$M$18=\"\",\"\",'S5'!$M$18)","v":""},{"$f":"IF('S5'!$N$18=\"\",\"\",'S5'!$N$18)","v":""},{"$f":"IF('S5'!$O$18=\"\",\"\",'S5'!$O$18)","v":""},{"$f":"IF('S5'!$P$18=\"\",\"\",'S5'!$P$18)","v":""},null,{"$f":"IF(VLOOKUP(B109,'S5'!$B$23:$Z$57,5,FALSE)=\"\",\"\",VLOOKUP(B109,'S5'!$B$23:$Z$57,5,FALSE))","v":0},null,null,null,null,"Aufgabe",null,null,{"$f":"IF('S5'!$G$18=\"\",\"\",'S5'!$G$18)","v":1},{"$f":"IF('S5'!$H$18=\"\",\"\",'S5'!$H$18)","v":2},{"$f":"IF('S5'!$I$18=\"\",\"\",'S5'!$I$18)","v":3},{"$f":"IF('S5'!$J$18=\"\",\"\",'S5'!$J$18)","v":""},{"$f":"IF('S5'!$K$18=\"\",\"\",'S5'!$K$18)","v":""},{"$f":"IF('S5'!$L$18=\"\",\"\",'S5'!$L$18)","v":""},{"$f":"IF('S5'!$M$18=\"\",\"\",'S5'!$M$18)","v":""},{"$f":"IF('S5'!$N$18=\"\",\"\",'S5'!$N$18)","v":""},{"$f":"IF('S5'!$O$18=\"\",\"\",'S5'!$O$18)","v":""},{"$f":"IF('S5'!$P$18=\"\",\"\",'S5'!$P$18)","v":""},null,{"$f":"IF(VLOOKUP(U109,'S5'!$B$23:$Z$57,5,FALSE)=\"\",\"\",VLOOKUP(U109,'S5'!$B$23:$Z$57,5,FALSE))","v":0}]
[null,"erreicht",null,null,{"$f":"IF(VLOOKUP(B109,'S5'!$B$23:$Z$57,6,FALSE)=\"\",\"\",VLOOKUP(B109,'S5'!$B$23:$Z$57,6,FALSE))","v":"."},{"$f":"IF(VLOOKUP(B109,'S5'!$B$23:$Z$57,7,FALSE)=\"\",\"\",VLOOKUP(B109,'S5'!$B$23:$Z$57,7,FALSE))","v":""},{"$f":"IF(VLOOKUP(B109,'S5'!$B$23:$Z$57,8,FALSE)=\"\",\"\",VLOOKUP(B109,'S5'!$B$23:$Z$57,8,FALSE))","v":""},{"$f":"IF(VLOOKUP(B109,'S5'!$B$23:$Z$57,9,FALSE)=\"\",\"\",VLOOKUP(B109,'S5'!$B$23:$Z$57,9,FALSE))","v":""},{"$f":"IF(VLOOKUP(B109,'S5'!$B$23:$Z$57,10,FALSE)=\"\",\"\",VLOOKUP(B109,'S5'!$B$23:$Z$57,10,FALSE))","v":""},{"$f":"IF(VLOOKUP(B109,'S5'!$B$23:$Z$57,11,FALSE)=\"\",\"\",VLOOKUP(B109,'S5'!$B$23:$Z$57,11,FALSE))","v":""},{"$f":"IF(VLOOKUP(B109,'S5'!$B$23:$Z$57,12,FALSE)=\"\",\"\",VLOOKUP(B109,'S5'!$B$23:$Z$57,12,FALSE))","v":""},{"$f":"IF(VLOOKUP(B109,'S5'!$B$23:$Z$57,13,FALSE)=\"\",\"\",VLOOKUP(B109,'S5'!$B$23:$Z$57,13,FALSE))","v":""},{"$f":"IF(VLOOKUP(B109,'S5'!$B$23:$Z$57,14,FALSE)=\"\",\"\",VLOOKUP(B109,'S5'!$B$23:$Z$57,14,FALSE))","v":""},{"$f":"IF(VLOOKUP(B109,'S5'!$B$23:$Z$57,15,FALSE)=\"\",\"\",VLOOKUP(B109,'S5'!$B$23:$Z$57,15,FALSE))","v":""},null,null,null,null,null,null,"erreicht",null,null,{"$f":"IF(VLOOKUP(U109,'S5'!$B$23:$Z$57,6,FALSE)=\"\",\"\",VLOOKUP(U109,'S5'!$B$23:$Z$57,6,FALSE))","v":"."},{"$f":"IF(VLOOKUP(U109,'S5'!$B$23:$Z$57,7,FALSE)=\"\",\"\",VLOOKUP(U109,'S5'!$B$23:$Z$57,7,FALSE))","v":""},{"$f":"IF(VLOOKUP(U109,'S5'!$B$23:$Z$57,8,FALSE)=\"\",\"\",VLOOKUP(U109,'S5'!$B$23:$Z$57,8,FALSE))","v":""},{"$f":"IF(VLOOKUP(U109,'S5'!$B$23:$Z$57,9,FALSE)=\"\",\"\",VLOOKUP(U109,'S5'!$B$23:$Z$57,9,FALSE))","v":""},{"$f":"IF(VLOOKUP(U109,'S5'!$B$23:$Z$57,10,FALSE)=\"\",\"\",VLOOKUP(U109,'S5'!$B$23:$Z$57,10,FALSE))","v":""},{"$f":"IF(VLOOKUP(U109,'S5'!$B$23:$Z$57,11,FALSE)=\"\",\"\",VLOOKUP(U109,'S5'!$B$23:$Z$57,11,FALSE))","v":""},{"$f":"IF(VLOOKUP(U109,'S5'!$B$23:$Z$57,12,FALSE)=\"\",\"\",VLOOKUP(U109,'S5'!$B$23:$Z$57,12,FALSE))","v":""},{"$f":"IF(VLOOKUP(U109,'S5'!$B$23:$Z$57,13,FALSE)=\"\",\"\",VLOOKUP(U109,'S5'!$B$23:$Z$57,13,FALSE))","v":""},{"$f":"IF(VLOOKUP(U109,'S5'!$B$23:$Z$57,14,FALSE)=\"\",\"\",VLOOKUP(U109,'S5'!$B$23:$Z$57,14,FALSE))","v":""},{"$f":"IF(VLOOKUP(U109,'S5'!$B$23:$Z$57,15,FALSE)=\"\",\"\",VLOOKUP(U109,'S5'!$B$23:$Z$57,15,FALSE))","v":""}]
[null,"von",null,null,{"$f":"IF('S5'!$G$21=\"\",\"\",'S5'!$G$21)","v":""},{"$f":"IF('S5'!$H$21=\"\",\"\",'S5'!$H$21)","v":""},{"$f":"IF('S5'!$I$21=\"\",\"\",'S5'!$I$21)","v":""},{"$f":"IF('S5'!$J$21=\"\",\"\",'S5'!$J$21)","v":""},{"$f":"IF('S5'!$K$21=\"\",\"\",'S5'!$K$21)","v":""},{"$f":"IF('S5'!$L$21=\"\",\"\",'S5'!$L$21)","v":""},{"$f":"IF('S5'!$M$21=\"\",\"\",'S5'!$M$21)","v":""},{"$f":"IF('S5'!$N$21=\"\",\"\",'S5'!$N$21)","v":""},{"$f":"IF('S5'!$O$21=\"\",\"\",'S5'!$O$21)","v":""},{"$f":"IF('S5'!$P$21=\"\",\"\",'S5'!$P$21)","v":""},null,"von",null,null,null,null,"von",null,null,{"$f":"IF('S5'!$G$21=\"\",\"\",'S5'!$G$21)","v":""},{"$f":"IF('S5'!$H$21=\"\",\"\",'S5'!$H$21)","v":""},{"$f":"IF('S5'!$I$21=\"\",\"\",'S5'!$I$21)","v":""},{"$f":"IF('S5'!$J$21=\"\",\"\",'S5'!$J$21)","v":""},{"$f":"IF('S5'!$K$21=\"\",\"\",'S5'!$K$21)","v":""},{"$f":"IF('S5'!$L$21=\"\",\"\",'S5'!$L$21)","v":""},{"$f":"IF('S5'!$M$21=\"\",\"\",'S5'!$M$21)","v":""},{"$f":"IF('S5'!$N$21=\"\",\"\",'S5'!$N$21)","v":""},{"$f":"IF('S5'!$O$21=\"\",\"\",'S5'!$O$21)","v":""},{"$f":"IF('S5'!$P$21=\"\",\"\",'S5'!$P$21)","v":""},null,"von"]
[null,null,null,null,null,null,null,null,null,null,null,null,null,null,null,{"$f":"'S5'!$H$12","v":0},null,null,null,null,null,null,null,null,null,null,null,null,null,null,null,null,null,null,{"$f":"'S5'!$H$12","v":0}]
[null,{"$f":"IF('S5'!$Q$18=\"\",\"\",\"Aufgabe\")","v":""},null,null,{"$f":"IF('S5'!$Q$18=\"\",\"\",'S5'!$Q$18)","v":""},{"$f":"IF('S5'!$R$18=\"\",\"\",'S5'!$R$18)","v":""},{"$f":"IF('S5'!$S$18=\"\",\"\",'S5'!$S$18)","v":""},{"$f":"IF('S5'!$T$18=\"\",\"\",'S5'!$T$18)","v":""},{"$f":"IF('S5'!$U$18=\"\",\"\",'S5'!$U$18)","v":""},{"$f":"IF('S5'!$V$18=\"\",\"\",'S5'!$V$18)","v":""},{"$f":"IF('S5'!$W$18=\"\",\"\",'S5'!$W$18)","v":""},{"$f":"IF('S5'!$X$18=\"\",\"\",'S5'!$X$18)","v":""},{"$f":"IF('S5'!$Y$18=\"\",\"\",'S5'!$Y$18)","v":""},{"$f":"IF('S5'!$Z$18=\"\",\"\",'S5'!$Z$18)","v":""},null,null,null,null,null,null,{"$f":"IF('S5'!$Q$18=\"\",\"\",\"Aufgabe\")","v":""},null,null,{"$f":"IF('S5'!$Q$18=\"\",\"\",'S5'!$Q$18)","v":""},{"$f":"IF('S5'!$R$18=\"\",\"\",'S5'!$R$18)","v":""},{"$f":"IF('S5'!$S$18=\"\",\"\",'S5'!$S$18)","v":""},{"$f":"IF('S5'!$T$18=\"\",\"\",'S5'!$T$18)","v":""},{"$f":"IF('S5'!$U$18=\"\",\"\",'S5'!$U$18)","v":""},{"$f":"IF('S5'!$V$18=\"\",\"\",'S5'!$V$18)","v":""},{"$f":"IF('S5'!$W$18=\"\",\"\",'S5'!$W$18)","v":""},{"$f":"IF('S5'!$X$18=\"\",\"\",'S5'!$X$18)","v":""},{"$f":"IF('S5'!$Y$18=\"\",\"\",'S5'!$Y$18)","v":""},{"$f":"IF('S5'!$Z$18=\"\",\"\",'S5'!$Z$18)","v":""}]
[null,{"$f":"IF('S5'!$Q$18=\"\",\"\",\"erreicht\")","v":""},null,null,{"$f":"IF(VLOOKUP(B109,'S5'!$B$23:$Z$57,16,FALSE)=\"\",\"\",VLOOKUP(B109,'S5'!$B$23:$Z$57,16,FALSE))","v":""},{"$f":"IF(VLOOKUP(B109,'S5'!$B$23:$Z$57,17,FALSE)=\"\",\"\",VLOOKUP(B109,'S5'!$B$23:$Z$57,17,FALSE))","v":""},{"$f":"IF(VLOOKUP(B109,'S5'!$B$23:$Z$57,18,FALSE)=\"\",\"\",VLOOKUP(B109,'S5'!$B$23:$Z$57,18,FALSE))","v":""},{"$f":"IF(VLOOKUP(B109,'S5'!$B$23:$Z$57,19,FALSE)=\"\",\"\",VLOOKUP(B109,'S5'!$B$23:$Z$57,19,FALSE))","v":""},{"$f":"IF(VLOOKUP(B109,'S5'!$B$23:$Z$57,20,FALSE)=\"\",\"\",VLOOKUP(B109,'S5'!$B$23:$Z$57,20,FALSE))","v":""},{"$f":"IF(VLOOKUP(B109,'S5'!$B$23:$Z$57,21,FALSE)=\"\",\"\",VLOOKUP(B109,'S5'!$B$23:$Z$57,21,FALSE))","v":""},{"$f":"IF(VLOOKUP(B109,'S5'!$B$23:$Z$57,22,FALSE)=\"\",\"\",VLOOKUP(B109,'S5'!$B$23:$Z$57,22,FALSE))","v":""},{"$f":"IF(VLOOKUP(B109,'S5'!$B$23:$Z$57,23,FALSE)=\"\",\"\",VLOOKUP(B109,'S5'!$B$23:$Z$57,23,FALSE))","v":""},{"$f":"IF(VLOOKUP(B109,'S5'!$B$23:$Z$57,24,FALSE)=\"\",\"\",VLOOKUP(B109,'S5'!$B$23:$Z$57,24,FALSE))","v":""},{"$f":"IF(VLOOKUP(B109,'S5'!$B$23:$Z$57,25,FALSE)=\"\",\"\",VLOOKUP(B109,'S5'!$B$23:$Z$57,25,FALSE))","v":""},null,"Note",null,null,null,null,{"$f":"IF('S5'!$Q$18=\"\",\"\",\"erreicht\")","v":""},null,null,{"$f":"IF(VLOOKUP(U109,'S5'!$B$23:$Z$57,16,FALSE)=\"\",\"\",VLOOKUP(U109,'S5'!$B$23:$Z$57,16,FALSE))","v":""},{"$f":"IF(VLOOKUP(U109,'S5'!$B$23:$Z$57,17,FALSE)=\"\",\"\",VLOOKUP(U109,'S5'!$B$23:$Z$57,17,FALSE))","v":""},{"$f":"IF(VLOOKUP(U109,'S5'!$B$23:$Z$57,18,FALSE)=\"\",\"\",VLOOKUP(U109,'S5'!$B$23:$Z$57,18,FALSE))","v":""},{"$f":"IF(VLOOKUP(U109,'S5'!$B$23:$Z$57,19,FALSE)=\"\",\"\",VLOOKUP(U109,'S5'!$B$23:$Z$57,19,FALSE))","v":""},{"$f":"IF(VLOOKUP(U109,'S5'!$B$23:$Z$57,20,FALSE)=\"\",\"\",VLOOKUP(U109,'S5'!$B$23:$Z$57,20,FALSE))","v":""},{"$f":"IF(VLOOKUP(U109,'S5'!$B$23:$Z$57,21,FALSE)=\"\",\"\",VLOOKUP(U109,'S5'!$B$23:$Z$57,21,FALSE))","v":""},{"$f":"IF(VLOOKUP(U109,'S5'!$B$23:$Z$57,22,FALSE)=\"\",\"\",VLOOKUP(U109,'S5'!$B$23:$Z$57,22,FALSE))","v":""},{"$f":"IF(VLOOKUP(U109,'S5'!$B$23:$Z$57,23,FALSE)=\"\",\"\",VLOOKUP(U109,'S5'!$B$23:$Z$57,23,FALSE))","v":""},{"$f":"IF(VLOOKUP(U109,'S5'!$B$23:$Z$57,24,FALSE)=\"\",\"\",VLOOKUP(U109,'S5'!$B$23:$Z$57,24,FALSE))","v":""},{"$f":"IF(VLOOKUP(U109,'S5'!$B$23:$Z$57,25,FALSE)=\"\",\"\",VLOOKUP(U109,'S5'!$B$23:$Z$57,25,FALSE))","v":""},null,"Note"]
[null,{"$f":"IF('S5'!$Q$18=\"\",\"\",\"von\")","v":""},null,null,{"$f":"IF('S5'!$Q$21=\"\",\"\",'S5'!$Q$21)","v":""},{"$f":"IF('S5'!$R$21=\"\",\"\",'S5'!$R$21)","v":""},{"$f":"IF('S5'!$S$21=\"\",\"\",'S5'!$S$21)","v":""},{"$f":"IF('S5'!$T$21=\"\",\"\",'S5'!$T$21)","v":""},{"$f":"IF('S5'!$U$21=\"\",\"\",'S5'!$U$21)","v":""},{"$f":"IF('S5'!$V$21=\"\",\"\",'S5'!$V$21)","v":""},{"$f":"IF('S5'!$W$21=\"\",\"\",'S5'!$W$21)","v":""},{"$f":"IF('S5'!$X$21=\"\",\"\",'S5'!$X$21)","v":""},{"$f":"IF('S5'!$Y$21=\"\",\"\",'S5'!$Y$21)","v":""},{"$f":"IF('S5'!$Z$21=\"\",\"\",'S5'!$Z$21)","v":""},null,{"$f":"IF(VLOOKUP(B109,'S5'!$B$23:$Z$57,2,FALSE)=\"\",\"\",CONCATENATE(VLOOKUP(B109,'S5'!$B$23:$Z$57,2,FALSE),\" \",VLOOKUP(B109,'S5'!$B$23:$Z$57,3,FALSE)))","v":"- "},null,null,null,null,{"$f":"IF('S5'!$Q$18=\"\",\"\",\"von\")","v":""},null,null,{"$f":"IF('S5'!$Q$21=\"\",\"\",'S5'!$Q$21)","v":""},{"$f":"IF('S5'!$R$21=\"\",\"\",'S5'!$R$21)","v":""},{"$f":"IF('S5'!$S$21=\"\",\"\",'S5'!$S$21)","v":""},{"$f":"IF('S5'!$T$21=\"\",\"\",'S5'!$T$21)","v":""},{"$f":"IF('S5'!$U$21=\"\",\"\",'S5'!$U$21)","v":""},{"$f":"IF('S5'!$V$21=\"\",\"\",'S5'!$V$21)","v":""},{"$f":"IF('S5'!$W$21=\"\",\"\",'S5'!$W$21)","v":""},{"$f":"IF('S5'!$X$21=\"\",\"\",'S5'!$X$21)","v":""},{"$f":"IF('S5'!$Y$21=\"\",\"\",'S5'!$Y$21)","v":""},{"$f":"IF('S5'!$Z$21=\"\",\"\",'S5'!$Z$21)","v":""},null,{"$f":"IF(VLOOKUP(U109,'S5'!$B$23:$Z$57,2,FALSE)=\"\",\"\",CONCATENATE(VLOOKUP(U109,'S5'!$B$23:$Z$57,2,FALSE),\" \",VLOOKUP(U109,'S5'!$B$23:$Z$57,3,FALSE)))","v":"- "}]
[]
[]
[]
[null,{"$f":"'S5'!$B$43","v":""},null,null,null,null,null,null,null,null,null,null,null,null,null,null,null,null,null,null,{"$f":"'S5'!$B$44","v":""}]
[null,null,null,null,null,null,null,null,null,null,null,null,null,null,null,"Summe",null,null,null,null,null,null,null,null,null,null,null,null,null,null,null,null,null,null,"Summe"]
[null,"Aufgabe",null,null,{"$f":"IF('S5'!$G$18=\"\",\"\",'S5'!$G$18)","v":1},{"$f":"IF('S5'!$H$18=\"\",\"\",'S5'!$H$18)","v":2},{"$f":"IF('S5'!$I$18=\"\",\"\",'S5'!$I$18)","v":3},{"$f":"IF('S5'!$J$18=\"\",\"\",'S5'!$J$18)","v":""},{"$f":"IF('S5'!$K$18=\"\",\"\",'S5'!$K$18)","v":""},{"$f":"IF('S5'!$L$18=\"\",\"\",'S5'!$L$18)","v":""},{"$f":"IF('S5'!$M$18=\"\",\"\",'S5'!$M$18)","v":""},{"$f":"IF('S5'!$N$18=\"\",\"\",'S5'!$N$18)","v":""},{"$f":"IF('S5'!$O$18=\"\",\"\",'S5'!$O$18)","v":""},{"$f":"IF('S5'!$P$18=\"\",\"\",'S5'!$P$18)","v":""},null,{"$f":"IF(VLOOKUP(B121,'S5'!$B$23:$Z$57,5,FALSE)=\"\",\"\",VLOOKUP(B121,'S5'!$B$23:$Z$57,5,FALSE))","v":0},null,null,null,null,"Aufgabe",null,null,{"$f":"IF('S5'!$G$18=\"\",\"\",'S5'!$G$18)","v":1},{"$f":"IF('S5'!$H$18=\"\",\"\",'S5'!$H$18)","v":2},{"$f":"IF('S5'!$I$18=\"\",\"\",'S5'!$I$18)","v":3},{"$f":"IF('S5'!$J$18=\"\",\"\",'S5'!$J$18)","v":""},{"$f":"IF('S5'!$K$18=\"\",\"\",'S5'!$K$18)","v":""},{"$f":"IF('S5'!$L$18=\"\",\"\",'S5'!$L$18)","v":""},{"$f":"IF('S5'!$M$18=\"\",\"\",'S5'!$M$18)","v":""},{"$f":"IF('S5'!$N$18=\"\",\"\",'S5'!$N$18)","v":""},{"$f":"IF('S5'!$O$18=\"\",\"\",'S5'!$O$18)","v":""},{"$f":"IF('S5'!$P$18=\"\",\"\",'S5'!$P$18)","v":""},null,{"$f":"IF(VLOOKUP(U121,'S5'!$B$23:$Z$57,5,FALSE)=\"\",\"\",VLOOKUP(U121,'S5'!$B$23:$Z$57,5,FALSE))","v":0}]
[null,"erreicht",null,null,{"$f":"IF(VLOOKUP(B121,'S5'!$B$23:$Z$57,6,FALSE)=\"\",\"\",VLOOKUP(B121,'S5'!$B$23:$Z$57,6,FALSE))","v":"."},{"$f":"IF(VLOOKUP(B121,'S5'!$B$23:$Z$57,7,FALSE)=\"\",\"\",VLOOKUP(B121,'S5'!$B$23:$Z$57,7,FALSE))","v":""},{"$f":"IF(VLOOKUP(B121,'S5'!$B$23:$Z$57,8,FALSE)=\"\",\"\",VLOOKUP(B121,'S5'!$B$23:$Z$57,8,FALSE))","v":""},{"$f":"IF(VLOOKUP(B121,'S5'!$B$23:$Z$57,9,FALSE)=\"\",\"\",VLOOKUP(B121,'S5'!$B$23:$Z$57,9,FALSE))","v":""},{"$f":"IF(VLOOKUP(B121,'S5'!$B$23:$Z$57,10,FALSE)=\"\",\"\",VLOOKUP(B121,'S5'!$B$23:$Z$57,10,FALSE))","v":""},{"$f":"IF(VLOOKUP(B121,'S5'!$B$23:$Z$57,11,FALSE)=\"\",\"\",VLOOKUP(B121,'S5'!$B$23:$Z$57,11,FALSE))","v":""},{"$f":"IF(VLOOKUP(B121,'S5'!$B$23:$Z$57,12,FALSE)=\"\",\"\",VLOOKUP(B121,'S5'!$B$23:$Z$57,12,FALSE))","v":""},{"$f":"IF(VLOOKUP(B121,'S5'!$B$23:$Z$57,13,FALSE)=\"\",\"\",VLOOKUP(B121,'S5'!$B$23:$Z$57,13,FALSE))","v":""},{"$f":"IF(VLOOKUP(B121,'S5'!$B$23:$Z$57,14,FALSE)=\"\",\"\",VLOOKUP(B121,'S5'!$B$23:$Z$57,14,FALSE))","v":""},{"$f":"IF(VLOOKUP(B121,'S5'!$B$23:$Z$57,15,FALSE)=\"\",\"\",VLOOKUP(B121,'S5'!$B$23:$Z$57,15,FALSE))","v":""},null,null,null,null,null,null,"erreicht",null,null,{"$f":"IF(VLOOKUP(U121,'S5'!$B$23:$Z$57,6,FALSE)=\"\",\"\",VLOOKUP(U121,'S5'!$B$23:$Z$57,6,FALSE))","v":"."},{"$f":"IF(VLOOKUP(U121,'S5'!$B$23:$Z$57,7,FALSE)=\"\",\"\",VLOOKUP(U121,'S5'!$B$23:$Z$57,7,FALSE))","v":""},{"$f":"IF(VLOOKUP(U121,'S5'!$B$23:$Z$57,8,FALSE)=\"\",\"\",VLOOKUP(U121,'S5'!$B$23:$Z$57,8,FALSE))","v":""},{"$f":"IF(VLOOKUP(U121,'S5'!$B$23:$Z$57,9,FALSE)=\"\",\"\",VLOOKUP(U121,'S5'!$B$23:$Z$57,9,FALSE))","v":""},{"$f":"IF(VLOOKUP(U121,'S5'!$B$23:$Z$57,10,FALSE)=\"\",\"\",VLOOKUP(U121,'S5'!$B$23:$Z$57,10,FALSE))","v":""},{"$f":"IF(VLOOKUP(U121,'S5'!$B$23:$Z$57,11,FALSE)=\"\",\"\",VLOOKUP(U121,'S5'!$B$23:$Z$57,11,FALSE))","v":""},{"$f":"IF(VLOOKUP(U121,'S5'!$B$23:$Z$57,12,FALSE)=\"\",\"\",VLOOKUP(U121,'S5'!$B$23:$Z$57,12,FALSE))","v":""},{"$f":"IF(VLOOKUP(U121,'S5'!$B$23:$Z$57,13,FALSE)=\"\",\"\",VLOOKUP(U121,'S5'!$B$23:$Z$57,13,FALSE))","v":""},{"$f":"IF(VLOOKUP(U121,'S5'!$B$23:$Z$57,14,FALSE)=\"\",\"\",VLOOKUP(U121,'S5'!$B$23:$Z$57,14,FALSE))","v":""},{"$f":"IF(VLOOKUP(U121,'S5'!$B$23:$Z$57,15,FALSE)=\"\",\"\",VLOOKUP(U121,'S5'!$B$23:$Z$57,15,FALSE))","v":""}]
[null,"von",null,null,{"$f":"IF('S5'!$G$21=\"\",\"\",'S5'!$G$21)","v":""},{"$f":"IF('S5'!$H$21=\"\",\"\",'S5'!$H$21)","v":""},{"$f":"IF('S5'!$I$21=\"\",\"\",'S5'!$I$21)","v":""},{"$f":"IF('S5'!$J$21=\"\",\"\",'S5'!$J$21)","v":""},{"$f":"IF('S5'!$K$21=\"\",\"\",'S5'!$K$21)","v":""},{"$f":"IF('S5'!$L$21=\"\",\"\",'S5'!$L$21)","v":""},{"$f":"IF('S5'!$M$21=\"\",\"\",'S5'!$M$21)","v":""},{"$f":"IF('S5'!$N$21=\"\",\"\",'S5'!$N$21)","v":""},{"$f":"IF('S5'!$O$21=\"\",\"\",'S5'!$O$21)","v":""},{"$f":"IF('S5'!$P$21=\"\",\"\",'S5'!$P$21)","v":""},null,"von",null,null,null,null,"von",null,null,{"$f":"IF('S5'!$G$21=\"\",\"\",'S5'!$G$21)","v":""},{"$f":"IF('S5'!$H$21=\"\",\"\",'S5'!$H$21)","v":""},{"$f":"IF('S5'!$I$21=\"\",\"\",'S5'!$I$21)","v":""},{"$f":"IF('S5'!$J$21=\"\",\"\",'S5'!$J$21)","v":""},{"$f":"IF('S5'!$K$21=\"\",\"\",'S5'!$K$21)","v":""},{"$f":"IF('S5'!$L$21=\"\",\"\",'S5'!$L$21)","v":""},{"$f":"IF('S5'!$M$21=\"\",\"\",'S5'!$M$21)","v":""},{"$f":"IF('S5'!$N$21=\"\",\"\",'S5'!$N$21)","v":""},{"$f":"IF('S5'!$O$21=\"\",\"\",'S5'!$O$21)","v":""},{"$f":"IF('S5'!$P$21=\"\",\"\",'S5'!$P$21)","v":""},null,"von"]
[null,null,null,null,null,null,null,null,null,null,null,null,null,null,null,{"$f":"'S5'!$H$12","v":0},null,null,null,null,null,null,null,null,null,null,null,null,null,null,null,null,null,null,{"$f":"'S5'!$H$12","v":0}]
[null,{"$f":"IF('S5'!$Q$18=\"\",\"\",\"Aufgabe\")","v":""},null,null,{"$f":"IF('S5'!$Q$18=\"\",\"\",'S5'!$Q$18)","v":""},{"$f":"IF('S5'!$R$18=\"\",\"\",'S5'!$R$18)","v":""},{"$f":"IF('S5'!$S$18=\"\",\"\",'S5'!$S$18)","v":""},{"$f":"IF('S5'!$T$18=\"\",\"\",'S5'!$T$18)","v":""},{"$f":"IF('S5'!$U$18=\"\",\"\",'S5'!$U$18)","v":""},{"$f":"IF('S5'!$V$18=\"\",\"\",'S5'!$V$18)","v":""},{"$f":"IF('S5'!$W$18=\"\",\"\",'S5'!$W$18)","v":""},{"$f":"IF('S5'!$X$18=\"\",\"\",'S5'!$X$18)","v":""},{"$f":"IF('S5'!$Y$18=\"\",\"\",'S5'!$Y$18)","v":""},{"$f":"IF('S5'!$Z$18=\"\",\"\",'S5'!$Z$18)","v":""},null,null,null,null,null,null,{"$f":"IF('S5'!$Q$18=\"\",\"\",\"Aufgabe\")","v":""},null,null,{"$f":"IF('S5'!$Q$18=\"\",\"\",'S5'!$Q$18)","v":""},{"$f":"IF('S5'!$R$18=\"\",\"\",'S5'!$R$18)","v":""},{"$f":"IF('S5'!$S$18=\"\",\"\",'S5'!$S$18)","v":""},{"$f":"IF('S5'!$T$18=\"\",\"\",'S5'!$T$18)","v":""},{"$f":"IF('S5'!$U$18=\"\",\"\",'S5'!$U$18)","v":""},{"$f":"IF('S5'!$V$18=\"\",\"\",'S5'!$V$18)","v":""},{"$f":"IF('S5'!$W$18=\"\",\"\",'S5'!$W$18)","v":""},{"$f":"IF('S5'!$X$18=\"\",\"\",'S5'!$X$18)","v":""},{"$f":"IF('S5'!$Y$18=\"\",\"\",'S5'!$Y$18)","v":""},{"$f":"IF('S5'!$Z$18=\"\",\"\",'S5'!$Z$18)","v":""}]
[null,{"$f":"IF('S5'!$Q$18=\"\",\"\",\"erreicht\")","v":""},null,null,{"$f":"IF(VLOOKUP(B121,'S5'!$B$23:$Z$57,16,FALSE)=\"\",\"\",VLOOKUP(B121,'S5'!$B$23:$Z$57,16,FALSE))","v":""},{"$f":"IF(VLOOKUP(B121,'S5'!$B$23:$Z$57,17,FALSE)=\"\",\"\",VLOOKUP(B121,'S5'!$B$23:$Z$57,17,FALSE))","v":""},{"$f":"IF(VLOOKUP(B121,'S5'!$B$23:$Z$57,18,FALSE)=\"\",\"\",VLOOKUP(B121,'S5'!$B$23:$Z$57,18,FALSE))","v":""},{"$f":"IF(VLOOKUP(B121,'S5'!$B$23:$Z$57,19,FALSE)=\"\",\"\",VLOOKUP(B121,'S5'!$B$23:$Z$57,19,FALSE))","v":""},{"$f":"IF(VLOOKUP(B121,'S5'!$B$23:$Z$57,20,FALSE)=\"\",\"\",VLOOKUP(B121,'S5'!$B$23:$Z$57,20,FALSE))","v":""},{"$f":"IF(VLOOKUP(B121,'S5'!$B$23:$Z$57,21,FALSE)=\"\",\"\",VLOOKUP(B121,'S5'!$B$23:$Z$57,21,FALSE))","v":""},{"$f":"IF(VLOOKUP(B121,'S5'!$B$23:$Z$57,22,FALSE)=\"\",\"\",VLOOKUP(B121,'S5'!$B$23:$Z$57,22,FALSE))","v":""},{"$f":"IF(VLOOKUP(B121,'S5'!$B$23:$Z$57,23,FALSE)=\"\",\"\",VLOOKUP(B121,'S5'!$B$23:$Z$57,23,FALSE))","v":""},{"$f":"IF(VLOOKUP(B121,'S5'!$B$23:$Z$57,24,FALSE)=\"\",\"\",VLOOKUP(B121,'S5'!$B$23:$Z$57,24,FALSE))","v":""},{"$f":"IF(VLOOKUP(B121,'S5'!$B$23:$Z$57,25,FALSE)=\"\",\"\",VLOOKUP(B121,'S5'!$B$23:$Z$57,25,FALSE))","v":""},null,"Note",null,null,null,null,{"$f":"IF('S5'!$Q$18=\"\",\"\",\"erreicht\")","v":""},null,null,{"$f":"IF(VLOOKUP(U121,'S5'!$B$23:$Z$57,16,FALSE)=\"\",\"\",VLOOKUP(U121,'S5'!$B$23:$Z$57,16,FALSE))","v":""},{"$f":"IF(VLOOKUP(U121,'S5'!$B$23:$Z$57,17,FALSE)=\"\",\"\",VLOOKUP(U121,'S5'!$B$23:$Z$57,17,FALSE))","v":""},{"$f":"IF(VLOOKUP(U121,'S5'!$B$23:$Z$57,18,FALSE)=\"\",\"\",VLOOKUP(U121,'S5'!$B$23:$Z$57,18,FALSE))","v":""},{"$f":"IF(VLOOKUP(U121,'S5'!$B$23:$Z$57,19,FALSE)=\"\",\"\",VLOOKUP(U121,'S5'!$B$23:$Z$57,19,FALSE))","v":""},{"$f":"IF(VLOOKUP(U121,'S5'!$B$23:$Z$57,20,FALSE)=\"\",\"\",VLOOKUP(U121,'S5'!$B$23:$Z$57,20,FALSE))","v":""},{"$f":"IF(VLOOKUP(U121,'S5'!$B$23:$Z$57,21,FALSE)=\"\",\"\",VLOOKUP(U121,'S5'!$B$23:$Z$57,21,FALSE))","v":""},{"$f":"IF(VLOOKUP(U121,'S5'!$B$23:$Z$57,22,FALSE)=\"\",\"\",VLOOKUP(U121,'S5'!$B$23:$Z$57,22,FALSE))","v":""},{"$f":"IF(VLOOKUP(U121,'S5'!$B$23:$Z$57,23,FALSE)=\"\",\"\",VLOOKUP(U121,'S5'!$B$23:$Z$57,23,FALSE))","v":""},{"$f":"IF(VLOOKUP(U121,'S5'!$B$23:$Z$57,24,FALSE)=\"\",\"\",VLOOKUP(U121,'S5'!$B$23:$Z$57,24,FALSE))","v":""},{"$f":"IF(VLOOKUP(U121,'S5'!$B$23:$Z$57,25,FALSE)=\"\",\"\",VLOOKUP(U121,'S5'!$B$23:$Z$57,25,FALSE))","v":""},null,"Note"]
[null,{"$f":"IF('S5'!$Q$18=\"\",\"\",\"von\")","v":""},null,null,{"$f":"IF('S5'!$Q$21=\"\",\"\",'S5'!$Q$21)","v":""},{"$f":"IF('S5'!$R$21=\"\",\"\",'S5'!$R$21)","v":""},{"$f":"IF('S5'!$S$21=\"\",\"\",'S5'!$S$21)","v":""},{"$f":"IF('S5'!$T$21=\"\",\"\",'S5'!$T$21)","v":""},{"$f":"IF('S5'!$U$21=\"\",\"\",'S5'!$U$21)","v":""},{"$f":"IF('S5'!$V$21=\"\",\"\",'S5'!$V$21)","v":""},{"$f":"IF('S5'!$W$21=\"\",\"\",'S5'!$W$21)","v":""},{"$f":"IF('S5'!$X$21=\"\",\"\",'S5'!$X$21)","v":""},{"$f":"IF('S5'!$Y$21=\"\",\"\",'S5'!$Y$21)","v":""},{"$f":"IF('S5'!$Z$21=\"\",\"\",'S5'!$Z$21)","v":""},null,{"$f":"IF(VLOOKUP(B121,'S5'!$B$23:$Z$57,2,FALSE)=\"\",\"\",CONCATENATE(VLOOKUP(B121,'S5'!$B$23:$Z$57,2,FALSE),\" \",VLOOKUP(B121,'S5'!$B$23:$Z$57,3,FALSE)))","v":"- "},null,null,null,null,{"$f":"IF('S5'!$Q$18=\"\",\"\",\"von\")","v":""},null,null,{"$f":"IF('S5'!$Q$21=\"\",\"\",'S5'!$Q$21)","v":""},{"$f":"IF('S5'!$R$21=\"\",\"\",'S5'!$R$21)","v":""},{"$f":"IF('S5'!$S$21=\"\",\"\",'S5'!$S$21)","v":""},{"$f":"IF('S5'!$T$21=\"\",\"\",'S5'!$T$21)","v":""},{"$f":"IF('S5'!$U$21=\"\",\"\",'S5'!$U$21)","v":""},{"$f":"IF('S5'!$V$21=\"\",\"\",'S5'!$V$21)","v":""},{"$f":"IF('S5'!$W$21=\"\",\"\",'S5'!$W$21)","v":""},{"$f":"IF('S5'!$X$21=\"\",\"\",'S5'!$X$21)","v":""},{"$f":"IF('S5'!$Y$21=\"\",\"\",'S5'!$Y$21)","v":""},{"$f":"IF('S5'!$Z$21=\"\",\"\",'S5'!$Z$21)","v":""},null,{"$f":"IF(VLOOKUP(U121,'S5'!$B$23:$Z$57,2,FALSE)=\"\",\"\",CONCATENATE(VLOOKUP(U121,'S5'!$B$23:$Z$57,2,FALSE),\" \",VLOOKUP(U121,'S5'!$B$23:$Z$57,3,FALSE)))","v":"- "}]
[]
[]
[]
[null,{"$f":"'S5'!$B$45","v":""},null,null,null,null,null,null,null,null,null,null,null,null,null,null,null,null,null,null,{"$f":"'S5'!$B$46","v":""}]
[null,null,null,null,null,null,null,null,null,null,null,null,null,null,null,"Summe",null,null,null,null,null,null,null,null,null,null,null,null,null,null,null,null,null,null,"Summe"]
[null,"Aufgabe",null,null,{"$f":"IF('S5'!$G$18=\"\",\"\",'S5'!$G$18)","v":1},{"$f":"IF('S5'!$H$18=\"\",\"\",'S5'!$H$18)","v":2},{"$f":"IF('S5'!$I$18=\"\",\"\",'S5'!$I$18)","v":3},{"$f":"IF('S5'!$J$18=\"\",\"\",'S5'!$J$18)","v":""},{"$f":"IF('S5'!$K$18=\"\",\"\",'S5'!$K$18)","v":""},{"$f":"IF('S5'!$L$18=\"\",\"\",'S5'!$L$18)","v":""},{"$f":"IF('S5'!$M$18=\"\",\"\",'S5'!$M$18)","v":""},{"$f":"IF('S5'!$N$18=\"\",\"\",'S5'!$N$18)","v":""},{"$f":"IF('S5'!$O$18=\"\",\"\",'S5'!$O$18)","v":""},{"$f":"IF('S5'!$P$18=\"\",\"\",'S5'!$P$18)","v":""},null,{"$f":"IF(VLOOKUP(B133,'S5'!$B$23:$Z$57,5,FALSE)=\"\",\"\",VLOOKUP(B133,'S5'!$B$23:$Z$57,5,FALSE))","v":0},null,null,null,null,"Aufgabe",null,null,{"$f":"IF('S5'!$G$18=\"\",\"\",'S5'!$G$18)","v":1},{"$f":"IF('S5'!$H$18=\"\",\"\",'S5'!$H$18)","v":2},{"$f":"IF('S5'!$I$18=\"\",\"\",'S5'!$I$18)","v":3},{"$f":"IF('S5'!$J$18=\"\",\"\",'S5'!$J$18)","v":""},{"$f":"IF('S5'!$K$18=\"\",\"\",'S5'!$K$18)","v":""},{"$f":"IF('S5'!$L$18=\"\",\"\",'S5'!$L$18)","v":""},{"$f":"IF('S5'!$M$18=\"\",\"\",'S5'!$M$18)","v":""},{"$f":"IF('S5'!$N$18=\"\",\"\",'S5'!$N$18)","v":""},{"$f":"IF('S5'!$O$18=\"\",\"\",'S5'!$O$18)","v":""},{"$f":"IF('S5'!$P$18=\"\",\"\",'S5'!$P$18)","v":""},null,{"$f":"IF(VLOOKUP(U133,'S5'!$B$23:$Z$57,5,FALSE)=\"\",\"\",VLOOKUP(U133,'S5'!$B$23:$Z$57,5,FALSE))","v":0}]
[null,"erreicht",null,null,{"$f":"IF(VLOOKUP(B133,'S5'!$B$23:$Z$57,6,FALSE)=\"\",\"\",VLOOKUP(B133,'S5'!$B$23:$Z$57,6,FALSE))","v":"."},{"$f":"IF(VLOOKUP(B133,'S5'!$B$23:$Z$57,7,FALSE)=\"\",\"\",VLOOKUP(B133,'S5'!$B$23:$Z$57,7,FALSE))","v":""},{"$f":"IF(VLOOKUP(B133,'S5'!$B$23:$Z$57,8,FALSE)=\"\",\"\",VLOOKUP(B133,'S5'!$B$23:$Z$57,8,FALSE))","v":""},{"$f":"IF(VLOOKUP(B133,'S5'!$B$23:$Z$57,9,FALSE)=\"\",\"\",VLOOKUP(B133,'S5'!$B$23:$Z$57,9,FALSE))","v":""},{"$f":"IF(VLOOKUP(B133,'S5'!$B$23:$Z$57,10,FALSE)=\"\",\"\",VLOOKUP(B133,'S5'!$B$23:$Z$57,10,FALSE))","v":""},{"$f":"IF(VLOOKUP(B133,'S5'!$B$23:$Z$57,11,FALSE)=\"\",\"\",VLOOKUP(B133,'S5'!$B$23:$Z$57,11,FALSE))","v":""},{"$f":"IF(VLOOKUP(B133,'S5'!$B$23:$Z$57,12,FALSE)=\"\",\"\",VLOOKUP(B133,'S5'!$B$23:$Z$57,12,FALSE))","v":""},{"$f":"IF(VLOOKUP(B133,'S5'!$B$23:$Z$57,13,FALSE)=\"\",\"\",VLOOKUP(B133,'S5'!$B$23:$Z$57,13,FALSE))","v":""},{"$f":"IF(VLOOKUP(B133,'S5'!$B$23:$Z$57,14,FALSE)=\"\",\"\",VLOOKUP(B133,'S5'!$B$23:$Z$57,14,FALSE))","v":""},{"$f":"IF(VLOOKUP(B133,'S5'!$B$23:$Z$57,15,FALSE)=\"\",\"\",VLOOKUP(B133,'S5'!$B$23:$Z$57,15,FALSE))","v":""},null,null,null,null,null,null,"erreicht",null,null,{"$f":"IF(VLOOKUP(U133,'S5'!$B$23:$Z$57,6,FALSE)=\"\",\"\",VLOOKUP(U133,'S5'!$B$23:$Z$57,6,FALSE))","v":"."},{"$f":"IF(VLOOKUP(U133,'S5'!$B$23:$Z$57,7,FALSE)=\"\",\"\",VLOOKUP(U133,'S5'!$B$23:$Z$57,7,FALSE))","v":""},{"$f":"IF(VLOOKUP(U133,'S5'!$B$23:$Z$57,8,FALSE)=\"\",\"\",VLOOKUP(U133,'S5'!$B$23:$Z$57,8,FALSE))","v":""},{"$f":"IF(VLOOKUP(U133,'S5'!$B$23:$Z$57,9,FALSE)=\"\",\"\",VLOOKUP(U133,'S5'!$B$23:$Z$57,9,FALSE))","v":""},{"$f":"IF(VLOOKUP(U133,'S5'!$B$23:$Z$57,10,FALSE)=\"\",\"\",VLOOKUP(U133,'S5'!$B$23:$Z$57,10,FALSE))","v":""},{"$f":"IF(VLOOKUP(U133,'S5'!$B$23:$Z$57,11,FALSE)=\"\",\"\",VLOOKUP(U133,'S5'!$B$23:$Z$57,11,FALSE))","v":""},{"$f":"IF(VLOOKUP(U133,'S5'!$B$23:$Z$57,12,FALSE)=\"\",\"\",VLOOKUP(U133,'S5'!$B$23:$Z$57,12,FALSE))","v":""},{"$f":"IF(VLOOKUP(U133,'S5'!$B$23:$Z$57,13,FALSE)=\"\",\"\",VLOOKUP(U133,'S5'!$B$23:$Z$57,13,FALSE))","v":""},{"$f":"IF(VLOOKUP(U133,'S5'!$B$23:$Z$57,14,FALSE)=\"\",\"\",VLOOKUP(U133,'S5'!$B$23:$Z$57,14,FALSE))","v":""},{"$f":"IF(VLOOKUP(U133,'S5'!$B$23:$Z$57,15,FALSE)=\"\",\"\",VLOOKUP(U133,'S5'!$B$23:$Z$57,15,FALSE))","v":""}]
[null,"von",null,null,{"$f":"IF('S5'!$G$21=\"\",\"\",'S5'!$G$21)","v":""},{"$f":"IF('S5'!$H$21=\"\",\"\",'S5'!$H$21)","v":""},{"$f":"IF('S5'!$I$21=\"\",\"\",'S5'!$I$21)","v":""},{"$f":"IF('S5'!$J$21=\"\",\"\",'S5'!$J$21)","v":""},{"$f":"IF('S5'!$K$21=\"\",\"\",'S5'!$K$21)","v":""},{"$f":"IF('S5'!$L$21=\"\",\"\",'S5'!$L$21)","v":""},{"$f":"IF('S5'!$M$21=\"\",\"\",'S5'!$M$21)","v":""},{"$f":"IF('S5'!$N$21=\"\",\"\",'S5'!$N$21)","v":""},{"$f":"IF('S5'!$O$21=\"\",\"\",'S5'!$O$21)","v":""},{"$f":"IF('S5'!$P$21=\"\",\"\",'S5'!$P$21)","v":""},null,"von",null,null,null,null,"von",null,null,{"$f":"IF('S5'!$G$21=\"\",\"\",'S5'!$G$21)","v":""},{"$f":"IF('S5'!$H$21=\"\",\"\",'S5'!$H$21)","v":""},{"$f":"IF('S5'!$I$21=\"\",\"\",'S5'!$I$21)","v":""},{"$f":"IF('S5'!$J$21=\"\",\"\",'S5'!$J$21)","v":""},{"$f":"IF('S5'!$K$21=\"\",\"\",'S5'!$K$21)","v":""},{"$f":"IF('S5'!$L$21=\"\",\"\",'S5'!$L$21)","v":""},{"$f":"IF('S5'!$M$21=\"\",\"\",'S5'!$M$21)","v":""},{"$f":"IF('S5'!$N$21=\"\",\"\",'S5'!$N$21)","v":""},{"$f":"IF('S5'!$O$21=\"\",\"\",'S5'!$O$21)","v":""},{"$f":"IF('S5'!$P$21=\"\",\"\",'S5'!$P$21)","v":""},null,"von"]
[null,null,null,null,null,null,null,null,null,null,null,null,null,null,null,{"$f":"'S5'!$H$12","v":0},null,null,null,null,null,null,null,null,null,null,null,null,null,null,null,null,null,null,{"$f":"'S5'!$H$12","v":0}]
[null,{"$f":"IF('S5'!$Q$18=\"\",\"\",\"Aufgabe\")","v":""},null,null,{"$f":"IF('S5'!$Q$18=\"\",\"\",'S5'!$Q$18)","v":""},{"$f":"IF('S5'!$R$18=\"\",\"\",'S5'!$R$18)","v":""},{"$f":"IF('S5'!$S$18=\"\",\"\",'S5'!$S$18)","v":""},{"$f":"IF('S5'!$T$18=\"\",\"\",'S5'!$T$18)","v":""},{"$f":"IF('S5'!$U$18=\"\",\"\",'S5'!$U$18)","v":""},{"$f":"IF('S5'!$V$18=\"\",\"\",'S5'!$V$18)","v":""},{"$f":"IF('S5'!$W$18=\"\",\"\",'S5'!$W$18)","v":""},{"$f":"IF('S5'!$X$18=\"\",\"\",'S5'!$X$18)","v":""},{"$f":"IF('S5'!$Y$18=\"\",\"\",'S5'!$Y$18)","v":""},{"$f":"IF('S5'!$Z$18=\"\",\"\",'S5'!$Z$18)","v":""},null,null,null,null,null,null,{"$f":"IF('S5'!$Q$18=\"\",\"\",\"Aufgabe\")","v":""},null,null,{"$f":"IF('S5'!$Q$18=\"\",\"\",'S5'!$Q$18)","v":""},{"$f":"IF('S5'!$R$18=\"\",\"\",'S5'!$R$18)","v":""},{"$f":"IF('S5'!$S$18=\"\",\"\",'S5'!$S$18)","v":""},{"$f":"IF('S5'!$T$18=\"\",\"\",'S5'!$T$18)","v":""},{"$f":"IF('S5'!$U$18=\"\",\"\",'S5'!$U$18)","v":""},{"$f":"IF('S5'!$V$18=\"\",\"\",'S5'!$V$18)","v":""},{"$f":"IF('S5'!$W$18=\"\",\"\",'S5'!$W$18)","v":""},{"$f":"IF('S5'!$X$18=\"\",\"\",'S5'!$X$18)","v":""},{"$f":"IF('S5'!$Y$18=\"\",\"\",'S5'!$Y$18)","v":""},{"$f":"IF('S5'!$Z$18=\"\",\"\",'S5'!$Z$18)","v":""}]
[null,{"$f":"IF('S5'!$Q$18=\"\",\"\",\"erreicht\")","v":""},null,null,{"$f":"IF(VLOOKUP(B133,'S5'!$B$23:$Z$57,16,FALSE)=\"\",\"\",VLOOKUP(B133,'S5'!$B$23:$Z$57,16,FALSE))","v":""},{"$f":"IF(VLOOKUP(B133,'S5'!$B$23:$Z$57,17,FALSE)=\"\",\"\",VLOOKUP(B133,'S5'!$B$23:$Z$57,17,FALSE))","v":""},{"$f":"IF(VLOOKUP(B133,'S5'!$B$23:$Z$57,18,FALSE)=\"\",\"\",VLOOKUP(B133,'S5'!$B$23:$Z$57,18,FALSE))","v":""},{"$f":"IF(VLOOKUP(B133,'S5'!$B$23:$Z$57,19,FALSE)=\"\",\"\",VLOOKUP(B133,'S5'!$B$23:$Z$57,19,FALSE))","v":""},{"$f":"IF(VLOOKUP(B133,'S5'!$B$23:$Z$57,20,FALSE)=\"\",\"\",VLOOKUP(B133,'S5'!$B$23:$Z$57,20,FALSE))","v":""},{"$f":"IF(VLOOKUP(B133,'S5'!$B$23:$Z$57,21,FALSE)=\"\",\"\",VLOOKUP(B133,'S5'!$B$23:$Z$57,21,FALSE))","v":""},{"$f":"IF(VLOOKUP(B133,'S5'!$B$23:$Z$57,22,FALSE)=\"\",\"\",VLOOKUP(B133,'S5'!$B$23:$Z$57,22,FALSE))","v":""},{"$f":"IF(VLOOKUP(B133,'S5'!$B$23:$Z$57,23,FALSE)=\"\",\"\",VLOOKUP(B133,'S5'!$B$23:$Z$57,23,FALSE))","v":""},{"$f":"IF(VLOOKUP(B133,'S5'!$B$23:$Z$57,24,FALSE)=\"\",\"\",VLOOKUP(B133,'S5'!$B$23:$Z$57,24,FALSE))","v":""},{"$f":"IF(VLOOKUP(B133,'S5'!$B$23:$Z$57,25,FALSE)=\"\",\"\",VLOOKUP(B133,'S5'!$B$23:$Z$57,25,FALSE))","v":""},null,"Note",null,null,null,null,{"$f":"IF('S5'!$Q$18=\"\",\"\",\"erreicht\")","v":""},null,null,{"$f":"IF(VLOOKUP(U133,'S5'!$B$23:$Z$57,16,FALSE)=\"\",\"\",VLOOKUP(U133,'S5'!$B$23:$Z$57,16,FALSE))","v":""},{"$f":"IF(VLOOKUP(U133,'S5'!$B$23:$Z$57,17,FALSE)=\"\",\"\",VLOOKUP(U133,'S5'!$B$23:$Z$57,17,FALSE))","v":""},{"$f":"IF(VLOOKUP(U133,'S5'!$B$23:$Z$57,18,FALSE)=\"\",\"\",VLOOKUP(U133,'S5'!$B$23:$Z$57,18,FALSE))","v":""},{"$f":"IF(VLOOKUP(U133,'S5'!$B$23:$Z$57,19,FALSE)=\"\",\"\",VLOOKUP(U133,'S5'!$B$23:$Z$57,19,FALSE))","v":""},{"$f":"IF(VLOOKUP(U133,'S5'!$B$23:$Z$57,20,FALSE)=\"\",\"\",VLOOKUP(U133,'S5'!$B$23:$Z$57,20,FALSE))","v":""},{"$f":"IF(VLOOKUP(U133,'S5'!$B$23:$Z$57,21,FALSE)=\"\",\"\",VLOOKUP(U133,'S5'!$B$23:$Z$57,21,FALSE))","v":""},{"$f":"IF(VLOOKUP(U133,'S5'!$B$23:$Z$57,22,FALSE)=\"\",\"\",VLOOKUP(U133,'S5'!$B$23:$Z$57,22,FALSE))","v":""},{"$f":"IF(VLOOKUP(U133,'S5'!$B$23:$Z$57,23,FALSE)=\"\",\"\",VLOOKUP(U133,'S5'!$B$23:$Z$57,23,FALSE))","v":""},{"$f":"IF(VLOOKUP(U133,'S5'!$B$23:$Z$57,24,FALSE)=\"\",\"\",VLOOKUP(U133,'S5'!$B$23:$Z$57,24,FALSE))","v":""},{"$f":"IF(VLOOKUP(U133,'S5'!$B$23:$Z$57,25,FALSE)=\"\",\"\",VLOOKUP(U133,'S5'!$B$23:$Z$57,25,FALSE))","v":""},null,"Note"]
[null,{"$f":"IF('S5'!$Q$18=\"\",\"\",\"von\")","v":""},null,null,{"$f":"IF('S5'!$Q$21=\"\",\"\",'S5'!$Q$21)","v":""},{"$f":"IF('S5'!$R$21=\"\",\"\",'S5'!$R$21)","v":""},{"$f":"IF('S5'!$S$21=\"\",\"\",'S5'!$S$21)","v":""},{"$f":"IF('S5'!$T$21=\"\",\"\",'S5'!$T$21)","v":""},{"$f":"IF('S5'!$U$21=\"\",\"\",'S5'!$U$21)","v":""},{"$f":"IF('S5'!$V$21=\"\",\"\",'S5'!$V$21)","v":""},{"$f":"IF('S5'!$W$21=\"\",\"\",'S5'!$W$21)","v":""},{"$f":"IF('S5'!$X$21=\"\",\"\",'S5'!$X$21)","v":""},{"$f":"IF('S5'!$Y$21=\"\",\"\",'S5'!$Y$21)","v":""},{"$f":"IF('S5'!$Z$21=\"\",\"\",'S5'!$Z$21)","v":""},null,{"$f":"IF(VLOOKUP(B133,'S5'!$B$23:$Z$57,2,FALSE)=\"\",\"\",CONCATENATE(VLOOKUP(B133,'S5'!$B$23:$Z$57,2,FALSE),\" \",VLOOKUP(B133,'S5'!$B$23:$Z$57,3,FALSE)))","v":"- "},null,null,null,null,{"$f":"IF('S5'!$Q$18=\"\",\"\",\"von\")","v":""},null,null,{"$f":"IF('S5'!$Q$21=\"\",\"\",'S5'!$Q$21)","v":""},{"$f":"IF('S5'!$R$21=\"\",\"\",'S5'!$R$21)","v":""},{"$f":"IF('S5'!$S$21=\"\",\"\",'S5'!$S$21)","v":""},{"$f":"IF('S5'!$T$21=\"\",\"\",'S5'!$T$21)","v":""},{"$f":"IF('S5'!$U$21=\"\",\"\",'S5'!$U$21)","v":""},{"$f":"IF('S5'!$V$21=\"\",\"\",'S5'!$V$21)","v":""},{"$f":"IF('S5'!$W$21=\"\",\"\",'S5'!$W$21)","v":""},{"$f":"IF('S5'!$X$21=\"\",\"\",'S5'!$X$21)","v":""},{"$f":"IF('S5'!$Y$21=\"\",\"\",'S5'!$Y$21)","v":""},{"$f":"IF('S5'!$Z$21=\"\",\"\",'S5'!$Z$21)","v":""},null,{"$f":"IF(VLOOKUP(U133,'S5'!$B$23:$Z$57,2,FALSE)=\"\",\"\",CONCATENATE(VLOOKUP(U133,'S5'!$B$23:$Z$57,2,FALSE),\" \",VLOOKUP(U133,'S5'!$B$23:$Z$57,3,FALSE)))","v":"- "}]
[]
[]
[null,{"$f":"'S5'!$B$47","v":""},null,null,null,null,null,null,null,null,null,null,null,null,null,null,null,null,null,null,{"$f":"'S5'!$B$48","v":""}]
[null,null,null,null,null,null,null,null,null,null,null,null,null,null,null,"Summe",null,null,null,null,null,null,null,null,null,null,null,null,null,null,null,null,null,null,"Summe"]
[null,"Aufgabe",null,null,{"$f":"IF('S5'!$G$18=\"\",\"\",'S5'!$G$18)","v":1},{"$f":"IF('S5'!$H$18=\"\",\"\",'S5'!$H$18)","v":2},{"$f":"IF('S5'!$I$18=\"\",\"\",'S5'!$I$18)","v":3},{"$f":"IF('S5'!$J$18=\"\",\"\",'S5'!$J$18)","v":""},{"$f":"IF('S5'!$K$18=\"\",\"\",'S5'!$K$18)","v":""},{"$f":"IF('S5'!$L$18=\"\",\"\",'S5'!$L$18)","v":""},{"$f":"IF('S5'!$M$18=\"\",\"\",'S5'!$M$18)","v":""},{"$f":"IF('S5'!$N$18=\"\",\"\",'S5'!$N$18)","v":""},{"$f":"IF('S5'!$O$18=\"\",\"\",'S5'!$O$18)","v":""},{"$f":"IF('S5'!$P$18=\"\",\"\",'S5'!$P$18)","v":""},null,{"$f":"IF(VLOOKUP(B144,'S5'!$B$23:$Z$57,5,FALSE)=\"\",\"\",VLOOKUP(B144,'S5'!$B$23:$Z$57,5,FALSE))","v":0},null,null,null,null,"Aufgabe",null,null,{"$f":"IF('S5'!$G$18=\"\",\"\",'S5'!$G$18)","v":1},{"$f":"IF('S5'!$H$18=\"\",\"\",'S5'!$H$18)","v":2},{"$f":"IF('S5'!$I$18=\"\",\"\",'S5'!$I$18)","v":3},{"$f":"IF('S5'!$J$18=\"\",\"\",'S5'!$J$18)","v":""},{"$f":"IF('S5'!$K$18=\"\",\"\",'S5'!$K$18)","v":""},{"$f":"IF('S5'!$L$18=\"\",\"\",'S5'!$L$18)","v":""},{"$f":"IF('S5'!$M$18=\"\",\"\",'S5'!$M$18)","v":""},{"$f":"IF('S5'!$N$18=\"\",\"\",'S5'!$N$18)","v":""},{"$f":"IF('S5'!$O$18=\"\",\"\",'S5'!$O$18)","v":""},{"$f":"IF('S5'!$P$18=\"\",\"\",'S5'!$P$18)","v":""},null,{"$f":"IF(VLOOKUP(U144,'S5'!$B$23:$Z$57,5,FALSE)=\"\",\"\",VLOOKUP(U144,'S5'!$B$23:$Z$57,5,FALSE))","v":0}]
[null,"erreicht",null,null,{"$f":"IF(VLOOKUP(B144,'S5'!$B$23:$Z$57,6,FALSE)=\"\",\"\",VLOOKUP(B144,'S5'!$B$23:$Z$57,6,FALSE))","v":"."},{"$f":"IF(VLOOKUP(B144,'S5'!$B$23:$Z$57,7,FALSE)=\"\",\"\",VLOOKUP(B144,'S5'!$B$23:$Z$57,7,FALSE))","v":""},{"$f":"IF(VLOOKUP(B144,'S5'!$B$23:$Z$57,8,FALSE)=\"\",\"\",VLOOKUP(B144,'S5'!$B$23:$Z$57,8,FALSE))","v":""},{"$f":"IF(VLOOKUP(B144,'S5'!$B$23:$Z$57,9,FALSE)=\"\",\"\",VLOOKUP(B144,'S5'!$B$23:$Z$57,9,FALSE))","v":""},{"$f":"IF(VLOOKUP(B144,'S5'!$B$23:$Z$57,10,FALSE)=\"\",\"\",VLOOKUP(B144,'S5'!$B$23:$Z$57,10,FALSE))","v":""},{"$f":"IF(VLOOKUP(B144,'S5'!$B$23:$Z$57,11,FALSE)=\"\",\"\",VLOOKUP(B144,'S5'!$B$23:$Z$57,11,FALSE))","v":""},{"$f":"IF(VLOOKUP(B144,'S5'!$B$23:$Z$57,12,FALSE)=\"\",\"\",VLOOKUP(B144,'S5'!$B$23:$Z$57,12,FALSE))","v":""},{"$f":"IF(VLOOKUP(B144,'S5'!$B$23:$Z$57,13,FALSE)=\"\",\"\",VLOOKUP(B144,'S5'!$B$23:$Z$57,13,FALSE))","v":""},{"$f":"IF(VLOOKUP(B144,'S5'!$B$23:$Z$57,14,FALSE)=\"\",\"\",VLOOKUP(B144,'S5'!$B$23:$Z$57,14,FALSE))","v":""},{"$f":"IF(VLOOKUP(B144,'S5'!$B$23:$Z$57,15,FALSE)=\"\",\"\",VLOOKUP(B144,'S5'!$B$23:$Z$57,15,FALSE))","v":""},null,null,null,null,null,null,"erreicht",null,null,{"$f":"IF(VLOOKUP(U144,'S5'!$B$23:$Z$57,6,FALSE)=\"\",\"\",VLOOKUP(U144,'S5'!$B$23:$Z$57,6,FALSE))","v":"."},{"$f":"IF(VLOOKUP(U144,'S5'!$B$23:$Z$57,7,FALSE)=\"\",\"\",VLOOKUP(U144,'S5'!$B$23:$Z$57,7,FALSE))","v":""},{"$f":"IF(VLOOKUP(U144,'S5'!$B$23:$Z$57,8,FALSE)=\"\",\"\",VLOOKUP(U144,'S5'!$B$23:$Z$57,8,FALSE))","v":""},{"$f":"IF(VLOOKUP(U144,'S5'!$B$23:$Z$57,9,FALSE)=\"\",\"\",VLOOKUP(U144,'S5'!$B$23:$Z$57,9,FALSE))","v":""},{"$f":"IF(VLOOKUP(U144,'S5'!$B$23:$Z$57,10,FALSE)=\"\",\"\",VLOOKUP(U144,'S5'!$B$23:$Z$57,10,FALSE))","v":""},{"$f":"IF(VLOOKUP(U144,'S5'!$B$23:$Z$57,11,FALSE)=\"\",\"\",VLOOKUP(U144,'S5'!$B$23:$Z$57,11,FALSE))","v":""},{"$f":"IF(VLOOKUP(U144,'S5'!$B$23:$Z$57,12,FALSE)=\"\",\"\",VLOOKUP(U144,'S5'!$B$23:$Z$57,12,FALSE))","v":""},{"$f":"IF(VLOOKUP(U144,'S5'!$B$23:$Z$57,13,FALSE)=\"\",\"\",VLOOKUP(U144,'S5'!$B$23:$Z$57,13,FALSE))","v":""},{"$f":"IF(VLOOKUP(U144,'S5'!$B$23:$Z$57,14,FALSE)=\"\",\"\",VLOOKUP(U144,'S5'!$B$23:$Z$57,14,FALSE))","v":""},{"$f":"IF(VLOOKUP(U144,'S5'!$B$23:$Z$57,15,FALSE)=\"\",\"\",VLOOKUP(U144,'S5'!$B$23:$Z$57,15,FALSE))","v":""}]
[null,"von",null,null,{"$f":"IF('S5'!$G$21=\"\",\"\",'S5'!$G$21)","v":""},{"$f":"IF('S5'!$H$21=\"\",\"\",'S5'!$H$21)","v":""},{"$f":"IF('S5'!$I$21=\"\",\"\",'S5'!$I$21)","v":""},{"$f":"IF('S5'!$J$21=\"\",\"\",'S5'!$J$21)","v":""},{"$f":"IF('S5'!$K$21=\"\",\"\",'S5'!$K$21)","v":""},{"$f":"IF('S5'!$L$21=\"\",\"\",'S5'!$L$21)","v":""},{"$f":"IF('S5'!$M$21=\"\",\"\",'S5'!$M$21)","v":""},{"$f":"IF('S5'!$N$21=\"\",\"\",'S5'!$N$21)","v":""},{"$f":"IF('S5'!$O$21=\"\",\"\",'S5'!$O$21)","v":""},{"$f":"IF('S5'!$P$21=\"\",\"\",'S5'!$P$21)","v":""},null,"von",null,null,null,null,"von",null,null,{"$f":"IF('S5'!$G$21=\"\",\"\",'S5'!$G$21)","v":""},{"$f":"IF('S5'!$H$21=\"\",\"\",'S5'!$H$21)","v":""},{"$f":"IF('S5'!$I$21=\"\",\"\",'S5'!$I$21)","v":""},{"$f":"IF('S5'!$J$21=\"\",\"\",'S5'!$J$21)","v":""},{"$f":"IF('S5'!$K$21=\"\",\"\",'S5'!$K$21)","v":""},{"$f":"IF('S5'!$L$21=\"\",\"\",'S5'!$L$21)","v":""},{"$f":"IF('S5'!$M$21=\"\",\"\",'S5'!$M$21)","v":""},{"$f":"IF('S5'!$N$21=\"\",\"\",'S5'!$N$21)","v":""},{"$f":"IF('S5'!$O$21=\"\",\"\",'S5'!$O$21)","v":""},{"$f":"IF('S5'!$P$21=\"\",\"\",'S5'!$P$21)","v":""},null,"von"]
[null,null,null,null,null,null,null,null,null,null,null,null,null,null,null,{"$f":"'S5'!$H$12","v":0},null,null,null,null,null,null,null,null,null,null,null,null,null,null,null,null,null,null,{"$f":"'S5'!$H$12","v":0}]
[null,{"$f":"IF('S5'!$Q$18=\"\",\"\",\"Aufgabe\")","v":""},null,null,{"$f":"IF('S5'!$Q$18=\"\",\"\",'S5'!$Q$18)","v":""},{"$f":"IF('S5'!$R$18=\"\",\"\",'S5'!$R$18)","v":""},{"$f":"IF('S5'!$S$18=\"\",\"\",'S5'!$S$18)","v":""},{"$f":"IF('S5'!$T$18=\"\",\"\",'S5'!$T$18)","v":""},{"$f":"IF('S5'!$U$18=\"\",\"\",'S5'!$U$18)","v":""},{"$f":"IF('S5'!$V$18=\"\",\"\",'S5'!$V$18)","v":""},{"$f":"IF('S5'!$W$18=\"\",\"\",'S5'!$W$18)","v":""},{"$f":"IF('S5'!$X$18=\"\",\"\",'S5'!$X$18)","v":""},{"$f":"IF('S5'!$Y$18=\"\",\"\",'S5'!$Y$18)","v":""},{"$f":"IF('S5'!$Z$18=\"\",\"\",'S5'!$Z$18)","v":""},null,null,null,null,null,null,{"$f":"IF('S5'!$Q$18=\"\",\"\",\"Aufgabe\")","v":""},null,null,{"$f":"IF('S5'!$Q$18=\"\",\"\",'S5'!$Q$18)","v":""},{"$f":"IF('S5'!$R$18=\"\",\"\",'S5'!$R$18)","v":""},{"$f":"IF('S5'!$S$18=\"\",\"\",'S5'!$S$18)","v":""},{"$f":"IF('S5'!$T$18=\"\",\"\",'S5'!$T$18)","v":""},{"$f":"IF('S5'!$U$18=\"\",\"\",'S5'!$U$18)","v":""},{"$f":"IF('S5'!$V$18=\"\",\"\",'S5'!$V$18)","v":""},{"$f":"IF('S5'!$W$18=\"\",\"\",'S5'!$W$18)","v":""},{"$f":"IF('S5'!$X$18=\"\",\"\",'S5'!$X$18)","v":""},{"$f":"IF('S5'!$Y$18=\"\",\"\",'S5'!$Y$18)","v":""},{"$f":"IF('S5'!$Z$18=\"\",\"\",'S5'!$Z$18)","v":""}]
[null,{"$f":"IF('S5'!$Q$18=\"\",\"\",\"erreicht\")","v":""},null,null,{"$f":"IF(VLOOKUP(B144,'S5'!$B$23:$Z$57,16,FALSE)=\"\",\"\",VLOOKUP(B144,'S5'!$B$23:$Z$57,16,FALSE))","v":""},{"$f":"IF(VLOOKUP(B144,'S5'!$B$23:$Z$57,17,FALSE)=\"\",\"\",VLOOKUP(B144,'S5'!$B$23:$Z$57,17,FALSE))","v":""},{"$f":"IF(VLOOKUP(B144,'S5'!$B$23:$Z$57,18,FALSE)=\"\",\"\",VLOOKUP(B144,'S5'!$B$23:$Z$57,18,FALSE))","v":""},{"$f":"IF(VLOOKUP(B144,'S5'!$B$23:$Z$57,19,FALSE)=\"\",\"\",VLOOKUP(B144,'S5'!$B$23:$Z$57,19,FALSE))","v":""},{"$f":"IF(VLOOKUP(B144,'S5'!$B$23:$Z$57,20,FALSE)=\"\",\"\",VLOOKUP(B144,'S5'!$B$23:$Z$57,20,FALSE))","v":""},{"$f":"IF(VLOOKUP(B144,'S5'!$B$23:$Z$57,21,FALSE)=\"\",\"\",VLOOKUP(B144,'S5'!$B$23:$Z$57,21,FALSE))","v":""},{"$f":"IF(VLOOKUP(B144,'S5'!$B$23:$Z$57,22,FALSE)=\"\",\"\",VLOOKUP(B144,'S5'!$B$23:$Z$57,22,FALSE))","v":""},{"$f":"IF(VLOOKUP(B144,'S5'!$B$23:$Z$57,23,FALSE)=\"\",\"\",VLOOKUP(B144,'S5'!$B$23:$Z$57,23,FALSE))","v":""},{"$f":"IF(VLOOKUP(B144,'S5'!$B$23:$Z$57,24,FALSE)=\"\",\"\",VLOOKUP(B144,'S5'!$B$23:$Z$57,24,FALSE))","v":""},{"$f":"IF(VLOOKUP(B144,'S5'!$B$23:$Z$57,25,FALSE)=\"\",\"\",VLOOKUP(B144,'S5'!$B$23:$Z$57,25,FALSE))","v":""},null,"Note",null,null,null,null,{"$f":"IF('S5'!$Q$18=\"\",\"\",\"erreicht\")","v":""},null,null,{"$f":"IF(VLOOKUP(U144,'S5'!$B$23:$Z$57,16,FALSE)=\"\",\"\",VLOOKUP(U144,'S5'!$B$23:$Z$57,16,FALSE))","v":""},{"$f":"IF(VLOOKUP(U144,'S5'!$B$23:$Z$57,17,FALSE)=\"\",\"\",VLOOKUP(U144,'S5'!$B$23:$Z$57,17,FALSE))","v":""},{"$f":"IF(VLOOKUP(U144,'S5'!$B$23:$Z$57,18,FALSE)=\"\",\"\",VLOOKUP(U144,'S5'!$B$23:$Z$57,18,FALSE))","v":""},{"$f":"IF(VLOOKUP(U144,'S5'!$B$23:$Z$57,19,FALSE)=\"\",\"\",VLOOKUP(U144,'S5'!$B$23:$Z$57,19,FALSE))","v":""},{"$f":"IF(VLOOKUP(U144,'S5'!$B$23:$Z$57,20,FALSE)=\"\",\"\",VLOOKUP(U144,'S5'!$B$23:$Z$57,20,FALSE))","v":""},{"$f":"IF(VLOOKUP(U144,'S5'!$B$23:$Z$57,21,FALSE)=\"\",\"\",VLOOKUP(U144,'S5'!$B$23:$Z$57,21,FALSE))","v":""},{"$f":"IF(VLOOKUP(U144,'S5'!$B$23:$Z$57,22,FALSE)=\"\",\"\",VLOOKUP(U144,'S5'!$B$23:$Z$57,22,FALSE))","v":""},{"$f":"IF(VLOOKUP(U144,'S5'!$B$23:$Z$57,23,FALSE)=\"\",\"\",VLOOKUP(U144,'S5'!$B$23:$Z$57,23,FALSE))","v":""},{"$f":"IF(VLOOKUP(U144,'S5'!$B$23:$Z$57,24,FALSE)=\"\",\"\",VLOOKUP(U144,'S5'!$B$23:$Z$57,24,FALSE))","v":""},{"$f":"IF(VLOOKUP(U144,'S5'!$B$23:$Z$57,25,FALSE)=\"\",\"\",VLOOKUP(U144,'S5'!$B$23:$Z$57,25,FALSE))","v":""},null,"Note"]
[null,{"$f":"IF('S5'!$Q$18=\"\",\"\",\"von\")","v":""},null,null,{"$f":"IF('S5'!$Q$21=\"\",\"\",'S5'!$Q$21)","v":""},{"$f":"IF('S5'!$R$21=\"\",\"\",'S5'!$R$21)","v":""},{"$f":"IF('S5'!$S$21=\"\",\"\",'S5'!$S$21)","v":""},{"$f":"IF('S5'!$T$21=\"\",\"\",'S5'!$T$21)","v":""},{"$f":"IF('S5'!$U$21=\"\",\"\",'S5'!$U$21)","v":""},{"$f":"IF('S5'!$V$21=\"\",\"\",'S5'!$V$21)","v":""},{"$f":"IF('S5'!$W$21=\"\",\"\",'S5'!$W$21)","v":""},{"$f":"IF('S5'!$X$21=\"\",\"\",'S5'!$X$21)","v":""},{"$f":"IF('S5'!$Y$21=\"\",\"\",'S5'!$Y$21)","v":""},{"$f":"IF('S5'!$Z$21=\"\",\"\",'S5'!$Z$21)","v":""},null,{"$f":"IF(VLOOKUP(B144,'S5'!$B$23:$Z$57,2,FALSE)=\"\",\"\",CONCATENATE(VLOOKUP(B144,'S5'!$B$23:$Z$57,2,FALSE),\" \",VLOOKUP(B144,'S5'!$B$23:$Z$57,3,FALSE)))","v":"- "},null,null,null,null,{"$f":"IF('S5'!$Q$18=\"\",\"\",\"von\")","v":""},null,null,{"$f":"IF('S5'!$Q$21=\"\",\"\",'S5'!$Q$21)","v":""},{"$f":"IF('S5'!$R$21=\"\",\"\",'S5'!$R$21)","v":""},{"$f":"IF('S5'!$S$21=\"\",\"\",'S5'!$S$21)","v":""},{"$f":"IF('S5'!$T$21=\"\",\"\",'S5'!$T$21)","v":""},{"$f":"IF('S5'!$U$21=\"\",\"\",'S5'!$U$21)","v":""},{"$f":"IF('S5'!$V$21=\"\",\"\",'S5'!$V$21)","v":""},{"$f":"IF('S5'!$W$21=\"\",\"\",'S5'!$W$21)","v":""},{"$f":"IF('S5'!$X$21=\"\",\"\",'S5'!$X$21)","v":""},{"$f":"IF('S5'!$Y$21=\"\",\"\",'S5'!$Y$21)","v":""},{"$f":"IF('S5'!$Z$21=\"\",\"\",'S5'!$Z$21)","v":""},null,{"$f":"IF(VLOOKUP(U144,'S5'!$B$23:$Z$57,2,FALSE)=\"\",\"\",CONCATENATE(VLOOKUP(U144,'S5'!$B$23:$Z$57,2,FALSE),\" \",VLOOKUP(U144,'S5'!$B$23:$Z$57,3,FALSE)))","v":"- "}]
[]
[]
[]
[null,{"$f":"'S5'!$B$49","v":""},null,null,null,null,null,null,null,null,null,null,null,null,null,null,null,null,null,null,{"$f":"'S5'!$B$50","v":""}]
[null,null,null,null,null,null,null,null,null,null,null,null,null,null,null,"Summe",null,null,null,null,null,null,null,null,null,null,null,null,null,null,null,null,null,null,"Summe"]
[null,"Aufgabe",null,null,{"$f":"IF('S5'!$G$18=\"\",\"\",'S5'!$G$18)","v":1},{"$f":"IF('S5'!$H$18=\"\",\"\",'S5'!$H$18)","v":2},{"$f":"IF('S5'!$I$18=\"\",\"\",'S5'!$I$18)","v":3},{"$f":"IF('S5'!$J$18=\"\",\"\",'S5'!$J$18)","v":""},{"$f":"IF('S5'!$K$18=\"\",\"\",'S5'!$K$18)","v":""},{"$f":"IF('S5'!$L$18=\"\",\"\",'S5'!$L$18)","v":""},{"$f":"IF('S5'!$M$18=\"\",\"\",'S5'!$M$18)","v":""},{"$f":"IF('S5'!$N$18=\"\",\"\",'S5'!$N$18)","v":""},{"$f":"IF('S5'!$O$18=\"\",\"\",'S5'!$O$18)","v":""},{"$f":"IF('S5'!$P$18=\"\",\"\",'S5'!$P$18)","v":""},null,{"$f":"IF(VLOOKUP(B156,'S5'!$B$23:$Z$57,5,FALSE)=\"\",\"\",VLOOKUP(B156,'S5'!$B$23:$Z$57,5,FALSE))","v":0},null,null,null,null,"Aufgabe",null,null,{"$f":"IF('S5'!$G$18=\"\",\"\",'S5'!$G$18)","v":1},{"$f":"IF('S5'!$H$18=\"\",\"\",'S5'!$H$18)","v":2},{"$f":"IF('S5'!$I$18=\"\",\"\",'S5'!$I$18)","v":3},{"$f":"IF('S5'!$J$18=\"\",\"\",'S5'!$J$18)","v":""},{"$f":"IF('S5'!$K$18=\"\",\"\",'S5'!$K$18)","v":""},{"$f":"IF('S5'!$L$18=\"\",\"\",'S5'!$L$18)","v":""},{"$f":"IF('S5'!$M$18=\"\",\"\",'S5'!$M$18)","v":""},{"$f":"IF('S5'!$N$18=\"\",\"\",'S5'!$N$18)","v":""},{"$f":"IF('S5'!$O$18=\"\",\"\",'S5'!$O$18)","v":""},{"$f":"IF('S5'!$P$18=\"\",\"\",'S5'!$P$18)","v":""},null,{"$f":"IF(VLOOKUP(U156,'S5'!$B$23:$Z$57,5,FALSE)=\"\",\"\",VLOOKUP(U156,'S5'!$B$23:$Z$57,5,FALSE))","v":0}]
[null,"erreicht",null,null,{"$f":"IF(VLOOKUP(B156,'S5'!$B$23:$Z$57,6,FALSE)=\"\",\"\",VLOOKUP(B156,'S5'!$B$23:$Z$57,6,FALSE))","v":"."},{"$f":"IF(VLOOKUP(B156,'S5'!$B$23:$Z$57,7,FALSE)=\"\",\"\",VLOOKUP(B156,'S5'!$B$23:$Z$57,7,FALSE))","v":""},{"$f":"IF(VLOOKUP(B156,'S5'!$B$23:$Z$57,8,FALSE)=\"\",\"\",VLOOKUP(B156,'S5'!$B$23:$Z$57,8,FALSE))","v":""},{"$f":"IF(VLOOKUP(B156,'S5'!$B$23:$Z$57,9,FALSE)=\"\",\"\",VLOOKUP(B156,'S5'!$B$23:$Z$57,9,FALSE))","v":""},{"$f":"IF(VLOOKUP(B156,'S5'!$B$23:$Z$57,10,FALSE)=\"\",\"\",VLOOKUP(B156,'S5'!$B$23:$Z$57,10,FALSE))","v":""},{"$f":"IF(VLOOKUP(B156,'S5'!$B$23:$Z$57,11,FALSE)=\"\",\"\",VLOOKUP(B156,'S5'!$B$23:$Z$57,11,FALSE))","v":""},{"$f":"IF(VLOOKUP(B156,'S5'!$B$23:$Z$57,12,FALSE)=\"\",\"\",VLOOKUP(B156,'S5'!$B$23:$Z$57,12,FALSE))","v":""},{"$f":"IF(VLOOKUP(B156,'S5'!$B$23:$Z$57,13,FALSE)=\"\",\"\",VLOOKUP(B156,'S5'!$B$23:$Z$57,13,FALSE))","v":""},{"$f":"IF(VLOOKUP(B156,'S5'!$B$23:$Z$57,14,FALSE)=\"\",\"\",VLOOKUP(B156,'S5'!$B$23:$Z$57,14,FALSE))","v":""},{"$f":"IF(VLOOKUP(B156,'S5'!$B$23:$Z$57,15,FALSE)=\"\",\"\",VLOOKUP(B156,'S5'!$B$23:$Z$57,15,FALSE))","v":""},null,null,null,null,null,null,"erreicht",null,null,{"$f":"IF(VLOOKUP(U156,'S5'!$B$23:$Z$57,6,FALSE)=\"\",\"\",VLOOKUP(U156,'S5'!$B$23:$Z$57,6,FALSE))","v":"."},{"$f":"IF(VLOOKUP(U156,'S5'!$B$23:$Z$57,7,FALSE)=\"\",\"\",VLOOKUP(U156,'S5'!$B$23:$Z$57,7,FALSE))","v":""},{"$f":"IF(VLOOKUP(U156,'S5'!$B$23:$Z$57,8,FALSE)=\"\",\"\",VLOOKUP(U156,'S5'!$B$23:$Z$57,8,FALSE))","v":""},{"$f":"IF(VLOOKUP(U156,'S5'!$B$23:$Z$57,9,FALSE)=\"\",\"\",VLOOKUP(U156,'S5'!$B$23:$Z$57,9,FALSE))","v":""},{"$f":"IF(VLOOKUP(U156,'S5'!$B$23:$Z$57,10,FALSE)=\"\",\"\",VLOOKUP(U156,'S5'!$B$23:$Z$57,10,FALSE))","v":""},{"$f":"IF(VLOOKUP(U156,'S5'!$B$23:$Z$57,11,FALSE)=\"\",\"\",VLOOKUP(U156,'S5'!$B$23:$Z$57,11,FALSE))","v":""},{"$f":"IF(VLOOKUP(U156,'S5'!$B$23:$Z$57,12,FALSE)=\"\",\"\",VLOOKUP(U156,'S5'!$B$23:$Z$57,12,FALSE))","v":""},{"$f":"IF(VLOOKUP(U156,'S5'!$B$23:$Z$57,13,FALSE)=\"\",\"\",VLOOKUP(U156,'S5'!$B$23:$Z$57,13,FALSE))","v":""},{"$f":"IF(VLOOKUP(U156,'S5'!$B$23:$Z$57,14,FALSE)=\"\",\"\",VLOOKUP(U156,'S5'!$B$23:$Z$57,14,FALSE))","v":""},{"$f":"IF(VLOOKUP(U156,'S5'!$B$23:$Z$57,15,FALSE)=\"\",\"\",VLOOKUP(U156,'S5'!$B$23:$Z$57,15,FALSE))","v":""}]
[null,"von",null,null,{"$f":"IF('S5'!$G$21=\"\",\"\",'S5'!$G$21)","v":""},{"$f":"IF('S5'!$H$21=\"\",\"\",'S5'!$H$21)","v":""},{"$f":"IF('S5'!$I$21=\"\",\"\",'S5'!$I$21)","v":""},{"$f":"IF('S5'!$J$21=\"\",\"\",'S5'!$J$21)","v":""},{"$f":"IF('S5'!$K$21=\"\",\"\",'S5'!$K$21)","v":""},{"$f":"IF('S5'!$L$21=\"\",\"\",'S5'!$L$21)","v":""},{"$f":"IF('S5'!$M$21=\"\",\"\",'S5'!$M$21)","v":""},{"$f":"IF('S5'!$N$21=\"\",\"\",'S5'!$N$21)","v":""},{"$f":"IF('S5'!$O$21=\"\",\"\",'S5'!$O$21)","v":""},{"$f":"IF('S5'!$P$21=\"\",\"\",'S5'!$P$21)","v":""},null,"von",null,null,null,null,"von",null,null,{"$f":"IF('S5'!$G$21=\"\",\"\",'S5'!$G$21)","v":""},{"$f":"IF('S5'!$H$21=\"\",\"\",'S5'!$H$21)","v":""},{"$f":"IF('S5'!$I$21=\"\",\"\",'S5'!$I$21)","v":""},{"$f":"IF('S5'!$J$21=\"\",\"\",'S5'!$J$21)","v":""},{"$f":"IF('S5'!$K$21=\"\",\"\",'S5'!$K$21)","v":""},{"$f":"IF('S5'!$L$21=\"\",\"\",'S5'!$L$21)","v":""},{"$f":"IF('S5'!$M$21=\"\",\"\",'S5'!$M$21)","v":""},{"$f":"IF('S5'!$N$21=\"\",\"\",'S5'!$N$21)","v":""},{"$f":"IF('S5'!$O$21=\"\",\"\",'S5'!$O$21)","v":""},{"$f":"IF('S5'!$P$21=\"\",\"\",'S5'!$P$21)","v":""},null,"von"]
[null,null,null,null,null,null,null,null,null,null,null,null,null,null,null,{"$f":"'S5'!$H$12","v":0},null,null,null,null,null,null,null,null,null,null,null,null,null,null,null,null,null,null,{"$f":"'S5'!$H$12","v":0}]
[null,{"$f":"IF('S5'!$Q$18=\"\",\"\",\"Aufgabe\")","v":""},null,null,{"$f":"IF('S5'!$Q$18=\"\",\"\",'S5'!$Q$18)","v":""},{"$f":"IF('S5'!$R$18=\"\",\"\",'S5'!$R$18)","v":""},{"$f":"IF('S5'!$S$18=\"\",\"\",'S5'!$S$18)","v":""},{"$f":"IF('S5'!$T$18=\"\",\"\",'S5'!$T$18)","v":""},{"$f":"IF('S5'!$U$18=\"\",\"\",'S5'!$U$18)","v":""},{"$f":"IF('S5'!$V$18=\"\",\"\",'S5'!$V$18)","v":""},{"$f":"IF('S5'!$W$18=\"\",\"\",'S5'!$W$18)","v":""},{"$f":"IF('S5'!$X$18=\"\",\"\",'S5'!$X$18)","v":""},{"$f":"IF('S5'!$Y$18=\"\",\"\",'S5'!$Y$18)","v":""},{"$f":"IF('S5'!$Z$18=\"\",\"\",'S5'!$Z$18)","v":""},null,null,null,null,null,null,{"$f":"IF('S5'!$Q$18=\"\",\"\",\"Aufgabe\")","v":""},null,null,{"$f":"IF('S5'!$Q$18=\"\",\"\",'S5'!$Q$18)","v":""},{"$f":"IF('S5'!$R$18=\"\",\"\",'S5'!$R$18)","v":""},{"$f":"IF('S5'!$S$18=\"\",\"\",'S5'!$S$18)","v":""},{"$f":"IF('S5'!$T$18=\"\",\"\",'S5'!$T$18)","v":""},{"$f":"IF('S5'!$U$18=\"\",\"\",'S5'!$U$18)","v":""},{"$f":"IF('S5'!$V$18=\"\",\"\",'S5'!$V$18)","v":""},{"$f":"IF('S5'!$W$18=\"\",\"\",'S5'!$W$18)","v":""},{"$f":"IF('S5'!$X$18=\"\",\"\",'S5'!$X$18)","v":""},{"$f":"IF('S5'!$Y$18=\"\",\"\",'S5'!$Y$18)","v":""},{"$f":"IF('S5'!$Z$18=\"\",\"\",'S5'!$Z$18)","v":""}]
[null,{"$f":"IF('S5'!$Q$18=\"\",\"\",\"erreicht\")","v":""},null,null,{"$f":"IF(VLOOKUP(B156,'S5'!$B$23:$Z$57,16,FALSE)=\"\",\"\",VLOOKUP(B156,'S5'!$B$23:$Z$57,16,FALSE))","v":""},{"$f":"IF(VLOOKUP(B156,'S5'!$B$23:$Z$57,17,FALSE)=\"\",\"\",VLOOKUP(B156,'S5'!$B$23:$Z$57,17,FALSE))","v":""},{"$f":"IF(VLOOKUP(B156,'S5'!$B$23:$Z$57,18,FALSE)=\"\",\"\",VLOOKUP(B156,'S5'!$B$23:$Z$57,18,FALSE))","v":""},{"$f":"IF(VLOOKUP(B156,'S5'!$B$23:$Z$57,19,FALSE)=\"\",\"\",VLOOKUP(B156,'S5'!$B$23:$Z$57,19,FALSE))","v":""},{"$f":"IF(VLOOKUP(B156,'S5'!$B$23:$Z$57,20,FALSE)=\"\",\"\",VLOOKUP(B156,'S5'!$B$23:$Z$57,20,FALSE))","v":""},{"$f":"IF(VLOOKUP(B156,'S5'!$B$23:$Z$57,21,FALSE)=\"\",\"\",VLOOKUP(B156,'S5'!$B$23:$Z$57,21,FALSE))","v":""},{"$f":"IF(VLOOKUP(B156,'S5'!$B$23:$Z$57,22,FALSE)=\"\",\"\",VLOOKUP(B156,'S5'!$B$23:$Z$57,22,FALSE))","v":""},{"$f":"IF(VLOOKUP(B156,'S5'!$B$23:$Z$57,23,FALSE)=\"\",\"\",VLOOKUP(B156,'S5'!$B$23:$Z$57,23,FALSE))","v":""},{"$f":"IF(VLOOKUP(B156,'S5'!$B$23:$Z$57,24,FALSE)=\"\",\"\",VLOOKUP(B156,'S5'!$B$23:$Z$57,24,FALSE))","v":""},{"$f":"IF(VLOOKUP(B156,'S5'!$B$23:$Z$57,25,FALSE)=\"\",\"\",VLOOKUP(B156,'S5'!$B$23:$Z$57,25,FALSE))","v":""},null,"Note",null,null,null,null,{"$f":"IF('S5'!$Q$18=\"\",\"\",\"erreicht\")","v":""},null,null,{"$f":"IF(VLOOKUP(U156,'S5'!$B$23:$Z$57,16,FALSE)=\"\",\"\",VLOOKUP(U156,'S5'!$B$23:$Z$57,16,FALSE))","v":""},{"$f":"IF(VLOOKUP(U156,'S5'!$B$23:$Z$57,17,FALSE)=\"\",\"\",VLOOKUP(U156,'S5'!$B$23:$Z$57,17,FALSE))","v":""},{"$f":"IF(VLOOKUP(U156,'S5'!$B$23:$Z$57,18,FALSE)=\"\",\"\",VLOOKUP(U156,'S5'!$B$23:$Z$57,18,FALSE))","v":""},{"$f":"IF(VLOOKUP(U156,'S5'!$B$23:$Z$57,19,FALSE)=\"\",\"\",VLOOKUP(U156,'S5'!$B$23:$Z$57,19,FALSE))","v":""},{"$f":"IF(VLOOKUP(U156,'S5'!$B$23:$Z$57,20,FALSE)=\"\",\"\",VLOOKUP(U156,'S5'!$B$23:$Z$57,20,FALSE))","v":""},{"$f":"IF(VLOOKUP(U156,'S5'!$B$23:$Z$57,21,FALSE)=\"\",\"\",VLOOKUP(U156,'S5'!$B$23:$Z$57,21,FALSE))","v":""},{"$f":"IF(VLOOKUP(U156,'S5'!$B$23:$Z$57,22,FALSE)=\"\",\"\",VLOOKUP(U156,'S5'!$B$23:$Z$57,22,FALSE))","v":""},{"$f":"IF(VLOOKUP(U156,'S5'!$B$23:$Z$57,23,FALSE)=\"\",\"\",VLOOKUP(U156,'S5'!$B$23:$Z$57,23,FALSE))","v":""},{"$f":"IF(VLOOKUP(U156,'S5'!$B$23:$Z$57,24,FALSE)=\"\",\"\",VLOOKUP(U156,'S5'!$B$23:$Z$57,24,FALSE))","v":""},{"$f":"IF(VLOOKUP(U156,'S5'!$B$23:$Z$57,25,FALSE)=\"\",\"\",VLOOKUP(U156,'S5'!$B$23:$Z$57,25,FALSE))","v":""},null,"Note"]
[null,{"$f":"IF('S5'!$Q$18=\"\",\"\",\"von\")","v":""},null,null,{"$f":"IF('S5'!$Q$21=\"\",\"\",'S5'!$Q$21)","v":""},{"$f":"IF('S5'!$R$21=\"\",\"\",'S5'!$R$21)","v":""},{"$f":"IF('S5'!$S$21=\"\",\"\",'S5'!$S$21)","v":""},{"$f":"IF('S5'!$T$21=\"\",\"\",'S5'!$T$21)","v":""},{"$f":"IF('S5'!$U$21=\"\",\"\",'S5'!$U$21)","v":""},{"$f":"IF('S5'!$V$21=\"\",\"\",'S5'!$V$21)","v":""},{"$f":"IF('S5'!$W$21=\"\",\"\",'S5'!$W$21)","v":""},{"$f":"IF('S5'!$X$21=\"\",\"\",'S5'!$X$21)","v":""},{"$f":"IF('S5'!$Y$21=\"\",\"\",'S5'!$Y$21)","v":""},{"$f":"IF('S5'!$Z$21=\"\",\"\",'S5'!$Z$21)","v":""},null,{"$f":"IF(VLOOKUP(B156,'S5'!$B$23:$Z$57,2,FALSE)=\"\",\"\",CONCATENATE(VLOOKUP(B156,'S5'!$B$23:$Z$57,2,FALSE),\" \",VLOOKUP(B156,'S5'!$B$23:$Z$57,3,FALSE)))","v":"- "},null,null,null,null,{"$f":"IF('S5'!$Q$18=\"\",\"\",\"von\")","v":""},null,null,{"$f":"IF('S5'!$Q$21=\"\",\"\",'S5'!$Q$21)","v":""},{"$f":"IF('S5'!$R$21=\"\",\"\",'S5'!$R$21)","v":""},{"$f":"IF('S5'!$S$21=\"\",\"\",'S5'!$S$21)","v":""},{"$f":"IF('S5'!$T$21=\"\",\"\",'S5'!$T$21)","v":""},{"$f":"IF('S5'!$U$21=\"\",\"\",'S5'!$U$21)","v":""},{"$f":"IF('S5'!$V$21=\"\",\"\",'S5'!$V$21)","v":""},{"$f":"IF('S5'!$W$21=\"\",\"\",'S5'!$W$21)","v":""},{"$f":"IF('S5'!$X$21=\"\",\"\",'S5'!$X$21)","v":""},{"$f":"IF('S5'!$Y$21=\"\",\"\",'S5'!$Y$21)","v":""},{"$f":"IF('S5'!$Z$21=\"\",\"\",'S5'!$Z$21)","v":""},null,{"$f":"IF(VLOOKUP(U156,'S5'!$B$23:$Z$57,2,FALSE)=\"\",\"\",CONCATENATE(VLOOKUP(U156,'S5'!$B$23:$Z$57,2,FALSE),\" \",VLOOKUP(U156,'S5'!$B$23:$Z$57,3,FALSE)))","v":"- "}]
[]
[]
[]
[null,{"$f":"'S5'!$B$51","v":""},null,null,null,null,null,null,null,null,null,null,null,null,null,null,null,null,null,null,{"$f":"'S5'!$B$52","v":""}]
[null,null,null,null,null,null,null,null,null,null,null,null,null,null,null,"Summe",null,null,null,null,null,null,null,null,null,null,null,null,null,null,null,null,null,null,"Summe"]
[null,"Aufgabe",null,null,{"$f":"IF('S5'!$G$18=\"\",\"\",'S5'!$G$18)","v":1},{"$f":"IF('S5'!$H$18=\"\",\"\",'S5'!$H$18)","v":2},{"$f":"IF('S5'!$I$18=\"\",\"\",'S5'!$I$18)","v":3},{"$f":"IF('S5'!$J$18=\"\",\"\",'S5'!$J$18)","v":""},{"$f":"IF('S5'!$K$18=\"\",\"\",'S5'!$K$18)","v":""},{"$f":"IF('S5'!$L$18=\"\",\"\",'S5'!$L$18)","v":""},{"$f":"IF('S5'!$M$18=\"\",\"\",'S5'!$M$18)","v":""},{"$f":"IF('S5'!$N$18=\"\",\"\",'S5'!$N$18)","v":""},{"$f":"IF('S5'!$O$18=\"\",\"\",'S5'!$O$18)","v":""},{"$f":"IF('S5'!$P$18=\"\",\"\",'S5'!$P$18)","v":""},null,{"$f":"IF(VLOOKUP(B168,'S5'!$B$23:$Z$57,5,FALSE)=\"\",\"\",VLOOKUP(B168,'S5'!$B$23:$Z$57,5,FALSE))","v":0},null,null,null,null,"Aufgabe",null,null,{"$f":"IF('S5'!$G$18=\"\",\"\",'S5'!$G$18)","v":1},{"$f":"IF('S5'!$H$18=\"\",\"\",'S5'!$H$18)","v":2},{"$f":"IF('S5'!$I$18=\"\",\"\",'S5'!$I$18)","v":3},{"$f":"IF('S5'!$J$18=\"\",\"\",'S5'!$J$18)","v":""},{"$f":"IF('S5'!$K$18=\"\",\"\",'S5'!$K$18)","v":""},{"$f":"IF('S5'!$L$18=\"\",\"\",'S5'!$L$18)","v":""},{"$f":"IF('S5'!$M$18=\"\",\"\",'S5'!$M$18)","v":""},{"$f":"IF('S5'!$N$18=\"\",\"\",'S5'!$N$18)","v":""},{"$f":"IF('S5'!$O$18=\"\",\"\",'S5'!$O$18)","v":""},{"$f":"IF('S5'!$P$18=\"\",\"\",'S5'!$P$18)","v":""},null,{"$f":"IF(VLOOKUP(U168,'S5'!$B$23:$Z$57,5,FALSE)=\"\",\"\",VLOOKUP(U168,'S5'!$B$23:$Z$57,5,FALSE))","v":0}]
[null,"erreicht",null,null,{"$f":"IF(VLOOKUP(B168,'S5'!$B$23:$Z$57,6,FALSE)=\"\",\"\",VLOOKUP(B168,'S5'!$B$23:$Z$57,6,FALSE))","v":"."},{"$f":"IF(VLOOKUP(B168,'S5'!$B$23:$Z$57,7,FALSE)=\"\",\"\",VLOOKUP(B168,'S5'!$B$23:$Z$57,7,FALSE))","v":""},{"$f":"IF(VLOOKUP(B168,'S5'!$B$23:$Z$57,8,FALSE)=\"\",\"\",VLOOKUP(B168,'S5'!$B$23:$Z$57,8,FALSE))","v":""},{"$f":"IF(VLOOKUP(B168,'S5'!$B$23:$Z$57,9,FALSE)=\"\",\"\",VLOOKUP(B168,'S5'!$B$23:$Z$57,9,FALSE))","v":""},{"$f":"IF(VLOOKUP(B168,'S5'!$B$23:$Z$57,10,FALSE)=\"\",\"\",VLOOKUP(B168,'S5'!$B$23:$Z$57,10,FALSE))","v":""},{"$f":"IF(VLOOKUP(B168,'S5'!$B$23:$Z$57,11,FALSE)=\"\",\"\",VLOOKUP(B168,'S5'!$B$23:$Z$57,11,FALSE))","v":""},{"$f":"IF(VLOOKUP(B168,'S5'!$B$23:$Z$57,12,FALSE)=\"\",\"\",VLOOKUP(B168,'S5'!$B$23:$Z$57,12,FALSE))","v":""},{"$f":"IF(VLOOKUP(B168,'S5'!$B$23:$Z$57,13,FALSE)=\"\",\"\",VLOOKUP(B168,'S5'!$B$23:$Z$57,13,FALSE))","v":""},{"$f":"IF(VLOOKUP(B168,'S5'!$B$23:$Z$57,14,FALSE)=\"\",\"\",VLOOKUP(B168,'S5'!$B$23:$Z$57,14,FALSE))","v":""},{"$f":"IF(VLOOKUP(B168,'S5'!$B$23:$Z$57,15,FALSE)=\"\",\"\",VLOOKUP(B168,'S5'!$B$23:$Z$57,15,FALSE))","v":""},null,null,null,null,null,null,"erreicht",null,null,{"$f":"IF(VLOOKUP(U168,'S5'!$B$23:$Z$57,6,FALSE)=\"\",\"\",VLOOKUP(U168,'S5'!$B$23:$Z$57,6,FALSE))","v":"."},{"$f":"IF(VLOOKUP(U168,'S5'!$B$23:$Z$57,7,FALSE)=\"\",\"\",VLOOKUP(U168,'S5'!$B$23:$Z$57,7,FALSE))","v":""},{"$f":"IF(VLOOKUP(U168,'S5'!$B$23:$Z$57,8,FALSE)=\"\",\"\",VLOOKUP(U168,'S5'!$B$23:$Z$57,8,FALSE))","v":""},{"$f":"IF(VLOOKUP(U168,'S5'!$B$23:$Z$57,9,FALSE)=\"\",\"\",VLOOKUP(U168,'S5'!$B$23:$Z$57,9,FALSE))","v":""},{"$f":"IF(VLOOKUP(U168,'S5'!$B$23:$Z$57,10,FALSE)=\"\",\"\",VLOOKUP(U168,'S5'!$B$23:$Z$57,10,FALSE))","v":""},{"$f":"IF(VLOOKUP(U168,'S5'!$B$23:$Z$57,11,FALSE)=\"\",\"\",VLOOKUP(U168,'S5'!$B$23:$Z$57,11,FALSE))","v":""},{"$f":"IF(VLOOKUP(U168,'S5'!$B$23:$Z$57,12,FALSE)=\"\",\"\",VLOOKUP(U168,'S5'!$B$23:$Z$57,12,FALSE))","v":""},{"$f":"IF(VLOOKUP(U168,'S5'!$B$23:$Z$57,13,FALSE)=\"\",\"\",VLOOKUP(U168,'S5'!$B$23:$Z$57,13,FALSE))","v":""},{"$f":"IF(VLOOKUP(U168,'S5'!$B$23:$Z$57,14,FALSE)=\"\",\"\",VLOOKUP(U168,'S5'!$B$23:$Z$57,14,FALSE))","v":""},{"$f":"IF(VLOOKUP(U168,'S5'!$B$23:$Z$57,15,FALSE)=\"\",\"\",VLOOKUP(U168,'S5'!$B$23:$Z$57,15,FALSE))","v":""}]
[null,"von",null,null,{"$f":"IF('S5'!$G$21=\"\",\"\",'S5'!$G$21)","v":""},{"$f":"IF('S5'!$H$21=\"\",\"\",'S5'!$H$21)","v":""},{"$f":"IF('S5'!$I$21=\"\",\"\",'S5'!$I$21)","v":""},{"$f":"IF('S5'!$J$21=\"\",\"\",'S5'!$J$21)","v":""},{"$f":"IF('S5'!$K$21=\"\",\"\",'S5'!$K$21)","v":""},{"$f":"IF('S5'!$L$21=\"\",\"\",'S5'!$L$21)","v":""},{"$f":"IF('S5'!$M$21=\"\",\"\",'S5'!$M$21)","v":""},{"$f":"IF('S5'!$N$21=\"\",\"\",'S5'!$N$21)","v":""},{"$f":"IF('S5'!$O$21=\"\",\"\",'S5'!$O$21)","v":""},{"$f":"IF('S5'!$P$21=\"\",\"\",'S5'!$P$21)","v":""},null,"von",null,null,null,null,"von",null,null,{"$f":"IF('S5'!$G$21=\"\",\"\",'S5'!$G$21)","v":""},{"$f":"IF('S5'!$H$21=\"\",\"\",'S5'!$H$21)","v":""},{"$f":"IF('S5'!$I$21=\"\",\"\",'S5'!$I$21)","v":""},{"$f":"IF('S5'!$J$21=\"\",\"\",'S5'!$J$21)","v":""},{"$f":"IF('S5'!$K$21=\"\",\"\",'S5'!$K$21)","v":""},{"$f":"IF('S5'!$L$21=\"\",\"\",'S5'!$L$21)","v":""},{"$f":"IF('S5'!$M$21=\"\",\"\",'S5'!$M$21)","v":""},{"$f":"IF('S5'!$N$21=\"\",\"\",'S5'!$N$21)","v":""},{"$f":"IF('S5'!$O$21=\"\",\"\",'S5'!$O$21)","v":""},{"$f":"IF('S5'!$P$21=\"\",\"\",'S5'!$P$21)","v":""},null,"von"]
[null,null,null,null,null,null,null,null,null,null,null,null,null,null,null,{"$f":"'S5'!$H$12","v":0},null,null,null,null,null,null,null,null,null,null,null,null,null,null,null,null,null,null,{"$f":"'S5'!$H$12","v":0}]
[null,{"$f":"IF('S5'!$Q$18=\"\",\"\",\"Aufgabe\")","v":""},null,null,{"$f":"IF('S5'!$Q$18=\"\",\"\",'S5'!$Q$18)","v":""},{"$f":"IF('S5'!$R$18=\"\",\"\",'S5'!$R$18)","v":""},{"$f":"IF('S5'!$S$18=\"\",\"\",'S5'!$S$18)","v":""},{"$f":"IF('S5'!$T$18=\"\",\"\",'S5'!$T$18)","v":""},{"$f":"IF('S5'!$U$18=\"\",\"\",'S5'!$U$18)","v":""},{"$f":"IF('S5'!$V$18=\"\",\"\",'S5'!$V$18)","v":""},{"$f":"IF('S5'!$W$18=\"\",\"\",'S5'!$W$18)","v":""},{"$f":"IF('S5'!$X$18=\"\",\"\",'S5'!$X$18)","v":""},{"$f":"IF('S5'!$Y$18=\"\",\"\",'S5'!$Y$18)","v":""},{"$f":"IF('S5'!$Z$18=\"\",\"\",'S5'!$Z$18)","v":""},null,null,null,null,null,null,{"$f":"IF('S5'!$Q$18=\"\",\"\",\"Aufgabe\")","v":""},null,null,{"$f":"IF('S5'!$Q$18=\"\",\"\",'S5'!$Q$18)","v":""},{"$f":"IF('S5'!$R$18=\"\",\"\",'S5'!$R$18)","v":""},{"$f":"IF('S5'!$S$18=\"\",\"\",'S5'!$S$18)","v":""},{"$f":"IF('S5'!$T$18=\"\",\"\",'S5'!$T$18)","v":""},{"$f":"IF('S5'!$U$18=\"\",\"\",'S5'!$U$18)","v":""},{"$f":"IF('S5'!$V$18=\"\",\"\",'S5'!$V$18)","v":""},{"$f":"IF('S5'!$W$18=\"\",\"\",'S5'!$W$18)","v":""},{"$f":"IF('S5'!$X$18=\"\",\"\",'S5'!$X$18)","v":""},{"$f":"IF('S5'!$Y$18=\"\",\"\",'S5'!$Y$18)","v":""},{"$f":"IF('S5'!$Z$18=\"\",\"\",'S5'!$Z$18)","v":""}]
[null,{"$f":"IF('S5'!$Q$18=\"\",\"\",\"erreicht\")","v":""},null,null,{"$f":"IF(VLOOKUP(B168,'S5'!$B$23:$Z$57,16,FALSE)=\"\",\"\",VLOOKUP(B168,'S5'!$B$23:$Z$57,16,FALSE))","v":""},{"$f":"IF(VLOOKUP(B168,'S5'!$B$23:$Z$57,17,FALSE)=\"\",\"\",VLOOKUP(B168,'S5'!$B$23:$Z$57,17,FALSE))","v":""},{"$f":"IF(VLOOKUP(B168,'S5'!$B$23:$Z$57,18,FALSE)=\"\",\"\",VLOOKUP(B168,'S5'!$B$23:$Z$57,18,FALSE))","v":""},{"$f":"IF(VLOOKUP(B168,'S5'!$B$23:$Z$57,19,FALSE)=\"\",\"\",VLOOKUP(B168,'S5'!$B$23:$Z$57,19,FALSE))","v":""},{"$f":"IF(VLOOKUP(B168,'S5'!$B$23:$Z$57,20,FALSE)=\"\",\"\",VLOOKUP(B168,'S5'!$B$23:$Z$57,20,FALSE))","v":""},{"$f":"IF(VLOOKUP(B168,'S5'!$B$23:$Z$57,21,FALSE)=\"\",\"\",VLOOKUP(B168,'S5'!$B$23:$Z$57,21,FALSE))","v":""},{"$f":"IF(VLOOKUP(B168,'S5'!$B$23:$Z$57,22,FALSE)=\"\",\"\",VLOOKUP(B168,'S5'!$B$23:$Z$57,22,FALSE))","v":""},{"$f":"IF(VLOOKUP(B168,'S5'!$B$23:$Z$57,23,FALSE)=\"\",\"\",VLOOKUP(B168,'S5'!$B$23:$Z$57,23,FALSE))","v":""},{"$f":"IF(VLOOKUP(B168,'S5'!$B$23:$Z$57,24,FALSE)=\"\",\"\",VLOOKUP(B168,'S5'!$B$23:$Z$57,24,FALSE))","v":""},{"$f":"IF(VLOOKUP(B168,'S5'!$B$23:$Z$57,25,FALSE)=\"\",\"\",VLOOKUP(B168,'S5'!$B$23:$Z$57,25,FALSE))","v":""},null,"Note",null,null,null,null,{"$f":"IF('S5'!$Q$18=\"\",\"\",\"erreicht\")","v":""},null,null,{"$f":"IF(VLOOKUP(U168,'S5'!$B$23:$Z$57,16,FALSE)=\"\",\"\",VLOOKUP(U168,'S5'!$B$23:$Z$57,16,FALSE))","v":""},{"$f":"IF(VLOOKUP(U168,'S5'!$B$23:$Z$57,17,FALSE)=\"\",\"\",VLOOKUP(U168,'S5'!$B$23:$Z$57,17,FALSE))","v":""},{"$f":"IF(VLOOKUP(U168,'S5'!$B$23:$Z$57,18,FALSE)=\"\",\"\",VLOOKUP(U168,'S5'!$B$23:$Z$57,18,FALSE))","v":""},{"$f":"IF(VLOOKUP(U168,'S5'!$B$23:$Z$57,19,FALSE)=\"\",\"\",VLOOKUP(U168,'S5'!$B$23:$Z$57,19,FALSE))","v":""},{"$f":"IF(VLOOKUP(U168,'S5'!$B$23:$Z$57,20,FALSE)=\"\",\"\",VLOOKUP(U168,'S5'!$B$23:$Z$57,20,FALSE))","v":""},{"$f":"IF(VLOOKUP(U168,'S5'!$B$23:$Z$57,21,FALSE)=\"\",\"\",VLOOKUP(U168,'S5'!$B$23:$Z$57,21,FALSE))","v":""},{"$f":"IF(VLOOKUP(U168,'S5'!$B$23:$Z$57,22,FALSE)=\"\",\"\",VLOOKUP(U168,'S5'!$B$23:$Z$57,22,FALSE))","v":""},{"$f":"IF(VLOOKUP(U168,'S5'!$B$23:$Z$57,23,FALSE)=\"\",\"\",VLOOKUP(U168,'S5'!$B$23:$Z$57,23,FALSE))","v":""},{"$f":"IF(VLOOKUP(U168,'S5'!$B$23:$Z$57,24,FALSE)=\"\",\"\",VLOOKUP(U168,'S5'!$B$23:$Z$57,24,FALSE))","v":""},{"$f":"IF(VLOOKUP(U168,'S5'!$B$23:$Z$57,25,FALSE)=\"\",\"\",VLOOKUP(U168,'S5'!$B$23:$Z$57,25,FALSE))","v":""},null,"Note"]
[null,{"$f":"IF('S5'!$Q$18=\"\",\"\",\"von\")","v":""},null,null,{"$f":"IF('S5'!$Q$21=\"\",\"\",'S5'!$Q$21)","v":""},{"$f":"IF('S5'!$R$21=\"\",\"\",'S5'!$R$21)","v":""},{"$f":"IF('S5'!$S$21=\"\",\"\",'S5'!$S$21)","v":""},{"$f":"IF('S5'!$T$21=\"\",\"\",'S5'!$T$21)","v":""},{"$f":"IF('S5'!$U$21=\"\",\"\",'S5'!$U$21)","v":""},{"$f":"IF('S5'!$V$21=\"\",\"\",'S5'!$V$21)","v":""},{"$f":"IF('S5'!$W$21=\"\",\"\",'S5'!$W$21)","v":""},{"$f":"IF('S5'!$X$21=\"\",\"\",'S5'!$X$21)","v":""},{"$f":"IF('S5'!$Y$21=\"\",\"\",'S5'!$Y$21)","v":""},{"$f":"IF('S5'!$Z$21=\"\",\"\",'S5'!$Z$21)","v":""},null,{"$f":"IF(VLOOKUP(B168,'S5'!$B$23:$Z$57,2,FALSE)=\"\",\"\",CONCATENATE(VLOOKUP(B168,'S5'!$B$23:$Z$57,2,FALSE),\" \",VLOOKUP(B168,'S5'!$B$23:$Z$57,3,FALSE)))","v":"- "},null,null,null,null,{"$f":"IF('S5'!$Q$18=\"\",\"\",\"von\")","v":""},null,null,{"$f":"IF('S5'!$Q$21=\"\",\"\",'S5'!$Q$21)","v":""},{"$f":"IF('S5'!$R$21=\"\",\"\",'S5'!$R$21)","v":""},{"$f":"IF('S5'!$S$21=\"\",\"\",'S5'!$S$21)","v":""},{"$f":"IF('S5'!$T$21=\"\",\"\",'S5'!$T$21)","v":""},{"$f":"IF('S5'!$U$21=\"\",\"\",'S5'!$U$21)","v":""},{"$f":"IF('S5'!$V$21=\"\",\"\",'S5'!$V$21)","v":""},{"$f":"IF('S5'!$W$21=\"\",\"\",'S5'!$W$21)","v":""},{"$f":"IF('S5'!$X$21=\"\",\"\",'S5'!$X$21)","v":""},{"$f":"IF('S5'!$Y$21=\"\",\"\",'S5'!$Y$21)","v":""},{"$f":"IF('S5'!$Z$21=\"\",\"\",'S5'!$Z$21)","v":""},null,{"$f":"IF(VLOOKUP(U168,'S5'!$B$23:$Z$57,2,FALSE)=\"\",\"\",CONCATENATE(VLOOKUP(U168,'S5'!$B$23:$Z$57,2,FALSE),\" \",VLOOKUP(U168,'S5'!$B$23:$Z$57,3,FALSE)))","v":"- "}]
[]
[]
[]
[null,{"$f":"'S5'!$B$53","v":""},null,null,null,null,null,null,null,null,null,null,null,null,null,null,null,null,null,null,{"$f":"'S5'!$B$54","v":""}]
[null,null,null,null,null,null,null,null,null,null,null,null,null,null,null,"Summe",null,null,null,null,null,null,null,null,null,null,null,null,null,null,null,null,null,null,"Summe"]
[null,"Aufgabe",null,null,{"$f":"IF('S5'!$G$18=\"\",\"\",'S5'!$G$18)","v":1},{"$f":"IF('S5'!$H$18=\"\",\"\",'S5'!$H$18)","v":2},{"$f":"IF('S5'!$I$18=\"\",\"\",'S5'!$I$18)","v":3},{"$f":"IF('S5'!$J$18=\"\",\"\",'S5'!$J$18)","v":""},{"$f":"IF('S5'!$K$18=\"\",\"\",'S5'!$K$18)","v":""},{"$f":"IF('S5'!$L$18=\"\",\"\",'S5'!$L$18)","v":""},{"$f":"IF('S5'!$M$18=\"\",\"\",'S5'!$M$18)","v":""},{"$f":"IF('S5'!$N$18=\"\",\"\",'S5'!$N$18)","v":""},{"$f":"IF('S5'!$O$18=\"\",\"\",'S5'!$O$18)","v":""},{"$f":"IF('S5'!$P$18=\"\",\"\",'S5'!$P$18)","v":""},null,{"$f":"IF(VLOOKUP(B180,'S5'!$B$23:$Z$57,5,FALSE)=\"\",\"\",VLOOKUP(B180,'S5'!$B$23:$Z$57,5,FALSE))","v":0},null,null,null,null,"Aufgabe",null,null,{"$f":"IF('S5'!$G$18=\"\",\"\",'S5'!$G$18)","v":1},{"$f":"IF('S5'!$H$18=\"\",\"\",'S5'!$H$18)","v":2},{"$f":"IF('S5'!$I$18=\"\",\"\",'S5'!$I$18)","v":3},{"$f":"IF('S5'!$J$18=\"\",\"\",'S5'!$J$18)","v":""},{"$f":"IF('S5'!$K$18=\"\",\"\",'S5'!$K$18)","v":""},{"$f":"IF('S5'!$L$18=\"\",\"\",'S5'!$L$18)","v":""},{"$f":"IF('S5'!$M$18=\"\",\"\",'S5'!$M$18)","v":""},{"$f":"IF('S5'!$N$18=\"\",\"\",'S5'!$N$18)","v":""},{"$f":"IF('S5'!$O$18=\"\",\"\",'S5'!$O$18)","v":""},{"$f":"IF('S5'!$P$18=\"\",\"\",'S5'!$P$18)","v":""},null,{"$f":"IF(VLOOKUP(U180,'S5'!$B$23:$Z$57,5,FALSE)=\"\",\"\",VLOOKUP(U180,'S5'!$B$23:$Z$57,5,FALSE))","v":0}]
[null,"erreicht",null,null,{"$f":"IF(VLOOKUP(B180,'S5'!$B$23:$Z$57,6,FALSE)=\"\",\"\",VLOOKUP(B180,'S5'!$B$23:$Z$57,6,FALSE))","v":"."},{"$f":"IF(VLOOKUP(B180,'S5'!$B$23:$Z$57,7,FALSE)=\"\",\"\",VLOOKUP(B180,'S5'!$B$23:$Z$57,7,FALSE))","v":""},{"$f":"IF(VLOOKUP(B180,'S5'!$B$23:$Z$57,8,FALSE)=\"\",\"\",VLOOKUP(B180,'S5'!$B$23:$Z$57,8,FALSE))","v":""},{"$f":"IF(VLOOKUP(B180,'S5'!$B$23:$Z$57,9,FALSE)=\"\",\"\",VLOOKUP(B180,'S5'!$B$23:$Z$57,9,FALSE))","v":""},{"$f":"IF(VLOOKUP(B180,'S5'!$B$23:$Z$57,10,FALSE)=\"\",\"\",VLOOKUP(B180,'S5'!$B$23:$Z$57,10,FALSE))","v":""},{"$f":"IF(VLOOKUP(B180,'S5'!$B$23:$Z$57,11,FALSE)=\"\",\"\",VLOOKUP(B180,'S5'!$B$23:$Z$57,11,FALSE))","v":""},{"$f":"IF(VLOOKUP(B180,'S5'!$B$23:$Z$57,12,FALSE)=\"\",\"\",VLOOKUP(B180,'S5'!$B$23:$Z$57,12,FALSE))","v":""},{"$f":"IF(VLOOKUP(B180,'S5'!$B$23:$Z$57,13,FALSE)=\"\",\"\",VLOOKUP(B180,'S5'!$B$23:$Z$57,13,FALSE))","v":""},{"$f":"IF(VLOOKUP(B180,'S5'!$B$23:$Z$57,14,FALSE)=\"\",\"\",VLOOKUP(B180,'S5'!$B$23:$Z$57,14,FALSE))","v":""},{"$f":"IF(VLOOKUP(B180,'S5'!$B$23:$Z$57,15,FALSE)=\"\",\"\",VLOOKUP(B180,'S5'!$B$23:$Z$57,15,FALSE))","v":""},null,null,null,null,null,null,"erreicht",null,null,{"$f":"IF(VLOOKUP(U180,'S5'!$B$23:$Z$57,6,FALSE)=\"\",\"\",VLOOKUP(U180,'S5'!$B$23:$Z$57,6,FALSE))","v":"."},{"$f":"IF(VLOOKUP(U180,'S5'!$B$23:$Z$57,7,FALSE)=\"\",\"\",VLOOKUP(U180,'S5'!$B$23:$Z$57,7,FALSE))","v":""},{"$f":"IF(VLOOKUP(U180,'S5'!$B$23:$Z$57,8,FALSE)=\"\",\"\",VLOOKUP(U180,'S5'!$B$23:$Z$57,8,FALSE))","v":""},{"$f":"IF(VLOOKUP(U180,'S5'!$B$23:$Z$57,9,FALSE)=\"\",\"\",VLOOKUP(U180,'S5'!$B$23:$Z$57,9,FALSE))","v":""},{"$f":"IF(VLOOKUP(U180,'S5'!$B$23:$Z$57,10,FALSE)=\"\",\"\",VLOOKUP(U180,'S5'!$B$23:$Z$57,10,FALSE))","v":""},{"$f":"IF(VLOOKUP(U180,'S5'!$B$23:$Z$57,11,FALSE)=\"\",\"\",VLOOKUP(U180,'S5'!$B$23:$Z$57,11,FALSE))","v":""},{"$f":"IF(VLOOKUP(U180,'S5'!$B$23:$Z$57,12,FALSE)=\"\",\"\",VLOOKUP(U180,'S5'!$B$23:$Z$57,12,FALSE))","v":""},{"$f":"IF(VLOOKUP(U180,'S5'!$B$23:$Z$57,13,FALSE)=\"\",\"\",VLOOKUP(U180,'S5'!$B$23:$Z$57,13,FALSE))","v":""},{"$f":"IF(VLOOKUP(U180,'S5'!$B$23:$Z$57,14,FALSE)=\"\",\"\",VLOOKUP(U180,'S5'!$B$23:$Z$57,14,FALSE))","v":""},{"$f":"IF(VLOOKUP(U180,'S5'!$B$23:$Z$57,15,FALSE)=\"\",\"\",VLOOKUP(U180,'S5'!$B$23:$Z$57,15,FALSE))","v":""}]
[null,"von",null,null,{"$f":"IF('S5'!$G$21=\"\",\"\",'S5'!$G$21)","v":""},{"$f":"IF('S5'!$H$21=\"\",\"\",'S5'!$H$21)","v":""},{"$f":"IF('S5'!$I$21=\"\",\"\",'S5'!$I$21)","v":""},{"$f":"IF('S5'!$J$21=\"\",\"\",'S5'!$J$21)","v":""},{"$f":"IF('S5'!$K$21=\"\",\"\",'S5'!$K$21)","v":""},{"$f":"IF('S5'!$L$21=\"\",\"\",'S5'!$L$21)","v":""},{"$f":"IF('S5'!$M$21=\"\",\"\",'S5'!$M$21)","v":""},{"$f":"IF('S5'!$N$21=\"\",\"\",'S5'!$N$21)","v":""},{"$f":"IF('S5'!$O$21=\"\",\"\",'S5'!$O$21)","v":""},{"$f":"IF('S5'!$P$21=\"\",\"\",'S5'!$P$21)","v":""},null,"von",null,null,null,null,"von",null,null,{"$f":"IF('S5'!$G$21=\"\",\"\",'S5'!$G$21)","v":""},{"$f":"IF('S5'!$H$21=\"\",\"\",'S5'!$H$21)","v":""},{"$f":"IF('S5'!$I$21=\"\",\"\",'S5'!$I$21)","v":""},{"$f":"IF('S5'!$J$21=\"\",\"\",'S5'!$J$21)","v":""},{"$f":"IF('S5'!$K$21=\"\",\"\",'S5'!$K$21)","v":""},{"$f":"IF('S5'!$L$21=\"\",\"\",'S5'!$L$21)","v":""},{"$f":"IF('S5'!$M$21=\"\",\"\",'S5'!$M$21)","v":""},{"$f":"IF('S5'!$N$21=\"\",\"\",'S5'!$N$21)","v":""},{"$f":"IF('S5'!$O$21=\"\",\"\",'S5'!$O$21)","v":""},{"$f":"IF('S5'!$P$21=\"\",\"\",'S5'!$P$21)","v":""},null,"von"]
[null,null,null,null,null,null,null,null,null,null,null,null,null,null,null,{"$f":"'S5'!$H$12","v":0},null,null,null,null,null,null,null,null,null,null,null,null,null,null,null,null,null,null,{"$f":"'S5'!$H$12","v":0}]
[null,{"$f":"IF('S5'!$Q$18=\"\",\"\",\"Aufgabe\")","v":""},null,null,{"$f":"IF('S5'!$Q$18=\"\",\"\",'S5'!$Q$18)","v":""},{"$f":"IF('S5'!$R$18=\"\",\"\",'S5'!$R$18)","v":""},{"$f":"IF('S5'!$S$18=\"\",\"\",'S5'!$S$18)","v":""},{"$f":"IF('S5'!$T$18=\"\",\"\",'S5'!$T$18)","v":""},{"$f":"IF('S5'!$U$18=\"\",\"\",'S5'!$U$18)","v":""},{"$f":"IF('S5'!$V$18=\"\",\"\",'S5'!$V$18)","v":""},{"$f":"IF('S5'!$W$18=\"\",\"\",'S5'!$W$18)","v":""},{"$f":"IF('S5'!$X$18=\"\",\"\",'S5'!$X$18)","v":""},{"$f":"IF('S5'!$Y$18=\"\",\"\",'S5'!$Y$18)","v":""},{"$f":"IF('S5'!$Z$18=\"\",\"\",'S5'!$Z$18)","v":""},null,null,null,null,null,null,{"$f":"IF('S5'!$Q$18=\"\",\"\",\"Aufgabe\")","v":""},null,null,{"$f":"IF('S5'!$Q$18=\"\",\"\",'S5'!$Q$18)","v":""},{"$f":"IF('S5'!$R$18=\"\",\"\",'S5'!$R$18)","v":""},{"$f":"IF('S5'!$S$18=\"\",\"\",'S5'!$S$18)","v":""},{"$f":"IF('S5'!$T$18=\"\",\"\",'S5'!$T$18)","v":""},{"$f":"IF('S5'!$U$18=\"\",\"\",'S5'!$U$18)","v":""},{"$f":"IF('S5'!$V$18=\"\",\"\",'S5'!$V$18)","v":""},{"$f":"IF('S5'!$W$18=\"\",\"\",'S5'!$W$18)","v":""},{"$f":"IF('S5'!$X$18=\"\",\"\",'S5'!$X$18)","v":""},{"$f":"IF('S5'!$Y$18=\"\",\"\",'S5'!$Y$18)","v":""},{"$f":"IF('S5'!$Z$18=\"\",\"\",'S5'!$Z$18)","v":""}]
[null,{"$f":"IF('S5'!$Q$18=\"\",\"\",\"erreicht\")","v":""},null,null,{"$f":"IF(VLOOKUP(B180,'S5'!$B$23:$Z$57,16,FALSE)=\"\",\"\",VLOOKUP(B180,'S5'!$B$23:$Z$57,16,FALSE))","v":""},{"$f":"IF(VLOOKUP(B180,'S5'!$B$23:$Z$57,17,FALSE)=\"\",\"\",VLOOKUP(B180,'S5'!$B$23:$Z$57,17,FALSE))","v":""},{"$f":"IF(VLOOKUP(B180,'S5'!$B$23:$Z$57,18,FALSE)=\"\",\"\",VLOOKUP(B180,'S5'!$B$23:$Z$57,18,FALSE))","v":""},{"$f":"IF(VLOOKUP(B180,'S5'!$B$23:$Z$57,19,FALSE)=\"\",\"\",VLOOKUP(B180,'S5'!$B$23:$Z$57,19,FALSE))","v":""},{"$f":"IF(VLOOKUP(B180,'S5'!$B$23:$Z$57,20,FALSE)=\"\",\"\",VLOOKUP(B180,'S5'!$B$23:$Z$57,20,FALSE))","v":""},{"$f":"IF(VLOOKUP(B180,'S5'!$B$23:$Z$57,21,FALSE)=\"\",\"\",VLOOKUP(B180,'S5'!$B$23:$Z$57,21,FALSE))","v":""},{"$f":"IF(VLOOKUP(B180,'S5'!$B$23:$Z$57,22,FALSE)=\"\",\"\",VLOOKUP(B180,'S5'!$B$23:$Z$57,22,FALSE))","v":""},{"$f":"IF(VLOOKUP(B180,'S5'!$B$23:$Z$57,23,FALSE)=\"\",\"\",VLOOKUP(B180,'S5'!$B$23:$Z$57,23,FALSE))","v":""},{"$f":"IF(VLOOKUP(B180,'S5'!$B$23:$Z$57,24,FALSE)=\"\",\"\",VLOOKUP(B180,'S5'!$B$23:$Z$57,24,FALSE))","v":""},{"$f":"IF(VLOOKUP(B180,'S5'!$B$23:$Z$57,25,FALSE)=\"\",\"\",VLOOKUP(B180,'S5'!$B$23:$Z$57,25,FALSE))","v":""},null,"Note",null,null,null,null,{"$f":"IF('S5'!$Q$18=\"\",\"\",\"erreicht\")","v":""},null,null,{"$f":"IF(VLOOKUP(U180,'S5'!$B$23:$Z$57,16,FALSE)=\"\",\"\",VLOOKUP(U180,'S5'!$B$23:$Z$57,16,FALSE))","v":""},{"$f":"IF(VLOOKUP(U180,'S5'!$B$23:$Z$57,17,FALSE)=\"\",\"\",VLOOKUP(U180,'S5'!$B$23:$Z$57,17,FALSE))","v":""},{"$f":"IF(VLOOKUP(U180,'S5'!$B$23:$Z$57,18,FALSE)=\"\",\"\",VLOOKUP(U180,'S5'!$B$23:$Z$57,18,FALSE))","v":""},{"$f":"IF(VLOOKUP(U180,'S5'!$B$23:$Z$57,19,FALSE)=\"\",\"\",VLOOKUP(U180,'S5'!$B$23:$Z$57,19,FALSE))","v":""},{"$f":"IF(VLOOKUP(U180,'S5'!$B$23:$Z$57,20,FALSE)=\"\",\"\",VLOOKUP(U180,'S5'!$B$23:$Z$57,20,FALSE))","v":""},{"$f":"IF(VLOOKUP(U180,'S5'!$B$23:$Z$57,21,FALSE)=\"\",\"\",VLOOKUP(U180,'S5'!$B$23:$Z$57,21,FALSE))","v":""},{"$f":"IF(VLOOKUP(U180,'S5'!$B$23:$Z$57,22,FALSE)=\"\",\"\",VLOOKUP(U180,'S5'!$B$23:$Z$57,22,FALSE))","v":""},{"$f":"IF(VLOOKUP(U180,'S5'!$B$23:$Z$57,23,FALSE)=\"\",\"\",VLOOKUP(U180,'S5'!$B$23:$Z$57,23,FALSE))","v":""},{"$f":"IF(VLOOKUP(U180,'S5'!$B$23:$Z$57,24,FALSE)=\"\",\"\",VLOOKUP(U180,'S5'!$B$23:$Z$57,24,FALSE))","v":""},{"$f":"IF(VLOOKUP(U180,'S5'!$B$23:$Z$57,25,FALSE)=\"\",\"\",VLOOKUP(U180,'S5'!$B$23:$Z$57,25,FALSE))","v":""},null,"Note"]
[null,{"$f":"IF('S5'!$Q$18=\"\",\"\",\"von\")","v":""},null,null,{"$f":"IF('S5'!$Q$21=\"\",\"\",'S5'!$Q$21)","v":""},{"$f":"IF('S5'!$R$21=\"\",\"\",'S5'!$R$21)","v":""},{"$f":"IF('S5'!$S$21=\"\",\"\",'S5'!$S$21)","v":""},{"$f":"IF('S5'!$T$21=\"\",\"\",'S5'!$T$21)","v":""},{"$f":"IF('S5'!$U$21=\"\",\"\",'S5'!$U$21)","v":""},{"$f":"IF('S5'!$V$21=\"\",\"\",'S5'!$V$21)","v":""},{"$f":"IF('S5'!$W$21=\"\",\"\",'S5'!$W$21)","v":""},{"$f":"IF('S5'!$X$21=\"\",\"\",'S5'!$X$21)","v":""},{"$f":"IF('S5'!$Y$21=\"\",\"\",'S5'!$Y$21)","v":""},{"$f":"IF('S5'!$Z$21=\"\",\"\",'S5'!$Z$21)","v":""},null,{"$f":"IF(VLOOKUP(B180,'S5'!$B$23:$Z$57,2,FALSE)=\"\",\"\",CONCATENATE(VLOOKUP(B180,'S5'!$B$23:$Z$57,2,FALSE),\" \",VLOOKUP(B180,'S5'!$B$23:$Z$57,3,FALSE)))","v":"- "},null,null,null,null,{"$f":"IF('S5'!$Q$18=\"\",\"\",\"von\")","v":""},null,null,{"$f":"IF('S5'!$Q$21=\"\",\"\",'S5'!$Q$21)","v":""},{"$f":"IF('S5'!$R$21=\"\",\"\",'S5'!$R$21)","v":""},{"$f":"IF('S5'!$S$21=\"\",\"\",'S5'!$S$21)","v":""},{"$f":"IF('S5'!$T$21=\"\",\"\",'S5'!$T$21)","v":""},{"$f":"IF('S5'!$U$21=\"\",\"\",'S5'!$U$21)","v":""},{"$f":"IF('S5'!$V$21=\"\",\"\",'S5'!$V$21)","v":""},{"$f":"IF('S5'!$W$21=\"\",\"\",'S5'!$W$21)","v":""},{"$f":"IF('S5'!$X$21=\"\",\"\",'S5'!$X$21)","v":""},{"$f":"IF('S5'!$Y$21=\"\",\"\",'S5'!$Y$21)","v":""},{"$f":"IF('S5'!$Z$21=\"\",\"\",'S5'!$Z$21)","v":""},null,{"$f":"IF(VLOOKUP(U180,'S5'!$B$23:$Z$57,2,FALSE)=\"\",\"\",CONCATENATE(VLOOKUP(U180,'S5'!$B$23:$Z$57,2,FALSE),\" \",VLOOKUP(U180,'S5'!$B$23:$Z$57,3,FALSE)))","v":"- "}]
[]
[]
[]
[null,{"$f":"'S5'!$B$55","v":""},null,null,null,null,null,null,null,null,null,null,null,null,null,null,null,null,null,null,{"$f":"'S5'!$B$56","v":""}]
[null,null,null,null,null,null,null,null,null,null,null,null,null,null,null,"Summe",null,null,null,null,null,null,null,null,null,null,null,null,null,null,null,null,null,null,"Summe"]
[null,"Aufgabe",null,null,{"$f":"IF('S5'!$G$18=\"\",\"\",'S5'!$G$18)","v":1},{"$f":"IF('S5'!$H$18=\"\",\"\",'S5'!$H$18)","v":2},{"$f":"IF('S5'!$I$18=\"\",\"\",'S5'!$I$18)","v":3},{"$f":"IF('S5'!$J$18=\"\",\"\",'S5'!$J$18)","v":""},{"$f":"IF('S5'!$K$18=\"\",\"\",'S5'!$K$18)","v":""},{"$f":"IF('S5'!$L$18=\"\",\"\",'S5'!$L$18)","v":""},{"$f":"IF('S5'!$M$18=\"\",\"\",'S5'!$M$18)","v":""},{"$f":"IF('S5'!$N$18=\"\",\"\",'S5'!$N$18)","v":""},{"$f":"IF('S5'!$O$18=\"\",\"\",'S5'!$O$18)","v":""},{"$f":"IF('S5'!$P$18=\"\",\"\",'S5'!$P$18)","v":""},null,{"$f":"IF(VLOOKUP(B192,'S5'!$B$23:$Z$57,5,FALSE)=\"\",\"\",VLOOKUP(B192,'S5'!$B$23:$Z$57,5,FALSE))","v":0},null,null,null,null,"Aufgabe",null,null,{"$f":"IF('S5'!$G$18=\"\",\"\",'S5'!$G$18)","v":1},{"$f":"IF('S5'!$H$18=\"\",\"\",'S5'!$H$18)","v":2},{"$f":"IF('S5'!$I$18=\"\",\"\",'S5'!$I$18)","v":3},{"$f":"IF('S5'!$J$18=\"\",\"\",'S5'!$J$18)","v":""},{"$f":"IF('S5'!$K$18=\"\",\"\",'S5'!$K$18)","v":""},{"$f":"IF('S5'!$L$18=\"\",\"\",'S5'!$L$18)","v":""},{"$f":"IF('S5'!$M$18=\"\",\"\",'S5'!$M$18)","v":""},{"$f":"IF('S5'!$N$18=\"\",\"\",'S5'!$N$18)","v":""},{"$f":"IF('S5'!$O$18=\"\",\"\",'S5'!$O$18)","v":""},{"$f":"IF('S5'!$P$18=\"\",\"\",'S5'!$P$18)","v":""},null,{"$f":"IF(VLOOKUP(U192,'S5'!$B$23:$Z$57,5,FALSE)=\"\",\"\",VLOOKUP(U192,'S5'!$B$23:$Z$57,5,FALSE))","v":0}]
[null,"erreicht",null,null,{"$f":"IF(VLOOKUP(B192,'S5'!$B$23:$Z$57,6,FALSE)=\"\",\"\",VLOOKUP(B192,'S5'!$B$23:$Z$57,6,FALSE))","v":"."},{"$f":"IF(VLOOKUP(B192,'S5'!$B$23:$Z$57,7,FALSE)=\"\",\"\",VLOOKUP(B192,'S5'!$B$23:$Z$57,7,FALSE))","v":""},{"$f":"IF(VLOOKUP(B192,'S5'!$B$23:$Z$57,8,FALSE)=\"\",\"\",VLOOKUP(B192,'S5'!$B$23:$Z$57,8,FALSE))","v":""},{"$f":"IF(VLOOKUP(B192,'S5'!$B$23:$Z$57,9,FALSE)=\"\",\"\",VLOOKUP(B192,'S5'!$B$23:$Z$57,9,FALSE))","v":""},{"$f":"IF(VLOOKUP(B192,'S5'!$B$23:$Z$57,10,FALSE)=\"\",\"\",VLOOKUP(B192,'S5'!$B$23:$Z$57,10,FALSE))","v":""},{"$f":"IF(VLOOKUP(B192,'S5'!$B$23:$Z$57,11,FALSE)=\"\",\"\",VLOOKUP(B192,'S5'!$B$23:$Z$57,11,FALSE))","v":""},{"$f":"IF(VLOOKUP(B192,'S5'!$B$23:$Z$57,12,FALSE)=\"\",\"\",VLOOKUP(B192,'S5'!$B$23:$Z$57,12,FALSE))","v":""},{"$f":"IF(VLOOKUP(B192,'S5'!$B$23:$Z$57,13,FALSE)=\"\",\"\",VLOOKUP(B192,'S5'!$B$23:$Z$57,13,FALSE))","v":""},{"$f":"IF(VLOOKUP(B192,'S5'!$B$23:$Z$57,14,FALSE)=\"\",\"\",VLOOKUP(B192,'S5'!$B$23:$Z$57,14,FALSE))","v":""},{"$f":"IF(VLOOKUP(B192,'S5'!$B$23:$Z$57,15,FALSE)=\"\",\"\",VLOOKUP(B192,'S5'!$B$23:$Z$57,15,FALSE))","v":""},null,null,null,null,null,null,"erreicht",null,null,{"$f":"IF(VLOOKUP(U192,'S5'!$B$23:$Z$57,6,FALSE)=\"\",\"\",VLOOKUP(U192,'S5'!$B$23:$Z$57,6,FALSE))","v":"."},{"$f":"IF(VLOOKUP(U192,'S5'!$B$23:$Z$57,7,FALSE)=\"\",\"\",VLOOKUP(U192,'S5'!$B$23:$Z$57,7,FALSE))","v":""},{"$f":"IF(VLOOKUP(U192,'S5'!$B$23:$Z$57,8,FALSE)=\"\",\"\",VLOOKUP(U192,'S5'!$B$23:$Z$57,8,FALSE))","v":""},{"$f":"IF(VLOOKUP(U192,'S5'!$B$23:$Z$57,9,FALSE)=\"\",\"\",VLOOKUP(U192,'S5'!$B$23:$Z$57,9,FALSE))","v":""},{"$f":"IF(VLOOKUP(U192,'S5'!$B$23:$Z$57,10,FALSE)=\"\",\"\",VLOOKUP(U192,'S5'!$B$23:$Z$57,10,FALSE))","v":""},{"$f":"IF(VLOOKUP(U192,'S5'!$B$23:$Z$57,11,FALSE)=\"\",\"\",VLOOKUP(U192,'S5'!$B$23:$Z$57,11,FALSE))","v":""},{"$f":"IF(VLOOKUP(U192,'S5'!$B$23:$Z$57,12,FALSE)=\"\",\"\",VLOOKUP(U192,'S5'!$B$23:$Z$57,12,FALSE))","v":""},{"$f":"IF(VLOOKUP(U192,'S5'!$B$23:$Z$57,13,FALSE)=\"\",\"\",VLOOKUP(U192,'S5'!$B$23:$Z$57,13,FALSE))","v":""},{"$f":"IF(VLOOKUP(U192,'S5'!$B$23:$Z$57,14,FALSE)=\"\",\"\",VLOOKUP(U192,'S5'!$B$23:$Z$57,14,FALSE))","v":""},{"$f":"IF(VLOOKUP(U192,'S5'!$B$23:$Z$57,15,FALSE)=\"\",\"\",VLOOKUP(U192,'S5'!$B$23:$Z$57,15,FALSE))","v":""}]
[null,"von",null,null,{"$f":"IF('S5'!$G$21=\"\",\"\",'S5'!$G$21)","v":""},{"$f":"IF('S5'!$H$21=\"\",\"\",'S5'!$H$21)","v":""},{"$f":"IF('S5'!$I$21=\"\",\"\",'S5'!$I$21)","v":""},{"$f":"IF('S5'!$J$21=\"\",\"\",'S5'!$J$21)","v":""},{"$f":"IF('S5'!$K$21=\"\",\"\",'S5'!$K$21)","v":""},{"$f":"IF('S5'!$L$21=\"\",\"\",'S5'!$L$21)","v":""},{"$f":"IF('S5'!$M$21=\"\",\"\",'S5'!$M$21)","v":""},{"$f":"IF('S5'!$N$21=\"\",\"\",'S5'!$N$21)","v":""},{"$f":"IF('S5'!$O$21=\"\",\"\",'S5'!$O$21)","v":""},{"$f":"IF('S5'!$P$21=\"\",\"\",'S5'!$P$21)","v":""},null,"von",null,null,null,null,"von",null,null,{"$f":"IF('S5'!$G$21=\"\",\"\",'S5'!$G$21)","v":""},{"$f":"IF('S5'!$H$21=\"\",\"\",'S5'!$H$21)","v":""},{"$f":"IF('S5'!$I$21=\"\",\"\",'S5'!$I$21)","v":""},{"$f":"IF('S5'!$J$21=\"\",\"\",'S5'!$J$21)","v":""},{"$f":"IF('S5'!$K$21=\"\",\"\",'S5'!$K$21)","v":""},{"$f":"IF('S5'!$L$21=\"\",\"\",'S5'!$L$21)","v":""},{"$f":"IF('S5'!$M$21=\"\",\"\",'S5'!$M$21)","v":""},{"$f":"IF('S5'!$N$21=\"\",\"\",'S5'!$N$21)","v":""},{"$f":"IF('S5'!$O$21=\"\",\"\",'S5'!$O$21)","v":""},{"$f":"IF('S5'!$P$21=\"\",\"\",'S5'!$P$21)","v":""},null,"von"]
[null,null,null,null,null,null,null,null,null,null,null,null,null,null,null,{"$f":"'S5'!$H$12","v":0},null,null,null,null,null,null,null,null,null,null,null,null,null,null,null,null,null,null,{"$f":"'S5'!$H$12","v":0}]
[null,{"$f":"IF('S5'!$Q$18=\"\",\"\",\"Aufgabe\")","v":""},null,null,{"$f":"IF('S5'!$Q$18=\"\",\"\",'S5'!$Q$18)","v":""},{"$f":"IF('S5'!$R$18=\"\",\"\",'S5'!$R$18)","v":""},{"$f":"IF('S5'!$S$18=\"\",\"\",'S5'!$S$18)","v":""},{"$f":"IF('S5'!$T$18=\"\",\"\",'S5'!$T$18)","v":""},{"$f":"IF('S5'!$U$18=\"\",\"\",'S5'!$U$18)","v":""},{"$f":"IF('S5'!$V$18=\"\",\"\",'S5'!$V$18)","v":""},{"$f":"IF('S5'!$W$18=\"\",\"\",'S5'!$W$18)","v":""},{"$f":"IF('S5'!$X$18=\"\",\"\",'S5'!$X$18)","v":""},{"$f":"IF('S5'!$Y$18=\"\",\"\",'S5'!$Y$18)","v":""},{"$f":"IF('S5'!$Z$18=\"\",\"\",'S5'!$Z$18)","v":""},null,null,null,null,null,null,{"$f":"IF('S5'!$Q$18=\"\",\"\",\"Aufgabe\")","v":""},null,null,{"$f":"IF('S5'!$Q$18=\"\",\"\",'S5'!$Q$18)","v":""},{"$f":"IF('S5'!$R$18=\"\",\"\",'S5'!$R$18)","v":""},{"$f":"IF('S5'!$S$18=\"\",\"\",'S5'!$S$18)","v":""},{"$f":"IF('S5'!$T$18=\"\",\"\",'S5'!$T$18)","v":""},{"$f":"IF('S5'!$U$18=\"\",\"\",'S5'!$U$18)","v":""},{"$f":"IF('S5'!$V$18=\"\",\"\",'S5'!$V$18)","v":""},{"$f":"IF('S5'!$W$18=\"\",\"\",'S5'!$W$18)","v":""},{"$f":"IF('S5'!$X$18=\"\",\"\",'S5'!$X$18)","v":""},{"$f":"IF('S5'!$Y$18=\"\",\"\",'S5'!$Y$18)","v":""},{"$f":"IF('S5'!$Z$18=\"\",\"\",'S5'!$Z$18)","v":""}]
[null,{"$f":"IF('S5'!$Q$18=\"\",\"\",\"erreicht\")","v":""},null,null,{"$f":"IF(VLOOKUP(B192,'S5'!$B$23:$Z$57,16,FALSE)=\"\",\"\",VLOOKUP(B192,'S5'!$B$23:$Z$57,16,FALSE))","v":""},{"$f":"IF(VLOOKUP(B192,'S5'!$B$23:$Z$57,17,FALSE)=\"\",\"\",VLOOKUP(B192,'S5'!$B$23:$Z$57,17,FALSE))","v":""},{"$f":"IF(VLOOKUP(B192,'S5'!$B$23:$Z$57,18,FALSE)=\"\",\"\",VLOOKUP(B192,'S5'!$B$23:$Z$57,18,FALSE))","v":""},{"$f":"IF(VLOOKUP(B192,'S5'!$B$23:$Z$57,19,FALSE)=\"\",\"\",VLOOKUP(B192,'S5'!$B$23:$Z$57,19,FALSE))","v":""},{"$f":"IF(VLOOKUP(B192,'S5'!$B$23:$Z$57,20,FALSE)=\"\",\"\",VLOOKUP(B192,'S5'!$B$23:$Z$57,20,FALSE))","v":""},{"$f":"IF(VLOOKUP(B192,'S5'!$B$23:$Z$57,21,FALSE)=\"\",\"\",VLOOKUP(B192,'S5'!$B$23:$Z$57,21,FALSE))","v":""},{"$f":"IF(VLOOKUP(B192,'S5'!$B$23:$Z$57,22,FALSE)=\"\",\"\",VLOOKUP(B192,'S5'!$B$23:$Z$57,22,FALSE))","v":""},{"$f":"IF(VLOOKUP(B192,'S5'!$B$23:$Z$57,23,FALSE)=\"\",\"\",VLOOKUP(B192,'S5'!$B$23:$Z$57,23,FALSE))","v":""},{"$f":"IF(VLOOKUP(B192,'S5'!$B$23:$Z$57,24,FALSE)=\"\",\"\",VLOOKUP(B192,'S5'!$B$23:$Z$57,24,FALSE))","v":""},{"$f":"IF(VLOOKUP(B192,'S5'!$B$23:$Z$57,25,FALSE)=\"\",\"\",VLOOKUP(B192,'S5'!$B$23:$Z$57,25,FALSE))","v":""},null,"Note",null,null,null,null,{"$f":"IF('S5'!$Q$18=\"\",\"\",\"erreicht\")","v":""},null,null,{"$f":"IF(VLOOKUP(U192,'S5'!$B$23:$Z$57,16,FALSE)=\"\",\"\",VLOOKUP(U192,'S5'!$B$23:$Z$57,16,FALSE))","v":""},{"$f":"IF(VLOOKUP(U192,'S5'!$B$23:$Z$57,17,FALSE)=\"\",\"\",VLOOKUP(U192,'S5'!$B$23:$Z$57,17,FALSE))","v":""},{"$f":"IF(VLOOKUP(U192,'S5'!$B$23:$Z$57,18,FALSE)=\"\",\"\",VLOOKUP(U192,'S5'!$B$23:$Z$57,18,FALSE))","v":""},{"$f":"IF(VLOOKUP(U192,'S5'!$B$23:$Z$57,19,FALSE)=\"\",\"\",VLOOKUP(U192,'S5'!$B$23:$Z$57,19,FALSE))","v":""},{"$f":"IF(VLOOKUP(U192,'S5'!$B$23:$Z$57,20,FALSE)=\"\",\"\",VLOOKUP(U192,'S5'!$B$23:$Z$57,20,FALSE))","v":""},{"$f":"IF(VLOOKUP(U192,'S5'!$B$23:$Z$57,21,FALSE)=\"\",\"\",VLOOKUP(U192,'S5'!$B$23:$Z$57,21,FALSE))","v":""},{"$f":"IF(VLOOKUP(U192,'S5'!$B$23:$Z$57,22,FALSE)=\"\",\"\",VLOOKUP(U192,'S5'!$B$23:$Z$57,22,FALSE))","v":""},{"$f":"IF(VLOOKUP(U192,'S5'!$B$23:$Z$57,23,FALSE)=\"\",\"\",VLOOKUP(U192,'S5'!$B$23:$Z$57,23,FALSE))","v":""},{"$f":"IF(VLOOKUP(U192,'S5'!$B$23:$Z$57,24,FALSE)=\"\",\"\",VLOOKUP(U192,'S5'!$B$23:$Z$57,24,FALSE))","v":""},{"$f":"IF(VLOOKUP(U192,'S5'!$B$23:$Z$57,25,FALSE)=\"\",\"\",VLOOKUP(U192,'S5'!$B$23:$Z$57,25,FALSE))","v":""},null,"Note"]
[null,{"$f":"IF('S5'!$Q$18=\"\",\"\",\"von\")","v":""},null,null,{"$f":"IF('S5'!$Q$21=\"\",\"\",'S5'!$Q$21)","v":""},{"$f":"IF('S5'!$R$21=\"\",\"\",'S5'!$R$21)","v":""},{"$f":"IF('S5'!$S$21=\"\",\"\",'S5'!$S$21)","v":""},{"$f":"IF('S5'!$T$21=\"\",\"\",'S5'!$T$21)","v":""},{"$f":"IF('S5'!$U$21=\"\",\"\",'S5'!$U$21)","v":""},{"$f":"IF('S5'!$V$21=\"\",\"\",'S5'!$V$21)","v":""},{"$f":"IF('S5'!$W$21=\"\",\"\",'S5'!$W$21)","v":""},{"$f":"IF('S5'!$X$21=\"\",\"\",'S5'!$X$21)","v":""},{"$f":"IF('S5'!$Y$21=\"\",\"\",'S5'!$Y$21)","v":""},{"$f":"IF('S5'!$Z$21=\"\",\"\",'S5'!$Z$21)","v":""},null,{"$f":"IF(VLOOKUP(B192,'S5'!$B$23:$Z$57,2,FALSE)=\"\",\"\",CONCATENATE(VLOOKUP(B192,'S5'!$B$23:$Z$57,2,FALSE),\" \",VLOOKUP(B192,'S5'!$B$23:$Z$57,3,FALSE)))","v":"- "},null,null,null,null,{"$f":"IF('S5'!$Q$18=\"\",\"\",\"von\")","v":""},null,null,{"$f":"IF('S5'!$Q$21=\"\",\"\",'S5'!$Q$21)","v":""},{"$f":"IF('S5'!$R$21=\"\",\"\",'S5'!$R$21)","v":""},{"$f":"IF('S5'!$S$21=\"\",\"\",'S5'!$S$21)","v":""},{"$f":"IF('S5'!$T$21=\"\",\"\",'S5'!$T$21)","v":""},{"$f":"IF('S5'!$U$21=\"\",\"\",'S5'!$U$21)","v":""},{"$f":"IF('S5'!$V$21=\"\",\"\",'S5'!$V$21)","v":""},{"$f":"IF('S5'!$W$21=\"\",\"\",'S5'!$W$21)","v":""},{"$f":"IF('S5'!$X$21=\"\",\"\",'S5'!$X$21)","v":""},{"$f":"IF('S5'!$Y$21=\"\",\"\",'S5'!$Y$21)","v":""},{"$f":"IF('S5'!$Z$21=\"\",\"\",'S5'!$Z$21)","v":""},null,{"$f":"IF(VLOOKUP(U192,'S5'!$B$23:$Z$57,2,FALSE)=\"\",\"\",CONCATENATE(VLOOKUP(U192,'S5'!$B$23:$Z$57,2,FALSE),\" \",VLOOKUP(U192,'S5'!$B$23:$Z$57,3,FALSE)))","v":"- "}]
[]
[]
[]
[null,{"$f":"'S5'!$B$57","v":""}]
[null,null,null,null,null,null,null,null,null,null,null,null,null,null,null,"Summe"]
[null,"Aufgabe",null,null,{"$f":"IF('S5'!$G$18=\"\",\"\",'S5'!$G$18)","v":1},{"$f":"IF('S5'!$H$18=\"\",\"\",'S5'!$H$18)","v":2},{"$f":"IF('S5'!$I$18=\"\",\"\",'S5'!$I$18)","v":3},{"$f":"IF('S5'!$J$18=\"\",\"\",'S5'!$J$18)","v":""},{"$f":"IF('S5'!$K$18=\"\",\"\",'S5'!$K$18)","v":""},{"$f":"IF('S5'!$L$18=\"\",\"\",'S5'!$L$18)","v":""},{"$f":"IF('S5'!$M$18=\"\",\"\",'S5'!$M$18)","v":""},{"$f":"IF('S5'!$N$18=\"\",\"\",'S5'!$N$18)","v":""},{"$f":"IF('S5'!$O$18=\"\",\"\",'S5'!$O$18)","v":""},{"$f":"IF('S5'!$P$18=\"\",\"\",'S5'!$P$18)","v":""},null,{"$f":"IF(VLOOKUP(B204,'S5'!$B$23:$Z$57,5,FALSE)=\"\",\"\",VLOOKUP(B204,'S5'!$B$23:$Z$57,5,FALSE))","v":0}]
[null,"erreicht",null,null,{"$f":"IF(VLOOKUP(B204,'S5'!$B$23:$Z$57,6,FALSE)=\"\",\"\",VLOOKUP(B204,'S5'!$B$23:$Z$57,6,FALSE))","v":"."},{"$f":"IF(VLOOKUP(B204,'S5'!$B$23:$Z$57,7,FALSE)=\"\",\"\",VLOOKUP(B204,'S5'!$B$23:$Z$57,7,FALSE))","v":""},{"$f":"IF(VLOOKUP(B204,'S5'!$B$23:$Z$57,8,FALSE)=\"\",\"\",VLOOKUP(B204,'S5'!$B$23:$Z$57,8,FALSE))","v":""},{"$f":"IF(VLOOKUP(B204,'S5'!$B$23:$Z$57,9,FALSE)=\"\",\"\",VLOOKUP(B204,'S5'!$B$23:$Z$57,9,FALSE))","v":""},{"$f":"IF(VLOOKUP(B204,'S5'!$B$23:$Z$57,10,FALSE)=\"\",\"\",VLOOKUP(B204,'S5'!$B$23:$Z$57,10,FALSE))","v":""},{"$f":"IF(VLOOKUP(B204,'S5'!$B$23:$Z$57,11,FALSE)=\"\",\"\",VLOOKUP(B204,'S5'!$B$23:$Z$57,11,FALSE))","v":""},{"$f":"IF(VLOOKUP(B204,'S5'!$B$23:$Z$57,12,FALSE)=\"\",\"\",VLOOKUP(B204,'S5'!$B$23:$Z$57,12,FALSE))","v":""},{"$f":"IF(VLOOKUP(B204,'S5'!$B$23:$Z$57,13,FALSE)=\"\",\"\",VLOOKUP(B204,'S5'!$B$23:$Z$57,13,FALSE))","v":""},{"$f":"IF(VLOOKUP(B204,'S5'!$B$23:$Z$57,14,FALSE)=\"\",\"\",VLOOKUP(B204,'S5'!$B$23:$Z$57,14,FALSE))","v":""},{"$f":"IF(VLOOKUP(B204,'S5'!$B$23:$Z$57,15,FALSE)=\"\",\"\",VLOOKUP(B204,'S5'!$B$23:$Z$57,15,FALSE))","v":""}]
[null,"von",null,null,{"$f":"IF('S5'!$G$21=\"\",\"\",'S5'!$G$21)","v":""},{"$f":"IF('S5'!$H$21=\"\",\"\",'S5'!$H$21)","v":""},{"$f":"IF('S5'!$I$21=\"\",\"\",'S5'!$I$21)","v":""},{"$f":"IF('S5'!$J$21=\"\",\"\",'S5'!$J$21)","v":""},{"$f":"IF('S5'!$K$21=\"\",\"\",'S5'!$K$21)","v":""},{"$f":"IF('S5'!$L$21=\"\",\"\",'S5'!$L$21)","v":""},{"$f":"IF('S5'!$M$21=\"\",\"\",'S5'!$M$21)","v":""},{"$f":"IF('S5'!$N$21=\"\",\"\",'S5'!$N$21)","v":""},{"$f":"IF('S5'!$O$21=\"\",\"\",'S5'!$O$21)","v":""},{"$f":"IF('S5'!$P$21=\"\",\"\",'S5'!$P$21)","v":""},null,"von"]
[null,null,null,null,null,null,null,null,null,null,null,null,null,null,null,{"$f":"'S5'!$H$12","v":0}]
[null,{"$f":"IF('S5'!$Q$18=\"\",\"\",\"Aufgabe\")","v":""},null,null,{"$f":"IF('S5'!$Q$18=\"\",\"\",'S5'!$Q$18)","v":""},{"$f":"IF('S5'!$R$18=\"\",\"\",'S5'!$R$18)","v":""},{"$f":"IF('S5'!$S$18=\"\",\"\",'S5'!$S$18)","v":""},{"$f":"IF('S5'!$T$18=\"\",\"\",'S5'!$T$18)","v":""},{"$f":"IF('S5'!$U$18=\"\",\"\",'S5'!$U$18)","v":""},{"$f":"IF('S5'!$V$18=\"\",\"\",'S5'!$V$18)","v":""},{"$f":"IF('S5'!$W$18=\"\",\"\",'S5'!$W$18)","v":""},{"$f":"IF('S5'!$X$18=\"\",\"\",'S5'!$X$18)","v":""},{"$f":"IF('S5'!$Y$18=\"\",\"\",'S5'!$Y$18)","v":""},{"$f":"IF('S5'!$Z$18=\"\",\"\",'S5'!$Z$18)","v":""}]
[null,{"$f":"IF('S5'!$Q$18=\"\",\"\",\"erreicht\")","v":""},null,null,{"$f":"IF(VLOOKUP(B204,'S5'!$B$23:$Z$57,16,FALSE)=\"\",\"\",VLOOKUP(B204,'S5'!$B$23:$Z$57,16,FALSE))","v":""},{"$f":"IF(VLOOKUP(B204,'S5'!$B$23:$Z$57,17,FALSE)=\"\",\"\",VLOOKUP(B204,'S5'!$B$23:$Z$57,17,FALSE))","v":""},{"$f":"IF(VLOOKUP(B204,'S5'!$B$23:$Z$57,18,FALSE)=\"\",\"\",VLOOKUP(B204,'S5'!$B$23:$Z$57,18,FALSE))","v":""},{"$f":"IF(VLOOKUP(B204,'S5'!$B$23:$Z$57,19,FALSE)=\"\",\"\",VLOOKUP(B204,'S5'!$B$23:$Z$57,19,FALSE))","v":""},{"$f":"IF(VLOOKUP(B204,'S5'!$B$23:$Z$57,20,FALSE)=\"\",\"\",VLOOKUP(B204,'S5'!$B$23:$Z$57,20,FALSE))","v":""},{"$f":"IF(VLOOKUP(B204,'S5'!$B$23:$Z$57,21,FALSE)=\"\",\"\",VLOOKUP(B204,'S5'!$B$23:$Z$57,21,FALSE))","v":""},{"$f":"IF(VLOOKUP(B204,'S5'!$B$23:$Z$57,22,FALSE)=\"\",\"\",VLOOKUP(B204,'S5'!$B$23:$Z$57,22,FALSE))","v":""},{"$f":"IF(VLOOKUP(B204,'S5'!$B$23:$Z$57,23,FALSE)=\"\",\"\",VLOOKUP(B204,'S5'!$B$23:$Z$57,23,FALSE))","v":""},{"$f":"IF(VLOOKUP(B204,'S5'!$B$23:$Z$57,24,FALSE)=\"\",\"\",VLOOKUP(B204,'S5'!$B$23:$Z$57,24,FALSE))","v":""},{"$f":"IF(VLOOKUP(B204,'S5'!$B$23:$Z$57,25,FALSE)=\"\",\"\",VLOOKUP(B204,'S5'!$B$23:$Z$57,25,FALSE))","v":""},null,"Note"]
[null,{"$f":"IF('S5'!$Q$18=\"\",\"\",\"von\")","v":""},null,null,{"$f":"IF('S5'!$Q$21=\"\",\"\",'S5'!$Q$21)","v":""},{"$f":"IF('S5'!$R$21=\"\",\"\",'S5'!$R$21)","v":""},{"$f":"IF('S5'!$S$21=\"\",\"\",'S5'!$S$21)","v":""},{"$f":"IF('S5'!$T$21=\"\",\"\",'S5'!$T$21)","v":""},{"$f":"IF('S5'!$U$21=\"\",\"\",'S5'!$U$21)","v":""},{"$f":"IF('S5'!$V$21=\"\",\"\",'S5'!$V$21)","v":""},{"$f":"IF('S5'!$W$21=\"\",\"\",'S5'!$W$21)","v":""},{"$f":"IF('S5'!$X$21=\"\",\"\",'S5'!$X$21)","v":""},{"$f":"IF('S5'!$Y$21=\"\",\"\",'S5'!$Y$21)","v":""},{"$f":"IF('S5'!$Z$21=\"\",\"\",'S5'!$Z$21)","v":""},null,{"$f":"IF(VLOOKUP(B204,'S5'!$B$23:$Z$57,2,FALSE)=\"\",\"\",CONCATENATE(VLOOKUP(B204,'S5'!$B$23:$Z$57,2,FALSE),\" \",VLOOKUP(B204,'S5'!$B$23:$Z$57,3,FALSE)))","v":"- "}]

{"sheet":"L5","index":24,"n_rows":57,"n_cols":27,"rows_kept":57,"cut":false,"hidden":false,"merged":[[12,2,12,3],[13,2,13,3],[14,2,15,11],[0,1,4,3],[2,6,4,6],[8,2,8,11],[9,2,9,3],[10,2,10,3],[11,2,11,3]]}
[null,{"$f":"Dateneingabe!A1","v":"Mustergymnasium\nMusterstraße 1\n12345 Musterstadt"}]
[null,null,null,null,null,"Schuljahr:",{"$f":"Dateneingabe!F2","v":0}]
[null,null,null,null,null,null,{"$f":"Dateneingabe!F3","v":0},null,null,null,null,null,null,null,null,null,null,null,null,null,null,null,null,null,null,null,1]
[null,null,null,null,null,"Klasse:"]
[]
[]
[null,{"$f":"'S5'!B7","v":"Schriftliche Arbeit 5"}]
[]
[null,"Art der Arbeit:",{"$f":"'S5'!C9","v":0}]
[null,"Geschrieben am:",{"$f":"'S5'!C10","v":"00:00:00"}]
[null,"Arbeitszeit:",{"$f":"'S5'!C11","v":0}]
[null,"Zurückgegeben am:",{"$f":"'S5'!C12","v":"00:00:00"},null,null,"Gewichtung der Arbeit:",null,null,{"$f":"'S5'!T12","v":1}]
[null,"Dem Direktorat vorgelegt:",{"$f":"'S5'!C13","v":"00:00:00"}]
[null,"Notenlisteneintrag am:",{"$f":"'S5'!C14","v":"00:00:00"}]
[null,"Lehrstoff:",{"$f":"'S5'!C15","v":0}]
[]
[]
[]
[null,"Name","Note",null,null,null,null,"Auswertung Häufigkeit"]
[null,null,null,null,null,null,null,"Note","Anzahl"]
[]
[null,null,null,null,null,null,null,"0",{"$f":"'S5'!AF25","v":0}]
[1,{"$f":"'S5'!B23","v":""},{"$f":"'S5'!C23","v":"-"},null,null,null,null,1,{"$f":"'S5'!AF26","v":0}]
[2,{"$f":"'S5'!B24","v":""},{"$f":"'S5'!C24","v":"-"},null,null,null,null,2,{"$f":"'S5'!AF27","v":0}]
[3,{"$f":"'S5'!B25","v":""},{"$f":"'S5'!C25","v":"-"},null,null,null,null,3,{"$f":"'S5'!AF28","v":0}]
[4,{"$f":"'S5'!B26","v":""},{"$f":"'S5'!C26","v":"-"},null,null,null,null,4,{"$f":"'S5'!AF29","v":0}]
[5,{"$f":"'S5'!B27","v":""},{"$f":"'S5'!C27","v":"-"},null,null,null,null,5,{"$f":"'S5'!AF30","v":0}]
[6,{"$f":"'S5'!B28","v":""},{"$f":"'S5'!C28","v":"-"},null,null,null,null,6,{"$f":"'S5'!AF31","v":0}]
[7,{"$f":"'S5'!B29","v":""},{"$f":"'S5'!C29","v":"-"},null,null,null,null,7,{"$f":"'S5'!AF32","v":0}]
[8,{"$f":"'S5'!B30","v":""},{"$f":"'S5'!C30","v":"-"},null,null,null,null,8,{"$f":"'S5'!AF33","v":0}]
[9,{"$f":"'S5'!B31","v":""},{"$f":"'S5'!C31","v":"-"},null,null,null,null,9,{"$f":"'S5'!AF34","v":0}]
[10,{"$f":"'S5'!B32","v":""},{"$f":"'S5'!C32","v":"-"},null,null,null,null,10,{"$f":"'S5'!AF35","v":0}]
[11,{"$f":"'S5'!B33","v":""},{"$f":"'S5'!C33","v":"-"},null,null,null,null,11,{"$f":"'S5'!AF36","v":0}]
[12,{"$f":"'S5'!B34","v":""},{"$f":"'S5'!C34","v":"-"},null,null,null,null,12,{"$f":"'S5'!AF37","v":0}]
[13,{"$f":"'S5'!B35","v":""},{"$f":"'S5'!C35","v":"-"},null,null,null,null,13,{"$f":"'S5'!AF38","v":0}]
[14,{"$f":"'S5'!B36","v":""},{"$f":"'S5'!C36","v":"-"},null,null,null,null,14,{"$f":"'S5'!AF39","v":0}]
[15,{"$f":"'S5'!B37","v":""},{"$f":"'S5'!C37","v":"-"},null,null,null,null,15,{"$f":"'S5'!AF40","v":0}]
[16,{"$f":"'S5'!B38","v":""},{"$f":"'S5'!C38","v":"-"}]
[17,{"$f":"'S5'!B39","v":""},{"$f":"'S5'!C39","v":"-"}]
[18,{"$f":"'S5'!B40","v":""},{"$f":"'S5'!C40","v":"-"}]
[19,{"$f":"'S5'!B41","v":""},{"$f":"'S5'!C41","v":"-"}]
[20,{"$f":"'S5'!B42","v":""},{"$f":"'S5'!C42","v":"-"}]
[21,{"$f":"'S5'!B43","v":""},{"$f":"'S5'!C43","v":"-"}]
[22,{"$f":"'S5'!B44","v":""},{"$f":"'S5'!C44","v":"-"}]
[23,{"$f":"'S5'!B45","v":""},{"$f":"'S5'!C45","v":"-"}]
[24,{"$f":"'S5'!B46","v":""},{"$f":"'S5'!C46","v":"-"}]
[25,{"$f":"'S5'!B47","v":""},{"$f":"'S5'!C47","v":"-"}]
[26,{"$f":"'S5'!B48","v":""},{"$f":"'S5'!C48","v":"-"}]
[27,{"$f":"'S5'!B49","v":""},{"$f":"'S5'!C49","v":"-"}]
[28,{"$f":"'S5'!B50","v":""},{"$f":"'S5'!C50","v":"-"}]
[29,{"$f":"'S5'!B51","v":""},{"$f":"'S5'!C51","v":"-"}]
[30,{"$f":"'S5'!B52","v":""},{"$f":"'S5'!C52","v":"-"}]
[31,{"$f":"'S5'!B53","v":""},{"$f":"'S5'!C53","v":"-"}]
[32,{"$f":"'S5'!B54","v":""},{"$f":"'S5'!C54","v":"-"}]
[33,{"$f":"'S5'!B55","v":""},{"$f":"'S5'!C55","v":"-"},null,null,null,"Notendurchschnitt:",null,{"$f":"'S5'!AD60","v":"-"}]
[34,{"$f":"'S5'!B56","v":""},{"$f":"'S5'!C56","v":"-"}]
[35,{"$f":"'S5'!B57","v":""},{"$f":"'S5'!C57","v":"-"},null,null,null,"% 5er und 6er",null,{"$f":"'S5'!AD62","v":"0 %"}]

{"sheet":"M5","index":25,"n_rows":37,"n_cols":27,"rows_kept":37,"cut":false,"hidden":false,"merged":[[32,18,32,19],[4,17,4,23],[16,18,16,22],[18,15,19,23],[26,11,26,13],[26,14,26,16],[26,17,26,19],[26,20,26,22],[26,23,26,25],[6,12,6,23],[8,16,8,20],[10,15,10,20],[12,17,12,22],[14,20,14,23],[0,11,0,26]]}
[null,null,null,null,null,null,null,null,null,null,null,{"$f":"Dateneingabe!I28","v":0}]
[]
[null,null,null,null,null,null,null,null,null,null,null,"ABA",null,{"$f":"Dateneingabe!F6","v":0},null,null,null,null,null,null,null,"Schuljahr",null,null,{"$f":"Dateneingabe!F2","v":0}]
[]
[null,null,null,null,null,null,null,null,null,null,null,null,"Schülerarbeiten",null,null,null,null,"________________________"]
[]
[null,null,null,null,null,null,null,null,null,null,null,null,"_________________________________"]
[]
[null,null,null,null,null,null,null,null,null,null,null,"Geschrieben am:",null,null,null,null,{"$f":"'S5'!C10","v":"00:00:00"}]
[]
[null,null,null,null,null,null,null,null,null,null,null,"Arbeitszeit: ",null,null,null,{"$f":"'S5'!C11","v":0}]
[]
[null,null,null,null,null,null,null,null,null,null,null,"Zurückgegeben am:",null,null,null,null,null,{"$f":"'S5'!C12","v":"00:00:00"}]
[]
[null,null,null,null,null,null,null,null,null,null,null,"Dem Direktorat vorgelegt am:",null,null,null,null,null,null,null,null,{"$f":"'S5'!C13","v":"00:00:00"}]
[]
[null,null,null,null,null,null,null,null,null,null,null,"Notenlisteneintrag am: ",null,null,null,null,null,null,{"$f":"'S5'!C14","v":"00:00:00"}]
[]
[null,null,null,null,null,null,null,null,null,null,null,"Lehrstoff:",null,null,null,{"$f":"'S5'!C15","v":0}]
[]
[]
[null,null,null,null,null,null,null,null,null,null,null,"Nicht mitgeschrieben haben:",null,null,null,null,null,null,null,"_________________"]
[]
[]
[null,null,null,null,null,null,null,null,null,null,null,"Notenstatistik:"]
[]
[null,null,null,null,null,null,null,null,null,null,null,1,null,null,2,null,null,3,null,null,4,null,null,5,null,null,6]
[null,null,null,null,null,null,null,null,null,null,null,15,14,13,12,11,10,9,8,7,6,5,4,3,2,1,0]
[null,null,null,null,null,null,null,null,null,null,null,{"$f":"'S5'!$AF40","v":0},{"$f":"'S5'!$AF39","v":0},{"$f":"'S5'!$AF38","v":0},{"$f":"'S5'!$AF37","v":0},{"$f":"'S5'!$AF36","v":0},{"$f":"'S5'!$AF35","v":0},{"$f":"'S5'!$AF34","v":0},{"$f":"'S5'!$AF33","v":0},{"$f":"'S5'!$AF32","v":0},{"$f":"'S5'!$AF31","v":0},{"$f":"'S5'!$AF30","v":0},{"$f":"'S5'!$AF29","v":0},{"$f":"'S5'!$AF28","v":0},{"$f":"'S5'!$AF27","v":0},{"$f":"'S5'!$AF26","v":0},{"$f":"'S5'!$AF25","v":0}]
[]
[null,null,null,null,null,null,null,null,null,null,null,"Punktedurchschnitt:",null,null,null,null,null,null,{"$f":"'S5'!AD60","v":"-"}]
[]
[null,null,null,null,null,null,null,null,null,null,null,"Anteil Note 5 und 6:",null,null,null,null,null,null,{"$f":"'S5'!AD62","v":"0 %"}]
[]
[]
[]
[null,null,null,null,null,null,null,null,null,null,null,"Unterschrift: __________________________"]

{"sheet":"E6","index":26,"n_rows":212,"n_cols":35,"rows_kept":212,"cut":false,"hidden":false,"merged":[[2,15,2,17],[2,34,2,36],[3,15,3,17],[3,34,3,36],[5,15,5,17],[5,34,5,36],[6,15,6,17],[6,34,6,36],[8,15,8,17],[8,34,8,36],[9,15,9,17],[9,34,9,36],[14,15,14,17],[14,34,14,36],[15,15,15,17],[15,34,15,36],[17,15,17,17],[17,34,17,36],[18,15,18,17],[18,34,18,36],[20,15,20,17],[20,34,20,36],[21,15,21,17],[21,34,21,36],[26,15,26,17],[26,34,26,36],[27,15,27,17],[27,34,27,36],[29,15,29,17],[29,34,29,36],[30,15,30,17],[30,34,30,36],[32,15,32,17],[32,34,32,36],[33,15,33,17],[33,34,33,36],[38,15,38,17],[38,34,38,36],[39,15,39,17],[39,34,39,36],[41,15,41,17],[41,34,41,36],[42,15,42,17],[42,34,42,36],[44,15,44,17],[44,34,44,36],[45,15,45,17],[45,34,45,36],[50,15,50,17],[50,34,50,36],[51,15,51,17],[51,34,51,36],[53,15,53,17],[53,34,53,36],[54,15,54,17],[54,34,54,36],[56,15,56,17],[56,34,56,36],[57,15,57,17],[57,34,57,36],[62,15,62,17],[62,34,62,36],[63,15,63,17],[63,34,63,36],[65,15,65,17],[65,34,65,36],[66,15,66,17],[66,34,66,36],[68,15,68,17],[68,34,68,36],[69,15,69,17],[69,34,69,36],[73,15,73,17],[73,34,73,36],[74,15,74,17],[74,34,74,36],[76,15,76,17],[76,34,76,36],[77,15,77,17],[77,34,77,36],[79,15,79,17],[79,34,79,36],[80,15,80,17],[80,34,80,36],[85,15,85,17],[85,34,85,36],[86,15,86,17],[86,34,86,36],[88,15,88,17],[88,34,88,36],[89,15,89,17],[89,34,89,36],[91,15,91,17],[91,34,91,36],[92,15,92,17],[92,34,92,36],[97,15,97,17],[97,34,97,36],[98,15,98,17],[98,34,98,36],[100,15,100,17],[100,34,100,36],[101,15,101,17],[101,34,101,36],[103,15,103,17],[103,34,103,36],[104,15,104,17],[104,34,104,36],[109,15,109,17],[109,34,109,36],[110,15,110,17],[110,34,110,36],[112,15,112,17],[112,34,112,36],[113,15,113,17],[113,34,113,36],[115,15,115,17],[115,34,115,36],[116,15,116,17],[116,34,116,36],[121,15,121,17],[121,34,121,36],[122,15,122,17],[122,34,122,36],[124,15,124,17],[124,34,124,36],[125,15,125,17],[125,34,125,36],[127,15,127,17],[127,34,127,36],[128,15,128,17],[128,34,128,36],[133,15,133,17],[133,34,133,36],[134,15,134,17],[134,34,134,36],[136,15,136,17],[136,34,136,36],[137,15,137,17],[137,34,137,36],[139,15,139,17],[139,34,139,36],[140,15,140,17],[140,34,140,36],[144,15,144,17],[144,34,144,36],[145,15,145,17],[145,34,145,36],[147,15,147,17],[147,34,147,36],[148,15,148,17],[148,34,148,36],[150,15,150,17],[150,34,150,36],[151,15,151,17],[151,34,151,36],[156,15,156,17],[156,34,156,36],[157,15,157,17],[157,34,157,36],[159,15,159,17],[159,34,159,36],[160,15,160,17],[160,34,160,36],[162,15,162,17],[162,34,162,36],[163,15,163,17],[163,34,163,36],[168,15,168,17],[168,34,168,36],[169,15,169,17],[169,34,169,36],[171,15,171,17],[171,34,171,36],[172,15,172,17],[172,34,172,36],[174,15,174,17],[174,34,174,36],[175,15,175,17],[175,34,175,36],[180,15,180,17],[180,34,180,36],[181,15,181,17],[181,34,181,36],[183,15,183,17],[183,34,183,36],[184,15,184,17],[184,34,184,36],[186,15,186,17],[186,34,186,36],[187,15,187,17],[187,34,187,36],[192,15,192,17],[192,34,192,36],[193,15,193,17],[193,34,193,36],[195,15,195,17],[195,34,195,36],[196,15,196,17],[196,34,196,36],[198,15,198,17],[198,34,198,36],[199,15,199,17],[199,34,199,36],[204,15,204,17],[204,34,204,36],[205,15,205,17],[205,34,205,36],[207,15,207,17],[207,34,207,36],[208,15,208,17],[208,34,208,36],[210,15,210,17],[210,34,210,36],[211,15,211,17],[211,34,211,36]]}
[]
[null,{"$f":"'S6'!$B$23","v":""},null,null,null,null,null,null,null,null,null,null,null,null,null,null,null,null,null,null,{"$f":"'S6'!$B$24","v":""}]
[null,null,null,null,null,null,null,null,null,null,null,null,null,null,null,"Summe",null,null,null,null,null,null,null,null,null,null,null,null,null,null,null,null,null,null,"Summe"]
[null,"Aufgabe",null,null,{"$f":"IF('S6'!$G$18=\"\",\"\",'S6'!$G$18)","v":1},{"$f":"IF('S6'!$H$18=\"\",\"\",'S6'!$H$18)","v":2},{"$f":"IF('S6'!$I$18=\"\",\"\",'S6'!$I$18)","v":3},{"$f":"IF('S6'!$J$18=\"\",\"\",'S6'!$J$18)","v":""},{"$f":"IF('S6'!$K$18=\"\",\"\",'S6'!$K$18)","v":""},{"$f":"IF('S6'!$L$18=\"\",\"\",'S6'!$L$18)","v":""},{"$f":"IF('S6'!$M$18=\"\",\"\",'S6'!$M$18)","v":""},{"$f":"IF('S6'!$N$18=\"\",\"\",'S6'!$N$18)","v":""},{"$f":"IF('S6'!$O$18=\"\",\"\",'S6'!$O$18)","v":""},{"$f":"IF('S6'!$P$18=\"\",\"\",'S6'!$P$18)","v":""},null,{"$f":"IF(VLOOKUP(B2,'S6'!$B$23:$Z$57,5,FALSE)=\"\",\"\",VLOOKUP(B2,'S6'!$B$23:$Z$57,5,FALSE))","v":0},null,null,null,null,"Aufgabe",null,null,{"$f":"IF('S6'!$G$18=\"\",\"\",'S6'!$G$18)","v":1},{"$f":"IF('S6'!$H$18=\"\",\"\",'S6'!$H$18)","v":2},{"$f":"IF('S6'!$I$18=\"\",\"\",'S6'!$I$18)","v":3},{"$f":"IF('S6'!$J$18=\"\",\"\",'S6'!$J$18)","v":""},{"$f":"IF('S6'!$K$18=\"\",\"\",'S6'!$K$18)","v":""},{"$f":"IF('S6'!$L$18=\"\",\"\",'S6'!$L$18)","v":""},{"$f":"IF('S6'!$M$18=\"\",\"\",'S6'!$M$18)","v":""},{"$f":"IF('S6'!$N$18=\"\",\"\",'S6'!$N$18)","v":""},{"$f":"IF('S6'!$O$18=\"\",\"\",'S6'!$O$18)","v":""},{"$f":"IF('S6'!$P$18=\"\",\"\",'S6'!$P$18)","v":""},null,{"$f":"IF(VLOOKUP(U2,'S6'!$B$23:$Z$57,5,FALSE)=\"\",\"\",VLOOKUP(U2,'S6'!$B$23:$Z$57,5,FALSE))","v":0}]
[null,"erreicht",null,null,{"$f":"IF(VLOOKUP(B2,'S6'!$B$23:$Z$57,6,FALSE)=\"\",\"\",VLOOKUP(B2,'S6'!$B$23:$Z$57,6,FALSE))","v":"."},{"$f":"IF(VLOOKUP(B2,'S6'!$B$23:$Z$57,7,FALSE)=\"\",\"\",VLOOKUP(B2,'S6'!$B$23:$Z$57,7,FALSE))","v":""},{"$f":"IF(VLOOKUP(B2,'S6'!$B$23:$Z$57,8,FALSE)=\"\",\"\",VLOOKUP(B2,'S6'!$B$23:$Z$57,8,FALSE))","v":""},{"$f":"IF(VLOOKUP(B2,'S6'!$B$23:$Z$57,9,FALSE)=\"\",\"\",VLOOKUP(B2,'S6'!$B$23:$Z$57,9,FALSE))","v":""},{"$f":"IF(VLOOKUP(B2,'S6'!$B$23:$Z$57,10,FALSE)=\"\",\"\",VLOOKUP(B2,'S6'!$B$23:$Z$57,10,FALSE))","v":""},{"$f":"IF(VLOOKUP(B2,'S6'!$B$23:$Z$57,11,FALSE)=\"\",\"\",VLOOKUP(B2,'S6'!$B$23:$Z$57,11,FALSE))","v":""},{"$f":"IF(VLOOKUP(B2,'S6'!$B$23:$Z$57,12,FALSE)=\"\",\"\",VLOOKUP(B2,'S6'!$B$23:$Z$57,12,FALSE))","v":""},{"$f":"IF(VLOOKUP(B2,'S6'!$B$23:$Z$57,13,FALSE)=\"\",\"\",VLOOKUP(B2,'S6'!$B$23:$Z$57,13,FALSE))","v":""},{"$f":"IF(VLOOKUP(B2,'S6'!$B$23:$Z$57,14,FALSE)=\"\",\"\",VLOOKUP(B2,'S6'!$B$23:$Z$57,14,FALSE))","v":""},{"$f":"IF(VLOOKUP(B2,'S6'!$B$23:$Z$57,15,FALSE)=\"\",\"\",VLOOKUP(B2,'S6'!$B$23:$Z$57,15,FALSE))","v":""},null,null,null,null,null,null,"erreicht",null,null,{"$f":"IF(VLOOKUP(U2,'S6'!$B$23:$Z$57,6,FALSE)=\"\",\"\",VLOOKUP(U2,'S6'!$B$23:$Z$57,6,FALSE))","v":"."},{"$f":"IF(VLOOKUP(U2,'S6'!$B$23:$Z$57,7,FALSE)=\"\",\"\",VLOOKUP(U2,'S6'!$B$23:$Z$57,7,FALSE))","v":""},{"$f":"IF(VLOOKUP(U2,'S6'!$B$23:$Z$57,8,FALSE)=\"\",\"\",VLOOKUP(U2,'S6'!$B$23:$Z$57,8,FALSE))","v":""},{"$f":"IF(VLOOKUP(U2,'S6'!$B$23:$Z$57,9,FALSE)=\"\",\"\",VLOOKUP(U2,'S6'!$B$23:$Z$57,9,FALSE))","v":""},{"$f":"IF(VLOOKUP(U2,'S6'!$B$23:$Z$57,10,FALSE)=\"\",\"\",VLOOKUP(U2,'S6'!$B$23:$Z$57,10,FALSE))","v":""},{"$f":"IF(VLOOKUP(U2,'S6'!$B$23:$Z$57,11,FALSE)=\"\",\"\",VLOOKUP(U2,'S6'!$B$23:$Z$57,11,FALSE))","v":""},{"$f":"IF(VLOOKUP(U2,'S6'!$B$23:$Z$57,12,FALSE)=\"\",\"\",VLOOKUP(U2,'S6'!$B$23:$Z$57,12,FALSE))","v":""},{"$f":"IF(VLOOKUP(U2,'S6'!$B$23:$Z$57,13,FALSE)=\"\",\"\",VLOOKUP(U2,'S6'!$B$23:$Z$57,13,FALSE))","v":""},{"$f":"IF(VLOOKUP(U2,'S6'!$B$23:$Z$57,14,FALSE)=\"\",\"\",VLOOKUP(U2,'S6'!$B$23:$Z$57,14,FALSE))","v":""},{"$f":"IF(VLOOKUP(U2,'S6'!$B$23:$Z$57,15,FALSE)=\"\",\"\",VLOOKUP(U2,'S6'!$B$23:$Z$57,15,FALSE))","v":""}]
[null,"von",null,null,{"$f":"IF('S6'!$G$21=\"\",\"\",'S6'!$G$21)","v":""},{"$f":"IF('S6'!$H$21=\"\",\"\",'S6'!$H$21)","v":""},{"$f":"IF('S6'!$I$21=\"\",\"\",'S6'!$I$21)","v":""},{"$f":"IF('S6'!$J$21=\"\",\"\",'S6'!$J$21)","v":""},{"$f":"IF('S6'!$K$21=\"\",\"\",'S6'!$K$21)","v":""},{"$f":"IF('S6'!$L$21=\"\",\"\",'S6'!$L$21)","v":""},{"$f":"IF('S6'!$M$21=\"\",\"\",'S6'!$M$21)","v":""},{"$f":"IF('S6'!$N$21=\"\",\"\",'S6'!$N$21)","v":""},{"$f":"IF('S6'!$O$21=\"\",\"\",'S6'!$O$21)","v":""},{"$f":"IF('S6'!$P$21=\"\",\"\",'S6'!$P$21)","v":""},null,"von",null,null,null,null,"von",null,null,{"$f":"IF('S6'!$G$21=\"\",\"\",'S6'!$G$21)","v":""},{"$f":"IF('S6'!$H$21=\"\",\"\",'S6'!$H$21)","v":""},{"$f":"IF('S6'!$I$21=\"\",\"\",'S6'!$I$21)","v":""},{"$f":"IF('S6'!$J$21=\"\",\"\",'S6'!$J$21)","v":""},{"$f":"IF('S6'!$K$21=\"\",\"\",'S6'!$K$21)","v":""},{"$f":"IF('S6'!$L$21=\"\",\"\",'S6'!$L$21)","v":""},{"$f":"IF('S6'!$M$21=\"\",\"\",'S6'!$M$21)","v":""},{"$f":"IF('S6'!$N$21=\"\",\"\",'S6'!$N$21)","v":""},{"$f":"IF('S6'!$O$21=\"\",\"\",'S6'!$O$21)","v":""},{"$f":"IF('S6'!$P$21=\"\",\"\",'S6'!$P$21)","v":""},null,"von"]
[null,null,null,null,null,null,null,null,null,null,null,null,null,null,null,{"$f":"'S6'!$H$12","v":0},null,null,null,null,null,null,null,null,null,null,null,null,null,null,null,null,null,null,{"$f":"'S6'!$H$12","v":0}]
[null,{"$f":"IF('S6'!$Q$18=\"\",\"\",\"Aufgabe\")","v":""},null,null,{"$f":"IF('S6'!$Q$18=\"\",\"\",'S6'!$Q$18)","v":""},{"$f":"IF('S6'!$R$18=\"\",\"\",'S6'!$R$18)","v":""},{"$f":"IF('S6'!$S$18=\"\",\"\",'S6'!$S$18)","v":""},{"$f":"IF('S6'!$T$18=\"\",\"\",'S6'!$T$18)","v":""},{"$f":"IF('S6'!$U$18=\"\",\"\",'S6'!$U$18)","v":""},{"$f":"IF('S6'!$V$18=\"\",\"\",'S6'!$V$18)","v":""},{"$f":"IF('S6'!$W$18=\"\",\"\",'S6'!$W$18)","v":""},{"$f":"IF('S6'!$X$18=\"\",\"\",'S6'!$X$18)","v":""},{"$f":"IF('S6'!$Y$18=\"\",\"\",'S6'!$Y$18)","v":""},{"$f":"IF('S6'!$Z$18=\"\",\"\",'S6'!$Z$18)","v":""},null,null,null,null,null,null,{"$f":"IF('S6'!$Q$18=\"\",\"\",\"Aufgabe\")","v":""},null,null,{"$f":"IF('S6'!$Q$18=\"\",\"\",'S6'!$Q$18)","v":""},{"$f":"IF('S6'!$R$18=\"\",\"\",'S6'!$R$18)","v":""},{"$f":"IF('S6'!$S$18=\"\",\"\",'S6'!$S$18)","v":""},{"$f":"IF('S6'!$T$18=\"\",\"\",'S6'!$T$18)","v":""},{"$f":"IF('S6'!$U$18=\"\",\"\",'S6'!$U$18)","v":""},{"$f":"IF('S6'!$V$18=\"\",\"\",'S6'!$V$18)","v":""},{"$f":"IF('S6'!$W$18=\"\",\"\",'S6'!$W$18)","v":""},{"$f":"IF('S6'!$X$18=\"\",\"\",'S6'!$X$18)","v":""},{"$f":"IF('S6'!$Y$18=\"\",\"\",'S6'!$Y$18)","v":""},{"$f":"IF('S6'!$Z$18=\"\",\"\",'S6'!$Z$18)","v":""}]
[null,{"$f":"IF('S6'!$Q$18=\"\",\"\",\"erreicht\")","v":""},null,null,{"$f":"IF(VLOOKUP(B2,'S6'!$B$23:$Z$57,16,FALSE)=\"\",\"\",VLOOKUP(B2,'S6'!$B$23:$Z$57,16,FALSE))","v":""},{"$f":"IF(VLOOKUP(B2,'S6'!$B$23:$Z$57,17,FALSE)=\"\",\"\",VLOOKUP(B2,'S6'!$B$23:$Z$57,17,FALSE))","v":""},{"$f":"IF(VLOOKUP(B2,'S6'!$B$23:$Z$57,18,FALSE)=\"\",\"\",VLOOKUP(B2,'S6'!$B$23:$Z$57,18,FALSE))","v":""},{"$f":"IF(VLOOKUP(B2,'S6'!$B$23:$Z$57,19,FALSE)=\"\",\"\",VLOOKUP(B2,'S6'!$B$23:$Z$57,19,FALSE))","v":""},{"$f":"IF(VLOOKUP(B2,'S6'!$B$23:$Z$57,20,FALSE)=\"\",\"\",VLOOKUP(B2,'S6'!$B$23:$Z$57,20,FALSE))","v":""},{"$f":"IF(VLOOKUP(B2,'S6'!$B$23:$Z$57,21,FALSE)=\"\",\"\",VLOOKUP(B2,'S6'!$B$23:$Z$57,21,FALSE))","v":""},{"$f":"IF(VLOOKUP(B2,'S6'!$B$23:$Z$57,22,FALSE)=\"\",\"\",VLOOKUP(B2,'S6'!$B$23:$Z$57,22,FALSE))","v":""},{"$f":"IF(VLOOKUP(B2,'S6'!$B$23:$Z$57,23,FALSE)=\"\",\"\",VLOOKUP(B2,'S6'!$B$23:$Z$57,23,FALSE))","v":""},{"$f":"IF(VLOOKUP(B2,'S6'!$B$23:$Z$57,24,FALSE)=\"\",\"\",VLOOKUP(B2,'S6'!$B$23:$Z$57,24,FALSE))","v":""},{"$f":"IF(VLOOKUP(B2,'S6'!$B$23:$Z$57,25,FALSE)=\"\",\"\",VLOOKUP(B2,'S6'!$B$23:$Z$57,25,FALSE))","v":""},null,"Note",null,null,null,null,{"$f":"IF('S6'!$Q$18=\"\",\"\",\"erreicht\")","v":""},null,null,{"$f":"IF(VLOOKUP(U2,'S6'!$B$23:$Z$57,16,FALSE)=\"\",\"\",VLOOKUP(U2,'S6'!$B$23:$Z$57,16,FALSE))","v":""},{"$f":"IF(VLOOKUP(U2,'S6'!$B$23:$Z$57,17,FALSE)=\"\",\"\",VLOOKUP(U2,'S6'!$B$23:$Z$57,17,FALSE))","v":""},{"$f":"IF(VLOOKUP(U2,'S6'!$B$23:$Z$57,18,FALSE)=\"\",\"\",VLOOKUP(U2,'S6'!$B$23:$Z$57,18,FALSE))","v":""},{"$f":"IF(VLOOKUP(U2,'S6'!$B$23:$Z$57,19,FALSE)=\"\",\"\",VLOOKUP(U2,'S6'!$B$23:$Z$57,19,FALSE))","v":""},{"$f":"IF(VLOOKUP(U2,'S6'!$B$23:$Z$57,20,FALSE)=\"\",\"\",VLOOKUP(U2,'S6'!$B$23:$Z$57,20,FALSE))","v":""},{"$f":"IF(VLOOKUP(U2,'S6'!$B$23:$Z$57,21,FALSE)=\"\",\"\",VLOOKUP(U2,'S6'!$B$23:$Z$57,21,FALSE))","v":""},{"$f":"IF(VLOOKUP(U2,'S6'!$B$23:$Z$57,22,FALSE)=\"\",\"\",VLOOKUP(U2,'S6'!$B$23:$Z$57,22,FALSE))","v":""},{"$f":"IF(VLOOKUP(U2,'S6'!$B$23:$Z$57,23,FALSE)=\"\",\"\",VLOOKUP(U2,'S6'!$B$23:$Z$57,23,FALSE))","v":""},{"$f":"IF(VLOOKUP(U2,'S6'!$B$23:$Z$57,24,FALSE)=\"\",\"\",VLOOKUP(U2,'S6'!$B$23:$Z$57,24,FALSE))","v":""},{"$f":"IF(VLOOKUP(U2,'S6'!$B$23:$Z$57,25,FALSE)=\"\",\"\",VLOOKUP(U2,'S6'!$B$23:$Z$57,25,FALSE))","v":""},null,"Note"]
[null,{"$f":"IF('S6'!$Q$18=\"\",\"\",\"von\")","v":""},null,null,{"$f":"IF('S6'!$Q$21=\"\",\"\",'S6'!$Q$21)","v":""},{"$f":"IF('S6'!$R$21=\"\",\"\",'S6'!$R$21)","v":""},{"$f":"IF('S6'!$S$21=\"\",\"\",'S6'!$S$21)","v":""},{"$f":"IF('S6'!$T$21=\"\",\"\",'S6'!$T$21)","v":""},{"$f":"IF('S6'!$U$21=\"\",\"\",'S6'!$U$21)","v":""},{"$f":"IF('S6'!$V$21=\"\",\"\",'S6'!$V$21)","v":""},{"$f":"IF('S6'!$W$21=\"\",\"\",'S6'!$W$21)","v":""},{"$f":"IF('S6'!$X$21=\"\",\"\",'S6'!$X$21)","v":""},{"$f":"IF('S6'!$Y$21=\"\",\"\",'S6'!$Y$21)","v":""},{"$f":"IF('S6'!$Z$21=\"\",\"\",'S6'!$Z$21)","v":""},null,{"$f":"IF(VLOOKUP(B2,'S6'!$B$23:$Z$57,2,FALSE)=\"\",\"\",CONCATENATE(VLOOKUP(B2,'S6'!$B$23:$Z$57,2,FALSE),\" \",VLOOKUP(B2,'S6'!$B$23:$Z$57,3,FALSE)))","v":"- "},null,null,null,null,{"$f":"IF('S6'!$Q$18=\"\",\"\",\"von\")","v":""},null,null,{"$f":"IF('S6'!$Q$21=\"\",\"\",'S6'!$Q$21)","v":""},{"$f":"IF('S6'!$R$21=\"\",\"\",'S6'!$R$21)","v":""},{"$f":"IF('S6'!$S$21=\"\",\"\",'S6'!$S$21)","v":""},{"$f":"IF('S6'!$T$21=\"\",\"\",'S6'!$T$21)","v":""},{"$f":"IF('S6'!$U$21=\"\",\"\",'S6'!$U$21)","v":""},{"$f":"IF('S6'!$V$21=\"\",\"\",'S6'!$V$21)","v":""},{"$f":"IF('S6'!$W$21=\"\",\"\",'S6'!$W$21)","v":""},{"$f":"IF('S6'!$X$21=\"\",\"\",'S6'!$X$21)","v":""},{"$f":"IF('S6'!$Y$21=\"\",\"\",'S6'!$Y$21)","v":""},{"$f":"IF('S6'!$Z$21=\"\",\"\",'S6'!$Z$21)","v":""},null,{"$f":"IF(VLOOKUP(U2,'S6'!$B$23:$Z$57,2,FALSE)=\"\",\"\",CONCATENATE(VLOOKUP(U2,'S6'!$B$23:$Z$57,2,FALSE),\" \",VLOOKUP(U2,'S6'!$B$23:$Z$57,3,FALSE)))","v":"- "}]
[]
[]
[]
[null,{"$f":"'S6'!$B$25","v":""},null,null,null,null,null,null,null,null,null,null,null,null,null,null,null,null,null,null,{"$f":"'S6'!$B$26","v":""}]
[null,null,null,null,null,null,null,null,null,null,null,null,null,null,null,"Summe",null,null,null,null,null,null,null,null,null,null,null,null,null,null,null,null,null,null,"Summe"]
[null,"Aufgabe",null,null,{"$f":"IF('S6'!$G$18=\"\",\"\",'S6'!$G$18)","v":1},{"$f":"IF('S6'!$H$18=\"\",\"\",'S6'!$H$18)","v":2},{"$f":"IF('S6'!$I$18=\"\",\"\",'S6'!$I$18)","v":3},{"$f":"IF('S6'!$J$18=\"\",\"\",'S6'!$J$18)","v":""},{"$f":"IF('S6'!$K$18=\"\",\"\",'S6'!$K$18)","v":""},{"$f":"IF('S6'!$L$18=\"\",\"\",'S6'!$L$18)","v":""},{"$f":"IF('S6'!$M$18=\"\",\"\",'S6'!$M$18)","v":""},{"$f":"IF('S6'!$N$18=\"\",\"\",'S6'!$N$18)","v":""},{"$f":"IF('S6'!$O$18=\"\",\"\",'S6'!$O$18)","v":""},{"$f":"IF('S6'!$P$18=\"\",\"\",'S6'!$P$18)","v":""},null,{"$f":"IF(VLOOKUP(B14,'S6'!$B$23:$Z$57,5,FALSE)=\"\",\"\",VLOOKUP(B14,'S6'!$B$23:$Z$57,5,FALSE))","v":0},null,null,null,null,"Aufgabe",null,null,{"$f":"IF('S6'!$G$18=\"\",\"\",'S6'!$G$18)","v":1},{"$f":"IF('S6'!$H$18=\"\",\"\",'S6'!$H$18)","v":2},{"$f":"IF('S6'!$I$18=\"\",\"\",'S6'!$I$18)","v":3},{"$f":"IF('S6'!$J$18=\"\",\"\",'S6'!$J$18)","v":""},{"$f":"IF('S6'!$K$18=\"\",\"\",'S6'!$K$18)","v":""},{"$f":"IF('S6'!$L$18=\"\",\"\",'S6'!$L$18)","v":""},{"$f":"IF('S6'!$M$18=\"\",\"\",'S6'!$M$18)","v":""},{"$f":"IF('S6'!$N$18=\"\",\"\",'S6'!$N$18)","v":""},{"$f":"IF('S6'!$O$18=\"\",\"\",'S6'!$O$18)","v":""},{"$f":"IF('S6'!$P$18=\"\",\"\",'S6'!$P$18)","v":""},null,{"$f":"IF(VLOOKUP(U14,'S6'!$B$23:$Z$57,5,FALSE)=\"\",\"\",VLOOKUP(U14,'S6'!$B$23:$Z$57,5,FALSE))","v":0}]
[null,"erreicht",null,null,{"$f":"IF(VLOOKUP(B14,'S6'!$B$23:$Z$57,6,FALSE)=\"\",\"\",VLOOKUP(B14,'S6'!$B$23:$Z$57,6,FALSE))","v":"."},{"$f":"IF(VLOOKUP(B14,'S6'!$B$23:$Z$57,7,FALSE)=\"\",\"\",VLOOKUP(B14,'S6'!$B$23:$Z$57,7,FALSE))","v":""},{"$f":"IF(VLOOKUP(B14,'S6'!$B$23:$Z$57,8,FALSE)=\"\",\"\",VLOOKUP(B14,'S6'!$B$23:$Z$57,8,FALSE))","v":""},{"$f":"IF(VLOOKUP(B14,'S6'!$B$23:$Z$57,9,FALSE)=\"\",\"\",VLOOKUP(B14,'S6'!$B$23:$Z$57,9,FALSE))","v":""},{"$f":"IF(VLOOKUP(B14,'S6'!$B$23:$Z$57,10,FALSE)=\"\",\"\",VLOOKUP(B14,'S6'!$B$23:$Z$57,10,FALSE))","v":""},{"$f":"IF(VLOOKUP(B14,'S6'!$B$23:$Z$57,11,FALSE)=\"\",\"\",VLOOKUP(B14,'S6'!$B$23:$Z$57,11,FALSE))","v":""},{"$f":"IF(VLOOKUP(B14,'S6'!$B$23:$Z$57,12,FALSE)=\"\",\"\",VLOOKUP(B14,'S6'!$B$23:$Z$57,12,FALSE))","v":""},{"$f":"IF(VLOOKUP(B14,'S6'!$B$23:$Z$57,13,FALSE)=\"\",\"\",VLOOKUP(B14,'S6'!$B$23:$Z$57,13,FALSE))","v":""},{"$f":"IF(VLOOKUP(B14,'S6'!$B$23:$Z$57,14,FALSE)=\"\",\"\",VLOOKUP(B14,'S6'!$B$23:$Z$57,14,FALSE))","v":""},{"$f":"IF(VLOOKUP(B14,'S6'!$B$23:$Z$57,15,FALSE)=\"\",\"\",VLOOKUP(B14,'S6'!$B$23:$Z$57,15,FALSE))","v":""},null,null,null,null,null,null,"erreicht",null,null,{"$f":"IF(VLOOKUP(U14,'S6'!$B$23:$Z$57,6,FALSE)=\"\",\"\",VLOOKUP(U14,'S6'!$B$23:$Z$57,6,FALSE))","v":"."},{"$f":"IF(VLOOKUP(U14,'S6'!$B$23:$Z$57,7,FALSE)=\"\",\"\",VLOOKUP(U14,'S6'!$B$23:$Z$57,7,FALSE))","v":""},{"$f":"IF(VLOOKUP(U14,'S6'!$B$23:$Z$57,8,FALSE)=\"\",\"\",VLOOKUP(U14,'S6'!$B$23:$Z$57,8,FALSE))","v":""},{"$f":"IF(VLOOKUP(U14,'S6'!$B$23:$Z$57,9,FALSE)=\"\",\"\",VLOOKUP(U14,'S6'!$B$23:$Z$57,9,FALSE))","v":""},{"$f":"IF(VLOOKUP(U14,'S6'!$B$23:$Z$57,10,FALSE)=\"\",\"\",VLOOKUP(U14,'S6'!$B$23:$Z$57,10,FALSE))","v":""},{"$f":"IF(VLOOKUP(U14,'S6'!$B$23:$Z$57,11,FALSE)=\"\",\"\",VLOOKUP(U14,'S6'!$B$23:$Z$57,11,FALSE))","v":""},{"$f":"IF(VLOOKUP(U14,'S6'!$B$23:$Z$57,12,FALSE)=\"\",\"\",VLOOKUP(U14,'S6'!$B$23:$Z$57,12,FALSE))","v":""},{"$f":"IF(VLOOKUP(U14,'S6'!$B$23:$Z$57,13,FALSE)=\"\",\"\",VLOOKUP(U14,'S6'!$B$23:$Z$57,13,FALSE))","v":""},{"$f":"IF(VLOOKUP(U14,'S6'!$B$23:$Z$57,14,FALSE)=\"\",\"\",VLOOKUP(U14,'S6'!$B$23:$Z$57,14,FALSE))","v":""},{"$f":"IF(VLOOKUP(U14,'S6'!$B$23:$Z$57,15,FALSE)=\"\",\"\",VLOOKUP(U14,'S6'!$B$23:$Z$57,15,FALSE))","v":""}]
[null,"von",null,null,{"$f":"IF('S6'!$G$21=\"\",\"\",'S6'!$G$21)","v":""},{"$f":"IF('S6'!$H$21=\"\",\"\",'S6'!$H$21)","v":""},{"$f":"IF('S6'!$I$21=\"\",\"\",'S6'!$I$21)","v":""},{"$f":"IF('S6'!$J$21=\"\",\"\",'S6'!$J$21)","v":""},{"$f":"IF('S6'!$K$21=\"\",\"\",'S6'!$K$21)","v":""},{"$f":"IF('S6'!$L$21=\"\",\"\",'S6'!$L$21)","v":""},{"$f":"IF('S6'!$M$21=\"\",\"\",'S6'!$M$21)","v":""},{"$f":"IF('S6'!$N$21=\"\",\"\",'S6'!$N$21)","v":""},{"$f":"IF('S6'!$O$21=\"\",\"\",'S6'!$O$21)","v":""},{"$f":"IF('S6'!$P$21=\"\",\"\",'S6'!$P$21)","v":""},null,"von",null,null,null,null,"von",null,null,{"$f":"IF('S6'!$G$21=\"\",\"\",'S6'!$G$21)","v":""},{"$f":"IF('S6'!$H$21=\"\",\"\",'S6'!$H$21)","v":""},{"$f":"IF('S6'!$I$21=\"\",\"\",'S6'!$I$21)","v":""},{"$f":"IF('S6'!$J$21=\"\",\"\",'S6'!$J$21)","v":""},{"$f":"IF('S6'!$K$21=\"\",\"\",'S6'!$K$21)","v":""},{"$f":"IF('S6'!$L$21=\"\",\"\",'S6'!$L$21)","v":""},{"$f":"IF('S6'!$M$21=\"\",\"\",'S6'!$M$21)","v":""},{"$f":"IF('S6'!$N$21=\"\",\"\",'S6'!$N$21)","v":""},{"$f":"IF('S6'!$O$21=\"\",\"\",'S6'!$O$21)","v":""},{"$f":"IF('S6'!$P$21=\"\",\"\",'S6'!$P$21)","v":""},null,"von"]
[null,null,null,null,null,null,null,null,null,null,null,null,null,null,null,{"$f":"'S6'!$H$12","v":0},null,null,null,null,null,null,null,null,null,null,null,null,null,null,null,null,null,null,{"$f":"'S6'!$H$12","v":0}]
[null,{"$f":"IF('S6'!$Q$18=\"\",\"\",\"Aufgabe\")","v":""},null,null,{"$f":"IF('S6'!$Q$18=\"\",\"\",'S6'!$Q$18)","v":""},{"$f":"IF('S6'!$R$18=\"\",\"\",'S6'!$R$18)","v":""},{"$f":"IF('S6'!$S$18=\"\",\"\",'S6'!$S$18)","v":""},{"$f":"IF('S6'!$T$18=\"\",\"\",'S6'!$T$18)","v":""},{"$f":"IF('S6'!$U$18=\"\",\"\",'S6'!$U$18)","v":""},{"$f":"IF('S6'!$V$18=\"\",\"\",'S6'!$V$18)","v":""},{"$f":"IF('S6'!$W$18=\"\",\"\",'S6'!$W$18)","v":""},{"$f":"IF('S6'!$X$18=\"\",\"\",'S6'!$X$18)","v":""},{"$f":"IF('S6'!$Y$18=\"\",\"\",'S6'!$Y$18)","v":""},{"$f":"IF('S6'!$Z$18=\"\",\"\",'S6'!$Z$18)","v":""},null,null,null,null,null,null,{"$f":"IF('S6'!$Q$18=\"\",\"\",\"Aufgabe\")","v":""},null,null,{"$f":"IF('S6'!$Q$18=\"\",\"\",'S6'!$Q$18)","v":""},{"$f":"IF('S6'!$R$18=\"\",\"\",'S6'!$R$18)","v":""},{"$f":"IF('S6'!$S$18=\"\",\"\",'S6'!$S$18)","v":""},{"$f":"IF('S6'!$T$18=\"\",\"\",'S6'!$T$18)","v":""},{"$f":"IF('S6'!$U$18=\"\",\"\",'S6'!$U$18)","v":""},{"$f":"IF('S6'!$V$18=\"\",\"\",'S6'!$V$18)","v":""},{"$f":"IF('S6'!$W$18=\"\",\"\",'S6'!$W$18)","v":""},{"$f":"IF('S6'!$X$18=\"\",\"\",'S6'!$X$18)","v":""},{"$f":"IF('S6'!$Y$18=\"\",\"\",'S6'!$Y$18)","v":""},{"$f":"IF('S6'!$Z$18=\"\",\"\",'S6'!$Z$18)","v":""}]
[null,{"$f":"IF('S6'!$Q$18=\"\",\"\",\"erreicht\")","v":""},null,null,{"$f":"IF(VLOOKUP(B14,'S6'!$B$23:$Z$57,16,FALSE)=\"\",\"\",VLOOKUP(B14,'S6'!$B$23:$Z$57,16,FALSE))","v":""},{"$f":"IF(VLOOKUP(B14,'S6'!$B$23:$Z$57,17,FALSE)=\"\",\"\",VLOOKUP(B14,'S6'!$B$23:$Z$57,17,FALSE))","v":""},{"$f":"IF(VLOOKUP(B14,'S6'!$B$23:$Z$57,18,FALSE)=\"\",\"\",VLOOKUP(B14,'S6'!$B$23:$Z$57,18,FALSE))","v":""},{"$f":"IF(VLOOKUP(B14,'S6'!$B$23:$Z$57,19,FALSE)=\"\",\"\",VLOOKUP(B14,'S6'!$B$23:$Z$57,19,FALSE))","v":""},{"$f":"IF(VLOOKUP(B14,'S6'!$B$23:$Z$57,20,FALSE)=\"\",\"\",VLOOKUP(B14,'S6'!$B$23:$Z$57,20,FALSE))","v":""},{"$f":"IF(VLOOKUP(B14,'S6'!$B$23:$Z$57,21,FALSE)=\"\",\"\",VLOOKUP(B14,'S6'!$B$23:$Z$57,21,FALSE))","v":""},{"$f":"IF(VLOOKUP(B14,'S6'!$B$23:$Z$57,22,FALSE)=\"\",\"\",VLOOKUP(B14,'S6'!$B$23:$Z$57,22,FALSE))","v":""},{"$f":"IF(VLOOKUP(B14,'S6'!$B$23:$Z$57,23,FALSE)=\"\",\"\",VLOOKUP(B14,'S6'!$B$23:$Z$57,23,FALSE))","v":""},{"$f":"IF(VLOOKUP(B14,'S6'!$B$23:$Z$57,24,FALSE)=\"\",\"\",VLOOKUP(B14,'S6'!$B$23:$Z$57,24,FALSE))","v":""},{"$f":"IF(VLOOKUP(B14,'S6'!$B$23:$Z$57,25,FALSE)=\"\",\"\",VLOOKUP(B14,'S6'!$B$23:$Z$57,25,FALSE))","v":""},null,"Note",null,null,null,null,{"$f":"IF('S6'!$Q$18=\"\",\"\",\"erreicht\")","v":""},null,null,{"$f":"IF(VLOOKUP(U14,'S6'!$B$23:$Z$57,16,FALSE)=\"\",\"\",VLOOKUP(U14,'S6'!$B$23:$Z$57,16,FALSE))","v":""},{"$f":"IF(VLOOKUP(U14,'S6'!$B$23:$Z$57,17,FALSE)=\"\",\"\",VLOOKUP(U14,'S6'!$B$23:$Z$57,17,FALSE))","v":""},{"$f":"IF(VLOOKUP(U14,'S6'!$B$23:$Z$57,18,FALSE)=\"\",\"\",VLOOKUP(U14,'S6'!$B$23:$Z$57,18,FALSE))","v":""},{"$f":"IF(VLOOKUP(U14,'S6'!$B$23:$Z$57,19,FALSE)=\"\",\"\",VLOOKUP(U14,'S6'!$B$23:$Z$57,19,FALSE))","v":""},{"$f":"IF(VLOOKUP(U14,'S6'!$B$23:$Z$57,20,FALSE)=\"\",\"\",VLOOKUP(U14,'S6'!$B$23:$Z$57,20,FALSE))","v":""},{"$f":"IF(VLOOKUP(U14,'S6'!$B$23:$Z$57,21,FALSE)=\"\",\"\",VLOOKUP(U14,'S6'!$B$23:$Z$57,21,FALSE))","v":""},{"$f":"IF(VLOOKUP(U14,'S6'!$B$23:$Z$57,22,FALSE)=\"\",\"\",VLOOKUP(U14,'S6'!$B$23:$Z$57,22,FALSE))","v":""},{"$f":"IF(VLOOKUP(U14,'S6'!$B$23:$Z$57,23,FALSE)=\"\",\"\",VLOOKUP(U14,'S6'!$B$23:$Z$57,23,FALSE))","v":""},{"$f":"IF(VLOOKUP(U14,'S6'!$B$23:$Z$57,24,FALSE)=\"\",\"\",VLOOKUP(U14,'S6'!$B$23:$Z$57,24,FALSE))","v":""},{"$f":"IF(VLOOKUP(U14,'S6'!$B$23:$Z$57,25,FALSE)=\"\",\"\",VLOOKUP(U14,'S6'!$B$23:$Z$57,25,FALSE))","v":""},null,"Note"]
[null,{"$f":"IF('S6'!$Q$18=\"\",\"\",\"von\")","v":""},null,null,{"$f":"IF('S6'!$Q$21=\"\",\"\",'S6'!$Q$21)","v":""},{"$f":"IF('S6'!$R$21=\"\",\"\",'S6'!$R$21)","v":""},{"$f":"IF('S6'!$S$21=\"\",\"\",'S6'!$S$21)","v":""},{"$f":"IF('S6'!$T$21=\"\",\"\",'S6'!$T$21)","v":""},{"$f":"IF('S6'!$U$21=\"\",\"\",'S6'!$U$21)","v":""},{"$f":"IF('S6'!$V$21=\"\",\"\",'S6'!$V$21)","v":""},{"$f":"IF('S6'!$W$21=\"\",\"\",'S6'!$W$21)","v":""},{"$f":"IF('S6'!$X$21=\"\",\"\",'S6'!$X$21)","v":""},{"$f":"IF('S6'!$Y$21=\"\",\"\",'S6'!$Y$21)","v":""},{"$f":"IF('S6'!$Z$21=\"\",\"\",'S6'!$Z$21)","v":""},null,{"$f":"IF(VLOOKUP(B14,'S6'!$B$23:$Z$57,2,FALSE)=\"\",\"\",CONCATENATE(VLOOKUP(B14,'S6'!$B$23:$Z$57,2,FALSE),\" \",VLOOKUP(B14,'S6'!$B$23:$Z$57,3,FALSE)))","v":"- "},null,null,null,null,{"$f":"IF('S6'!$Q$18=\"\",\"\",\"von\")","v":""},null,null,{"$f":"IF('S6'!$Q$21=\"\",\"\",'S6'!$Q$21)","v":""},{"$f":"IF('S6'!$R$21=\"\",\"\",'S6'!$R$21)","v":""},{"$f":"IF('S6'!$S$21=\"\",\"\",'S6'!$S$21)","v":""},{"$f":"IF('S6'!$T$21=\"\",\"\",'S6'!$T$21)","v":""},{"$f":"IF('S6'!$U$21=\"\",\"\",'S6'!$U$21)","v":""},{"$f":"IF('S6'!$V$21=\"\",\"\",'S6'!$V$21)","v":""},{"$f":"IF('S6'!$W$21=\"\",\"\",'S6'!$W$21)","v":""},{"$f":"IF('S6'!$X$21=\"\",\"\",'S6'!$X$21)","v":""},{"$f":"IF('S6'!$Y$21=\"\",\"\",'S6'!$Y$21)","v":""},{"$f":"IF('S6'!$Z$21=\"\",\"\",'S6'!$Z$21)","v":""},null,{"$f":"IF(VLOOKUP(U14,'S6'!$B$23:$Z$57,2,FALSE)=\"\",\"\",CONCATENATE(VLOOKUP(U14,'S6'!$B$23:$Z$57,2,FALSE),\" \",VLOOKUP(U14,'S6'!$B$23:$Z$57,3,FALSE)))","v":"- "}]
[]
[]
[]
[null,{"$f":"'S6'!$B$27","v":""},null,null,null,null,null,null,null,null,null,null,null,null,null,null,null,null,null,null,{"$f":"'S6'!$B$28","v":""}]
[null,null,null,null,null,null,null,null,null,null,null,null,null,null,null,"Summe",null,null,null,null,null,null,null,null,null,null,null,null,null,null,null,null,null,null,"Summe"]
[null,"Aufgabe",null,null,{"$f":"IF('S6'!$G$18=\"\",\"\",'S6'!$G$18)","v":1},{"$f":"IF('S6'!$H$18=\"\",\"\",'S6'!$H$18)","v":2},{"$f":"IF('S6'!$I$18=\"\",\"\",'S6'!$I$18)","v":3},{"$f":"IF('S6'!$J$18=\"\",\"\",'S6'!$J$18)","v":""},{"$f":"IF('S6'!$K$18=\"\",\"\",'S6'!$K$18)","v":""},{"$f":"IF('S6'!$L$18=\"\",\"\",'S6'!$L$18)","v":""},{"$f":"IF('S6'!$M$18=\"\",\"\",'S6'!$M$18)","v":""},{"$f":"IF('S6'!$N$18=\"\",\"\",'S6'!$N$18)","v":""},{"$f":"IF('S6'!$O$18=\"\",\"\",'S6'!$O$18)","v":""},{"$f":"IF('S6'!$P$18=\"\",\"\",'S6'!$P$18)","v":""},null,{"$f":"IF(VLOOKUP(B26,'S6'!$B$23:$Z$57,5,FALSE)=\"\",\"\",VLOOKUP(B26,'S6'!$B$23:$Z$57,5,FALSE))","v":0},null,null,null,null,"Aufgabe",null,null,{"$f":"IF('S6'!$G$18=\"\",\"\",'S6'!$G$18)","v":1},{"$f":"IF('S6'!$H$18=\"\",\"\",'S6'!$H$18)","v":2},{"$f":"IF('S6'!$I$18=\"\",\"\",'S6'!$I$18)","v":3},{"$f":"IF('S6'!$J$18=\"\",\"\",'S6'!$J$18)","v":""},{"$f":"IF('S6'!$K$18=\"\",\"\",'S6'!$K$18)","v":""},{"$f":"IF('S6'!$L$18=\"\",\"\",'S6'!$L$18)","v":""},{"$f":"IF('S6'!$M$18=\"\",\"\",'S6'!$M$18)","v":""},{"$f":"IF('S6'!$N$18=\"\",\"\",'S6'!$N$18)","v":""},{"$f":"IF('S6'!$O$18=\"\",\"\",'S6'!$O$18)","v":""},{"$f":"IF('S6'!$P$18=\"\",\"\",'S6'!$P$18)","v":""},null,{"$f":"IF(VLOOKUP(U26,'S6'!$B$23:$Z$57,5,FALSE)=\"\",\"\",VLOOKUP(U26,'S6'!$B$23:$Z$57,5,FALSE))","v":0}]
[null,"erreicht",null,null,{"$f":"IF(VLOOKUP(B26,'S6'!$B$23:$Z$57,6,FALSE)=\"\",\"\",VLOOKUP(B26,'S6'!$B$23:$Z$57,6,FALSE))","v":"."},{"$f":"IF(VLOOKUP(B26,'S6'!$B$23:$Z$57,7,FALSE)=\"\",\"\",VLOOKUP(B26,'S6'!$B$23:$Z$57,7,FALSE))","v":""},{"$f":"IF(VLOOKUP(B26,'S6'!$B$23:$Z$57,8,FALSE)=\"\",\"\",VLOOKUP(B26,'S6'!$B$23:$Z$57,8,FALSE))","v":""},{"$f":"IF(VLOOKUP(B26,'S6'!$B$23:$Z$57,9,FALSE)=\"\",\"\",VLOOKUP(B26,'S6'!$B$23:$Z$57,9,FALSE))","v":""},{"$f":"IF(VLOOKUP(B26,'S6'!$B$23:$Z$57,10,FALSE)=\"\",\"\",VLOOKUP(B26,'S6'!$B$23:$Z$57,10,FALSE))","v":""},{"$f":"IF(VLOOKUP(B26,'S6'!$B$23:$Z$57,11,FALSE)=\"\",\"\",VLOOKUP(B26,'S6'!$B$23:$Z$57,11,FALSE))","v":""},{"$f":"IF(VLOOKUP(B26,'S6'!$B$23:$Z$57,12,FALSE)=\"\",\"\",VLOOKUP(B26,'S6'!$B$23:$Z$57,12,FALSE))","v":""},{"$f":"IF(VLOOKUP(B26,'S6'!$B$23:$Z$57,13,FALSE)=\"\",\"\",VLOOKUP(B26,'S6'!$B$23:$Z$57,13,FALSE))","v":""},{"$f":"IF(VLOOKUP(B26,'S6'!$B$23:$Z$57,14,FALSE)=\"\",\"\",VLOOKUP(B26,'S6'!$B$23:$Z$57,14,FALSE))","v":""},{"$f":"IF(VLOOKUP(B26,'S6'!$B$23:$Z$57,15,FALSE)=\"\",\"\",VLOOKUP(B26,'S6'!$B$23:$Z$57,15,FALSE))","v":""},null,null,null,null,null,null,"erreicht",null,null,{"$f":"IF(VLOOKUP(U26,'S6'!$B$23:$Z$57,6,FALSE)=\"\",\"\",VLOOKUP(U26,'S6'!$B$23:$Z$57,6,FALSE))","v":"."},{"$f":"IF(VLOOKUP(U26,'S6'!$B$23:$Z$57,7,FALSE)=\"\",\"\",VLOOKUP(U26,'S6'!$B$23:$Z$57,7,FALSE))","v":""},{"$f":"IF(VLOOKUP(U26,'S6'!$B$23:$Z$57,8,FALSE)=\"\",\"\",VLOOKUP(U26,'S6'!$B$23:$Z$57,8,FALSE))","v":""},{"$f":"IF(VLOOKUP(U26,'S6'!$B$23:$Z$57,9,FALSE)=\"\",\"\",VLOOKUP(U26,'S6'!$B$23:$Z$57,9,FALSE))","v":""},{"$f":"IF(VLOOKUP(U26,'S6'!$B$23:$Z$57,10,FALSE)=\"\",\"\",VLOOKUP(U26,'S6'!$B$23:$Z$57,10,FALSE))","v":""},{"$f":"IF(VLOOKUP(U26,'S6'!$B$23:$Z$57,11,FALSE)=\"\",\"\",VLOOKUP(U26,'S6'!$B$23:$Z$57,11,FALSE))","v":""},{"$f":"IF(VLOOKUP(U26,'S6'!$B$23:$Z$57,12,FALSE)=\"\",\"\",VLOOKUP(U26,'S6'!$B$23:$Z$57,12,FALSE))","v":""},{"$f":"IF(VLOOKUP(U26,'S6'!$B$23:$Z$57,13,FALSE)=\"\",\"\",VLOOKUP(U26,'S6'!$B$23:$Z$57,13,FALSE))","v":""},{"$f":"IF(VLOOKUP(U26,'S6'!$B$23:$Z$57,14,FALSE)=\"\",\"\",VLOOKUP(U26,'S6'!$B$23:$Z$57,14,FALSE))","v":""},{"$f":"IF(VLOOKUP(U26,'S6'!$B$23:$Z$57,15,FALSE)=\"\",\"\",VLOOKUP(U26,'S6'!$B$23:$Z$57,15,FALSE))","v":""}]
[null,"von",null,null,{"$f":"IF('S6'!$G$21=\"\",\"\",'S6'!$G$21)","v":""},{"$f":"IF('S6'!$H$21=\"\",\"\",'S6'!$H$21)","v":""},{"$f":"IF('S6'!$I$21=\"\",\"\",'S6'!$I$21)","v":""},{"$f":"IF('S6'!$J$21=\"\",\"\",'S6'!$J$21)","v":""},{"$f":"IF('S6'!$K$21=\"\",\"\",'S6'!$K$21)","v":""},{"$f":"IF('S6'!$L$21=\"\",\"\",'S6'!$L$21)","v":""},{"$f":"IF('S6'!$M$21=\"\",\"\",'S6'!$M$21)","v":""},{"$f":"IF('S6'!$N$21=\"\",\"\",'S6'!$N$21)","v":""},{"$f":"IF('S6'!$O$21=\"\",\"\",'S6'!$O$21)","v":""},{"$f":"IF('S6'!$P$21=\"\",\"\",'S6'!$P$21)","v":""},null,"von",null,null,null,null,"von",null,null,{"$f":"IF('S6'!$G$21=\"\",\"\",'S6'!$G$21)","v":""},{"$f":"IF('S6'!$H$21=\"\",\"\",'S6'!$H$21)","v":""},{"$f":"IF('S6'!$I$21=\"\",\"\",'S6'!$I$21)","v":""},{"$f":"IF('S6'!$J$21=\"\",\"\",'S6'!$J$21)","v":""},{"$f":"IF('S6'!$K$21=\"\",\"\",'S6'!$K$21)","v":""},{"$f":"IF('S6'!$L$21=\"\",\"\",'S6'!$L$21)","v":""},{"$f":"IF('S6'!$M$21=\"\",\"\",'S6'!$M$21)","v":""},{"$f":"IF('S6'!$N$21=\"\",\"\",'S6'!$N$21)","v":""},{"$f":"IF('S6'!$O$21=\"\",\"\",'S6'!$O$21)","v":""},{"$f":"IF('S6'!$P$21=\"\",\"\",'S6'!$P$21)","v":""},null,"von"]
[null,null,null,null,null,null,null,null,null,null,null,null,null,null,null,{"$f":"'S6'!$H$12","v":0},null,null,null,null,null,null,null,null,null,null,null,null,null,null,null,null,null,null,{"$f":"'S6'!$H$12","v":0}]
[null,{"$f":"IF('S6'!$Q$18=\"\",\"\",\"Aufgabe\")","v":""},null,null,{"$f":"IF('S6'!$Q$18=\"\",\"\",'S6'!$Q$18)","v":""},{"$f":"IF('S6'!$R$18=\"\",\"\",'S6'!$R$18)","v":""},{"$f":"IF('S6'!$S$18=\"\",\"\",'S6'!$S$18)","v":""},{"$f":"IF('S6'!$T$18=\"\",\"\",'S6'!$T$18)","v":""},{"$f":"IF('S6'!$U$18=\"\",\"\",'S6'!$U$18)","v":""},{"$f":"IF('S6'!$V$18=\"\",\"\",'S6'!$V$18)","v":""},{"$f":"IF('S6'!$W$18=\"\",\"\",'S6'!$W$18)","v":""},{"$f":"IF('S6'!$X$18=\"\",\"\",'S6'!$X$18)","v":""},{"$f":"IF('S6'!$Y$18=\"\",\"\",'S6'!$Y$18)","v":""},{"$f":"IF('S6'!$Z$18=\"\",\"\",'S6'!$Z$18)","v":""},null,null,null,null,null,null,{"$f":"IF('S6'!$Q$18=\"\",\"\",\"Aufgabe\")","v":""},null,null,{"$f":"IF('S6'!$Q$18=\"\",\"\",'S6'!$Q$18)","v":""},{"$f":"IF('S6'!$R$18=\"\",\"\",'S6'!$R$18)","v":""},{"$f":"IF('S6'!$S$18=\"\",\"\",'S6'!$S$18)","v":""},{"$f":"IF('S6'!$T$18=\"\",\"\",'S6'!$T$18)","v":""},{"$f":"IF('S6'!$U$18=\"\",\"\",'S6'!$U$18)","v":""},{"$f":"IF('S6'!$V$18=\"\",\"\",'S6'!$V$18)","v":""},{"$f":"IF('S6'!$W$18=\"\",\"\",'S6'!$W$18)","v":""},{"$f":"IF('S6'!$X$18=\"\",\"\",'S6'!$X$18)","v":""},{"$f":"IF('S6'!$Y$18=\"\",\"\",'S6'!$Y$18)","v":""},{"$f":"IF('S6'!$Z$18=\"\",\"\",'S6'!$Z$18)","v":""}]
[null,{"$f":"IF('S6'!$Q$18=\"\",\"\",\"erreicht\")","v":""},null,null,{"$f":"IF(VLOOKUP(B26,'S6'!$B$23:$Z$57,16,FALSE)=\"\",\"\",VLOOKUP(B26,'S6'!$B$23:$Z$57,16,FALSE))","v":""},{"$f":"IF(VLOOKUP(B26,'S6'!$B$23:$Z$57,17,FALSE)=\"\",\"\",VLOOKUP(B26,'S6'!$B$23:$Z$57,17,FALSE))","v":""},{"$f":"IF(VLOOKUP(B26,'S6'!$B$23:$Z$57,18,FALSE)=\"\",\"\",VLOOKUP(B26,'S6'!$B$23:$Z$57,18,FALSE))","v":""},{"$f":"IF(VLOOKUP(B26,'S6'!$B$23:$Z$57,19,FALSE)=\"\",\"\",VLOOKUP(B26,'S6'!$B$23:$Z$57,19,FALSE))","v":""},{"$f":"IF(VLOOKUP(B26,'S6'!$B$23:$Z$57,20,FALSE)=\"\",\"\",VLOOKUP(B26,'S6'!$B$23:$Z$57,20,FALSE))","v":""},{"$f":"IF(VLOOKUP(B26,'S6'!$B$23:$Z$57,21,FALSE)=\"\",\"\",VLOOKUP(B26,'S6'!$B$23:$Z$57,21,FALSE))","v":""},{"$f":"IF(VLOOKUP(B26,'S6'!$B$23:$Z$57,22,FALSE)=\"\",\"\",VLOOKUP(B26,'S6'!$B$23:$Z$57,22,FALSE))","v":""},{"$f":"IF(VLOOKUP(B26,'S6'!$B$23:$Z$57,23,FALSE)=\"\",\"\",VLOOKUP(B26,'S6'!$B$23:$Z$57,23,FALSE))","v":""},{"$f":"IF(VLOOKUP(B26,'S6'!$B$23:$Z$57,24,FALSE)=\"\",\"\",VLOOKUP(B26,'S6'!$B$23:$Z$57,24,FALSE))","v":""},{"$f":"IF(VLOOKUP(B26,'S6'!$B$23:$Z$57,25,FALSE)=\"\",\"\",VLOOKUP(B26,'S6'!$B$23:$Z$57,25,FALSE))","v":""},null,"Note",null,null,null,null,{"$f":"IF('S6'!$Q$18=\"\",\"\",\"erreicht\")","v":""},null,null,{"$f":"IF(VLOOKUP(U26,'S6'!$B$23:$Z$57,16,FALSE)=\"\",\"\",VLOOKUP(U26,'S6'!$B$23:$Z$57,16,FALSE))","v":""},{"$f":"IF(VLOOKUP(U26,'S6'!$B$23:$Z$57,17,FALSE)=\"\",\"\",VLOOKUP(U26,'S6'!$B$23:$Z$57,17,FALSE))","v":""},{"$f":"IF(VLOOKUP(U26,'S6'!$B$23:$Z$57,18,FALSE)=\"\",\"\",VLOOKUP(U26,'S6'!$B$23:$Z$57,18,FALSE))","v":""},{"$f":"IF(VLOOKUP(U26,'S6'!$B$23:$Z$57,19,FALSE)=\"\",\"\",VLOOKUP(U26,'S6'!$B$23:$Z$57,19,FALSE))","v":""},{"$f":"IF(VLOOKUP(U26,'S6'!$B$23:$Z$57,20,FALSE)=\"\",\"\",VLOOKUP(U26,'S6'!$B$23:$Z$57,20,FALSE))","v":""},{"$f":"IF(VLOOKUP(U26,'S6'!$B$23:$Z$57,21,FALSE)=\"\",\"\",VLOOKUP(U26,'S6'!$B$23:$Z$57,21,FALSE))","v":""},{"$f":"IF(VLOOKUP(U26,'S6'!$B$23:$Z$57,22,FALSE)=\"\",\"\",VLOOKUP(U26,'S6'!$B$23:$Z$57,22,FALSE))","v":""},{"$f":"IF(VLOOKUP(U26,'S6'!$B$23:$Z$57,23,FALSE)=\"\",\"\",VLOOKUP(U26,'S6'!$B$23:$Z$57,23,FALSE))","v":""},{"$f":"IF(VLOOKUP(U26,'S6'!$B$23:$Z$57,24,FALSE)=\"\",\"\",VLOOKUP(U26,'S6'!$B$23:$Z$57,24,FALSE))","v":""},{"$f":"IF(VLOOKUP(U26,'S6'!$B$23:$Z$57,25,FALSE)=\"\",\"\",VLOOKUP(U26,'S6'!$B$23:$Z$57,25,FALSE))","v":""},null,"Note"]
[null,{"$f":"IF('S6'!$Q$18=\"\",\"\",\"von\")","v":""},null,null,{"$f":"IF('S6'!$Q$21=\"\",\"\",'S6'!$Q$21)","v":""},{"$f":"IF('S6'!$R$21=\"\",\"\",'S6'!$R$21)","v":""},{"$f":"IF('S6'!$S$21=\"\",\"\",'S6'!$S$21)","v":""},{"$f":"IF('S6'!$T$21=\"\",\"\",'S6'!$T$21)","v":""},{"$f":"IF('S6'!$U$21=\"\",\"\",'S6'!$U$21)","v":""},{"$f":"IF('S6'!$V$21=\"\",\"\",'S6'!$V$21)","v":""},{"$f":"IF('S6'!$W$21=\"\",\"\",'S6'!$W$21)","v":""},{"$f":"IF('S6'!$X$21=\"\",\"\",'S6'!$X$21)","v":""},{"$f":"IF('S6'!$Y$21=\"\",\"\",'S6'!$Y$21)","v":""},{"$f":"IF('S6'!$Z$21=\"\",\"\",'S6'!$Z$21)","v":""},null,{"$f":"IF(VLOOKUP(B26,'S6'!$B$23:$Z$57,2,FALSE)=\"\",\"\",CONCATENATE(VLOOKUP(B26,'S6'!$B$23:$Z$57,2,FALSE),\" \",VLOOKUP(B26,'S6'!$B$23:$Z$57,3,FALSE)))","v":"- "},null,null,null,null,{"$f":"IF('S6'!$Q$18=\"\",\"\",\"von\")","v":""},null,null,{"$f":"IF('S6'!$Q$21=\"\",\"\",'S6'!$Q$21)","v":""},{"$f":"IF('S6'!$R$21=\"\",\"\",'S6'!$R$21)","v":""},{"$f":"IF('S6'!$S$21=\"\",\"\",'S6'!$S$21)","v":""},{"$f":"IF('S6'!$T$21=\"\",\"\",'S6'!$T$21)","v":""},{"$f":"IF('S6'!$U$21=\"\",\"\",'S6'!$U$21)","v":""},{"$f":"IF('S6'!$V$21=\"\",\"\",'S6'!$V$21)","v":""},{"$f":"IF('S6'!$W$21=\"\",\"\",'S6'!$W$21)","v":""},{"$f":"IF('S6'!$X$21=\"\",\"\",'S6'!$X$21)","v":""},{"$f":"IF('S6'!$Y$21=\"\",\"\",'S6'!$Y$21)","v":""},{"$f":"IF('S6'!$Z$21=\"\",\"\",'S6'!$Z$21)","v":""},null,{"$f":"IF(VLOOKUP(U26,'S6'!$B$23:$Z$57,2,FALSE)=\"\",\"\",CONCATENATE(VLOOKUP(U26,'S6'!$B$23:$Z$57,2,FALSE),\" \",VLOOKUP(U26,'S6'!$B$23:$Z$57,3,FALSE)))","v":"- "}]
[]
[]
[]
[null,{"$f":"'S6'!$B$29","v":""},null,null,null,null,null,null,null,null,null,null,null,null,null,null,null,null,null,null,{"$f":"'S6'!$B$30","v":""}]
[null,null,null,null,null,null,null,null,null,null,null,null,null,null,null,"Summe",null,null,null,null,null,null,null,null,null,null,null,null,null,null,null,null,null,null,"Summe"]
[null,"Aufgabe",null,null,{"$f":"IF('S6'!$G$18=\"\",\"\",'S6'!$G$18)","v":1},{"$f":"IF('S6'!$H$18=\"\",\"\",'S6'!$H$18)","v":2},{"$f":"IF('S6'!$I$18=\"\",\"\",'S6'!$I$18)","v":3},{"$f":"IF('S6'!$J$18=\"\",\"\",'S6'!$J$18)","v":""},{"$f":"IF('S6'!$K$18=\"\",\"\",'S6'!$K$18)","v":""},{"$f":"IF('S6'!$L$18=\"\",\"\",'S6'!$L$18)","v":""},{"$f":"IF('S6'!$M$18=\"\",\"\",'S6'!$M$18)","v":""},{"$f":"IF('S6'!$N$18=\"\",\"\",'S6'!$N$18)","v":""},{"$f":"IF('S6'!$O$18=\"\",\"\",'S6'!$O$18)","v":""},{"$f":"IF('S6'!$P$18=\"\",\"\",'S6'!$P$18)","v":""},null,{"$f":"IF(VLOOKUP(B38,'S6'!$B$23:$Z$57,5,FALSE)=\"\",\"\",VLOOKUP(B38,'S6'!$B$23:$Z$57,5,FALSE))","v":0},null,null,null,null,"Aufgabe",null,null,{"$f":"IF('S6'!$G$18=\"\",\"\",'S6'!$G$18)","v":1},{"$f":"IF('S6'!$H$18=\"\",\"\",'S6'!$H$18)","v":2},{"$f":"IF('S6'!$I$18=\"\",\"\",'S6'!$I$18)","v":3},{"$f":"IF('S6'!$J$18=\"\",\"\",'S6'!$J$18)","v":""},{"$f":"IF('S6'!$K$18=\"\",\"\",'S6'!$K$18)","v":""},{"$f":"IF('S6'!$L$18=\"\",\"\",'S6'!$L$18)","v":""},{"$f":"IF('S6'!$M$18=\"\",\"\",'S6'!$M$18)","v":""},{"$f":"IF('S6'!$N$18=\"\",\"\",'S6'!$N$18)","v":""},{"$f":"IF('S6'!$O$18=\"\",\"\",'S6'!$O$18)","v":""},{"$f":"IF('S6'!$P$18=\"\",\"\",'S6'!$P$18)","v":""},null,{"$f":"IF(VLOOKUP(U38,'S6'!$B$23:$Z$57,5,FALSE)=\"\",\"\",VLOOKUP(U38,'S6'!$B$23:$Z$57,5,FALSE))","v":0}]
[null,"erreicht",null,null,{"$f":"IF(VLOOKUP(B38,'S6'!$B$23:$Z$57,6,FALSE)=\"\",\"\",VLOOKUP(B38,'S6'!$B$23:$Z$57,6,FALSE))","v":"."},{"$f":"IF(VLOOKUP(B38,'S6'!$B$23:$Z$57,7,FALSE)=\"\",\"\",VLOOKUP(B38,'S6'!$B$23:$Z$57,7,FALSE))","v":""},{"$f":"IF(VLOOKUP(B38,'S6'!$B$23:$Z$57,8,FALSE)=\"\",\"\",VLOOKUP(B38,'S6'!$B$23:$Z$57,8,FALSE))","v":""},{"$f":"IF(VLOOKUP(B38,'S6'!$B$23:$Z$57,9,FALSE)=\"\",\"\",VLOOKUP(B38,'S6'!$B$23:$Z$57,9,FALSE))","v":""},{"$f":"IF(VLOOKUP(B38,'S6'!$B$23:$Z$57,10,FALSE)=\"\",\"\",VLOOKUP(B38,'S6'!$B$23:$Z$57,10,FALSE))","v":""},{"$f":"IF(VLOOKUP(B38,'S6'!$B$23:$Z$57,11,FALSE)=\"\",\"\",VLOOKUP(B38,'S6'!$B$23:$Z$57,11,FALSE))","v":""},{"$f":"IF(VLOOKUP(B38,'S6'!$B$23:$Z$57,12,FALSE)=\"\",\"\",VLOOKUP(B38,'S6'!$B$23:$Z$57,12,FALSE))","v":""},{"$f":"IF(VLOOKUP(B38,'S6'!$B$23:$Z$57,13,FALSE)=\"\",\"\",VLOOKUP(B38,'S6'!$B$23:$Z$57,13,FALSE))","v":""},{"$f":"IF(VLOOKUP(B38,'S6'!$B$23:$Z$57,14,FALSE)=\"\",\"\",VLOOKUP(B38,'S6'!$B$23:$Z$57,14,FALSE))","v":""},{"$f":"IF(VLOOKUP(B38,'S6'!$B$23:$Z$57,15,FALSE)=\"\",\"\",VLOOKUP(B38,'S6'!$B$23:$Z$57,15,FALSE))","v":""},null,null,null,null,null,null,"erreicht",null,null,{"$f":"IF(VLOOKUP(U38,'S6'!$B$23:$Z$57,6,FALSE)=\"\",\"\",VLOOKUP(U38,'S6'!$B$23:$Z$57,6,FALSE))","v":"."},{"$f":"IF(VLOOKUP(U38,'S6'!$B$23:$Z$57,7,FALSE)=\"\",\"\",VLOOKUP(U38,'S6'!$B$23:$Z$57,7,FALSE))","v":""},{"$f":"IF(VLOOKUP(U38,'S6'!$B$23:$Z$57,8,FALSE)=\"\",\"\",VLOOKUP(U38,'S6'!$B$23:$Z$57,8,FALSE))","v":""},{"$f":"IF(VLOOKUP(U38,'S6'!$B$23:$Z$57,9,FALSE)=\"\",\"\",VLOOKUP(U38,'S6'!$B$23:$Z$57,9,FALSE))","v":""},{"$f":"IF(VLOOKUP(U38,'S6'!$B$23:$Z$57,10,FALSE)=\"\",\"\",VLOOKUP(U38,'S6'!$B$23:$Z$57,10,FALSE))","v":""},{"$f":"IF(VLOOKUP(U38,'S6'!$B$23:$Z$57,11,FALSE)=\"\",\"\",VLOOKUP(U38,'S6'!$B$23:$Z$57,11,FALSE))","v":""},{"$f":"IF(VLOOKUP(U38,'S6'!$B$23:$Z$57,12,FALSE)=\"\",\"\",VLOOKUP(U38,'S6'!$B$23:$Z$57,12,FALSE))","v":""},{"$f":"IF(VLOOKUP(U38,'S6'!$B$23:$Z$57,13,FALSE)=\"\",\"\",VLOOKUP(U38,'S6'!$B$23:$Z$57,13,FALSE))","v":""},{"$f":"IF(VLOOKUP(U38,'S6'!$B$23:$Z$57,14,FALSE)=\"\",\"\",VLOOKUP(U38,'S6'!$B$23:$Z$57,14,FALSE))","v":""},{"$f":"IF(VLOOKUP(U38,'S6'!$B$23:$Z$57,15,FALSE)=\"\",\"\",VLOOKUP(U38,'S6'!$B$23:$Z$57,15,FALSE))","v":""}]
[null,"von",null,null,{"$f":"IF('S6'!$G$21=\"\",\"\",'S6'!$G$21)","v":""},{"$f":"IF('S6'!$H$21=\"\",\"\",'S6'!$H$21)","v":""},{"$f":"IF('S6'!$I$21=\"\",\"\",'S6'!$I$21)","v":""},{"$f":"IF('S6'!$J$21=\"\",\"\",'S6'!$J$21)","v":""},{"$f":"IF('S6'!$K$21=\"\",\"\",'S6'!$K$21)","v":""},{"$f":"IF('S6'!$L$21=\"\",\"\",'S6'!$L$21)","v":""},{"$f":"IF('S6'!$M$21=\"\",\"\",'S6'!$M$21)","v":""},{"$f":"IF('S6'!$N$21=\"\",\"\",'S6'!$N$21)","v":""},{"$f":"IF('S6'!$O$21=\"\",\"\",'S6'!$O$21)","v":""},{"$f":"IF('S6'!$P$21=\"\",\"\",'S6'!$P$21)","v":""},null,"von",null,null,null,null,"von",null,null,{"$f":"IF('S6'!$G$21=\"\",\"\",'S6'!$G$21)","v":""},{"$f":"IF('S6'!$H$21=\"\",\"\",'S6'!$H$21)","v":""},{"$f":"IF('S6'!$I$21=\"\",\"\",'S6'!$I$21)","v":""},{"$f":"IF('S6'!$J$21=\"\",\"\",'S6'!$J$21)","v":""},{"$f":"IF('S6'!$K$21=\"\",\"\",'S6'!$K$21)","v":""},{"$f":"IF('S6'!$L$21=\"\",\"\",'S6'!$L$21)","v":""},{"$f":"IF('S6'!$M$21=\"\",\"\",'S6'!$M$21)","v":""},{"$f":"IF('S6'!$N$21=\"\",\"\",'S6'!$N$21)","v":""},{"$f":"IF('S6'!$O$21=\"\",\"\",'S6'!$O$21)","v":""},{"$f":"IF('S6'!$P$21=\"\",\"\",'S6'!$P$21)","v":""},null,"von"]
[null,null,null,null,null,null,null,null,null,null,null,null,null,null,null,{"$f":"'S6'!$H$12","v":0},null,null,null,null,null,null,null,null,null,null,null,null,null,null,null,null,null,null,{"$f":"'S6'!$H$12","v":0}]
[null,{"$f":"IF('S6'!$Q$18=\"\",\"\",\"Aufgabe\")","v":""},null,null,{"$f":"IF('S6'!$Q$18=\"\",\"\",'S6'!$Q$18)","v":""},{"$f":"IF('S6'!$R$18=\"\",\"\",'S6'!$R$18)","v":""},{"$f":"IF('S6'!$S$18=\"\",\"\",'S6'!$S$18)","v":""},{"$f":"IF('S6'!$T$18=\"\",\"\",'S6'!$T$18)","v":""},{"$f":"IF('S6'!$U$18=\"\",\"\",'S6'!$U$18)","v":""},{"$f":"IF('S6'!$V$18=\"\",\"\",'S6'!$V$18)","v":""},{"$f":"IF('S6'!$W$18=\"\",\"\",'S6'!$W$18)","v":""},{"$f":"IF('S6'!$X$18=\"\",\"\",'S6'!$X$18)","v":""},{"$f":"IF('S6'!$Y$18=\"\",\"\",'S6'!$Y$18)","v":""},{"$f":"IF('S6'!$Z$18=\"\",\"\",'S6'!$Z$18)","v":""},null,null,null,null,null,null,{"$f":"IF('S6'!$Q$18=\"\",\"\",\"Aufgabe\")","v":""},null,null,{"$f":"IF('S6'!$Q$18=\"\",\"\",'S6'!$Q$18)","v":""},{"$f":"IF('S6'!$R$18=\"\",\"\",'S6'!$R$18)","v":""},{"$f":"IF('S6'!$S$18=\"\",\"\",'S6'!$S$18)","v":""},{"$f":"IF('S6'!$T$18=\"\",\"\",'S6'!$T$18)","v":""},{"$f":"IF('S6'!$U$18=\"\",\"\",'S6'!$U$18)","v":""},{"$f":"IF('S6'!$V$18=\"\",\"\",'S6'!$V$18)","v":""},{"$f":"IF('S6'!$W$18=\"\",\"\",'S6'!$W$18)","v":""},{"$f":"IF('S6'!$X$18=\"\",\"\",'S6'!$X$18)","v":""},{"$f":"IF('S6'!$Y$18=\"\",\"\",'S6'!$Y$18)","v":""},{"$f":"IF('S6'!$Z$18=\"\",\"\",'S6'!$Z$18)","v":""}]
[null,{"$f":"IF('S6'!$Q$18=\"\",\"\",\"erreicht\")","v":""},null,null,{"$f":"IF(VLOOKUP(B38,'S6'!$B$23:$Z$57,16,FALSE)=\"\",\"\",VLOOKUP(B38,'S6'!$B$23:$Z$57,16,FALSE))","v":""},{"$f":"IF(VLOOKUP(B38,'S6'!$B$23:$Z$57,17,FALSE)=\"\",\"\",VLOOKUP(B38,'S6'!$B$23:$Z$57,17,FALSE))","v":""},{"$f":"IF(VLOOKUP(B38,'S6'!$B$23:$Z$57,18,FALSE)=\"\",\"\",VLOOKUP(B38,'S6'!$B$23:$Z$57,18,FALSE))","v":""},{"$f":"IF(VLOOKUP(B38,'S6'!$B$23:$Z$57,19,FALSE)=\"\",\"\",VLOOKUP(B38,'S6'!$B$23:$Z$57,19,FALSE))","v":""},{"$f":"IF(VLOOKUP(B38,'S6'!$B$23:$Z$57,20,FALSE)=\"\",\"\",VLOOKUP(B38,'S6'!$B$23:$Z$57,20,FALSE))","v":""},{"$f":"IF(VLOOKUP(B38,'S6'!$B$23:$Z$57,21,FALSE)=\"\",\"\",VLOOKUP(B38,'S6'!$B$23:$Z$57,21,FALSE))","v":""},{"$f":"IF(VLOOKUP(B38,'S6'!$B$23:$Z$57,22,FALSE)=\"\",\"\",VLOOKUP(B38,'S6'!$B$23:$Z$57,22,FALSE))","v":""},{"$f":"IF(VLOOKUP(B38,'S6'!$B$23:$Z$57,23,FALSE)=\"\",\"\",VLOOKUP(B38,'S6'!$B$23:$Z$57,23,FALSE))","v":""},{"$f":"IF(VLOOKUP(B38,'S6'!$B$23:$Z$57,24,FALSE)=\"\",\"\",VLOOKUP(B38,'S6'!$B$23:$Z$57,24,FALSE))","v":""},{"$f":"IF(VLOOKUP(B38,'S6'!$B$23:$Z$57,25,FALSE)=\"\",\"\",VLOOKUP(B38,'S6'!$B$23:$Z$57,25,FALSE))","v":""},null,"Note",null,null,null,null,{"$f":"IF('S6'!$Q$18=\"\",\"\",\"erreicht\")","v":""},null,null,{"$f":"IF(VLOOKUP(U38,'S6'!$B$23:$Z$57,16,FALSE)=\"\",\"\",VLOOKUP(U38,'S6'!$B$23:$Z$57,16,FALSE))","v":""},{"$f":"IF(VLOOKUP(U38,'S6'!$B$23:$Z$57,17,FALSE)=\"\",\"\",VLOOKUP(U38,'S6'!$B$23:$Z$57,17,FALSE))","v":""},{"$f":"IF(VLOOKUP(U38,'S6'!$B$23:$Z$57,18,FALSE)=\"\",\"\",VLOOKUP(U38,'S6'!$B$23:$Z$57,18,FALSE))","v":""},{"$f":"IF(VLOOKUP(U38,'S6'!$B$23:$Z$57,19,FALSE)=\"\",\"\",VLOOKUP(U38,'S6'!$B$23:$Z$57,19,FALSE))","v":""},{"$f":"IF(VLOOKUP(U38,'S6'!$B$23:$Z$57,20,FALSE)=\"\",\"\",VLOOKUP(U38,'S6'!$B$23:$Z$57,20,FALSE))","v":""},{"$f":"IF(VLOOKUP(U38,'S6'!$B$23:$Z$57,21,FALSE)=\"\",\"\",VLOOKUP(U38,'S6'!$B$23:$Z$57,21,FALSE))","v":""},{"$f":"IF(VLOOKUP(U38,'S6'!$B$23:$Z$57,22,FALSE)=\"\",\"\",VLOOKUP(U38,'S6'!$B$23:$Z$57,22,FALSE))","v":""},{"$f":"IF(VLOOKUP(U38,'S6'!$B$23:$Z$57,23,FALSE)=\"\",\"\",VLOOKUP(U38,'S6'!$B$23:$Z$57,23,FALSE))","v":""},{"$f":"IF(VLOOKUP(U38,'S6'!$B$23:$Z$57,24,FALSE)=\"\",\"\",VLOOKUP(U38,'S6'!$B$23:$Z$57,24,FALSE))","v":""},{"$f":"IF(VLOOKUP(U38,'S6'!$B$23:$Z$57,25,FALSE)=\"\",\"\",VLOOKUP(U38,'S6'!$B$23:$Z$57,25,FALSE))","v":""},null,"Note"]
[null,{"$f":"IF('S6'!$Q$18=\"\",\"\",\"von\")","v":""},null,null,{"$f":"IF('S6'!$Q$21=\"\",\"\",'S6'!$Q$21)","v":""},{"$f":"IF('S6'!$R$21=\"\",\"\",'S6'!$R$21)","v":""},{"$f":"IF('S6'!$S$21=\"\",\"\",'S6'!$S$21)","v":""},{"$f":"IF('S6'!$T$21=\"\",\"\",'S6'!$T$21)","v":""},{"$f":"IF('S6'!$U$21=\"\",\"\",'S6'!$U$21)","v":""},{"$f":"IF('S6'!$V$21=\"\",\"\",'S6'!$V$21)","v":""},{"$f":"IF('S6'!$W$21=\"\",\"\",'S6'!$W$21)","v":""},{"$f":"IF('S6'!$X$21=\"\",\"\",'S6'!$X$21)","v":""},{"$f":"IF('S6'!$Y$21=\"\",\"\",'S6'!$Y$21)","v":""},{"$f":"IF('S6'!$Z$21=\"\",\"\",'S6'!$Z$21)","v":""},null,{"$f":"IF(VLOOKUP(B38,'S6'!$B$23:$Z$57,2,FALSE)=\"\",\"\",CONCATENATE(VLOOKUP(B38,'S6'!$B$23:$Z$57,2,FALSE),\" \",VLOOKUP(B38,'S6'!$B$23:$Z$57,3,FALSE)))","v":"- "},null,null,null,null,{"$f":"IF('S6'!$Q$18=\"\",\"\",\"von\")","v":""},null,null,{"$f":"IF('S6'!$Q$21=\"\",\"\",'S6'!$Q$21)","v":""},{"$f":"IF('S6'!$R$21=\"\",\"\",'S6'!$R$21)","v":""},{"$f":"IF('S6'!$S$21=\"\",\"\",'S6'!$S$21)","v":""},{"$f":"IF('S6'!$T$21=\"\",\"\",'S6'!$T$21)","v":""},{"$f":"IF('S6'!$U$21=\"\",\"\",'S6'!$U$21)","v":""},{"$f":"IF('S6'!$V$21=\"\",\"\",'S6'!$V$21)","v":""},{"$f":"IF('S6'!$W$21=\"\",\"\",'S6'!$W$21)","v":""},{"$f":"IF('S6'!$X$21=\"\",\"\",'S6'!$X$21)","v":""},{"$f":"IF('S6'!$Y$21=\"\",\"\",'S6'!$Y$21)","v":""},{"$f":"IF('S6'!$Z$21=\"\",\"\",'S6'!$Z$21)","v":""},null,{"$f":"IF(VLOOKUP(U38,'S6'!$B$23:$Z$57,2,FALSE)=\"\",\"\",CONCATENATE(VLOOKUP(U38,'S6'!$B$23:$Z$57,2,FALSE),\" \",VLOOKUP(U38,'S6'!$B$23:$Z$57,3,FALSE)))","v":"- "}]
[]
[]
[]
[null,{"$f":"'S6'!$B$31","v":""},null,null,null,null,null,null,null,null,null,null,null,null,null,null,null,null,null,null,{"$f":"'S6'!$B$32","v":""}]
[null,null,null,null,null,null,null,null,null,null,null,null,null,null,null,"Summe",null,null,null,null,null,null,null,null,null,null,null,null,null,null,null,null,null,null,"Summe"]
[null,"Aufgabe",null,null,{"$f":"IF('S6'!$G$18=\"\",\"\",'S6'!$G$18)","v":1},{"$f":"IF('S6'!$H$18=\"\",\"\",'S6'!$H$18)","v":2},{"$f":"IF('S6'!$I$18=\"\",\"\",'S6'!$I$18)","v":3},{"$f":"IF('S6'!$J$18=\"\",\"\",'S6'!$J$18)","v":""},{"$f":"IF('S6'!$K$18=\"\",\"\",'S6'!$K$18)","v":""},{"$f":"IF('S6'!$L$18=\"\",\"\",'S6'!$L$18)","v":""},{"$f":"IF('S6'!$M$18=\"\",\"\",'S6'!$M$18)","v":""},{"$f":"IF('S6'!$N$18=\"\",\"\",'S6'!$N$18)","v":""},{"$f":"IF('S6'!$O$18=\"\",\"\",'S6'!$O$18)","v":""},{"$f":"IF('S6'!$P$18=\"\",\"\",'S6'!$P$18)","v":""},null,{"$f":"IF(VLOOKUP(B50,'S6'!$B$23:$Z$57,5,FALSE)=\"\",\"\",VLOOKUP(B50,'S6'!$B$23:$Z$57,5,FALSE))","v":0},null,null,null,null,"Aufgabe",null,null,{"$f":"IF('S6'!$G$18=\"\",\"\",'S6'!$G$18)","v":1},{"$f":"IF('S6'!$H$18=\"\",\"\",'S6'!$H$18)","v":2},{"$f":"IF('S6'!$I$18=\"\",\"\",'S6'!$I$18)","v":3},{"$f":"IF('S6'!$J$18=\"\",\"\",'S6'!$J$18)","v":""},{"$f":"IF('S6'!$K$18=\"\",\"\",'S6'!$K$18)","v":""},{"$f":"IF('S6'!$L$18=\"\",\"\",'S6'!$L$18)","v":""},{"$f":"IF('S6'!$M$18=\"\",\"\",'S6'!$M$18)","v":""},{"$f":"IF('S6'!$N$18=\"\",\"\",'S6'!$N$18)","v":""},{"$f":"IF('S6'!$O$18=\"\",\"\",'S6'!$O$18)","v":""},{"$f":"IF('S6'!$P$18=\"\",\"\",'S6'!$P$18)","v":""},null,{"$f":"IF(VLOOKUP(U50,'S6'!$B$23:$Z$57,5,FALSE)=\"\",\"\",VLOOKUP(U50,'S6'!$B$23:$Z$57,5,FALSE))","v":0}]
[null,"erreicht",null,null,{"$f":"IF(VLOOKUP(B50,'S6'!$B$23:$Z$57,6,FALSE)=\"\",\"\",VLOOKUP(B50,'S6'!$B$23:$Z$57,6,FALSE))","v":"."},{"$f":"IF(VLOOKUP(B50,'S6'!$B$23:$Z$57,7,FALSE)=\"\",\"\",VLOOKUP(B50,'S6'!$B$23:$Z$57,7,FALSE))","v":""},{"$f":"IF(VLOOKUP(B50,'S6'!$B$23:$Z$57,8,FALSE)=\"\",\"\",VLOOKUP(B50,'S6'!$B$23:$Z$57,8,FALSE))","v":""},{"$f":"IF(VLOOKUP(B50,'S6'!$B$23:$Z$57,9,FALSE)=\"\",\"\",VLOOKUP(B50,'S6'!$B$23:$Z$57,9,FALSE))","v":""},{"$f":"IF(VLOOKUP(B50,'S6'!$B$23:$Z$57,10,FALSE)=\"\",\"\",VLOOKUP(B50,'S6'!$B$23:$Z$57,10,FALSE))","v":""},{"$f":"IF(VLOOKUP(B50,'S6'!$B$23:$Z$57,11,FALSE)=\"\",\"\",VLOOKUP(B50,'S6'!$B$23:$Z$57,11,FALSE))","v":""},{"$f":"IF(VLOOKUP(B50,'S6'!$B$23:$Z$57,12,FALSE)=\"\",\"\",VLOOKUP(B50,'S6'!$B$23:$Z$57,12,FALSE))","v":""},{"$f":"IF(VLOOKUP(B50,'S6'!$B$23:$Z$57,13,FALSE)=\"\",\"\",VLOOKUP(B50,'S6'!$B$23:$Z$57,13,FALSE))","v":""},{"$f":"IF(VLOOKUP(B50,'S6'!$B$23:$Z$57,14,FALSE)=\"\",\"\",VLOOKUP(B50,'S6'!$B$23:$Z$57,14,FALSE))","v":""},{"$f":"IF(VLOOKUP(B50,'S6'!$B$23:$Z$57,15,FALSE)=\"\",\"\",VLOOKUP(B50,'S6'!$B$23:$Z$57,15,FALSE))","v":""},null,null,null,null,null,null,"erreicht",null,null,{"$f":"IF(VLOOKUP(U50,'S6'!$B$23:$Z$57,6,FALSE)=\"\",\"\",VLOOKUP(U50,'S6'!$B$23:$Z$57,6,FALSE))","v":"."},{"$f":"IF(VLOOKUP(U50,'S6'!$B$23:$Z$57,7,FALSE)=\"\",\"\",VLOOKUP(U50,'S6'!$B$23:$Z$57,7,FALSE))","v":""},{"$f":"IF(VLOOKUP(U50,'S6'!$B$23:$Z$57,8,FALSE)=\"\",\"\",VLOOKUP(U50,'S6'!$B$23:$Z$57,8,FALSE))","v":""},{"$f":"IF(VLOOKUP(U50,'S6'!$B$23:$Z$57,9,FALSE)=\"\",\"\",VLOOKUP(U50,'S6'!$B$23:$Z$57,9,FALSE))","v":""},{"$f":"IF(VLOOKUP(U50,'S6'!$B$23:$Z$57,10,FALSE)=\"\",\"\",VLOOKUP(U50,'S6'!$B$23:$Z$57,10,FALSE))","v":""},{"$f":"IF(VLOOKUP(U50,'S6'!$B$23:$Z$57,11,FALSE)=\"\",\"\",VLOOKUP(U50,'S6'!$B$23:$Z$57,11,FALSE))","v":""},{"$f":"IF(VLOOKUP(U50,'S6'!$B$23:$Z$57,12,FALSE)=\"\",\"\",VLOOKUP(U50,'S6'!$B$23:$Z$57,12,FALSE))","v":""},{"$f":"IF(VLOOKUP(U50,'S6'!$B$23:$Z$57,13,FALSE)=\"\",\"\",VLOOKUP(U50,'S6'!$B$23:$Z$57,13,FALSE))","v":""},{"$f":"IF(VLOOKUP(U50,'S6'!$B$23:$Z$57,14,FALSE)=\"\",\"\",VLOOKUP(U50,'S6'!$B$23:$Z$57,14,FALSE))","v":""},{"$f":"IF(VLOOKUP(U50,'S6'!$B$23:$Z$57,15,FALSE)=\"\",\"\",VLOOKUP(U50,'S6'!$B$23:$Z$57,15,FALSE))","v":""}]
[null,"von",null,null,{"$f":"IF('S6'!$G$21=\"\",\"\",'S6'!$G$21)","v":""},{"$f":"IF('S6'!$H$21=\"\",\"\",'S6'!$H$21)","v":""},{"$f":"IF('S6'!$I$21=\"\",\"\",'S6'!$I$21)","v":""},{"$f":"IF('S6'!$J$21=\"\",\"\",'S6'!$J$21)","v":""},{"$f":"IF('S6'!$K$21=\"\",\"\",'S6'!$K$21)","v":""},{"$f":"IF('S6'!$L$21=\"\",\"\",'S6'!$L$21)","v":""},{"$f":"IF('S6'!$M$21=\"\",\"\",'S6'!$M$21)","v":""},{"$f":"IF('S6'!$N$21=\"\",\"\",'S6'!$N$21)","v":""},{"$f":"IF('S6'!$O$21=\"\",\"\",'S6'!$O$21)","v":""},{"$f":"IF('S6'!$P$21=\"\",\"\",'S6'!$P$21)","v":""},null,"von",null,null,null,null,"von",null,null,{"$f":"IF('S6'!$G$21=\"\",\"\",'S6'!$G$21)","v":""},{"$f":"IF('S6'!$H$21=\"\",\"\",'S6'!$H$21)","v":""},{"$f":"IF('S6'!$I$21=\"\",\"\",'S6'!$I$21)","v":""},{"$f":"IF('S6'!$J$21=\"\",\"\",'S6'!$J$21)","v":""},{"$f":"IF('S6'!$K$21=\"\",\"\",'S6'!$K$21)","v":""},{"$f":"IF('S6'!$L$21=\"\",\"\",'S6'!$L$21)","v":""},{"$f":"IF('S6'!$M$21=\"\",\"\",'S6'!$M$21)","v":""},{"$f":"IF('S6'!$N$21=\"\",\"\",'S6'!$N$21)","v":""},{"$f":"IF('S6'!$O$21=\"\",\"\",'S6'!$O$21)","v":""},{"$f":"IF('S6'!$P$21=\"\",\"\",'S6'!$P$21)","v":""},null,"von"]
[null,null,null,null,null,null,null,null,null,null,null,null,null,null,null,{"$f":"'S6'!$H$12","v":0},null,null,null,null,null,null,null,null,null,null,null,null,null,null,null,null,null,null,{"$f":"'S6'!$H$12","v":0}]
[null,{"$f":"IF('S6'!$Q$18=\"\",\"\",\"Aufgabe\")","v":""},null,null,{"$f":"IF('S6'!$Q$18=\"\",\"\",'S6'!$Q$18)","v":""},{"$f":"IF('S6'!$R$18=\"\",\"\",'S6'!$R$18)","v":""},{"$f":"IF('S6'!$S$18=\"\",\"\",'S6'!$S$18)","v":""},{"$f":"IF('S6'!$T$18=\"\",\"\",'S6'!$T$18)","v":""},{"$f":"IF('S6'!$U$18=\"\",\"\",'S6'!$U$18)","v":""},{"$f":"IF('S6'!$V$18=\"\",\"\",'S6'!$V$18)","v":""},{"$f":"IF('S6'!$W$18=\"\",\"\",'S6'!$W$18)","v":""},{"$f":"IF('S6'!$X$18=\"\",\"\",'S6'!$X$18)","v":""},{"$f":"IF('S6'!$Y$18=\"\",\"\",'S6'!$Y$18)","v":""},{"$f":"IF('S6'!$Z$18=\"\",\"\",'S6'!$Z$18)","v":""},null,null,null,null,null,null,{"$f":"IF('S6'!$Q$18=\"\",\"\",\"Aufgabe\")","v":""},null,null,{"$f":"IF('S6'!$Q$18=\"\",\"\",'S6'!$Q$18)","v":""},{"$f":"IF('S6'!$R$18=\"\",\"\",'S6'!$R$18)","v":""},{"$f":"IF('S6'!$S$18=\"\",\"\",'S6'!$S$18)","v":""},{"$f":"IF('S6'!$T$18=\"\",\"\",'S6'!$T$18)","v":""},{"$f":"IF('S6'!$U$18=\"\",\"\",'S6'!$U$18)","v":""},{"$f":"IF('S6'!$V$18=\"\",\"\",'S6'!$V$18)","v":""},{"$f":"IF('S6'!$W$18=\"\",\"\",'S6'!$W$18)","v":""},{"$f":"IF('S6'!$X$18=\"\",\"\",'S6'!$X$18)","v":""},{"$f":"IF('S6'!$Y$18=\"\",\"\",'S6'!$Y$18)","v":""},{"$f":"IF('S6'!$Z$18=\"\",\"\",'S6'!$Z$18)","v":""}]
[null,{"$f":"IF('S6'!$Q$18=\"\",\"\",\"erreicht\")","v":""},null,null,{"$f":"IF(VLOOKUP(B50,'S6'!$B$23:$Z$57,16,FALSE)=\"\",\"\",VLOOKUP(B50,'S6'!$B$23:$Z$57,16,FALSE))","v":""},{"$f":"IF(VLOOKUP(B50,'S6'!$B$23:$Z$57,17,FALSE)=\"\",\"\",VLOOKUP(B50,'S6'!$B$23:$Z$57,17,FALSE))","v":""},{"$f":"IF(VLOOKUP(B50,'S6'!$B$23:$Z$57,18,FALSE)=\"\",\"\",VLOOKUP(B50,'S6'!$B$23:$Z$57,18,FALSE))","v":""},{"$f":"IF(VLOOKUP(B50,'S6'!$B$23:$Z$57,19,FALSE)=\"\",\"\",VLOOKUP(B50,'S6'!$B$23:$Z$57,19,FALSE))","v":""},{"$f":"IF(VLOOKUP(B50,'S6'!$B$23:$Z$57,20,FALSE)=\"\",\"\",VLOOKUP(B50,'S6'!$B$23:$Z$57,20,FALSE))","v":""},{"$f":"IF(VLOOKUP(B50,'S6'!$B$23:$Z$57,21,FALSE)=\"\",\"\",VLOOKUP(B50,'S6'!$B$23:$Z$57,21,FALSE))","v":""},{"$f":"IF(VLOOKUP(B50,'S6'!$B$23:$Z$57,22,FALSE)=\"\",\"\",VLOOKUP(B50,'S6'!$B$23:$Z$57,22,FALSE))","v":""},{"$f":"IF(VLOOKUP(B50,'S6'!$B$23:$Z$57,23,FALSE)=\"\",\"\",VLOOKUP(B50,'S6'!$B$23:$Z$57,23,FALSE))","v":""},{"$f":"IF(VLOOKUP(B50,'S6'!$B$23:$Z$57,24,FALSE)=\"\",\"\",VLOOKUP(B50,'S6'!$B$23:$Z$57,24,FALSE))","v":""},{"$f":"IF(VLOOKUP(B50,'S6'!$B$23:$Z$57,25,FALSE)=\"\",\"\",VLOOKUP(B50,'S6'!$B$23:$Z$57,25,FALSE))","v":""},null,"Note",null,null,null,null,{"$f":"IF('S6'!$Q$18=\"\",\"\",\"erreicht\")","v":""},null,null,{"$f":"IF(VLOOKUP(U50,'S6'!$B$23:$Z$57,16,FALSE)=\"\",\"\",VLOOKUP(U50,'S6'!$B$23:$Z$57,16,FALSE))","v":""},{"$f":"IF(VLOOKUP(U50,'S6'!$B$23:$Z$57,17,FALSE)=\"\",\"\",VLOOKUP(U50,'S6'!$B$23:$Z$57,17,FALSE))","v":""},{"$f":"IF(VLOOKUP(U50,'S6'!$B$23:$Z$57,18,FALSE)=\"\",\"\",VLOOKUP(U50,'S6'!$B$23:$Z$57,18,FALSE))","v":""},{"$f":"IF(VLOOKUP(U50,'S6'!$B$23:$Z$57,19,FALSE)=\"\",\"\",VLOOKUP(U50,'S6'!$B$23:$Z$57,19,FALSE))","v":""},{"$f":"IF(VLOOKUP(U50,'S6'!$B$23:$Z$57,20,FALSE)=\"\",\"\",VLOOKUP(U50,'S6'!$B$23:$Z$57,20,FALSE))","v":""},{"$f":"IF(VLOOKUP(U50,'S6'!$B$23:$Z$57,21,FALSE)=\"\",\"\",VLOOKUP(U50,'S6'!$B$23:$Z$57,21,FALSE))","v":""},{"$f":"IF(VLOOKUP(U50,'S6'!$B$23:$Z$57,22,FALSE)=\"\",\"\",VLOOKUP(U50,'S6'!$B$23:$Z$57,22,FALSE))","v":""},{"$f":"IF(VLOOKUP(U50,'S6'!$B$23:$Z$57,23,FALSE)=\"\",\"\",VLOOKUP(U50,'S6'!$B$23:$Z$57,23,FALSE))","v":""},{"$f":"IF(VLOOKUP(U50,'S6'!$B$23:$Z$57,24,FALSE)=\"\",\"\",VLOOKUP(U50,'S6'!$B$23:$Z$57,24,FALSE))","v":""},{"$f":"IF(VLOOKUP(U50,'S6'!$B$23:$Z$57,25,FALSE)=\"\",\"\",VLOOKUP(U50,'S6'!$B$23:$Z$57,25,FALSE))","v":""},null,"Note"]
[null,{"$f":"IF('S6'!$Q$18=\"\",\"\",\"von\")","v":""},null,null,{"$f":"IF('S6'!$Q$21=\"\",\"\",'S6'!$Q$21)","v":""},{"$f":"IF('S6'!$R$21=\"\",\"\",'S6'!$R$21)","v":""},{"$f":"IF('S6'!$S$21=\"\",\"\",'S6'!$S$21)","v":""},{"$f":"IF('S6'!$T$21=\"\",\"\",'S6'!$T$21)","v":""},{"$f":"IF('S6'!$U$21=\"\",\"\",'S6'!$U$21)","v":""},{"$f":"IF('S6'!$V$21=\"\",\"\",'S6'!$V$21)","v":""},{"$f":"IF('S6'!$W$21=\"\",\"\",'S6'!$W$21)","v":""},{"$f":"IF('S6'!$X$21=\"\",\"\",'S6'!$X$21)","v":""},{"$f":"IF('S6'!$Y$21=\"\",\"\",'S6'!$Y$21)","v":""},{"$f":"IF('S6'!$Z$21=\"\",\"\",'S6'!$Z$21)","v":""},null,{"$f":"IF(VLOOKUP(B50,'S6'!$B$23:$Z$57,2,FALSE)=\"\",\"\",CONCATENATE(VLOOKUP(B50,'S6'!$B$23:$Z$57,2,FALSE),\" \",VLOOKUP(B50,'S6'!$B$23:$Z$57,3,FALSE)))","v":"- "},null,null,null,null,{"$f":"IF('S6'!$Q$18=\"\",\"\",\"von\")","v":""},null,null,{"$f":"IF('S6'!$Q$21=\"\",\"\",'S6'!$Q$21)","v":""},{"$f":"IF('S6'!$R$21=\"\",\"\",'S6'!$R$21)","v":""},{"$f":"IF('S6'!$S$21=\"\",\"\",'S6'!$S$21)","v":""},{"$f":"IF('S6'!$T$21=\"\",\"\",'S6'!$T$21)","v":""},{"$f":"IF('S6'!$U$21=\"\",\"\",'S6'!$U$21)","v":""},{"$f":"IF('S6'!$V$21=\"\",\"\",'S6'!$V$21)","v":""},{"$f":"IF('S6'!$W$21=\"\",\"\",'S6'!$W$21)","v":""},{"$f":"IF('S6'!$X$21=\"\",\"\",'S6'!$X$21)","v":""},{"$f":"IF('S6'!$Y$21=\"\",\"\",'S6'!$Y$21)","v":""},{"$f":"IF('S6'!$Z$21=\"\",\"\",'S6'!$Z$21)","v":""},null,{"$f":"IF(VLOOKUP(U50,'S6'!$B$23:$Z$57,2,FALSE)=\"\",\"\",CONCATENATE(VLOOKUP(U50,'S6'!$B$23:$Z$57,2,FALSE),\" \",VLOOKUP(U50,'S6'!$B$23:$Z$57,3,FALSE)))","v":"- "}]
[]
[]
[]
[null,{"$f":"'S6'!$B$33","v":""},null,null,null,null,null,null,null,null,null,null,null,null,null,null,null,null,null,null,{"$f":"'S6'!$B$34","v":""}]
[null,null,null,null,null,null,null,null,null,null,null,null,null,null,null,"Summe",null,null,null,null,null,null,null,null,null,null,null,null,null,null,null,null,null,null,"Summe"]
[null,"Aufgabe",null,null,{"$f":"IF('S6'!$G$18=\"\",\"\",'S6'!$G$18)","v":1},{"$f":"IF('S6'!$H$18=\"\",\"\",'S6'!$H$18)","v":2},{"$f":"IF('S6'!$I$18=\"\",\"\",'S6'!$I$18)","v":3},{"$f":"IF('S6'!$J$18=\"\",\"\",'S6'!$J$18)","v":""},{"$f":"IF('S6'!$K$18=\"\",\"\",'S6'!$K$18)","v":""},{"$f":"IF('S6'!$L$18=\"\",\"\",'S6'!$L$18)","v":""},{"$f":"IF('S6'!$M$18=\"\",\"\",'S6'!$M$18)","v":""},{"$f":"IF('S6'!$N$18=\"\",\"\",'S6'!$N$18)","v":""},{"$f":"IF('S6'!$O$18=\"\",\"\",'S6'!$O$18)","v":""},{"$f":"IF('S6'!$P$18=\"\",\"\",'S6'!$P$18)","v":""},null,{"$f":"IF(VLOOKUP(B62,'S6'!$B$23:$Z$57,5,FALSE)=\"\",\"\",VLOOKUP(B62,'S6'!$B$23:$Z$57,5,FALSE))","v":0},null,null,null,null,"Aufgabe",null,null,{"$f":"IF('S6'!$G$18=\"\",\"\",'S6'!$G$18)","v":1},{"$f":"IF('S6'!$H$18=\"\",\"\",'S6'!$H$18)","v":2},{"$f":"IF('S6'!$I$18=\"\",\"\",'S6'!$I$18)","v":3},{"$f":"IF('S6'!$J$18=\"\",\"\",'S6'!$J$18)","v":""},{"$f":"IF('S6'!$K$18=\"\",\"\",'S6'!$K$18)","v":""},{"$f":"IF('S6'!$L$18=\"\",\"\",'S6'!$L$18)","v":""},{"$f":"IF('S6'!$M$18=\"\",\"\",'S6'!$M$18)","v":""},{"$f":"IF('S6'!$N$18=\"\",\"\",'S6'!$N$18)","v":""},{"$f":"IF('S6'!$O$18=\"\",\"\",'S6'!$O$18)","v":""},{"$f":"IF('S6'!$P$18=\"\",\"\",'S6'!$P$18)","v":""},null,{"$f":"IF(VLOOKUP(U62,'S6'!$B$23:$Z$57,5,FALSE)=\"\",\"\",VLOOKUP(U62,'S6'!$B$23:$Z$57,5,FALSE))","v":0}]
[null,"erreicht",null,null,{"$f":"IF(VLOOKUP(B62,'S6'!$B$23:$Z$57,6,FALSE)=\"\",\"\",VLOOKUP(B62,'S6'!$B$23:$Z$57,6,FALSE))","v":"."},{"$f":"IF(VLOOKUP(B62,'S6'!$B$23:$Z$57,7,FALSE)=\"\",\"\",VLOOKUP(B62,'S6'!$B$23:$Z$57,7,FALSE))","v":""},{"$f":"IF(VLOOKUP(B62,'S6'!$B$23:$Z$57,8,FALSE)=\"\",\"\",VLOOKUP(B62,'S6'!$B$23:$Z$57,8,FALSE))","v":""},{"$f":"IF(VLOOKUP(B62,'S6'!$B$23:$Z$57,9,FALSE)=\"\",\"\",VLOOKUP(B62,'S6'!$B$23:$Z$57,9,FALSE))","v":""},{"$f":"IF(VLOOKUP(B62,'S6'!$B$23:$Z$57,10,FALSE)=\"\",\"\",VLOOKUP(B62,'S6'!$B$23:$Z$57,10,FALSE))","v":""},{"$f":"IF(VLOOKUP(B62,'S6'!$B$23:$Z$57,11,FALSE)=\"\",\"\",VLOOKUP(B62,'S6'!$B$23:$Z$57,11,FALSE))","v":""},{"$f":"IF(VLOOKUP(B62,'S6'!$B$23:$Z$57,12,FALSE)=\"\",\"\",VLOOKUP(B62,'S6'!$B$23:$Z$57,12,FALSE))","v":""},{"$f":"IF(VLOOKUP(B62,'S6'!$B$23:$Z$57,13,FALSE)=\"\",\"\",VLOOKUP(B62,'S6'!$B$23:$Z$57,13,FALSE))","v":""},{"$f":"IF(VLOOKUP(B62,'S6'!$B$23:$Z$57,14,FALSE)=\"\",\"\",VLOOKUP(B62,'S6'!$B$23:$Z$57,14,FALSE))","v":""},{"$f":"IF(VLOOKUP(B62,'S6'!$B$23:$Z$57,15,FALSE)=\"\",\"\",VLOOKUP(B62,'S6'!$B$23:$Z$57,15,FALSE))","v":""},null,null,null,null,null,null,"erreicht",null,null,{"$f":"IF(VLOOKUP(U62,'S6'!$B$23:$Z$57,6,FALSE)=\"\",\"\",VLOOKUP(U62,'S6'!$B$23:$Z$57,6,FALSE))","v":"."},{"$f":"IF(VLOOKUP(U62,'S6'!$B$23:$Z$57,7,FALSE)=\"\",\"\",VLOOKUP(U62,'S6'!$B$23:$Z$57,7,FALSE))","v":""},{"$f":"IF(VLOOKUP(U62,'S6'!$B$23:$Z$57,8,FALSE)=\"\",\"\",VLOOKUP(U62,'S6'!$B$23:$Z$57,8,FALSE))","v":""},{"$f":"IF(VLOOKUP(U62,'S6'!$B$23:$Z$57,9,FALSE)=\"\",\"\",VLOOKUP(U62,'S6'!$B$23:$Z$57,9,FALSE))","v":""},{"$f":"IF(VLOOKUP(U62,'S6'!$B$23:$Z$57,10,FALSE)=\"\",\"\",VLOOKUP(U62,'S6'!$B$23:$Z$57,10,FALSE))","v":""},{"$f":"IF(VLOOKUP(U62,'S6'!$B$23:$Z$57,11,FALSE)=\"\",\"\",VLOOKUP(U62,'S6'!$B$23:$Z$57,11,FALSE))","v":""},{"$f":"IF(VLOOKUP(U62,'S6'!$B$23:$Z$57,12,FALSE)=\"\",\"\",VLOOKUP(U62,'S6'!$B$23:$Z$57,12,FALSE))","v":""},{"$f":"IF(VLOOKUP(U62,'S6'!$B$23:$Z$57,13,FALSE)=\"\",\"\",VLOOKUP(U62,'S6'!$B$23:$Z$57,13,FALSE))","v":""},{"$f":"IF(VLOOKUP(U62,'S6'!$B$23:$Z$57,14,FALSE)=\"\",\"\",VLOOKUP(U62,'S6'!$B$23:$Z$57,14,FALSE))","v":""},{"$f":"IF(VLOOKUP(U62,'S6'!$B$23:$Z$57,15,FALSE)=\"\",\"\",VLOOKUP(U62,'S6'!$B$23:$Z$57,15,FALSE))","v":""}]
[null,"von",null,null,{"$f":"IF('S6'!$G$21=\"\",\"\",'S6'!$G$21)","v":""},{"$f":"IF('S6'!$H$21=\"\",\"\",'S6'!$H$21)","v":""},{"$f":"IF('S6'!$I$21=\"\",\"\",'S6'!$I$21)","v":""},{"$f":"IF('S6'!$J$21=\"\",\"\",'S6'!$J$21)","v":""},{"$f":"IF('S6'!$K$21=\"\",\"\",'S6'!$K$21)","v":""},{"$f":"IF('S6'!$L$21=\"\",\"\",'S6'!$L$21)","v":""},{"$f":"IF('S6'!$M$21=\"\",\"\",'S6'!$M$21)","v":""},{"$f":"IF('S6'!$N$21=\"\",\"\",'S6'!$N$21)","v":""},{"$f":"IF('S6'!$O$21=\"\",\"\",'S6'!$O$21)","v":""},{"$f":"IF('S6'!$P$21=\"\",\"\",'S6'!$P$21)","v":""},null,"von",null,null,null,null,"von",null,null,{"$f":"IF('S6'!$G$21=\"\",\"\",'S6'!$G$21)","v":""},{"$f":"IF('S6'!$H$21=\"\",\"\",'S6'!$H$21)","v":""},{"$f":"IF('S6'!$I$21=\"\",\"\",'S6'!$I$21)","v":""},{"$f":"IF('S6'!$J$21=\"\",\"\",'S6'!$J$21)","v":""},{"$f":"IF('S6'!$K$21=\"\",\"\",'S6'!$K$21)","v":""},{"$f":"IF('S6'!$L$21=\"\",\"\",'S6'!$L$21)","v":""},{"$f":"IF('S6'!$M$21=\"\",\"\",'S6'!$M$21)","v":""},{"$f":"IF('S6'!$N$21=\"\",\"\",'S6'!$N$21)","v":""},{"$f":"IF('S6'!$O$21=\"\",\"\",'S6'!$O$21)","v":""},{"$f":"IF('S6'!$P$21=\"\",\"\",'S6'!$P$21)","v":""},null,"von"]
[null,null,null,null,null,null,null,null,null,null,null,null,null,null,null,{"$f":"'S6'!$H$12","v":0},null,null,null,null,null,null,null,null,null,null,null,null,null,null,null,null,null,null,{"$f":"'S6'!$H$12","v":0}]
[null,{"$f":"IF('S6'!$Q$18=\"\",\"\",\"Aufgabe\")","v":""},null,null,{"$f":"IF('S6'!$Q$18=\"\",\"\",'S6'!$Q$18)","v":""},{"$f":"IF('S6'!$R$18=\"\",\"\",'S6'!$R$18)","v":""},{"$f":"IF('S6'!$S$18=\"\",\"\",'S6'!$S$18)","v":""},{"$f":"IF('S6'!$T$18=\"\",\"\",'S6'!$T$18)","v":""},{"$f":"IF('S6'!$U$18=\"\",\"\",'S6'!$U$18)","v":""},{"$f":"IF('S6'!$V$18=\"\",\"\",'S6'!$V$18)","v":""},{"$f":"IF('S6'!$W$18=\"\",\"\",'S6'!$W$18)","v":""},{"$f":"IF('S6'!$X$18=\"\",\"\",'S6'!$X$18)","v":""},{"$f":"IF('S6'!$Y$18=\"\",\"\",'S6'!$Y$18)","v":""},{"$f":"IF('S6'!$Z$18=\"\",\"\",'S6'!$Z$18)","v":""},null,null,null,null,null,null,{"$f":"IF('S6'!$Q$18=\"\",\"\",\"Aufgabe\")","v":""},null,null,{"$f":"IF('S6'!$Q$18=\"\",\"\",'S6'!$Q$18)","v":""},{"$f":"IF('S6'!$R$18=\"\",\"\",'S6'!$R$18)","v":""},{"$f":"IF('S6'!$S$18=\"\",\"\",'S6'!$S$18)","v":""},{"$f":"IF('S6'!$T$18=\"\",\"\",'S6'!$T$18)","v":""},{"$f":"IF('S6'!$U$18=\"\",\"\",'S6'!$U$18)","v":""},{"$f":"IF('S6'!$V$18=\"\",\"\",'S6'!$V$18)","v":""},{"$f":"IF('S6'!$W$18=\"\",\"\",'S6'!$W$18)","v":""},{"$f":"IF('S6'!$X$18=\"\",\"\",'S6'!$X$18)","v":""},{"$f":"IF('S6'!$Y$18=\"\",\"\",'S6'!$Y$18)","v":""},{"$f":"IF('S6'!$Z$18=\"\",\"\",'S6'!$Z$18)","v":""}]
[null,{"$f":"IF('S6'!$Q$18=\"\",\"\",\"erreicht\")","v":""},null,null,{"$f":"IF(VLOOKUP(B62,'S6'!$B$23:$Z$57,16,FALSE)=\"\",\"\",VLOOKUP(B62,'S6'!$B$23:$Z$57,16,FALSE))","v":""},{"$f":"IF(VLOOKUP(B62,'S6'!$B$23:$Z$57,17,FALSE)=\"\",\"\",VLOOKUP(B62,'S6'!$B$23:$Z$57,17,FALSE))","v":""},{"$f":"IF(VLOOKUP(B62,'S6'!$B$23:$Z$57,18,FALSE)=\"\",\"\",VLOOKUP(B62,'S6'!$B$23:$Z$57,18,FALSE))","v":""},{"$f":"IF(VLOOKUP(B62,'S6'!$B$23:$Z$57,19,FALSE)=\"\",\"\",VLOOKUP(B62,'S6'!$B$23:$Z$57,19,FALSE))","v":""},{"$f":"IF(VLOOKUP(B62,'S6'!$B$23:$Z$57,20,FALSE)=\"\",\"\",VLOOKUP(B62,'S6'!$B$23:$Z$57,20,FALSE))","v":""},{"$f":"IF(VLOOKUP(B62,'S6'!$B$23:$Z$57,21,FALSE)=\"\",\"\",VLOOKUP(B62,'S6'!$B$23:$Z$57,21,FALSE))","v":""},{"$f":"IF(VLOOKUP(B62,'S6'!$B$23:$Z$57,22,FALSE)=\"\",\"\",VLOOKUP(B62,'S6'!$B$23:$Z$57,22,FALSE))","v":""},{"$f":"IF(VLOOKUP(B62,'S6'!$B$23:$Z$57,23,FALSE)=\"\",\"\",VLOOKUP(B62,'S6'!$B$23:$Z$57,23,FALSE))","v":""},{"$f":"IF(VLOOKUP(B62,'S6'!$B$23:$Z$57,24,FALSE)=\"\",\"\",VLOOKUP(B62,'S6'!$B$23:$Z$57,24,FALSE))","v":""},{"$f":"IF(VLOOKUP(B62,'S6'!$B$23:$Z$57,25,FALSE)=\"\",\"\",VLOOKUP(B62,'S6'!$B$23:$Z$57,25,FALSE))","v":""},null,"Note",null,null,null,null,{"$f":"IF('S6'!$Q$18=\"\",\"\",\"erreicht\")","v":""},null,null,{"$f":"IF(VLOOKUP(U62,'S6'!$B$23:$Z$57,16,FALSE)=\"\",\"\",VLOOKUP(U62,'S6'!$B$23:$Z$57,16,FALSE))","v":""},{"$f":"IF(VLOOKUP(U62,'S6'!$B$23:$Z$57,17,FALSE)=\"\",\"\",VLOOKUP(U62,'S6'!$B$23:$Z$57,17,FALSE))","v":""},{"$f":"IF(VLOOKUP(U62,'S6'!$B$23:$Z$57,18,FALSE)=\"\",\"\",VLOOKUP(U62,'S6'!$B$23:$Z$57,18,FALSE))","v":""},{"$f":"IF(VLOOKUP(U62,'S6'!$B$23:$Z$57,19,FALSE)=\"\",\"\",VLOOKUP(U62,'S6'!$B$23:$Z$57,19,FALSE))","v":""},{"$f":"IF(VLOOKUP(U62,'S6'!$B$23:$Z$57,20,FALSE)=\"\",\"\",VLOOKUP(U62,'S6'!$B$23:$Z$57,20,FALSE))","v":""},{"$f":"IF(VLOOKUP(U62,'S6'!$B$23:$Z$57,21,FALSE)=\"\",\"\",VLOOKUP(U62,'S6'!$B$23:$Z$57,21,FALSE))","v":""},{"$f":"IF(VLOOKUP(U62,'S6'!$B$23:$Z$57,22,FALSE)=\"\",\"\",VLOOKUP(U62,'S6'!$B$23:$Z$57,22,FALSE))","v":""},{"$f":"IF(VLOOKUP(U62,'S6'!$B$23:$Z$57,23,FALSE)=\"\",\"\",VLOOKUP(U62,'S6'!$B$23:$Z$57,23,FALSE))","v":""},{"$f":"IF(VLOOKUP(U62,'S6'!$B$23:$Z$57,24,FALSE)=\"\",\"\",VLOOKUP(U62,'S6'!$B$23:$Z$57,24,FALSE))","v":""},{"$f":"IF(VLOOKUP(U62,'S6'!$B$23:$Z$57,25,FALSE)=\"\",\"\",VLOOKUP(U62,'S6'!$B$23:$Z$57,25,FALSE))","v":""},null,"Note"]
[null,{"$f":"IF('S6'!$Q$18=\"\",\"\",\"von\")","v":""},null,null,{"$f":"IF('S6'!$Q$21=\"\",\"\",'S6'!$Q$21)","v":""},{"$f":"IF('S6'!$R$21=\"\",\"\",'S6'!$R$21)","v":""},{"$f":"IF('S6'!$S$21=\"\",\"\",'S6'!$S$21)","v":""},{"$f":"IF('S6'!$T$21=\"\",\"\",'S6'!$T$21)","v":""},{"$f":"IF('S6'!$U$21=\"\",\"\",'S6'!$U$21)","v":""},{"$f":"IF('S6'!$V$21=\"\",\"\",'S6'!$V$21)","v":""},{"$f":"IF('S6'!$W$21=\"\",\"\",'S6'!$W$21)","v":""},{"$f":"IF('S6'!$X$21=\"\",\"\",'S6'!$X$21)","v":""},{"$f":"IF('S6'!$Y$21=\"\",\"\",'S6'!$Y$21)","v":""},{"$f":"IF('S6'!$Z$21=\"\",\"\",'S6'!$Z$21)","v":""},null,{"$f":"IF(VLOOKUP(B62,'S6'!$B$23:$Z$57,2,FALSE)=\"\",\"\",CONCATENATE(VLOOKUP(B62,'S6'!$B$23:$Z$57,2,FALSE),\" \",VLOOKUP(B62,'S6'!$B$23:$Z$57,3,FALSE)))","v":"- "},null,null,null,null,{"$f":"IF('S6'!$Q$18=\"\",\"\",\"von\")","v":""},null,null,{"$f":"IF('S6'!$Q$21=\"\",\"\",'S6'!$Q$21)","v":""},{"$f":"IF('S6'!$R$21=\"\",\"\",'S6'!$R$21)","v":""},{"$f":"IF('S6'!$S$21=\"\",\"\",'S6'!$S$21)","v":""},{"$f":"IF('S6'!$T$21=\"\",\"\",'S6'!$T$21)","v":""},{"$f":"IF('S6'!$U$21=\"\",\"\",'S6'!$U$21)","v":""},{"$f":"IF('S6'!$V$21=\"\",\"\",'S6'!$V$21)","v":""},{"$f":"IF('S6'!$W$21=\"\",\"\",'S6'!$W$21)","v":""},{"$f":"IF('S6'!$X$21=\"\",\"\",'S6'!$X$21)","v":""},{"$f":"IF('S6'!$Y$21=\"\",\"\",'S6'!$Y$21)","v":""},{"$f":"IF('S6'!$Z$21=\"\",\"\",'S6'!$Z$21)","v":""},null,{"$f":"IF(VLOOKUP(U62,'S6'!$B$23:$Z$57,2,FALSE)=\"\",\"\",CONCATENATE(VLOOKUP(U62,'S6'!$B$23:$Z$57,2,FALSE),\" \",VLOOKUP(U62,'S6'!$B$23:$Z$57,3,FALSE)))","v":"- "}]
[]
[]
[null,{"$f":"'S6'!$B$35","v":""},null,null,null,null,null,null,null,null,null,null,null,null,null,null,null,null,null,null,{"$f":"'S6'!$B$36","v":""}]
[null,null,null,null,null,null,null,null,null,null,null,null,null,null,null,"Summe",null,null,null,null,null,null,null,null,null,null,null,null,null,null,null,null,null,null,"Summe"]
[null,"Aufgabe",null,null,{"$f":"IF('S6'!$G$18=\"\",\"\",'S6'!$G$18)","v":1},{"$f":"IF('S6'!$H$18=\"\",\"\",'S6'!$H$18)","v":2},{"$f":"IF('S6'!$I$18=\"\",\"\",'S6'!$I$18)","v":3},{"$f":"IF('S6'!$J$18=\"\",\"\",'S6'!$J$18)","v":""},{"$f":"IF('S6'!$K$18=\"\",\"\",'S6'!$K$18)","v":""},{"$f":"IF('S6'!$L$18=\"\",\"\",'S6'!$L$18)","v":""},{"$f":"IF('S6'!$M$18=\"\",\"\",'S6'!$M$18)","v":""},{"$f":"IF('S6'!$N$18=\"\",\"\",'S6'!$N$18)","v":""},{"$f":"IF('S6'!$O$18=\"\",\"\",'S6'!$O$18)","v":""},{"$f":"IF('S6'!$P$18=\"\",\"\",'S6'!$P$18)","v":""},null,{"$f":"IF(VLOOKUP(B73,'S6'!$B$23:$Z$57,5,FALSE)=\"\",\"\",VLOOKUP(B73,'S6'!$B$23:$Z$57,5,FALSE))","v":0},null,null,null,null,"Aufgabe",null,null,{"$f":"IF('S6'!$G$18=\"\",\"\",'S6'!$G$18)","v":1},{"$f":"IF('S6'!$H$18=\"\",\"\",'S6'!$H$18)","v":2},{"$f":"IF('S6'!$I$18=\"\",\"\",'S6'!$I$18)","v":3},{"$f":"IF('S6'!$J$18=\"\",\"\",'S6'!$J$18)","v":""},{"$f":"IF('S6'!$K$18=\"\",\"\",'S6'!$K$18)","v":""},{"$f":"IF('S6'!$L$18=\"\",\"\",'S6'!$L$18)","v":""},{"$f":"IF('S6'!$M$18=\"\",\"\",'S6'!$M$18)","v":""},{"$f":"IF('S6'!$N$18=\"\",\"\",'S6'!$N$18)","v":""},{"$f":"IF('S6'!$O$18=\"\",\"\",'S6'!$O$18)","v":""},{"$f":"IF('S6'!$P$18=\"\",\"\",'S6'!$P$18)","v":""},null,{"$f":"IF(VLOOKUP(U73,'S6'!$B$23:$Z$57,5,FALSE)=\"\",\"\",VLOOKUP(U73,'S6'!$B$23:$Z$57,5,FALSE))","v":0}]
[null,"erreicht",null,null,{"$f":"IF(VLOOKUP(B73,'S6'!$B$23:$Z$57,6,FALSE)=\"\",\"\",VLOOKUP(B73,'S6'!$B$23:$Z$57,6,FALSE))","v":"."},{"$f":"IF(VLOOKUP(B73,'S6'!$B$23:$Z$57,7,FALSE)=\"\",\"\",VLOOKUP(B73,'S6'!$B$23:$Z$57,7,FALSE))","v":""},{"$f":"IF(VLOOKUP(B73,'S6'!$B$23:$Z$57,8,FALSE)=\"\",\"\",VLOOKUP(B73,'S6'!$B$23:$Z$57,8,FALSE))","v":""},{"$f":"IF(VLOOKUP(B73,'S6'!$B$23:$Z$57,9,FALSE)=\"\",\"\",VLOOKUP(B73,'S6'!$B$23:$Z$57,9,FALSE))","v":""},{"$f":"IF(VLOOKUP(B73,'S6'!$B$23:$Z$57,10,FALSE)=\"\",\"\",VLOOKUP(B73,'S6'!$B$23:$Z$57,10,FALSE))","v":""},{"$f":"IF(VLOOKUP(B73,'S6'!$B$23:$Z$57,11,FALSE)=\"\",\"\",VLOOKUP(B73,'S6'!$B$23:$Z$57,11,FALSE))","v":""},{"$f":"IF(VLOOKUP(B73,'S6'!$B$23:$Z$57,12,FALSE)=\"\",\"\",VLOOKUP(B73,'S6'!$B$23:$Z$57,12,FALSE))","v":""},{"$f":"IF(VLOOKUP(B73,'S6'!$B$23:$Z$57,13,FALSE)=\"\",\"\",VLOOKUP(B73,'S6'!$B$23:$Z$57,13,FALSE))","v":""},{"$f":"IF(VLOOKUP(B73,'S6'!$B$23:$Z$57,14,FALSE)=\"\",\"\",VLOOKUP(B73,'S6'!$B$23:$Z$57,14,FALSE))","v":""},{"$f":"IF(VLOOKUP(B73,'S6'!$B$23:$Z$57,15,FALSE)=\"\",\"\",VLOOKUP(B73,'S6'!$B$23:$Z$57,15,FALSE))","v":""},null,null,null,null,null,null,"erreicht",null,null,{"$f":"IF(VLOOKUP(U73,'S6'!$B$23:$Z$57,6,FALSE)=\"\",\"\",VLOOKUP(U73,'S6'!$B$23:$Z$57,6,FALSE))","v":"."},{"$f":"IF(VLOOKUP(U73,'S6'!$B$23:$Z$57,7,FALSE)=\"\",\"\",VLOOKUP(U73,'S6'!$B$23:$Z$57,7,FALSE))","v":""},{"$f":"IF(VLOOKUP(U73,'S6'!$B$23:$Z$57,8,FALSE)=\"\",\"\",VLOOKUP(U73,'S6'!$B$23:$Z$57,8,FALSE))","v":""},{"$f":"IF(VLOOKUP(U73,'S6'!$B$23:$Z$57,9,FALSE)=\"\",\"\",VLOOKUP(U73,'S6'!$B$23:$Z$57,9,FALSE))","v":""},{"$f":"IF(VLOOKUP(U73,'S6'!$B$23:$Z$57,10,FALSE)=\"\",\"\",VLOOKUP(U73,'S6'!$B$23:$Z$57,10,FALSE))","v":""},{"$f":"IF(VLOOKUP(U73,'S6'!$B$23:$Z$57,11,FALSE)=\"\",\"\",VLOOKUP(U73,'S6'!$B$23:$Z$57,11,FALSE))","v":""},{"$f":"IF(VLOOKUP(U73,'S6'!$B$23:$Z$57,12,FALSE)=\"\",\"\",VLOOKUP(U73,'S6'!$B$23:$Z$57,12,FALSE))","v":""},{"$f":"IF(VLOOKUP(U73,'S6'!$B$23:$Z$57,13,FALSE)=\"\",\"\",VLOOKUP(U73,'S6'!$B$23:$Z$57,13,FALSE))","v":""},{"$f":"IF(VLOOKUP(U73,'S6'!$B$23:$Z$57,14,FALSE)=\"\",\"\",VLOOKUP(U73,'S6'!$B$23:$Z$57,14,FALSE))","v":""},{"$f":"IF(VLOOKUP(U73,'S6'!$B$23:$Z$57,15,FALSE)=\"\",\"\",VLOOKUP(U73,'S6'!$B$23:$Z$57,15,FALSE))","v":""}]
[null,"von",null,null,{"$f":"IF('S6'!$G$21=\"\",\"\",'S6'!$G$21)","v":""},{"$f":"IF('S6'!$H$21=\"\",\"\",'S6'!$H$21)","v":""},{"$f":"IF('S6'!$I$21=\"\",\"\",'S6'!$I$21)","v":""},{"$f":"IF('S6'!$J$21=\"\",\"\",'S6'!$J$21)","v":""},{"$f":"IF('S6'!$K$21=\"\",\"\",'S6'!$K$21)","v":""},{"$f":"IF('S6'!$L$21=\"\",\"\",'S6'!$L$21)","v":""},{"$f":"IF('S6'!$M$21=\"\",\"\",'S6'!$M$21)","v":""},{"$f":"IF('S6'!$N$21=\"\",\"\",'S6'!$N$21)","v":""},{"$f":"IF('S6'!$O$21=\"\",\"\",'S6'!$O$21)","v":""},{"$f":"IF('S6'!$P$21=\"\",\"\",'S6'!$P$21)","v":""},null,"von",null,null,null,null,"von",null,null,{"$f":"IF('S6'!$G$21=\"\",\"\",'S6'!$G$21)","v":""},{"$f":"IF('S6'!$H$21=\"\",\"\",'S6'!$H$21)","v":""},{"$f":"IF('S6'!$I$21=\"\",\"\",'S6'!$I$21)","v":""},{"$f":"IF('S6'!$J$21=\"\",\"\",'S6'!$J$21)","v":""},{"$f":"IF('S6'!$K$21=\"\",\"\",'S6'!$K$21)","v":""},{"$f":"IF('S6'!$L$21=\"\",\"\",'S6'!$L$21)","v":""},{"$f":"IF('S6'!$M$21=\"\",\"\",'S6'!$M$21)","v":""},{"$f":"IF('S6'!$N$21=\"\",\"\",'S6'!$N$21)","v":""},{"$f":"IF('S6'!$O$21=\"\",\"\",'S6'!$O$21)","v":""},{"$f":"IF('S6'!$P$21=\"\",\"\",'S6'!$P$21)","v":""},null,"von"]
[null,null,null,null,null,null,null,null,null,null,null,null,null,null,null,{"$f":"'S6'!$H$12","v":0},null,null,null,null,null,null,null,null,null,null,null,null,null,null,null,null,null,null,{"$f":"'S6'!$H$12","v":0}]
[null,{"$f":"IF('S6'!$Q$18=\"\",\"\",\"Aufgabe\")","v":""},null,null,{"$f":"IF('S6'!$Q$18=\"\",\"\",'S6'!$Q$18)","v":""},{"$f":"IF('S6'!$R$18=\"\",\"\",'S6'!$R$18)","v":""},{"$f":"IF('S6'!$S$18=\"\",\"\",'S6'!$S$18)","v":""},{"$f":"IF('S6'!$T$18=\"\",\"\",'S6'!$T$18)","v":""},{"$f":"IF('S6'!$U$18=\"\",\"\",'S6'!$U$18)","v":""},{"$f":"IF('S6'!$V$18=\"\",\"\",'S6'!$V$18)","v":""},{"$f":"IF('S6'!$W$18=\"\",\"\",'S6'!$W$18)","v":""},{"$f":"IF('S6'!$X$18=\"\",\"\",'S6'!$X$18)","v":""},{"$f":"IF('S6'!$Y$18=\"\",\"\",'S6'!$Y$18)","v":""},{"$f":"IF('S6'!$Z$18=\"\",\"\",'S6'!$Z$18)","v":""},null,null,null,null,null,null,{"$f":"IF('S6'!$Q$18=\"\",\"\",\"Aufgabe\")","v":""},null,null,{"$f":"IF('S6'!$Q$18=\"\",\"\",'S6'!$Q$18)","v":""},{"$f":"IF('S6'!$R$18=\"\",\"\",'S6'!$R$18)","v":""},{"$f":"IF('S6'!$S$18=\"\",\"\",'S6'!$S$18)","v":""},{"$f":"IF('S6'!$T$18=\"\",\"\",'S6'!$T$18)","v":""},{"$f":"IF('S6'!$U$18=\"\",\"\",'S6'!$U$18)","v":""},{"$f":"IF('S6'!$V$18=\"\",\"\",'S6'!$V$18)","v":""},{"$f":"IF('S6'!$W$18=\"\",\"\",'S6'!$W$18)","v":""},{"$f":"IF('S6'!$X$18=\"\",\"\",'S6'!$X$18)","v":""},{"$f":"IF('S6'!$Y$18=\"\",\"\",'S6'!$Y$18)","v":""},{"$f":"IF('S6'!$Z$18=\"\",\"\",'S6'!$Z$18)","v":""}]
[null,{"$f":"IF('S6'!$Q$18=\"\",\"\",\"erreicht\")","v":""},null,null,{"$f":"IF(VLOOKUP(B73,'S6'!$B$23:$Z$57,16,FALSE)=\"\",\"\",VLOOKUP(B73,'S6'!$B$23:$Z$57,16,FALSE))","v":""},{"$f":"IF(VLOOKUP(B73,'S6'!$B$23:$Z$57,17,FALSE)=\"\",\"\",VLOOKUP(B73,'S6'!$B$23:$Z$57,17,FALSE))","v":""},{"$f":"IF(VLOOKUP(B73,'S6'!$B$23:$Z$57,18,FALSE)=\"\",\"\",VLOOKUP(B73,'S6'!$B$23:$Z$57,18,FALSE))","v":""},{"$f":"IF(VLOOKUP(B73,'S6'!$B$23:$Z$57,19,FALSE)=\"\",\"\",VLOOKUP(B73,'S6'!$B$23:$Z$57,19,FALSE))","v":""},{"$f":"IF(VLOOKUP(B73,'S6'!$B$23:$Z$57,20,FALSE)=\"\",\"\",VLOOKUP(B73,'S6'!$B$23:$Z$57,20,FALSE))","v":""},{"$f":"IF(VLOOKUP(B73,'S6'!$B$23:$Z$57,21,FALSE)=\"\",\"\",VLOOKUP(B73,'S6'!$B$23:$Z$57,21,FALSE))","v":""},{"$f":"IF(VLOOKUP(B73,'S6'!$B$23:$Z$57,22,FALSE)=\"\",\"\",VLOOKUP(B73,'S6'!$B$23:$Z$57,22,FALSE))","v":""},{"$f":"IF(VLOOKUP(B73,'S6'!$B$23:$Z$57,23,FALSE)=\"\",\"\",VLOOKUP(B73,'S6'!$B$23:$Z$57,23,FALSE))","v":""},{"$f":"IF(VLOOKUP(B73,'S6'!$B$23:$Z$57,24,FALSE)=\"\",\"\",VLOOKUP(B73,'S6'!$B$23:$Z$57,24,FALSE))","v":""},{"$f":"IF(VLOOKUP(B73,'S6'!$B$23:$Z$57,25,FALSE)=\"\",\"\",VLOOKUP(B73,'S6'!$B$23:$Z$57,25,FALSE))","v":""},null,"Note",null,null,null,null,{"$f":"IF('S6'!$Q$18=\"\",\"\",\"erreicht\")","v":""},null,null,{"$f":"IF(VLOOKUP(U73,'S6'!$B$23:$Z$57,16,FALSE)=\"\",\"\",VLOOKUP(U73,'S6'!$B$23:$Z$57,16,FALSE))","v":""},{"$f":"IF(VLOOKUP(U73,'S6'!$B$23:$Z$57,17,FALSE)=\"\",\"\",VLOOKUP(U73,'S6'!$B$23:$Z$57,17,FALSE))","v":""},{"$f":"IF(VLOOKUP(U73,'S6'!$B$23:$Z$57,18,FALSE)=\"\",\"\",VLOOKUP(U73,'S6'!$B$23:$Z$57,18,FALSE))","v":""},{"$f":"IF(VLOOKUP(U73,'S6'!$B$23:$Z$57,19,FALSE)=\"\",\"\",VLOOKUP(U73,'S6'!$B$23:$Z$57,19,FALSE))","v":""},{"$f":"IF(VLOOKUP(U73,'S6'!$B$23:$Z$57,20,FALSE)=\"\",\"\",VLOOKUP(U73,'S6'!$B$23:$Z$57,20,FALSE))","v":""},{"$f":"IF(VLOOKUP(U73,'S6'!$B$23:$Z$57,21,FALSE)=\"\",\"\",VLOOKUP(U73,'S6'!$B$23:$Z$57,21,FALSE))","v":""},{"$f":"IF(VLOOKUP(U73,'S6'!$B$23:$Z$57,22,FALSE)=\"\",\"\",VLOOKUP(U73,'S6'!$B$23:$Z$57,22,FALSE))","v":""},{"$f":"IF(VLOOKUP(U73,'S6'!$B$23:$Z$57,23,FALSE)=\"\",\"\",VLOOKUP(U73,'S6'!$B$23:$Z$57,23,FALSE))","v":""},{"$f":"IF(VLOOKUP(U73,'S6'!$B$23:$Z$57,24,FALSE)=\"\",\"\",VLOOKUP(U73,'S6'!$B$23:$Z$57,24,FALSE))","v":""},{"$f":"IF(VLOOKUP(U73,'S6'!$B$23:$Z$57,25,FALSE)=\"\",\"\",VLOOKUP(U73,'S6'!$B$23:$Z$57,25,FALSE))","v":""},null,"Note"]
[null,{"$f":"IF('S6'!$Q$18=\"\",\"\",\"von\")","v":""},null,null,{"$f":"IF('S6'!$Q$21=\"\",\"\",'S6'!$Q$21)","v":""},{"$f":"IF('S6'!$R$21=\"\",\"\",'S6'!$R$21)","v":""},{"$f":"IF('S6'!$S$21=\"\",\"\",'S6'!$S$21)","v":""},{"$f":"IF('S6'!$T$21=\"\",\"\",'S6'!$T$21)","v":""},{"$f":"IF('S6'!$U$21=\"\",\"\",'S6'!$U$21)","v":""},{"$f":"IF('S6'!$V$21=\"\",\"\",'S6'!$V$21)","v":""},{"$f":"IF('S6'!$W$21=\"\",\"\",'S6'!$W$21)","v":""},{"$f":"IF('S6'!$X$21=\"\",\"\",'S6'!$X$21)","v":""},{"$f":"IF('S6'!$Y$21=\"\",\"\",'S6'!$Y$21)","v":""},{"$f":"IF('S6'!$Z$21=\"\",\"\",'S6'!$Z$21)","v":""},null,{"$f":"IF(VLOOKUP(B73,'S6'!$B$23:$Z$57,2,FALSE)=\"\",\"\",CONCATENATE(VLOOKUP(B73,'S6'!$B$23:$Z$57,2,FALSE),\" \",VLOOKUP(B73,'S6'!$B$23:$Z$57,3,FALSE)))","v":"- "},null,null,null,null,{"$f":"IF('S6'!$Q$18=\"\",\"\",\"von\")","v":""},null,null,{"$f":"IF('S6'!$Q$21=\"\",\"\",'S6'!$Q$21)","v":""},{"$f":"IF('S6'!$R$21=\"\",\"\",'S6'!$R$21)","v":""},{"$f":"IF('S6'!$S$21=\"\",\"\",'S6'!$S$21)","v":""},{"$f":"IF('S6'!$T$21=\"\",\"\",'S6'!$T$21)","v":""},{"$f":"IF('S6'!$U$21=\"\",\"\",'S6'!$U$21)","v":""},{"$f":"IF('S6'!$V$21=\"\",\"\",'S6'!$V$21)","v":""},{"$f":"IF('S6'!$W$21=\"\",\"\",'S6'!$W$21)","v":""},{"$f":"IF('S6'!$X$21=\"\",\"\",'S6'!$X$21)","v":""},{"$f":"IF('S6'!$Y$21=\"\",\"\",'S6'!$Y$21)","v":""},{"$f":"IF('S6'!$Z$21=\"\",\"\",'S6'!$Z$21)","v":""},null,{"$f":"IF(VLOOKUP(U73,'S6'!$B$23:$Z$57,2,FALSE)=\"\",\"\",CONCATENATE(VLOOKUP(U73,'S6'!$B$23:$Z$57,2,FALSE),\" \",VLOOKUP(U73,'S6'!$B$23:$Z$57,3,FALSE)))","v":"- "}]
[]
[]
[]
[null,{"$f":"'S6'!$B$37","v":""},null,null,null,null,null,null,null,null,null,null,null,null,null,null,null,null,null,null,{"$f":"'S6'!$B$38","v":""}]
[null,null,null,null,null,null,null,null,null,null,null,null,null,null,null,"Summe",null,null,null,null,null,null,null,null,null,null,null,null,null,null,null,null,null,null,"Summe"]
[null,"Aufgabe",null,null,{"$f":"IF('S6'!$G$18=\"\",\"\",'S6'!$G$18)","v":1},{"$f":"IF('S6'!$H$18=\"\",\"\",'S6'!$H$18)","v":2},{"$f":"IF('S6'!$I$18=\"\",\"\",'S6'!$I$18)","v":3},{"$f":"IF('S6'!$J$18=\"\",\"\",'S6'!$J$18)","v":""},{"$f":"IF('S6'!$K$18=\"\",\"\",'S6'!$K$18)","v":""},{"$f":"IF('S6'!$L$18=\"\",\"\",'S6'!$L$18)","v":""},{"$f":"IF('S6'!$M$18=\"\",\"\",'S6'!$M$18)","v":""},{"$f":"IF('S6'!$N$18=\"\",\"\",'S6'!$N$18)","v":""},{"$f":"IF('S6'!$O$18=\"\",\"\",'S6'!$O$18)","v":""},{"$f":"IF('S6'!$P$18=\"\",\"\",'S6'!$P$18)","v":""},null,{"$f":"IF(VLOOKUP(B85,'S6'!$B$23:$Z$57,5,FALSE)=\"\",\"\",VLOOKUP(B85,'S6'!$B$23:$Z$57,5,FALSE))","v":0},null,null,null,null,"Aufgabe",null,null,{"$f":"IF('S6'!$G$18=\"\",\"\",'S6'!$G$18)","v":1},{"$f":"IF('S6'!$H$18=\"\",\"\",'S6'!$H$18)","v":2},{"$f":"IF('S6'!$I$18=\"\",\"\",'S6'!$I$18)","v":3},{"$f":"IF('S6'!$J$18=\"\",\"\",'S6'!$J$18)","v":""},{"$f":"IF('S6'!$K$18=\"\",\"\",'S6'!$K$18)","v":""},{"$f":"IF('S6'!$L$18=\"\",\"\",'S6'!$L$18)","v":""},{"$f":"IF('S6'!$M$18=\"\",\"\",'S6'!$M$18)","v":""},{"$f":"IF('S6'!$N$18=\"\",\"\",'S6'!$N$18)","v":""},{"$f":"IF('S6'!$O$18=\"\",\"\",'S6'!$O$18)","v":""},{"$f":"IF('S6'!$P$18=\"\",\"\",'S6'!$P$18)","v":""},null,{"$f":"IF(VLOOKUP(U85,'S6'!$B$23:$Z$57,5,FALSE)=\"\",\"\",VLOOKUP(U85,'S6'!$B$23:$Z$57,5,FALSE))","v":0}]
[null,"erreicht",null,null,{"$f":"IF(VLOOKUP(B85,'S6'!$B$23:$Z$57,6,FALSE)=\"\",\"\",VLOOKUP(B85,'S6'!$B$23:$Z$57,6,FALSE))","v":"."},{"$f":"IF(VLOOKUP(B85,'S6'!$B$23:$Z$57,7,FALSE)=\"\",\"\",VLOOKUP(B85,'S6'!$B$23:$Z$57,7,FALSE))","v":""},{"$f":"IF(VLOOKUP(B85,'S6'!$B$23:$Z$57,8,FALSE)=\"\",\"\",VLOOKUP(B85,'S6'!$B$23:$Z$57,8,FALSE))","v":""},{"$f":"IF(VLOOKUP(B85,'S6'!$B$23:$Z$57,9,FALSE)=\"\",\"\",VLOOKUP(B85,'S6'!$B$23:$Z$57,9,FALSE))","v":""},{"$f":"IF(VLOOKUP(B85,'S6'!$B$23:$Z$57,10,FALSE)=\"\",\"\",VLOOKUP(B85,'S6'!$B$23:$Z$57,10,FALSE))","v":""},{"$f":"IF(VLOOKUP(B85,'S6'!$B$23:$Z$57,11,FALSE)=\"\",\"\",VLOOKUP(B85,'S6'!$B$23:$Z$57,11,FALSE))","v":""},{"$f":"IF(VLOOKUP(B85,'S6'!$B$23:$Z$57,12,FALSE)=\"\",\"\",VLOOKUP(B85,'S6'!$B$23:$Z$57,12,FALSE))","v":""},{"$f":"IF(VLOOKUP(B85,'S6'!$B$23:$Z$57,13,FALSE)=\"\",\"\",VLOOKUP(B85,'S6'!$B$23:$Z$57,13,FALSE))","v":""},{"$f":"IF(VLOOKUP(B85,'S6'!$B$23:$Z$57,14,FALSE)=\"\",\"\",VLOOKUP(B85,'S6'!$B$23:$Z$57,14,FALSE))","v":""},{"$f":"IF(VLOOKUP(B85,'S6'!$B$23:$Z$57,15,FALSE)=\"\",\"\",VLOOKUP(B85,'S6'!$B$23:$Z$57,15,FALSE))","v":""},null,null,null,null,null,null,"erreicht",null,null,{"$f":"IF(VLOOKUP(U85,'S6'!$B$23:$Z$57,6,FALSE)=\"\",\"\",VLOOKUP(U85,'S6'!$B$23:$Z$57,6,FALSE))","v":"."},{"$f":"IF(VLOOKUP(U85,'S6'!$B$23:$Z$57,7,FALSE)=\"\",\"\",VLOOKUP(U85,'S6'!$B$23:$Z$57,7,FALSE))","v":""},{"$f":"IF(VLOOKUP(U85,'S6'!$B$23:$Z$57,8,FALSE)=\"\",\"\",VLOOKUP(U85,'S6'!$B$23:$Z$57,8,FALSE))","v":""},{"$f":"IF(VLOOKUP(U85,'S6'!$B$23:$Z$57,9,FALSE)=\"\",\"\",VLOOKUP(U85,'S6'!$B$23:$Z$57,9,FALSE))","v":""},{"$f":"IF(VLOOKUP(U85,'S6'!$B$23:$Z$57,10,FALSE)=\"\",\"\",VLOOKUP(U85,'S6'!$B$23:$Z$57,10,FALSE))","v":""},{"$f":"IF(VLOOKUP(U85,'S6'!$B$23:$Z$57,11,FALSE)=\"\",\"\",VLOOKUP(U85,'S6'!$B$23:$Z$57,11,FALSE))","v":""},{"$f":"IF(VLOOKUP(U85,'S6'!$B$23:$Z$57,12,FALSE)=\"\",\"\",VLOOKUP(U85,'S6'!$B$23:$Z$57,12,FALSE))","v":""},{"$f":"IF(VLOOKUP(U85,'S6'!$B$23:$Z$57,13,FALSE)=\"\",\"\",VLOOKUP(U85,'S6'!$B$23:$Z$57,13,FALSE))","v":""},{"$f":"IF(VLOOKUP(U85,'S6'!$B$23:$Z$57,14,FALSE)=\"\",\"\",VLOOKUP(U85,'S6'!$B$23:$Z$57,14,FALSE))","v":""},{"$f":"IF(VLOOKUP(U85,'S6'!$B$23:$Z$57,15,FALSE)=\"\",\"\",VLOOKUP(U85,'S6'!$B$23:$Z$57,15,FALSE))","v":""}]
[null,"von",null,null,{"$f":"IF('S6'!$G$21=\"\",\"\",'S6'!$G$21)","v":""},{"$f":"IF('S6'!$H$21=\"\",\"\",'S6'!$H$21)","v":""},{"$f":"IF('S6'!$I$21=\"\",\"\",'S6'!$I$21)","v":""},{"$f":"IF('S6'!$J$21=\"\",\"\",'S6'!$J$21)","v":""},{"$f":"IF('S6'!$K$21=\"\",\"\",'S6'!$K$21)","v":""},{"$f":"IF('S6'!$L$21=\"\",\"\",'S6'!$L$21)","v":""},{"$f":"IF('S6'!$M$21=\"\",\"\",'S6'!$M$21)","v":""},{"$f":"IF('S6'!$N$21=\"\",\"\",'S6'!$N$21)","v":""},{"$f":"IF('S6'!$O$21=\"\",\"\",'S6'!$O$21)","v":""},{"$f":"IF('S6'!$P$21=\"\",\"\",'S6'!$P$21)","v":""},null,"von",null,null,null,null,"von",null,null,{"$f":"IF('S6'!$G$21=\"\",\"\",'S6'!$G$21)","v":""},{"$f":"IF('S6'!$H$21=\"\",\"\",'S6'!$H$21)","v":""},{"$f":"IF('S6'!$I$21=\"\",\"\",'S6'!$I$21)","v":""},{"$f":"IF('S6'!$J$21=\"\",\"\",'S6'!$J$21)","v":""},{"$f":"IF('S6'!$K$21=\"\",\"\",'S6'!$K$21)","v":""},{"$f":"IF('S6'!$L$21=\"\",\"\",'S6'!$L$21)","v":""},{"$f":"IF('S6'!$M$21=\"\",\"\",'S6'!$M$21)","v":""},{"$f":"IF('S6'!$N$21=\"\",\"\",'S6'!$N$21)","v":""},{"$f":"IF('S6'!$O$21=\"\",\"\",'S6'!$O$21)","v":""},{"$f":"IF('S6'!$P$21=\"\",\"\",'S6'!$P$21)","v":""},null,"von"]
[null,null,null,null,null,null,null,null,null,null,null,null,null,null,null,{"$f":"'S6'!$H$12","v":0},null,null,null,null,null,null,null,null,null,null,null,null,null,null,null,null,null,null,{"$f":"'S6'!$H$12","v":0}]
[null,{"$f":"IF('S6'!$Q$18=\"\",\"\",\"Aufgabe\")","v":""},null,null,{"$f":"IF('S6'!$Q$18=\"\",\"\",'S6'!$Q$18)","v":""},{"$f":"IF('S6'!$R$18=\"\",\"\",'S6'!$R$18)","v":""},{"$f":"IF('S6'!$S$18=\"\",\"\",'S6'!$S$18)","v":""},{"$f":"IF('S6'!$T$18=\"\",\"\",'S6'!$T$18)","v":""},{"$f":"IF('S6'!$U$18=\"\",\"\",'S6'!$U$18)","v":""},{"$f":"IF('S6'!$V$18=\"\",\"\",'S6'!$V$18)","v":""},{"$f":"IF('S6'!$W$18=\"\",\"\",'S6'!$W$18)","v":""},{"$f":"IF('S6'!$X$18=\"\",\"\",'S6'!$X$18)","v":""},{"$f":"IF('S6'!$Y$18=\"\",\"\",'S6'!$Y$18)","v":""},{"$f":"IF('S6'!$Z$18=\"\",\"\",'S6'!$Z$18)","v":""},null,null,null,null,null,null,{"$f":"IF('S6'!$Q$18=\"\",\"\",\"Aufgabe\")","v":""},null,null,{"$f":"IF('S6'!$Q$18=\"\",\"\",'S6'!$Q$18)","v":""},{"$f":"IF('S6'!$R$18=\"\",\"\",'S6'!$R$18)","v":""},{"$f":"IF('S6'!$S$18=\"\",\"\",'S6'!$S$18)","v":""},{"$f":"IF('S6'!$T$18=\"\",\"\",'S6'!$T$18)","v":""},{"$f":"IF('S6'!$U$18=\"\",\"\",'S6'!$U$18)","v":""},{"$f":"IF('S6'!$V$18=\"\",\"\",'S6'!$V$18)","v":""},{"$f":"IF('S6'!$W$18=\"\",\"\",'S6'!$W$18)","v":""},{"$f":"IF('S6'!$X$18=\"\",\"\",'S6'!$X$18)","v":""},{"$f":"IF('S6'!$Y$18=\"\",\"\",'S6'!$Y$18)","v":""},{"$f":"IF('S6'!$Z$18=\"\",\"\",'S6'!$Z$18)","v":""}]
[null,{"$f":"IF('S6'!$Q$18=\"\",\"\",\"erreicht\")","v":""},null,null,{"$f":"IF(VLOOKUP(B85,'S6'!$B$23:$Z$57,16,FALSE)=\"\",\"\",VLOOKUP(B85,'S6'!$B$23:$Z$57,16,FALSE))","v":""},{"$f":"IF(VLOOKUP(B85,'S6'!$B$23:$Z$57,17,FALSE)=\"\",\"\",VLOOKUP(B85,'S6'!$B$23:$Z$57,17,FALSE))","v":""},{"$f":"IF(VLOOKUP(B85,'S6'!$B$23:$Z$57,18,FALSE)=\"\",\"\",VLOOKUP(B85,'S6'!$B$23:$Z$57,18,FALSE))","v":""},{"$f":"IF(VLOOKUP(B85,'S6'!$B$23:$Z$57,19,FALSE)=\"\",\"\",VLOOKUP(B85,'S6'!$B$23:$Z$57,19,FALSE))","v":""},{"$f":"IF(VLOOKUP(B85,'S6'!$B$23:$Z$57,20,FALSE)=\"\",\"\",VLOOKUP(B85,'S6'!$B$23:$Z$57,20,FALSE))","v":""},{"$f":"IF(VLOOKUP(B85,'S6'!$B$23:$Z$57,21,FALSE)=\"\",\"\",VLOOKUP(B85,'S6'!$B$23:$Z$57,21,FALSE))","v":""},{"$f":"IF(VLOOKUP(B85,'S6'!$B$23:$Z$57,22,FALSE)=\"\",\"\",VLOOKUP(B85,'S6'!$B$23:$Z$57,22,FALSE))","v":""},{"$f":"IF(VLOOKUP(B85,'S6'!$B$23:$Z$57,23,FALSE)=\"\",\"\",VLOOKUP(B85,'S6'!$B$23:$Z$57,23,FALSE))","v":""},{"$f":"IF(VLOOKUP(B85,'S6'!$B$23:$Z$57,24,FALSE)=\"\",\"\",VLOOKUP(B85,'S6'!$B$23:$Z$57,24,FALSE))","v":""},{"$f":"IF(VLOOKUP(B85,'S6'!$B$23:$Z$57,25,FALSE)=\"\",\"\",VLOOKUP(B85,'S6'!$B$23:$Z$57,25,FALSE))","v":""},null,"Note",null,null,null,null,{"$f":"IF('S6'!$Q$18=\"\",\"\",\"erreicht\")","v":""},null,null,{"$f":"IF(VLOOKUP(U85,'S6'!$B$23:$Z$57,16,FALSE)=\"\",\"\",VLOOKUP(U85,'S6'!$B$23:$Z$57,16,FALSE))","v":""},{"$f":"IF(VLOOKUP(U85,'S6'!$B$23:$Z$57,17,FALSE)=\"\",\"\",VLOOKUP(U85,'S6'!$B$23:$Z$57,17,FALSE))","v":""},{"$f":"IF(VLOOKUP(U85,'S6'!$B$23:$Z$57,18,FALSE)=\"\",\"\",VLOOKUP(U85,'S6'!$B$23:$Z$57,18,FALSE))","v":""},{"$f":"IF(VLOOKUP(U85,'S6'!$B$23:$Z$57,19,FALSE)=\"\",\"\",VLOOKUP(U85,'S6'!$B$23:$Z$57,19,FALSE))","v":""},{"$f":"IF(VLOOKUP(U85,'S6'!$B$23:$Z$57,20,FALSE)=\"\",\"\",VLOOKUP(U85,'S6'!$B$23:$Z$57,20,FALSE))","v":""},{"$f":"IF(VLOOKUP(U85,'S6'!$B$23:$Z$57,21,FALSE)=\"\",\"\",VLOOKUP(U85,'S6'!$B$23:$Z$57,21,FALSE))","v":""},{"$f":"IF(VLOOKUP(U85,'S6'!$B$23:$Z$57,22,FALSE)=\"\",\"\",VLOOKUP(U85,'S6'!$B$23:$Z$57,22,FALSE))","v":""},{"$f":"IF(VLOOKUP(U85,'S6'!$B$23:$Z$57,23,FALSE)=\"\",\"\",VLOOKUP(U85,'S6'!$B$23:$Z$57,23,FALSE))","v":""},{"$f":"IF(VLOOKUP(U85,'S6'!$B$23:$Z$57,24,FALSE)=\"\",\"\",VLOOKUP(U85,'S6'!$B$23:$Z$57,24,FALSE))","v":""},{"$f":"IF(VLOOKUP(U85,'S6'!$B$23:$Z$57,25,FALSE)=\"\",\"\",VLOOKUP(U85,'S6'!$B$23:$Z$57,25,FALSE))","v":""},null,"Note"]
[null,{"$f":"IF('S6'!$Q$18=\"\",\"\",\"von\")","v":""},null,null,{"$f":"IF('S6'!$Q$21=\"\",\"\",'S6'!$Q$21)","v":""},{"$f":"IF('S6'!$R$21=\"\",\"\",'S6'!$R$21)","v":""},{"$f":"IF('S6'!$S$21=\"\",\"\",'S6'!$S$21)","v":""},{"$f":"IF('S6'!$T$21=\"\",\"\",'S6'!$T$21)","v":""},{"$f":"IF('S6'!$U$21=\"\",\"\",'S6'!$U$21)","v":""},{"$f":"IF('S6'!$V$21=\"\",\"\",'S6'!$V$21)","v":""},{"$f":"IF('S6'!$W$21=\"\",\"\",'S6'!$W$21)","v":""},{"$f":"IF('S6'!$X$21=\"\",\"\",'S6'!$X$21)","v":""},{"$f":"IF('S6'!$Y$21=\"\",\"\",'S6'!$Y$21)","v":""},{"$f":"IF('S6'!$Z$21=\"\",\"\",'S6'!$Z$21)","v":""},null,{"$f":"IF(VLOOKUP(B85,'S6'!$B$23:$Z$57,2,FALSE)=\"\",\"\",CONCATENATE(VLOOKUP(B85,'S6'!$B$23:$Z$57,2,FALSE),\" \",VLOOKUP(B85,'S6'!$B$23:$Z$57,3,FALSE)))","v":"- "},null,null,null,null,{"$f":"IF('S6'!$Q$18=\"\",\"\",\"von\")","v":""},null,null,{"$f":"IF('S6'!$Q$21=\"\",\"\",'S6'!$Q$21)","v":""},{"$f":"IF('S6'!$R$21=\"\",\"\",'S6'!$R$21)","v":""},{"$f":"IF('S6'!$S$21=\"\",\"\",'S6'!$S$21)","v":""},{"$f":"IF('S6'!$T$21=\"\",\"\",'S6'!$T$21)","v":""},{"$f":"IF('S6'!$U$21=\"\",\"\",'S6'!$U$21)","v":""},{"$f":"IF('S6'!$V$21=\"\",\"\",'S6'!$V$21)","v":""},{"$f":"IF('S6'!$W$21=\"\",\"\",'S6'!$W$21)","v":""},{"$f":"IF('S6'!$X$21=\"\",\"\",'S6'!$X$21)","v":""},{"$f":"IF('S6'!$Y$21=\"\",\"\",'S6'!$Y$21)","v":""},{"$f":"IF('S6'!$Z$21=\"\",\"\",'S6'!$Z$21)","v":""},null,{"$f":"IF(VLOOKUP(U85,'S6'!$B$23:$Z$57,2,FALSE)=\"\",\"\",CONCATENATE(VLOOKUP(U85,'S6'!$B$23:$Z$57,2,FALSE),\" \",VLOOKUP(U85,'S6'!$B$23:$Z$57,3,FALSE)))","v":"- "}]
[]
[]
[]
[null,{"$f":"'S6'!$B$39","v":""},null,null,null,null,null,null,null,null,null,null,null,null,null,null,null,null,null,null,{"$f":"'S6'!$B$40","v":""}]
[null,null,null,null,null,null,null,null,null,null,null,null,null,null,null,"Summe",null,null,null,null,null,null,null,null,null,null,null,null,null,null,null,null,null,null,"Summe"]
[null,"Aufgabe",null,null,{"$f":"IF('S6'!$G$18=\"\",\"\",'S6'!$G$18)","v":1},{"$f":"IF('S6'!$H$18=\"\",\"\",'S6'!$H$18)","v":2},{"$f":"IF('S6'!$I$18=\"\",\"\",'S6'!$I$18)","v":3},{"$f":"IF('S6'!$J$18=\"\",\"\",'S6'!$J$18)","v":""},{"$f":"IF('S6'!$K$18=\"\",\"\",'S6'!$K$18)","v":""},{"$f":"IF('S6'!$L$18=\"\",\"\",'S6'!$L$18)","v":""},{"$f":"IF('S6'!$M$18=\"\",\"\",'S6'!$M$18)","v":""},{"$f":"IF('S6'!$N$18=\"\",\"\",'S6'!$N$18)","v":""},{"$f":"IF('S6'!$O$18=\"\",\"\",'S6'!$O$18)","v":""},{"$f":"IF('S6'!$P$18=\"\",\"\",'S6'!$P$18)","v":""},null,{"$f":"IF(VLOOKUP(B97,'S6'!$B$23:$Z$57,5,FALSE)=\"\",\"\",VLOOKUP(B97,'S6'!$B$23:$Z$57,5,FALSE))","v":0},null,null,null,null,"Aufgabe",null,null,{"$f":"IF('S6'!$G$18=\"\",\"\",'S6'!$G$18)","v":1},{"$f":"IF('S6'!$H$18=\"\",\"\",'S6'!$H$18)","v":2},{"$f":"IF('S6'!$I$18=\"\",\"\",'S6'!$I$18)","v":3},{"$f":"IF('S6'!$J$18=\"\",\"\",'S6'!$J$18)","v":""},{"$f":"IF('S6'!$K$18=\"\",\"\",'S6'!$K$18)","v":""},{"$f":"IF('S6'!$L$18=\"\",\"\",'S6'!$L$18)","v":""},{"$f":"IF('S6'!$M$18=\"\",\"\",'S6'!$M$18)","v":""},{"$f":"IF('S6'!$N$18=\"\",\"\",'S6'!$N$18)","v":""},{"$f":"IF('S6'!$O$18=\"\",\"\",'S6'!$O$18)","v":""},{"$f":"IF('S6'!$P$18=\"\",\"\",'S6'!$P$18)","v":""},null,{"$f":"IF(VLOOKUP(U97,'S6'!$B$23:$Z$57,5,FALSE)=\"\",\"\",VLOOKUP(U97,'S6'!$B$23:$Z$57,5,FALSE))","v":0}]
[null,"erreicht",null,null,{"$f":"IF(VLOOKUP(B97,'S6'!$B$23:$Z$57,6,FALSE)=\"\",\"\",VLOOKUP(B97,'S6'!$B$23:$Z$57,6,FALSE))","v":"."},{"$f":"IF(VLOOKUP(B97,'S6'!$B$23:$Z$57,7,FALSE)=\"\",\"\",VLOOKUP(B97,'S6'!$B$23:$Z$57,7,FALSE))","v":""},{"$f":"IF(VLOOKUP(B97,'S6'!$B$23:$Z$57,8,FALSE)=\"\",\"\",VLOOKUP(B97,'S6'!$B$23:$Z$57,8,FALSE))","v":""},{"$f":"IF(VLOOKUP(B97,'S6'!$B$23:$Z$57,9,FALSE)=\"\",\"\",VLOOKUP(B97,'S6'!$B$23:$Z$57,9,FALSE))","v":""},{"$f":"IF(VLOOKUP(B97,'S6'!$B$23:$Z$57,10,FALSE)=\"\",\"\",VLOOKUP(B97,'S6'!$B$23:$Z$57,10,FALSE))","v":""},{"$f":"IF(VLOOKUP(B97,'S6'!$B$23:$Z$57,11,FALSE)=\"\",\"\",VLOOKUP(B97,'S6'!$B$23:$Z$57,11,FALSE))","v":""},{"$f":"IF(VLOOKUP(B97,'S6'!$B$23:$Z$57,12,FALSE)=\"\",\"\",VLOOKUP(B97,'S6'!$B$23:$Z$57,12,FALSE))","v":""},{"$f":"IF(VLOOKUP(B97,'S6'!$B$23:$Z$57,13,FALSE)=\"\",\"\",VLOOKUP(B97,'S6'!$B$23:$Z$57,13,FALSE))","v":""},{"$f":"IF(VLOOKUP(B97,'S6'!$B$23:$Z$57,14,FALSE)=\"\",\"\",VLOOKUP(B97,'S6'!$B$23:$Z$57,14,FALSE))","v":""},{"$f":"IF(VLOOKUP(B97,'S6'!$B$23:$Z$57,15,FALSE)=\"\",\"\",VLOOKUP(B97,'S6'!$B$23:$Z$57,15,FALSE))","v":""},null,null,null,null,null,null,"erreicht",null,null,{"$f":"IF(VLOOKUP(U97,'S6'!$B$23:$Z$57,6,FALSE)=\"\",\"\",VLOOKUP(U97,'S6'!$B$23:$Z$57,6,FALSE))","v":"."},{"$f":"IF(VLOOKUP(U97,'S6'!$B$23:$Z$57,7,FALSE)=\"\",\"\",VLOOKUP(U97,'S6'!$B$23:$Z$57,7,FALSE))","v":""},{"$f":"IF(VLOOKUP(U97,'S6'!$B$23:$Z$57,8,FALSE)=\"\",\"\",VLOOKUP(U97,'S6'!$B$23:$Z$57,8,FALSE))","v":""},{"$f":"IF(VLOOKUP(U97,'S6'!$B$23:$Z$57,9,FALSE)=\"\",\"\",VLOOKUP(U97,'S6'!$B$23:$Z$57,9,FALSE))","v":""},{"$f":"IF(VLOOKUP(U97,'S6'!$B$23:$Z$57,10,FALSE)=\"\",\"\",VLOOKUP(U97,'S6'!$B$23:$Z$57,10,FALSE))","v":""},{"$f":"IF(VLOOKUP(U97,'S6'!$B$23:$Z$57,11,FALSE)=\"\",\"\",VLOOKUP(U97,'S6'!$B$23:$Z$57,11,FALSE))","v":""},{"$f":"IF(VLOOKUP(U97,'S6'!$B$23:$Z$57,12,FALSE)=\"\",\"\",VLOOKUP(U97,'S6'!$B$23:$Z$57,12,FALSE))","v":""},{"$f":"IF(VLOOKUP(U97,'S6'!$B$23:$Z$57,13,FALSE)=\"\",\"\",VLOOKUP(U97,'S6'!$B$23:$Z$57,13,FALSE))","v":""},{"$f":"IF(VLOOKUP(U97,'S6'!$B$23:$Z$57,14,FALSE)=\"\",\"\",VLOOKUP(U97,'S6'!$B$23:$Z$57,14,FALSE))","v":""},{"$f":"IF(VLOOKUP(U97,'S6'!$B$23:$Z$57,15,FALSE)=\"\",\"\",VLOOKUP(U97,'S6'!$B$23:$Z$57,15,FALSE))","v":""}]
[null,"von",null,null,{"$f":"IF('S6'!$G$21=\"\",\"\",'S6'!$G$21)","v":""},{"$f":"IF('S6'!$H$21=\"\",\"\",'S6'!$H$21)","v":""},{"$f":"IF('S6'!$I$21=\"\",\"\",'S6'!$I$21)","v":""},{"$f":"IF('S6'!$J$21=\"\",\"\",'S6'!$J$21)","v":""},{"$f":"IF('S6'!$K$21=\"\",\"\",'S6'!$K$21)","v":""},{"$f":"IF('S6'!$L$21=\"\",\"\",'S6'!$L$21)","v":""},{"$f":"IF('S6'!$M$21=\"\",\"\",'S6'!$M$21)","v":""},{"$f":"IF('S6'!$N$21=\"\",\"\",'S6'!$N$21)","v":""},{"$f":"IF('S6'!$O$21=\"\",\"\",'S6'!$O$21)","v":""},{"$f":"IF('S6'!$P$21=\"\",\"\",'S6'!$P$21)","v":""},null,"von",null,null,null,null,"von",null,null,{"$f":"IF('S6'!$G$21=\"\",\"\",'S6'!$G$21)","v":""},{"$f":"IF('S6'!$H$21=\"\",\"\",'S6'!$H$21)","v":""},{"$f":"IF('S6'!$I$21=\"\",\"\",'S6'!$I$21)","v":""},{"$f":"IF('S6'!$J$21=\"\",\"\",'S6'!$J$21)","v":""},{"$f":"IF('S6'!$K$21=\"\",\"\",'S6'!$K$21)","v":""},{"$f":"IF('S6'!$L$21=\"\",\"\",'S6'!$L$21)","v":""},{"$f":"IF('S6'!$M$21=\"\",\"\",'S6'!$M$21)","v":""},{"$f":"IF('S6'!$N$21=\"\",\"\",'S6'!$N$21)","v":""},{"$f":"IF('S6'!$O$21=\"\",\"\",'S6'!$O$21)","v":""},{"$f":"IF('S6'!$P$21=\"\",\"\",'S6'!$P$21)","v":""},null,"von"]
[null,null,null,null,null,null,null,null,null,null,null,null,null,null,null,{"$f":"'S6'!$H$12","v":0},null,null,null,null,null,null,null,null,null,null,null,null,null,null,null,null,null,null,{"$f":"'S6'!$H$12","v":0}]
[null,{"$f":"IF('S6'!$Q$18=\"\",\"\",\"Aufgabe\")","v":""},null,null,{"$f":"IF('S6'!$Q$18=\"\",\"\",'S6'!$Q$18)","v":""},{"$f":"IF('S6'!$R$18=\"\",\"\",'S6'!$R$18)","v":""},{"$f":"IF('S6'!$S$18=\"\",\"\",'S6'!$S$18)","v":""},{"$f":"IF('S6'!$T$18=\"\",\"\",'S6'!$T$18)","v":""},{"$f":"IF('S6'!$U$18=\"\",\"\",'S6'!$U$18)","v":""},{"$f":"IF('S6'!$V$18=\"\",\"\",'S6'!$V$18)","v":""},{"$f":"IF('S6'!$W$18=\"\",\"\",'S6'!$W$18)","v":""},{"$f":"IF('S6'!$X$18=\"\",\"\",'S6'!$X$18)","v":""},{"$f":"IF('S6'!$Y$18=\"\",\"\",'S6'!$Y$18)","v":""},{"$f":"IF('S6'!$Z$18=\"\",\"\",'S6'!$Z$18)","v":""},null,null,null,null,null,null,{"$f":"IF('S6'!$Q$18=\"\",\"\",\"Aufgabe\")","v":""},null,null,{"$f":"IF('S6'!$Q$18=\"\",\"\",'S6'!$Q$18)","v":""},{"$f":"IF('S6'!$R$18=\"\",\"\",'S6'!$R$18)","v":""},{"$f":"IF('S6'!$S$18=\"\",\"\",'S6'!$S$18)","v":""},{"$f":"IF('S6'!$T$18=\"\",\"\",'S6'!$T$18)","v":""},{"$f":"IF('S6'!$U$18=\"\",\"\",'S6'!$U$18)","v":""},{"$f":"IF('S6'!$V$18=\"\",\"\",'S6'!$V$18)","v":""},{"$f":"IF('S6'!$W$18=\"\",\"\",'S6'!$W$18)","v":""},{"$f":"IF('S6'!$X$18=\"\",\"\",'S6'!$X$18)","v":""},{"$f":"IF('S6'!$Y$18=\"\",\"\",'S6'!$Y$18)","v":""},{"$f":"IF('S6'!$Z$18=\"\",\"\",'S6'!$Z$18)","v":""}]
[null,{"$f":"IF('S6'!$Q$18=\"\",\"\",\"erreicht\")","v":""},null,null,{"$f":"IF(VLOOKUP(B97,'S6'!$B$23:$Z$57,16,FALSE)=\"\",\"\",VLOOKUP(B97,'S6'!$B$23:$Z$57,16,FALSE))","v":""},{"$f":"IF(VLOOKUP(B97,'S6'!$B$23:$Z$57,17,FALSE)=\"\",\"\",VLOOKUP(B97,'S6'!$B$23:$Z$57,17,FALSE))","v":""},{"$f":"IF(VLOOKUP(B97,'S6'!$B$23:$Z$57,18,FALSE)=\"\",\"\",VLOOKUP(B97,'S6'!$B$23:$Z$57,18,FALSE))","v":""},{"$f":"IF(VLOOKUP(B97,'S6'!$B$23:$Z$57,19,FALSE)=\"\",\"\",VLOOKUP(B97,'S6'!$B$23:$Z$57,19,FALSE))","v":""},{"$f":"IF(VLOOKUP(B97,'S6'!$B$23:$Z$57,20,FALSE)=\"\",\"\",VLOOKUP(B97,'S6'!$B$23:$Z$57,20,FALSE))","v":""},{"$f":"IF(VLOOKUP(B97,'S6'!$B$23:$Z$57,21,FALSE)=\"\",\"\",VLOOKUP(B97,'S6'!$B$23:$Z$57,21,FALSE))","v":""},{"$f":"IF(VLOOKUP(B97,'S6'!$B$23:$Z$57,22,FALSE)=\"\",\"\",VLOOKUP(B97,'S6'!$B$23:$Z$57,22,FALSE))","v":""},{"$f":"IF(VLOOKUP(B97,'S6'!$B$23:$Z$57,23,FALSE)=\"\",\"\",VLOOKUP(B97,'S6'!$B$23:$Z$57,23,FALSE))","v":""},{"$f":"IF(VLOOKUP(B97,'S6'!$B$23:$Z$57,24,FALSE)=\"\",\"\",VLOOKUP(B97,'S6'!$B$23:$Z$57,24,FALSE))","v":""},{"$f":"IF(VLOOKUP(B97,'S6'!$B$23:$Z$57,25,FALSE)=\"\",\"\",VLOOKUP(B97,'S6'!$B$23:$Z$57,25,FALSE))","v":""},null,"Note",null,null,null,null,{"$f":"IF('S6'!$Q$18=\"\",\"\",\"erreicht\")","v":""},null,null,{"$f":"IF(VLOOKUP(U97,'S6'!$B$23:$Z$57,16,FALSE)=\"\",\"\",VLOOKUP(U97,'S6'!$B$23:$Z$57,16,FALSE))","v":""},{"$f":"IF(VLOOKUP(U97,'S6'!$B$23:$Z$57,17,FALSE)=\"\",\"\",VLOOKUP(U97,'S6'!$B$23:$Z$57,17,FALSE))","v":""},{"$f":"IF(VLOOKUP(U97,'S6'!$B$23:$Z$57,18,FALSE)=\"\",\"\",VLOOKUP(U97,'S6'!$B$23:$Z$57,18,FALSE))","v":""},{"$f":"IF(VLOOKUP(U97,'S6'!$B$23:$Z$57,19,FALSE)=\"\",\"\",VLOOKUP(U97,'S6'!$B$23:$Z$57,19,FALSE))","v":""},{"$f":"IF(VLOOKUP(U97,'S6'!$B$23:$Z$57,20,FALSE)=\"\",\"\",VLOOKUP(U97,'S6'!$B$23:$Z$57,20,FALSE))","v":""},{"$f":"IF(VLOOKUP(U97,'S6'!$B$23:$Z$57,21,FALSE)=\"\",\"\",VLOOKUP(U97,'S6'!$B$23:$Z$57,21,FALSE))","v":""},{"$f":"IF(VLOOKUP(U97,'S6'!$B$23:$Z$57,22,FALSE)=\"\",\"\",VLOOKUP(U97,'S6'!$B$23:$Z$57,22,FALSE))","v":""},{"$f":"IF(VLOOKUP(U97,'S6'!$B$23:$Z$57,23,FALSE)=\"\",\"\",VLOOKUP(U97,'S6'!$B$23:$Z$57,23,FALSE))","v":""},{"$f":"IF(VLOOKUP(U97,'S6'!$B$23:$Z$57,24,FALSE)=\"\",\"\",VLOOKUP(U97,'S6'!$B$23:$Z$57,24,FALSE))","v":""},{"$f":"IF(VLOOKUP(U97,'S6'!$B$23:$Z$57,25,FALSE)=\"\",\"\",VLOOKUP(U97,'S6'!$B$23:$Z$57,25,FALSE))","v":""},null,"Note"]
[null,{"$f":"IF('S6'!$Q$18=\"\",\"\",\"von\")","v":""},null,null,{"$f":"IF('S6'!$Q$21=\"\",\"\",'S6'!$Q$21)","v":""},{"$f":"IF('S6'!$R$21=\"\",\"\",'S6'!$R$21)","v":""},{"$f":"IF('S6'!$S$21=\"\",\"\",'S6'!$S$21)","v":""},{"$f":"IF('S6'!$T$21=\"\",\"\",'S6'!$T$21)","v":""},{"$f":"IF('S6'!$U$21=\"\",\"\",'S6'!$U$21)","v":""},{"$f":"IF('S6'!$V$21=\"\",\"\",'S6'!$V$21)","v":""},{"$f":"IF('S6'!$W$21=\"\",\"\",'S6'!$W$21)","v":""},{"$f":"IF('S6'!$X$21=\"\",\"\",'S6'!$X$21)","v":""},{"$f":"IF('S6'!$Y$21=\"\",\"\",'S6'!$Y$21)","v":""},{"$f":"IF('S6'!$Z$21=\"\",\"\",'S6'!$Z$21)","v":""},null,{"$f":"IF(VLOOKUP(B97,'S6'!$B$23:$Z$57,2,FALSE)=\"\",\"\",CONCATENATE(VLOOKUP(B97,'S6'!$B$23:$Z$57,2,FALSE),\" \",VLOOKUP(B97,'S6'!$B$23:$Z$57,3,FALSE)))","v":"- "},null,null,null,null,{"$f":"IF('S6'!$Q$18=\"\",\"\",\"von\")","v":""},null,null,{"$f":"IF('S6'!$Q$21=\"\",\"\",'S6'!$Q$21)","v":""},{"$f":"IF('S6'!$R$21=\"\",\"\",'S6'!$R$21)","v":""},{"$f":"IF('S6'!$S$21=\"\",\"\",'S6'!$S$21)","v":""},{"$f":"IF('S6'!$T$21=\"\",\"\",'S6'!$T$21)","v":""},{"$f":"IF('S6'!$U$21=\"\",\"\",'S6'!$U$21)","v":""},{"$f":"IF('S6'!$V$21=\"\",\"\",'S6'!$V$21)","v":""},{"$f":"IF('S6'!$W$21=\"\",\"\",'S6'!$W$21)","v":""},{"$f":"IF('S6'!$X$21=\"\",\"\",'S6'!$X$21)","v":""},{"$f":"IF('S6'!$Y$21=\"\",\"\",'S6'!$Y$21)","v":""},{"$f":"IF('S6'!$Z$21=\"\",\"\",'S6'!$Z$21)","v":""},null,{"$f":"IF(VLOOKUP(U97,'S6'!$B$23:$Z$57,2,FALSE)=\"\",\"\",CONCATENATE(VLOOKUP(U97,'S6'!$B$23:$Z$57,2,FALSE),\" \",VLOOKUP(U97,'S6'!$B$23:$Z$57,3,FALSE)))","v":"- "}]
[]
[]
[]
[null,{"$f":"'S6'!$B$41","v":""},null,null,null,null,null,null,null,null,null,null,null,null,null,null,null,null,null,null,{"$f":"'S6'!$B$42","v":""}]
[null,null,null,null,null,null,null,null,null,null,null,null,null,null,null,"Summe",null,null,null,null,null,null,null,null,null,null,null,null,null,null,null,null,null,null,"Summe"]
[null,"Aufgabe",null,null,{"$f":"IF('S6'!$G$18=\"\",\"\",'S6'!$G$18)","v":1},{"$f":"IF('S6'!$H$18=\"\",\"\",'S6'!$H$18)","v":2},{"$f":"IF('S6'!$I$18=\"\",\"\",'S6'!$I$18)","v":3},{"$f":"IF('S6'!$J$18=\"\",\"\",'S6'!$J$18)","v":""},{"$f":"IF('S6'!$K$18=\"\",\"\",'S6'!$K$18)","v":""},{"$f":"IF('S6'!$L$18=\"\",\"\",'S6'!$L$18)","v":""},{"$f":"IF('S6'!$M$18=\"\",\"\",'S6'!$M$18)","v":""},{"$f":"IF('S6'!$N$18=\"\",\"\",'S6'!$N$18)","v":""},{"$f":"IF('S6'!$O$18=\"\",\"\",'S6'!$O$18)","v":""},{"$f":"IF('S6'!$P$18=\"\",\"\",'S6'!$P$18)","v":""},null,{"$f":"IF(VLOOKUP(B109,'S6'!$B$23:$Z$57,5,FALSE)=\"\",\"\",VLOOKUP(B109,'S6'!$B$23:$Z$57,5,FALSE))","v":0},null,null,null,null,"Aufgabe",null,null,{"$f":"IF('S6'!$G$18=\"\",\"\",'S6'!$G$18)","v":1},{"$f":"IF('S6'!$H$18=\"\",\"\",'S6'!$H$18)","v":2},{"$f":"IF('S6'!$I$18=\"\",\"\",'S6'!$I$18)","v":3},{"$f":"IF('S6'!$J$18=\"\",\"\",'S6'!$J$18)","v":""},{"$f":"IF('S6'!$K$18=\"\",\"\",'S6'!$K$18)","v":""},{"$f":"IF('S6'!$L$18=\"\",\"\",'S6'!$L$18)","v":""},{"$f":"IF('S6'!$M$18=\"\",\"\",'S6'!$M$18)","v":""},{"$f":"IF('S6'!$N$18=\"\",\"\",'S6'!$N$18)","v":""},{"$f":"IF('S6'!$O$18=\"\",\"\",'S6'!$O$18)","v":""},{"$f":"IF('S6'!$P$18=\"\",\"\",'S6'!$P$18)","v":""},null,{"$f":"IF(VLOOKUP(U109,'S6'!$B$23:$Z$57,5,FALSE)=\"\",\"\",VLOOKUP(U109,'S6'!$B$23:$Z$57,5,FALSE))","v":0}]
[null,"erreicht",null,null,{"$f":"IF(VLOOKUP(B109,'S6'!$B$23:$Z$57,6,FALSE)=\"\",\"\",VLOOKUP(B109,'S6'!$B$23:$Z$57,6,FALSE))","v":"."},{"$f":"IF(VLOOKUP(B109,'S6'!$B$23:$Z$57,7,FALSE)=\"\",\"\",VLOOKUP(B109,'S6'!$B$23:$Z$57,7,FALSE))","v":""},{"$f":"IF(VLOOKUP(B109,'S6'!$B$23:$Z$57,8,FALSE)=\"\",\"\",VLOOKUP(B109,'S6'!$B$23:$Z$57,8,FALSE))","v":""},{"$f":"IF(VLOOKUP(B109,'S6'!$B$23:$Z$57,9,FALSE)=\"\",\"\",VLOOKUP(B109,'S6'!$B$23:$Z$57,9,FALSE))","v":""},{"$f":"IF(VLOOKUP(B109,'S6'!$B$23:$Z$57,10,FALSE)=\"\",\"\",VLOOKUP(B109,'S6'!$B$23:$Z$57,10,FALSE))","v":""},{"$f":"IF(VLOOKUP(B109,'S6'!$B$23:$Z$57,11,FALSE)=\"\",\"\",VLOOKUP(B109,'S6'!$B$23:$Z$57,11,FALSE))","v":""},{"$f":"IF(VLOOKUP(B109,'S6'!$B$23:$Z$57,12,FALSE)=\"\",\"\",VLOOKUP(B109,'S6'!$B$23:$Z$57,12,FALSE))","v":""},{"$f":"IF(VLOOKUP(B109,'S6'!$B$23:$Z$57,13,FALSE)=\"\",\"\",VLOOKUP(B109,'S6'!$B$23:$Z$57,13,FALSE))","v":""},{"$f":"IF(VLOOKUP(B109,'S6'!$B$23:$Z$57,14,FALSE)=\"\",\"\",VLOOKUP(B109,'S6'!$B$23:$Z$57,14,FALSE))","v":""},{"$f":"IF(VLOOKUP(B109,'S6'!$B$23:$Z$57,15,FALSE)=\"\",\"\",VLOOKUP(B109,'S6'!$B$23:$Z$57,15,FALSE))","v":""},null,null,null,null,null,null,"erreicht",null,null,{"$f":"IF(VLOOKUP(U109,'S6'!$B$23:$Z$57,6,FALSE)=\"\",\"\",VLOOKUP(U109,'S6'!$B$23:$Z$57,6,FALSE))","v":"."},{"$f":"IF(VLOOKUP(U109,'S6'!$B$23:$Z$57,7,FALSE)=\"\",\"\",VLOOKUP(U109,'S6'!$B$23:$Z$57,7,FALSE))","v":""},{"$f":"IF(VLOOKUP(U109,'S6'!$B$23:$Z$57,8,FALSE)=\"\",\"\",VLOOKUP(U109,'S6'!$B$23:$Z$57,8,FALSE))","v":""},{"$f":"IF(VLOOKUP(U109,'S6'!$B$23:$Z$57,9,FALSE)=\"\",\"\",VLOOKUP(U109,'S6'!$B$23:$Z$57,9,FALSE))","v":""},{"$f":"IF(VLOOKUP(U109,'S6'!$B$23:$Z$57,10,FALSE)=\"\",\"\",VLOOKUP(U109,'S6'!$B$23:$Z$57,10,FALSE))","v":""},{"$f":"IF(VLOOKUP(U109,'S6'!$B$23:$Z$57,11,FALSE)=\"\",\"\",VLOOKUP(U109,'S6'!$B$23:$Z$57,11,FALSE))","v":""},{"$f":"IF(VLOOKUP(U109,'S6'!$B$23:$Z$57,12,FALSE)=\"\",\"\",VLOOKUP(U109,'S6'!$B$23:$Z$57,12,FALSE))","v":""},{"$f":"IF(VLOOKUP(U109,'S6'!$B$23:$Z$57,13,FALSE)=\"\",\"\",VLOOKUP(U109,'S6'!$B$23:$Z$57,13,FALSE))","v":""},{"$f":"IF(VLOOKUP(U109,'S6'!$B$23:$Z$57,14,FALSE)=\"\",\"\",VLOOKUP(U109,'S6'!$B$23:$Z$57,14,FALSE))","v":""},{"$f":"IF(VLOOKUP(U109,'S6'!$B$23:$Z$57,15,FALSE)=\"\",\"\",VLOOKUP(U109,'S6'!$B$23:$Z$57,15,FALSE))","v":""}]
[null,"von",null,null,{"$f":"IF('S6'!$G$21=\"\",\"\",'S6'!$G$21)","v":""},{"$f":"IF('S6'!$H$21=\"\",\"\",'S6'!$H$21)","v":""},{"$f":"IF('S6'!$I$21=\"\",\"\",'S6'!$I$21)","v":""},{"$f":"IF('S6'!$J$21=\"\",\"\",'S6'!$J$21)","v":""},{"$f":"IF('S6'!$K$21=\"\",\"\",'S6'!$K$21)","v":""},{"$f":"IF('S6'!$L$21=\"\",\"\",'S6'!$L$21)","v":""},{"$f":"IF('S6'!$M$21=\"\",\"\",'S6'!$M$21)","v":""},{"$f":"IF('S6'!$N$21=\"\",\"\",'S6'!$N$21)","v":""},{"$f":"IF('S6'!$O$21=\"\",\"\",'S6'!$O$21)","v":""},{"$f":"IF('S6'!$P$21=\"\",\"\",'S6'!$P$21)","v":""},null,"von",null,null,null,null,"von",null,null,{"$f":"IF('S6'!$G$21=\"\",\"\",'S6'!$G$21)","v":""},{"$f":"IF('S6'!$H$21=\"\",\"\",'S6'!$H$21)","v":""},{"$f":"IF('S6'!$I$21=\"\",\"\",'S6'!$I$21)","v":""},{"$f":"IF('S6'!$J$21=\"\",\"\",'S6'!$J$21)","v":""},{"$f":"IF('S6'!$K$21=\"\",\"\",'S6'!$K$21)","v":""},{"$f":"IF('S6'!$L$21=\"\",\"\",'S6'!$L$21)","v":""},{"$f":"IF('S6'!$M$21=\"\",\"\",'S6'!$M$21)","v":""},{"$f":"IF('S6'!$N$21=\"\",\"\",'S6'!$N$21)","v":""},{"$f":"IF('S6'!$O$21=\"\",\"\",'S6'!$O$21)","v":""},{"$f":"IF('S6'!$P$21=\"\",\"\",'S6'!$P$21)","v":""},null,"von"]
[null,null,null,null,null,null,null,null,null,null,null,null,null,null,null,{"$f":"'S6'!$H$12","v":0},null,null,null,null,null,null,null,null,null,null,null,null,null,null,null,null,null,null,{"$f":"'S6'!$H$12","v":0}]
[null,{"$f":"IF('S6'!$Q$18=\"\",\"\",\"Aufgabe\")","v":""},null,null,{"$f":"IF('S6'!$Q$18=\"\",\"\",'S6'!$Q$18)","v":""},{"$f":"IF('S6'!$R$18=\"\",\"\",'S6'!$R$18)","v":""},{"$f":"IF('S6'!$S$18=\"\",\"\",'S6'!$S$18)","v":""},{"$f":"IF('S6'!$T$18=\"\",\"\",'S6'!$T$18)","v":""},{"$f":"IF('S6'!$U$18=\"\",\"\",'S6'!$U$18)","v":""},{"$f":"IF('S6'!$V$18=\"\",\"\",'S6'!$V$18)","v":""},{"$f":"IF('S6'!$W$18=\"\",\"\",'S6'!$W$18)","v":""},{"$f":"IF('S6'!$X$18=\"\",\"\",'S6'!$X$18)","v":""},{"$f":"IF('S6'!$Y$18=\"\",\"\",'S6'!$Y$18)","v":""},{"$f":"IF('S6'!$Z$18=\"\",\"\",'S6'!$Z$18)","v":""},null,null,null,null,null,null,{"$f":"IF('S6'!$Q$18=\"\",\"\",\"Aufgabe\")","v":""},null,null,{"$f":"IF('S6'!$Q$18=\"\",\"\",'S6'!$Q$18)","v":""},{"$f":"IF('S6'!$R$18=\"\",\"\",'S6'!$R$18)","v":""},{"$f":"IF('S6'!$S$18=\"\",\"\",'S6'!$S$18)","v":""},{"$f":"IF('S6'!$T$18=\"\",\"\",'S6'!$T$18)","v":""},{"$f":"IF('S6'!$U$18=\"\",\"\",'S6'!$U$18)","v":""},{"$f":"IF('S6'!$V$18=\"\",\"\",'S6'!$V$18)","v":""},{"$f":"IF('S6'!$W$18=\"\",\"\",'S6'!$W$18)","v":""},{"$f":"IF('S6'!$X$18=\"\",\"\",'S6'!$X$18)","v":""},{"$f":"IF('S6'!$Y$18=\"\",\"\",'S6'!$Y$18)","v":""},{"$f":"IF('S6'!$Z$18=\"\",\"\",'S6'!$Z$18)","v":""}]
[null,{"$f":"IF('S6'!$Q$18=\"\",\"\",\"erreicht\")","v":""},null,null,{"$f":"IF(VLOOKUP(B109,'S6'!$B$23:$Z$57,16,FALSE)=\"\",\"\",VLOOKUP(B109,'S6'!$B$23:$Z$57,16,FALSE))","v":""},{"$f":"IF(VLOOKUP(B109,'S6'!$B$23:$Z$57,17,FALSE)=\"\",\"\",VLOOKUP(B109,'S6'!$B$23:$Z$57,17,FALSE))","v":""},{"$f":"IF(VLOOKUP(B109,'S6'!$B$23:$Z$57,18,FALSE)=\"\",\"\",VLOOKUP(B109,'S6'!$B$23:$Z$57,18,FALSE))","v":""},{"$f":"IF(VLOOKUP(B109,'S6'!$B$23:$Z$57,19,FALSE)=\"\",\"\",VLOOKUP(B109,'S6'!$B$23:$Z$57,19,FALSE))","v":""},{"$f":"IF(VLOOKUP(B109,'S6'!$B$23:$Z$57,20,FALSE)=\"\",\"\",VLOOKUP(B109,'S6'!$B$23:$Z$57,20,FALSE))","v":""},{"$f":"IF(VLOOKUP(B109,'S6'!$B$23:$Z$57,21,FALSE)=\"\",\"\",VLOOKUP(B109,'S6'!$B$23:$Z$57,21,FALSE))","v":""},{"$f":"IF(VLOOKUP(B109,'S6'!$B$23:$Z$57,22,FALSE)=\"\",\"\",VLOOKUP(B109,'S6'!$B$23:$Z$57,22,FALSE))","v":""},{"$f":"IF(VLOOKUP(B109,'S6'!$B$23:$Z$57,23,FALSE)=\"\",\"\",VLOOKUP(B109,'S6'!$B$23:$Z$57,23,FALSE))","v":""},{"$f":"IF(VLOOKUP(B109,'S6'!$B$23:$Z$57,24,FALSE)=\"\",\"\",VLOOKUP(B109,'S6'!$B$23:$Z$57,24,FALSE))","v":""},{"$f":"IF(VLOOKUP(B109,'S6'!$B$23:$Z$57,25,FALSE)=\"\",\"\",VLOOKUP(B109,'S6'!$B$23:$Z$57,25,FALSE))","v":""},null,"Note",null,null,null,null,{"$f":"IF('S6'!$Q$18=\"\",\"\",\"erreicht\")","v":""},null,null,{"$f":"IF(VLOOKUP(U109,'S6'!$B$23:$Z$57,16,FALSE)=\"\",\"\",VLOOKUP(U109,'S6'!$B$23:$Z$57,16,FALSE))","v":""},{"$f":"IF(VLOOKUP(U109,'S6'!$B$23:$Z$57,17,FALSE)=\"\",\"\",VLOOKUP(U109,'S6'!$B$23:$Z$57,17,FALSE))","v":""},{"$f":"IF(VLOOKUP(U109,'S6'!$B$23:$Z$57,18,FALSE)=\"\",\"\",VLOOKUP(U109,'S6'!$B$23:$Z$57,18,FALSE))","v":""},{"$f":"IF(VLOOKUP(U109,'S6'!$B$23:$Z$57,19,FALSE)=\"\",\"\",VLOOKUP(U109,'S6'!$B$23:$Z$57,19,FALSE))","v":""},{"$f":"IF(VLOOKUP(U109,'S6'!$B$23:$Z$57,20,FALSE)=\"\",\"\",VLOOKUP(U109,'S6'!$B$23:$Z$57,20,FALSE))","v":""},{"$f":"IF(VLOOKUP(U109,'S6'!$B$23:$Z$57,21,FALSE)=\"\",\"\",VLOOKUP(U109,'S6'!$B$23:$Z$57,21,FALSE))","v":""},{"$f":"IF(VLOOKUP(U109,'S6'!$B$23:$Z$57,22,FALSE)=\"\",\"\",VLOOKUP(U109,'S6'!$B$23:$Z$57,22,FALSE))","v":""},{"$f":"IF(VLOOKUP(U109,'S6'!$B$23:$Z$57,23,FALSE)=\"\",\"\",VLOOKUP(U109,'S6'!$B$23:$Z$57,23,FALSE))","v":""},{"$f":"IF(VLOOKUP(U109,'S6'!$B$23:$Z$57,24,FALSE)=\"\",\"\",VLOOKUP(U109,'S6'!$B$23:$Z$57,24,FALSE))","v":""},{"$f":"IF(VLOOKUP(U109,'S6'!$B$23:$Z$57,25,FALSE)=\"\",\"\",VLOOKUP(U109,'S6'!$B$23:$Z$57,25,FALSE))","v":""},null,"Note"]
[null,{"$f":"IF('S6'!$Q$18=\"\",\"\",\"von\")","v":""},null,null,{"$f":"IF('S6'!$Q$21=\"\",\"\",'S6'!$Q$21)","v":""},{"$f":"IF('S6'!$R$21=\"\",\"\",'S6'!$R$21)","v":""},{"$f":"IF('S6'!$S$21=\"\",\"\",'S6'!$S$21)","v":""},{"$f":"IF('S6'!$T$21=\"\",\"\",'S6'!$T$21)","v":""},{"$f":"IF('S6'!$U$21=\"\",\"\",'S6'!$U$21)","v":""},{"$f":"IF('S6'!$V$21=\"\",\"\",'S6'!$V$21)","v":""},{"$f":"IF('S6'!$W$21=\"\",\"\",'S6'!$W$21)","v":""},{"$f":"IF('S6'!$X$21=\"\",\"\",'S6'!$X$21)","v":""},{"$f":"IF('S6'!$Y$21=\"\",\"\",'S6'!$Y$21)","v":""},{"$f":"IF('S6'!$Z$21=\"\",\"\",'S6'!$Z$21)","v":""},null,{"$f":"IF(VLOOKUP(B109,'S6'!$B$23:$Z$57,2,FALSE)=\"\",\"\",CONCATENATE(VLOOKUP(B109,'S6'!$B$23:$Z$57,2,FALSE),\" \",VLOOKUP(B109,'S6'!$B$23:$Z$57,3,FALSE)))","v":"- "},null,null,null,null,{"$f":"IF('S6'!$Q$18=\"\",\"\",\"von\")","v":""},null,null,{"$f":"IF('S6'!$Q$21=\"\",\"\",'S6'!$Q$21)","v":""},{"$f":"IF('S6'!$R$21=\"\",\"\",'S6'!$R$21)","v":""},{"$f":"IF('S6'!$S$21=\"\",\"\",'S6'!$S$21)","v":""},{"$f":"IF('S6'!$T$21=\"\",\"\",'S6'!$T$21)","v":""},{"$f":"IF('S6'!$U$21=\"\",\"\",'S6'!$U$21)","v":""},{"$f":"IF('S6'!$V$21=\"\",\"\",'S6'!$V$21)","v":""},{"$f":"IF('S6'!$W$21=\"\",\"\",'S6'!$W$21)","v":""},{"$f":"IF('S6'!$X$21=\"\",\"\",'S6'!$X$21)","v":""},{"$f":"IF('S6'!$Y$21=\"\",\"\",'S6'!$Y$21)","v":""},{"$f":"IF('S6'!$Z$21=\"\",\"\",'S6'!$Z$21)","v":""},null,{"$f":"IF(VLOOKUP(U109,'S6'!$B$23:$Z$57,2,FALSE)=\"\",\"\",CONCATENATE(VLOOKUP(U109,'S6'!$B$23:$Z$57,2,FALSE),\" \",VLOOKUP(U109,'S6'!$B$23:$Z$57,3,FALSE)))","v":"- "}]
[]
[]
[]
[null,{"$f":"'S6'!$B$43","v":""},null,null,null,null,null,null,null,null,null,null,null,null,null,null,null,null,null,null,{"$f":"'S6'!$B$44","v":""}]
[null,null,null,null,null,null,null,null,null,null,null,null,null,null,null,"Summe",null,null,null,null,null,null,null,null,null,null,null,null,null,null,null,null,null,null,"Summe"]
[null,"Aufgabe",null,null,{"$f":"IF('S6'!$G$18=\"\",\"\",'S6'!$G$18)","v":1},{"$f":"IF('S6'!$H$18=\"\",\"\",'S6'!$H$18)","v":2},{"$f":"IF('S6'!$I$18=\"\",\"\",'S6'!$I$18)","v":3},{"$f":"IF('S6'!$J$18=\"\",\"\",'S6'!$J$18)","v":""},{"$f":"IF('S6'!$K$18=\"\",\"\",'S6'!$K$18)","v":""},{"$f":"IF('S6'!$L$18=\"\",\"\",'S6'!$L$18)","v":""},{"$f":"IF('S6'!$M$18=\"\",\"\",'S6'!$M$18)","v":""},{"$f":"IF('S6'!$N$18=\"\",\"\",'S6'!$N$18)","v":""},{"$f":"IF('S6'!$O$18=\"\",\"\",'S6'!$O$18)","v":""},{"$f":"IF('S6'!$P$18=\"\",\"\",'S6'!$P$18)","v":""},null,{"$f":"IF(VLOOKUP(B121,'S6'!$B$23:$Z$57,5,FALSE)=\"\",\"\",VLOOKUP(B121,'S6'!$B$23:$Z$57,5,FALSE))","v":0},null,null,null,null,"Aufgabe",null,null,{"$f":"IF('S6'!$G$18=\"\",\"\",'S6'!$G$18)","v":1},{"$f":"IF('S6'!$H$18=\"\",\"\",'S6'!$H$18)","v":2},{"$f":"IF('S6'!$I$18=\"\",\"\",'S6'!$I$18)","v":3},{"$f":"IF('S6'!$J$18=\"\",\"\",'S6'!$J$18)","v":""},{"$f":"IF('S6'!$K$18=\"\",\"\",'S6'!$K$18)","v":""},{"$f":"IF('S6'!$L$18=\"\",\"\",'S6'!$L$18)","v":""},{"$f":"IF('S6'!$M$18=\"\",\"\",'S6'!$M$18)","v":""},{"$f":"IF('S6'!$N$18=\"\",\"\",'S6'!$N$18)","v":""},{"$f":"IF('S6'!$O$18=\"\",\"\",'S6'!$O$18)","v":""},{"$f":"IF('S6'!$P$18=\"\",\"\",'S6'!$P$18)","v":""},null,{"$f":"IF(VLOOKUP(U121,'S6'!$B$23:$Z$57,5,FALSE)=\"\",\"\",VLOOKUP(U121,'S6'!$B$23:$Z$57,5,FALSE))","v":0}]
[null,"erreicht",null,null,{"$f":"IF(VLOOKUP(B121,'S6'!$B$23:$Z$57,6,FALSE)=\"\",\"\",VLOOKUP(B121,'S6'!$B$23:$Z$57,6,FALSE))","v":"."},{"$f":"IF(VLOOKUP(B121,'S6'!$B$23:$Z$57,7,FALSE)=\"\",\"\",VLOOKUP(B121,'S6'!$B$23:$Z$57,7,FALSE))","v":""},{"$f":"IF(VLOOKUP(B121,'S6'!$B$23:$Z$57,8,FALSE)=\"\",\"\",VLOOKUP(B121,'S6'!$B$23:$Z$57,8,FALSE))","v":""},{"$f":"IF(VLOOKUP(B121,'S6'!$B$23:$Z$57,9,FALSE)=\"\",\"\",VLOOKUP(B121,'S6'!$B$23:$Z$57,9,FALSE))","v":""},{"$f":"IF(VLOOKUP(B121,'S6'!$B$23:$Z$57,10,FALSE)=\"\",\"\",VLOOKUP(B121,'S6'!$B$23:$Z$57,10,FALSE))","v":""},{"$f":"IF(VLOOKUP(B121,'S6'!$B$23:$Z$57,11,FALSE)=\"\",\"\",VLOOKUP(B121,'S6'!$B$23:$Z$57,11,FALSE))","v":""},{"$f":"IF(VLOOKUP(B121,'S6'!$B$23:$Z$57,12,FALSE)=\"\",\"\",VLOOKUP(B121,'S6'!$B$23:$Z$57,12,FALSE))","v":""},{"$f":"IF(VLOOKUP(B121,'S6'!$B$23:$Z$57,13,FALSE)=\"\",\"\",VLOOKUP(B121,'S6'!$B$23:$Z$57,13,FALSE))","v":""},{"$f":"IF(VLOOKUP(B121,'S6'!$B$23:$Z$57,14,FALSE)=\"\",\"\",VLOOKUP(B121,'S6'!$B$23:$Z$57,14,FALSE))","v":""},{"$f":"IF(VLOOKUP(B121,'S6'!$B$23:$Z$57,15,FALSE)=\"\",\"\",VLOOKUP(B121,'S6'!$B$23:$Z$57,15,FALSE))","v":""},null,null,null,null,null,null,"erreicht",null,null,{"$f":"IF(VLOOKUP(U121,'S6'!$B$23:$Z$57,6,FALSE)=\"\",\"\",VLOOKUP(U121,'S6'!$B$23:$Z$57,6,FALSE))","v":"."},{"$f":"IF(VLOOKUP(U121,'S6'!$B$23:$Z$57,7,FALSE)=\"\",\"\",VLOOKUP(U121,'S6'!$B$23:$Z$57,7,FALSE))","v":""},{"$f":"IF(VLOOKUP(U121,'S6'!$B$23:$Z$57,8,FALSE)=\"\",\"\",VLOOKUP(U121,'S6'!$B$23:$Z$57,8,FALSE))","v":""},{"$f":"IF(VLOOKUP(U121,'S6'!$B$23:$Z$57,9,FALSE)=\"\",\"\",VLOOKUP(U121,'S6'!$B$23:$Z$57,9,FALSE))","v":""},{"$f":"IF(VLOOKUP(U121,'S6'!$B$23:$Z$57,10,FALSE)=\"\",\"\",VLOOKUP(U121,'S6'!$B$23:$Z$57,10,FALSE))","v":""},{"$f":"IF(VLOOKUP(U121,'S6'!$B$23:$Z$57,11,FALSE)=\"\",\"\",VLOOKUP(U121,'S6'!$B$23:$Z$57,11,FALSE))","v":""},{"$f":"IF(VLOOKUP(U121,'S6'!$B$23:$Z$57,12,FALSE)=\"\",\"\",VLOOKUP(U121,'S6'!$B$23:$Z$57,12,FALSE))","v":""},{"$f":"IF(VLOOKUP(U121,'S6'!$B$23:$Z$57,13,FALSE)=\"\",\"\",VLOOKUP(U121,'S6'!$B$23:$Z$57,13,FALSE))","v":""},{"$f":"IF(VLOOKUP(U121,'S6'!$B$23:$Z$57,14,FALSE)=\"\",\"\",VLOOKUP(U121,'S6'!$B$23:$Z$57,14,FALSE))","v":""},{"$f":"IF(VLOOKUP(U121,'S6'!$B$23:$Z$57,15,FALSE)=\"\",\"\",VLOOKUP(U121,'S6'!$B$23:$Z$57,15,FALSE))","v":""}]
[null,"von",null,null,{"$f":"IF('S6'!$G$21=\"\",\"\",'S6'!$G$21)","v":""},{"$f":"IF('S6'!$H$21=\"\",\"\",'S6'!$H$21)","v":""},{"$f":"IF('S6'!$I$21=\"\",\"\",'S6'!$I$21)","v":""},{"$f":"IF('S6'!$J$21=\"\",\"\",'S6'!$J$21)","v":""},{"$f":"IF('S6'!$K$21=\"\",\"\",'S6'!$K$21)","v":""},{"$f":"IF('S6'!$L$21=\"\",\"\",'S6'!$L$21)","v":""},{"$f":"IF('S6'!$M$21=\"\",\"\",'S6'!$M$21)","v":""},{"$f":"IF('S6'!$N$21=\"\",\"\",'S6'!$N$21)","v":""},{"$f":"IF('S6'!$O$21=\"\",\"\",'S6'!$O$21)","v":""},{"$f":"IF('S6'!$P$21=\"\",\"\",'S6'!$P$21)","v":""},null,"von",null,null,null,null,"von",null,null,{"$f":"IF('S6'!$G$21=\"\",\"\",'S6'!$G$21)","v":""},{"$f":"IF('S6'!$H$21=\"\",\"\",'S6'!$H$21)","v":""},{"$f":"IF('S6'!$I$21=\"\",\"\",'S6'!$I$21)","v":""},{"$f":"IF('S6'!$J$21=\"\",\"\",'S6'!$J$21)","v":""},{"$f":"IF('S6'!$K$21=\"\",\"\",'S6'!$K$21)","v":""},{"$f":"IF('S6'!$L$21=\"\",\"\",'S6'!$L$21)","v":""},{"$f":"IF('S6'!$M$21=\"\",\"\",'S6'!$M$21)","v":""},{"$f":"IF('S6'!$N$21=\"\",\"\",'S6'!$N$21)","v":""},{"$f":"IF('S6'!$O$21=\"\",\"\",'S6'!$O$21)","v":""},{"$f":"IF('S6'!$P$21=\"\",\"\",'S6'!$P$21)","v":""},null,"von"]
[null,null,null,null,null,null,null,null,null,null,null,null,null,null,null,{"$f":"'S6'!$H$12","v":0},null,null,null,null,null,null,null,null,null,null,null,null,null,null,null,null,null,null,{"$f":"'S6'!$H$12","v":0}]
[null,{"$f":"IF('S6'!$Q$18=\"\",\"\",\"Aufgabe\")","v":""},null,null,{"$f":"IF('S6'!$Q$18=\"\",\"\",'S6'!$Q$18)","v":""},{"$f":"IF('S6'!$R$18=\"\",\"\",'S6'!$R$18)","v":""},{"$f":"IF('S6'!$S$18=\"\",\"\",'S6'!$S$18)","v":""},{"$f":"IF('S6'!$T$18=\"\",\"\",'S6'!$T$18)","v":""},{"$f":"IF('S6'!$U$18=\"\",\"\",'S6'!$U$18)","v":""},{"$f":"IF('S6'!$V$18=\"\",\"\",'S6'!$V$18)","v":""},{"$f":"IF('S6'!$W$18=\"\",\"\",'S6'!$W$18)","v":""},{"$f":"IF('S6'!$X$18=\"\",\"\",'S6'!$X$18)","v":""},{"$f":"IF('S6'!$Y$18=\"\",\"\",'S6'!$Y$18)","v":""},{"$f":"IF('S6'!$Z$18=\"\",\"\",'S6'!$Z$18)","v":""},null,null,null,null,null,null,{"$f":"IF('S6'!$Q$18=\"\",\"\",\"Aufgabe\")","v":""},null,null,{"$f":"IF('S6'!$Q$18=\"\",\"\",'S6'!$Q$18)","v":""},{"$f":"IF('S6'!$R$18=\"\",\"\",'S6'!$R$18)","v":""},{"$f":"IF('S6'!$S$18=\"\",\"\",'S6'!$S$18)","v":""},{"$f":"IF('S6'!$T$18=\"\",\"\",'S6'!$T$18)","v":""},{"$f":"IF('S6'!$U$18=\"\",\"\",'S6'!$U$18)","v":""},{"$f":"IF('S6'!$V$18=\"\",\"\",'S6'!$V$18)","v":""},{"$f":"IF('S6'!$W$18=\"\",\"\",'S6'!$W$18)","v":""},{"$f":"IF('S6'!$X$18=\"\",\"\",'S6'!$X$18)","v":""},{"$f":"IF('S6'!$Y$18=\"\",\"\",'S6'!$Y$18)","v":""},{"$f":"IF('S6'!$Z$18=\"\",\"\",'S6'!$Z$18)","v":""}]
[null,{"$f":"IF('S6'!$Q$18=\"\",\"\",\"erreicht\")","v":""},null,null,{"$f":"IF(VLOOKUP(B121,'S6'!$B$23:$Z$57,16,FALSE)=\"\",\"\",VLOOKUP(B121,'S6'!$B$23:$Z$57,16,FALSE))","v":""},{"$f":"IF(VLOOKUP(B121,'S6'!$B$23:$Z$57,17,FALSE)=\"\",\"\",VLOOKUP(B121,'S6'!$B$23:$Z$57,17,FALSE))","v":""},{"$f":"IF(VLOOKUP(B121,'S6'!$B$23:$Z$57,18,FALSE)=\"\",\"\",VLOOKUP(B121,'S6'!$B$23:$Z$57,18,FALSE))","v":""},{"$f":"IF(VLOOKUP(B121,'S6'!$B$23:$Z$57,19,FALSE)=\"\",\"\",VLOOKUP(B121,'S6'!$B$23:$Z$57,19,FALSE))","v":""},{"$f":"IF(VLOOKUP(B121,'S6'!$B$23:$Z$57,20,FALSE)=\"\",\"\",VLOOKUP(B121,'S6'!$B$23:$Z$57,20,FALSE))","v":""},{"$f":"IF(VLOOKUP(B121,'S6'!$B$23:$Z$57,21,FALSE)=\"\",\"\",VLOOKUP(B121,'S6'!$B$23:$Z$57,21,FALSE))","v":""},{"$f":"IF(VLOOKUP(B121,'S6'!$B$23:$Z$57,22,FALSE)=\"\",\"\",VLOOKUP(B121,'S6'!$B$23:$Z$57,22,FALSE))","v":""},{"$f":"IF(VLOOKUP(B121,'S6'!$B$23:$Z$57,23,FALSE)=\"\",\"\",VLOOKUP(B121,'S6'!$B$23:$Z$57,23,FALSE))","v":""},{"$f":"IF(VLOOKUP(B121,'S6'!$B$23:$Z$57,24,FALSE)=\"\",\"\",VLOOKUP(B121,'S6'!$B$23:$Z$57,24,FALSE))","v":""},{"$f":"IF(VLOOKUP(B121,'S6'!$B$23:$Z$57,25,FALSE)=\"\",\"\",VLOOKUP(B121,'S6'!$B$23:$Z$57,25,FALSE))","v":""},null,"Note",null,null,null,null,{"$f":"IF('S6'!$Q$18=\"\",\"\",\"erreicht\")","v":""},null,null,{"$f":"IF(VLOOKUP(U121,'S6'!$B$23:$Z$57,16,FALSE)=\"\",\"\",VLOOKUP(U121,'S6'!$B$23:$Z$57,16,FALSE))","v":""},{"$f":"IF(VLOOKUP(U121,'S6'!$B$23:$Z$57,17,FALSE)=\"\",\"\",VLOOKUP(U121,'S6'!$B$23:$Z$57,17,FALSE))","v":""},{"$f":"IF(VLOOKUP(U121,'S6'!$B$23:$Z$57,18,FALSE)=\"\",\"\",VLOOKUP(U121,'S6'!$B$23:$Z$57,18,FALSE))","v":""},{"$f":"IF(VLOOKUP(U121,'S6'!$B$23:$Z$57,19,FALSE)=\"\",\"\",VLOOKUP(U121,'S6'!$B$23:$Z$57,19,FALSE))","v":""},{"$f":"IF(VLOOKUP(U121,'S6'!$B$23:$Z$57,20,FALSE)=\"\",\"\",VLOOKUP(U121,'S6'!$B$23:$Z$57,20,FALSE))","v":""},{"$f":"IF(VLOOKUP(U121,'S6'!$B$23:$Z$57,21,FALSE)=\"\",\"\",VLOOKUP(U121,'S6'!$B$23:$Z$57,21,FALSE))","v":""},{"$f":"IF(VLOOKUP(U121,'S6'!$B$23:$Z$57,22,FALSE)=\"\",\"\",VLOOKUP(U121,'S6'!$B$23:$Z$57,22,FALSE))","v":""},{"$f":"IF(VLOOKUP(U121,'S6'!$B$23:$Z$57,23,FALSE)=\"\",\"\",VLOOKUP(U121,'S6'!$B$23:$Z$57,23,FALSE))","v":""},{"$f":"IF(VLOOKUP(U121,'S6'!$B$23:$Z$57,24,FALSE)=\"\",\"\",VLOOKUP(U121,'S6'!$B$23:$Z$57,24,FALSE))","v":""},{"$f":"IF(VLOOKUP(U121,'S6'!$B$23:$Z$57,25,FALSE)=\"\",\"\",VLOOKUP(U121,'S6'!$B$23:$Z$57,25,FALSE))","v":""},null,"Note"]
[null,{"$f":"IF('S6'!$Q$18=\"\",\"\",\"von\")","v":""},null,null,{"$f":"IF('S6'!$Q$21=\"\",\"\",'S6'!$Q$21)","v":""},{"$f":"IF('S6'!$R$21=\"\",\"\",'S6'!$R$21)","v":""},{"$f":"IF('S6'!$S$21=\"\",\"\",'S6'!$S$21)","v":""},{"$f":"IF('S6'!$T$21=\"\",\"\",'S6'!$T$21)","v":""},{"$f":"IF('S6'!$U$21=\"\",\"\",'S6'!$U$21)","v":""},{"$f":"IF('S6'!$V$21=\"\",\"\",'S6'!$V$21)","v":""},{"$f":"IF('S6'!$W$21=\"\",\"\",'S6'!$W$21)","v":""},{"$f":"IF('S6'!$X$21=\"\",\"\",'S6'!$X$21)","v":""},{"$f":"IF('S6'!$Y$21=\"\",\"\",'S6'!$Y$21)","v":""},{"$f":"IF('S6'!$Z$21=\"\",\"\",'S6'!$Z$21)","v":""},null,{"$f":"IF(VLOOKUP(B121,'S6'!$B$23:$Z$57,2,FALSE)=\"\",\"\",CONCATENATE(VLOOKUP(B121,'S6'!$B$23:$Z$57,2,FALSE),\" \",VLOOKUP(B121,'S6'!$B$23:$Z$57,3,FALSE)))","v":"- "},null,null,null,null,{"$f":"IF('S6'!$Q$18=\"\",\"\",\"von\")","v":""},null,null,{"$f":"IF('S6'!$Q$21=\"\",\"\",'S6'!$Q$21)","v":""},{"$f":"IF('S6'!$R$21=\"\",\"\",'S6'!$R$21)","v":""},{"$f":"IF('S6'!$S$21=\"\",\"\",'S6'!$S$21)","v":""},{"$f":"IF('S6'!$T$21=\"\",\"\",'S6'!$T$21)","v":""},{"$f":"IF('S6'!$U$21=\"\",\"\",'S6'!$U$21)","v":""},{"$f":"IF('S6'!$V$21=\"\",\"\",'S6'!$V$21)","v":""},{"$f":"IF('S6'!$W$21=\"\",\"\",'S6'!$W$21)","v":""},{"$f":"IF('S6'!$X$21=\"\",\"\",'S6'!$X$21)","v":""},{"$f":"IF('S6'!$Y$21=\"\",\"\",'S6'!$Y$21)","v":""},{"$f":"IF('S6'!$Z$21=\"\",\"\",'S6'!$Z$21)","v":""},null,{"$f":"IF(VLOOKUP(U121,'S6'!$B$23:$Z$57,2,FALSE)=\"\",\"\",CONCATENATE(VLOOKUP(U121,'S6'!$B$23:$Z$57,2,FALSE),\" \",VLOOKUP(U121,'S6'!$B$23:$Z$57,3,FALSE)))","v":"- "}]
[]
[]
[]
[null,{"$f":"'S6'!$B$45","v":""},null,null,null,null,null,null,null,null,null,null,null,null,null,null,null,null,null,null,{"$f":"'S6'!$B$46","v":""}]
[null,null,null,null,null,null,null,null,null,null,null,null,null,null,null,"Summe",null,null,null,null,null,null,null,null,null,null,null,null,null,null,null,null,null,null,"Summe"]
[null,"Aufgabe",null,null,{"$f":"IF('S6'!$G$18=\"\",\"\",'S6'!$G$18)","v":1},{"$f":"IF('S6'!$H$18=\"\",\"\",'S6'!$H$18)","v":2},{"$f":"IF('S6'!$I$18=\"\",\"\",'S6'!$I$18)","v":3},{"$f":"IF('S6'!$J$18=\"\",\"\",'S6'!$J$18)","v":""},{"$f":"IF('S6'!$K$18=\"\",\"\",'S6'!$K$18)","v":""},{"$f":"IF('S6'!$L$18=\"\",\"\",'S6'!$L$18)","v":""},{"$f":"IF('S6'!$M$18=\"\",\"\",'S6'!$M$18)","v":""},{"$f":"IF('S6'!$N$18=\"\",\"\",'S6'!$N$18)","v":""},{"$f":"IF('S6'!$O$18=\"\",\"\",'S6'!$O$18)","v":""},{"$f":"IF('S6'!$P$18=\"\",\"\",'S6'!$P$18)","v":""},null,{"$f":"IF(VLOOKUP(B133,'S6'!$B$23:$Z$57,5,FALSE)=\"\",\"\",VLOOKUP(B133,'S6'!$B$23:$Z$57,5,FALSE))","v":0},null,null,null,null,"Aufgabe",null,null,{"$f":"IF('S6'!$G$18=\"\",\"\",'S6'!$G$18)","v":1},{"$f":"IF('S6'!$H$18=\"\",\"\",'S6'!$H$18)","v":2},{"$f":"IF('S6'!$I$18=\"\",\"\",'S6'!$I$18)","v":3},{"$f":"IF('S6'!$J$18=\"\",\"\",'S6'!$J$18)","v":""},{"$f":"IF('S6'!$K$18=\"\",\"\",'S6'!$K$18)","v":""},{"$f":"IF('S6'!$L$18=\"\",\"\",'S6'!$L$18)","v":""},{"$f":"IF('S6'!$M$18=\"\",\"\",'S6'!$M$18)","v":""},{"$f":"IF('S6'!$N$18=\"\",\"\",'S6'!$N$18)","v":""},{"$f":"IF('S6'!$O$18=\"\",\"\",'S6'!$O$18)","v":""},{"$f":"IF('S6'!$P$18=\"\",\"\",'S6'!$P$18)","v":""},null,{"$f":"IF(VLOOKUP(U133,'S6'!$B$23:$Z$57,5,FALSE)=\"\",\"\",VLOOKUP(U133,'S6'!$B$23:$Z$57,5,FALSE))","v":0}]
[null,"erreicht",null,null,{"$f":"IF(VLOOKUP(B133,'S6'!$B$23:$Z$57,6,FALSE)=\"\",\"\",VLOOKUP(B133,'S6'!$B$23:$Z$57,6,FALSE))","v":"."},{"$f":"IF(VLOOKUP(B133,'S6'!$B$23:$Z$57,7,FALSE)=\"\",\"\",VLOOKUP(B133,'S6'!$B$23:$Z$57,7,FALSE))","v":""},{"$f":"IF(VLOOKUP(B133,'S6'!$B$23:$Z$57,8,FALSE)=\"\",\"\",VLOOKUP(B133,'S6'!$B$23:$Z$57,8,FALSE))","v":""},{"$f":"IF(VLOOKUP(B133,'S6'!$B$23:$Z$57,9,FALSE)=\"\",\"\",VLOOKUP(B133,'S6'!$B$23:$Z$57,9,FALSE))","v":""},{"$f":"IF(VLOOKUP(B133,'S6'!$B$23:$Z$57,10,FALSE)=\"\",\"\",VLOOKUP(B133,'S6'!$B$23:$Z$57,10,FALSE))","v":""},{"$f":"IF(VLOOKUP(B133,'S6'!$B$23:$Z$57,11,FALSE)=\"\",\"\",VLOOKUP(B133,'S6'!$B$23:$Z$57,11,FALSE))","v":""},{"$f":"IF(VLOOKUP(B133,'S6'!$B$23:$Z$57,12,FALSE)=\"\",\"\",VLOOKUP(B133,'S6'!$B$23:$Z$57,12,FALSE))","v":""},{"$f":"IF(VLOOKUP(B133,'S6'!$B$23:$Z$57,13,FALSE)=\"\",\"\",VLOOKUP(B133,'S6'!$B$23:$Z$57,13,FALSE))","v":""},{"$f":"IF(VLOOKUP(B133,'S6'!$B$23:$Z$57,14,FALSE)=\"\",\"\",VLOOKUP(B133,'S6'!$B$23:$Z$57,14,FALSE))","v":""},{"$f":"IF(VLOOKUP(B133,'S6'!$B$23:$Z$57,15,FALSE)=\"\",\"\",VLOOKUP(B133,'S6'!$B$23:$Z$57,15,FALSE))","v":""},null,null,null,null,null,null,"erreicht",null,null,{"$f":"IF(VLOOKUP(U133,'S6'!$B$23:$Z$57,6,FALSE)=\"\",\"\",VLOOKUP(U133,'S6'!$B$23:$Z$57,6,FALSE))","v":"."},{"$f":"IF(VLOOKUP(U133,'S6'!$B$23:$Z$57,7,FALSE)=\"\",\"\",VLOOKUP(U133,'S6'!$B$23:$Z$57,7,FALSE))","v":""},{"$f":"IF(VLOOKUP(U133,'S6'!$B$23:$Z$57,8,FALSE)=\"\",\"\",VLOOKUP(U133,'S6'!$B$23:$Z$57,8,FALSE))","v":""},{"$f":"IF(VLOOKUP(U133,'S6'!$B$23:$Z$57,9,FALSE)=\"\",\"\",VLOOKUP(U133,'S6'!$B$23:$Z$57,9,FALSE))","v":""},{"$f":"IF(VLOOKUP(U133,'S6'!$B$23:$Z$57,10,FALSE)=\"\",\"\",VLOOKUP(U133,'S6'!$B$23:$Z$57,10,FALSE))","v":""},{"$f":"IF(VLOOKUP(U133,'S6'!$B$23:$Z$57,11,FALSE)=\"\",\"\",VLOOKUP(U133,'S6'!$B$23:$Z$57,11,FALSE))","v":""},{"$f":"IF(VLOOKUP(U133,'S6'!$B$23:$Z$57,12,FALSE)=\"\",\"\",VLOOKUP(U133,'S6'!$B$23:$Z$57,12,FALSE))","v":""},{"$f":"IF(VLOOKUP(U133,'S6'!$B$23:$Z$57,13,FALSE)=\"\",\"\",VLOOKUP(U133,'S6'!$B$23:$Z$57,13,FALSE))","v":""},{"$f":"IF(VLOOKUP(U133,'S6'!$B$23:$Z$57,14,FALSE)=\"\",\"\",VLOOKUP(U133,'S6'!$B$23:$Z$57,14,FALSE))","v":""},{"$f":"IF(VLOOKUP(U133,'S6'!$B$23:$Z$57,15,FALSE)=\"\",\"\",VLOOKUP(U133,'S6'!$B$23:$Z$57,15,FALSE))","v":""}]
[null,"von",null,null,{"$f":"IF('S6'!$G$21=\"\",\"\",'S6'!$G$21)","v":""},{"$f":"IF('S6'!$H$21=\"\",\"\",'S6'!$H$21)","v":""},{"$f":"IF('S6'!$I$21=\"\",\"\",'S6'!$I$21)","v":""},{"$f":"IF('S6'!$J$21=\"\",\"\",'S6'!$J$21)","v":""},{"$f":"IF('S6'!$K$21=\"\",\"\",'S6'!$K$21)","v":""},{"$f":"IF('S6'!$L$21=\"\",\"\",'S6'!$L$21)","v":""},{"$f":"IF('S6'!$M$21=\"\",\"\",'S6'!$M$21)","v":""},{"$f":"IF('S6'!$N$21=\"\",\"\",'S6'!$N$21)","v":""},{"$f":"IF('S6'!$O$21=\"\",\"\",'S6'!$O$21)","v":""},{"$f":"IF('S6'!$P$21=\"\",\"\",'S6'!$P$21)","v":""},null,"von",null,null,null,null,"von",null,null,{"$f":"IF('S6'!$G$21=\"\",\"\",'S6'!$G$21)","v":""},{"$f":"IF('S6'!$H$21=\"\",\"\",'S6'!$H$21)","v":""},{"$f":"IF('S6'!$I$21=\"\",\"\",'S6'!$I$21)","v":""},{"$f":"IF('S6'!$J$21=\"\",\"\",'S6'!$J$21)","v":""},{"$f":"IF('S6'!$K$21=\"\",\"\",'S6'!$K$21)","v":""},{"$f":"IF('S6'!$L$21=\"\",\"\",'S6'!$L$21)","v":""},{"$f":"IF('S6'!$M$21=\"\",\"\",'S6'!$M$21)","v":""},{"$f":"IF('S6'!$N$21=\"\",\"\",'S6'!$N$21)","v":""},{"$f":"IF('S6'!$O$21=\"\",\"\",'S6'!$O$21)","v":""},{"$f":"IF('S6'!$P$21=\"\",\"\",'S6'!$P$21)","v":""},null,"von"]
[null,null,null,null,null,null,null,null,null,null,null,null,null,null,null,{"$f":"'S6'!$H$12","v":0},null,null,null,null,null,null,null,null,null,null,null,null,null,null,null,null,null,null,{"$f":"'S6'!$H$12","v":0}]
[null,{"$f":"IF('S6'!$Q$18=\"\",\"\",\"Aufgabe\")","v":""},null,null,{"$f":"IF('S6'!$Q$18=\"\",\"\",'S6'!$Q$18)","v":""},{"$f":"IF('S6'!$R$18=\"\",\"\",'S6'!$R$18)","v":""},{"$f":"IF('S6'!$S$18=\"\",\"\",'S6'!$S$18)","v":""},{"$f":"IF('S6'!$T$18=\"\",\"\",'S6'!$T$18)","v":""},{"$f":"IF('S6'!$U$18=\"\",\"\",'S6'!$U$18)","v":""},{"$f":"IF('S6'!$V$18=\"\",\"\",'S6'!$V$18)","v":""},{"$f":"IF('S6'!$W$18=\"\",\"\",'S6'!$W$18)","v":""},{"$f":"IF('S6'!$X$18=\"\",\"\",'S6'!$X$18)","v":""},{"$f":"IF('S6'!$Y$18=\"\",\"\",'S6'!$Y$18)","v":""},{"$f":"IF('S6'!$Z$18=\"\",\"\",'S6'!$Z$18)","v":""},null,null,null,null,null,null,{"$f":"IF('S6'!$Q$18=\"\",\"\",\"Aufgabe\")","v":""},null,null,{"$f":"IF('S6'!$Q$18=\"\",\"\",'S6'!$Q$18)","v":""},{"$f":"IF('S6'!$R$18=\"\",\"\",'S6'!$R$18)","v":""},{"$f":"IF('S6'!$S$18=\"\",\"\",'S6'!$S$18)","v":""},{"$f":"IF('S6'!$T$18=\"\",\"\",'S6'!$T$18)","v":""},{"$f":"IF('S6'!$U$18=\"\",\"\",'S6'!$U$18)","v":""},{"$f":"IF('S6'!$V$18=\"\",\"\",'S6'!$V$18)","v":""},{"$f":"IF('S6'!$W$18=\"\",\"\",'S6'!$W$18)","v":""},{"$f":"IF('S6'!$X$18=\"\",\"\",'S6'!$X$18)","v":""},{"$f":"IF('S6'!$Y$18=\"\",\"\",'S6'!$Y$18)","v":""},{"$f":"IF('S6'!$Z$18=\"\",\"\",'S6'!$Z$18)","v":""}]
[null,{"$f":"IF('S6'!$Q$18=\"\",\"\",\"erreicht\")","v":""},null,null,{"$f":"IF(VLOOKUP(B133,'S6'!$B$23:$Z$57,16,FALSE)=\"\",\"\",VLOOKUP(B133,'S6'!$B$23:$Z$57,16,FALSE))","v":""},{"$f":"IF(VLOOKUP(B133,'S6'!$B$23:$Z$57,17,FALSE)=\"\",\"\",VLOOKUP(B133,'S6'!$B$23:$Z$57,17,FALSE))","v":""},{"$f":"IF(VLOOKUP(B133,'S6'!$B$23:$Z$57,18,FALSE)=\"\",\"\",VLOOKUP(B133,'S6'!$B$23:$Z$57,18,FALSE))","v":""},{"$f":"IF(VLOOKUP(B133,'S6'!$B$23:$Z$57,19,FALSE)=\"\",\"\",VLOOKUP(B133,'S6'!$B$23:$Z$57,19,FALSE))","v":""},{"$f":"IF(VLOOKUP(B133,'S6'!$B$23:$Z$57,20,FALSE)=\"\",\"\",VLOOKUP(B133,'S6'!$B$23:$Z$57,20,FALSE))","v":""},{"$f":"IF(VLOOKUP(B133,'S6'!$B$23:$Z$57,21,FALSE)=\"\",\"\",VLOOKUP(B133,'S6'!$B$23:$Z$57,21,FALSE))","v":""},{"$f":"IF(VLOOKUP(B133,'S6'!$B$23:$Z$57,22,FALSE)=\"\",\"\",VLOOKUP(B133,'S6'!$B$23:$Z$57,22,FALSE))","v":""},{"$f":"IF(VLOOKUP(B133,'S6'!$B$23:$Z$57,23,FALSE)=\"\",\"\",VLOOKUP(B133,'S6'!$B$23:$Z$57,23,FALSE))","v":""},{"$f":"IF(VLOOKUP(B133,'S6'!$B$23:$Z$57,24,FALSE)=\"\",\"\",VLOOKUP(B133,'S6'!$B$23:$Z$57,24,FALSE))","v":""},{"$f":"IF(VLOOKUP(B133,'S6'!$B$23:$Z$57,25,FALSE)=\"\",\"\",VLOOKUP(B133,'S6'!$B$23:$Z$57,25,FALSE))","v":""},null,"Note",null,null,null,null,{"$f":"IF('S6'!$Q$18=\"\",\"\",\"erreicht\")","v":""},null,null,{"$f":"IF(VLOOKUP(U133,'S6'!$B$23:$Z$57,16,FALSE)=\"\",\"\",VLOOKUP(U133,'S6'!$B$23:$Z$57,16,FALSE))","v":""},{"$f":"IF(VLOOKUP(U133,'S6'!$B$23:$Z$57,17,FALSE)=\"\",\"\",VLOOKUP(U133,'S6'!$B$23:$Z$57,17,FALSE))","v":""},{"$f":"IF(VLOOKUP(U133,'S6'!$B$23:$Z$57,18,FALSE)=\"\",\"\",VLOOKUP(U133,'S6'!$B$23:$Z$57,18,FALSE))","v":""},{"$f":"IF(VLOOKUP(U133,'S6'!$B$23:$Z$57,19,FALSE)=\"\",\"\",VLOOKUP(U133,'S6'!$B$23:$Z$57,19,FALSE))","v":""},{"$f":"IF(VLOOKUP(U133,'S6'!$B$23:$Z$57,20,FALSE)=\"\",\"\",VLOOKUP(U133,'S6'!$B$23:$Z$57,20,FALSE))","v":""},{"$f":"IF(VLOOKUP(U133,'S6'!$B$23:$Z$57,21,FALSE)=\"\",\"\",VLOOKUP(U133,'S6'!$B$23:$Z$57,21,FALSE))","v":""},{"$f":"IF(VLOOKUP(U133,'S6'!$B$23:$Z$57,22,FALSE)=\"\",\"\",VLOOKUP(U133,'S6'!$B$23:$Z$57,22,FALSE))","v":""},{"$f":"IF(VLOOKUP(U133,'S6'!$B$23:$Z$57,23,FALSE)=\"\",\"\",VLOOKUP(U133,'S6'!$B$23:$Z$57,23,FALSE))","v":""},{"$f":"IF(VLOOKUP(U133,'S6'!$B$23:$Z$57,24,FALSE)=\"\",\"\",VLOOKUP(U133,'S6'!$B$23:$Z$57,24,FALSE))","v":""},{"$f":"IF(VLOOKUP(U133,'S6'!$B$23:$Z$57,25,FALSE)=\"\",\"\",VLOOKUP(U133,'S6'!$B$23:$Z$57,25,FALSE))","v":""},null,"Note"]
[null,{"$f":"IF('S6'!$Q$18=\"\",\"\",\"von\")","v":""},null,null,{"$f":"IF('S6'!$Q$21=\"\",\"\",'S6'!$Q$21)","v":""},{"$f":"IF('S6'!$R$21=\"\",\"\",'S6'!$R$21)","v":""},{"$f":"IF('S6'!$S$21=\"\",\"\",'S6'!$S$21)","v":""},{"$f":"IF('S6'!$T$21=\"\",\"\",'S6'!$T$21)","v":""},{"$f":"IF('S6'!$U$21=\"\",\"\",'S6'!$U$21)","v":""},{"$f":"IF('S6'!$V$21=\"\",\"\",'S6'!$V$21)","v":""},{"$f":"IF('S6'!$W$21=\"\",\"\",'S6'!$W$21)","v":""},{"$f":"IF('S6'!$X$21=\"\",\"\",'S6'!$X$21)","v":""},{"$f":"IF('S6'!$Y$21=\"\",\"\",'S6'!$Y$21)","v":""},{"$f":"IF('S6'!$Z$21=\"\",\"\",'S6'!$Z$21)","v":""},null,{"$f":"IF(VLOOKUP(B133,'S6'!$B$23:$Z$57,2,FALSE)=\"\",\"\",CONCATENATE(VLOOKUP(B133,'S6'!$B$23:$Z$57,2,FALSE),\" \",VLOOKUP(B133,'S6'!$B$23:$Z$57,3,FALSE)))","v":"- "},null,null,null,null,{"$f":"IF('S6'!$Q$18=\"\",\"\",\"von\")","v":""},null,null,{"$f":"IF('S6'!$Q$21=\"\",\"\",'S6'!$Q$21)","v":""},{"$f":"IF('S6'!$R$21=\"\",\"\",'S6'!$R$21)","v":""},{"$f":"IF('S6'!$S$21=\"\",\"\",'S6'!$S$21)","v":""},{"$f":"IF('S6'!$T$21=\"\",\"\",'S6'!$T$21)","v":""},{"$f":"IF('S6'!$U$21=\"\",\"\",'S6'!$U$21)","v":""},{"$f":"IF('S6'!$V$21=\"\",\"\",'S6'!$V$21)","v":""},{"$f":"IF('S6'!$W$21=\"\",\"\",'S6'!$W$21)","v":""},{"$f":"IF('S6'!$X$21=\"\",\"\",'S6'!$X$21)","v":""},{"$f":"IF('S6'!$Y$21=\"\",\"\",'S6'!$Y$21)","v":""},{"$f":"IF('S6'!$Z$21=\"\",\"\",'S6'!$Z$21)","v":""},null,{"$f":"IF(VLOOKUP(U133,'S6'!$B$23:$Z$57,2,FALSE)=\"\",\"\",CONCATENATE(VLOOKUP(U133,'S6'!$B$23:$Z$57,2,FALSE),\" \",VLOOKUP(U133,'S6'!$B$23:$Z$57,3,FALSE)))","v":"- "}]
[]
[]
[null,{"$f":"'S6'!$B$47","v":""},null,null,null,null,null,null,null,null,null,null,null,null,null,null,null,null,null,null,{"$f":"'S6'!$B$48","v":""}]
[null,null,null,null,null,null,null,null,null,null,null,null,null,null,null,"Summe",null,null,null,null,null,null,null,null,null,null,null,null,null,null,null,null,null,null,"Summe"]
[null,"Aufgabe",null,null,{"$f":"IF('S6'!$G$18=\"\",\"\",'S6'!$G$18)","v":1},{"$f":"IF('S6'!$H$18=\"\",\"\",'S6'!$H$18)","v":2},{"$f":"IF('S6'!$I$18=\"\",\"\",'S6'!$I$18)","v":3},{"$f":"IF('S6'!$J$18=\"\",\"\",'S6'!$J$18)","v":""},{"$f":"IF('S6'!$K$18=\"\",\"\",'S6'!$K$18)","v":""},{"$f":"IF('S6'!$L$18=\"\",\"\",'S6'!$L$18)","v":""},{"$f":"IF('S6'!$M$18=\"\",\"\",'S6'!$M$18)","v":""},{"$f":"IF('S6'!$N$18=\"\",\"\",'S6'!$N$18)","v":""},{"$f":"IF('S6'!$O$18=\"\",\"\",'S6'!$O$18)","v":""},{"$f":"IF('S6'!$P$18=\"\",\"\",'S6'!$P$18)","v":""},null,{"$f":"IF(VLOOKUP(B144,'S6'!$B$23:$Z$57,5,FALSE)=\"\",\"\",VLOOKUP(B144,'S6'!$B$23:$Z$57,5,FALSE))","v":0},null,null,null,null,"Aufgabe",null,null,{"$f":"IF('S6'!$G$18=\"\",\"\",'S6'!$G$18)","v":1},{"$f":"IF('S6'!$H$18=\"\",\"\",'S6'!$H$18)","v":2},{"$f":"IF('S6'!$I$18=\"\",\"\",'S6'!$I$18)","v":3},{"$f":"IF('S6'!$J$18=\"\",\"\",'S6'!$J$18)","v":""},{"$f":"IF('S6'!$K$18=\"\",\"\",'S6'!$K$18)","v":""},{"$f":"IF('S6'!$L$18=\"\",\"\",'S6'!$L$18)","v":""},{"$f":"IF('S6'!$M$18=\"\",\"\",'S6'!$M$18)","v":""},{"$f":"IF('S6'!$N$18=\"\",\"\",'S6'!$N$18)","v":""},{"$f":"IF('S6'!$O$18=\"\",\"\",'S6'!$O$18)","v":""},{"$f":"IF('S6'!$P$18=\"\",\"\",'S6'!$P$18)","v":""},null,{"$f":"IF(VLOOKUP(U144,'S6'!$B$23:$Z$57,5,FALSE)=\"\",\"\",VLOOKUP(U144,'S6'!$B$23:$Z$57,5,FALSE))","v":0}]
[null,"erreicht",null,null,{"$f":"IF(VLOOKUP(B144,'S6'!$B$23:$Z$57,6,FALSE)=\"\",\"\",VLOOKUP(B144,'S6'!$B$23:$Z$57,6,FALSE))","v":"."},{"$f":"IF(VLOOKUP(B144,'S6'!$B$23:$Z$57,7,FALSE)=\"\",\"\",VLOOKUP(B144,'S6'!$B$23:$Z$57,7,FALSE))","v":""},{"$f":"IF(VLOOKUP(B144,'S6'!$B$23:$Z$57,8,FALSE)=\"\",\"\",VLOOKUP(B144,'S6'!$B$23:$Z$57,8,FALSE))","v":""},{"$f":"IF(VLOOKUP(B144,'S6'!$B$23:$Z$57,9,FALSE)=\"\",\"\",VLOOKUP(B144,'S6'!$B$23:$Z$57,9,FALSE))","v":""},{"$f":"IF(VLOOKUP(B144,'S6'!$B$23:$Z$57,10,FALSE)=\"\",\"\",VLOOKUP(B144,'S6'!$B$23:$Z$57,10,FALSE))","v":""},{"$f":"IF(VLOOKUP(B144,'S6'!$B$23:$Z$57,11,FALSE)=\"\",\"\",VLOOKUP(B144,'S6'!$B$23:$Z$57,11,FALSE))","v":""},{"$f":"IF(VLOOKUP(B144,'S6'!$B$23:$Z$57,12,FALSE)=\"\",\"\",VLOOKUP(B144,'S6'!$B$23:$Z$57,12,FALSE))","v":""},{"$f":"IF(VLOOKUP(B144,'S6'!$B$23:$Z$57,13,FALSE)=\"\",\"\",VLOOKUP(B144,'S6'!$B$23:$Z$57,13,FALSE))","v":""},{"$f":"IF(VLOOKUP(B144,'S6'!$B$23:$Z$57,14,FALSE)=\"\",\"\",VLOOKUP(B144,'S6'!$B$23:$Z$57,14,FALSE))","v":""},{"$f":"IF(VLOOKUP(B144,'S6'!$B$23:$Z$57,15,FALSE)=\"\",\"\",VLOOKUP(B144,'S6'!$B$23:$Z$57,15,FALSE))","v":""},null,null,null,null,null,null,"erreicht",null,null,{"$f":"IF(VLOOKUP(U144,'S6'!$B$23:$Z$57,6,FALSE)=\"\",\"\",VLOOKUP(U144,'S6'!$B$23:$Z$57,6,FALSE))","v":"."},{"$f":"IF(VLOOKUP(U144,'S6'!$B$23:$Z$57,7,FALSE)=\"\",\"\",VLOOKUP(U144,'S6'!$B$23:$Z$57,7,FALSE))","v":""},{"$f":"IF(VLOOKUP(U144,'S6'!$B$23:$Z$57,8,FALSE)=\"\",\"\",VLOOKUP(U144,'S6'!$B$23:$Z$57,8,FALSE))","v":""},{"$f":"IF(VLOOKUP(U144,'S6'!$B$23:$Z$57,9,FALSE)=\"\",\"\",VLOOKUP(U144,'S6'!$B$23:$Z$57,9,FALSE))","v":""},{"$f":"IF(VLOOKUP(U144,'S6'!$B$23:$Z$57,10,FALSE)=\"\",\"\",VLOOKUP(U144,'S6'!$B$23:$Z$57,10,FALSE))","v":""},{"$f":"IF(VLOOKUP(U144,'S6'!$B$23:$Z$57,11,FALSE)=\"\",\"\",VLOOKUP(U144,'S6'!$B$23:$Z$57,11,FALSE))","v":""},{"$f":"IF(VLOOKUP(U144,'S6'!$B$23:$Z$57,12,FALSE)=\"\",\"\",VLOOKUP(U144,'S6'!$B$23:$Z$57,12,FALSE))","v":""},{"$f":"IF(VLOOKUP(U144,'S6'!$B$23:$Z$57,13,FALSE)=\"\",\"\",VLOOKUP(U144,'S6'!$B$23:$Z$57,13,FALSE))","v":""},{"$f":"IF(VLOOKUP(U144,'S6'!$B$23:$Z$57,14,FALSE)=\"\",\"\",VLOOKUP(U144,'S6'!$B$23:$Z$57,14,FALSE))","v":""},{"$f":"IF(VLOOKUP(U144,'S6'!$B$23:$Z$57,15,FALSE)=\"\",\"\",VLOOKUP(U144,'S6'!$B$23:$Z$57,15,FALSE))","v":""}]
[null,"von",null,null,{"$f":"IF('S6'!$G$21=\"\",\"\",'S6'!$G$21)","v":""},{"$f":"IF('S6'!$H$21=\"\",\"\",'S6'!$H$21)","v":""},{"$f":"IF('S6'!$I$21=\"\",\"\",'S6'!$I$21)","v":""},{"$f":"IF('S6'!$J$21=\"\",\"\",'S6'!$J$21)","v":""},{"$f":"IF('S6'!$K$21=\"\",\"\",'S6'!$K$21)","v":""},{"$f":"IF('S6'!$L$21=\"\",\"\",'S6'!$L$21)","v":""},{"$f":"IF('S6'!$M$21=\"\",\"\",'S6'!$M$21)","v":""},{"$f":"IF('S6'!$N$21=\"\",\"\",'S6'!$N$21)","v":""},{"$f":"IF('S6'!$O$21=\"\",\"\",'S6'!$O$21)","v":""},{"$f":"IF('S6'!$P$21=\"\",\"\",'S6'!$P$21)","v":""},null,"von",null,null,null,null,"von",null,null,{"$f":"IF('S6'!$G$21=\"\",\"\",'S6'!$G$21)","v":""},{"$f":"IF('S6'!$H$21=\"\",\"\",'S6'!$H$21)","v":""},{"$f":"IF('S6'!$I$21=\"\",\"\",'S6'!$I$21)","v":""},{"$f":"IF('S6'!$J$21=\"\",\"\",'S6'!$J$21)","v":""},{"$f":"IF('S6'!$K$21=\"\",\"\",'S6'!$K$21)","v":""},{"$f":"IF('S6'!$L$21=\"\",\"\",'S6'!$L$21)","v":""},{"$f":"IF('S6'!$M$21=\"\",\"\",'S6'!$M$21)","v":""},{"$f":"IF('S6'!$N$21=\"\",\"\",'S6'!$N$21)","v":""},{"$f":"IF('S6'!$O$21=\"\",\"\",'S6'!$O$21)","v":""},{"$f":"IF('S6'!$P$21=\"\",\"\",'S6'!$P$21)","v":""},null,"von"]
[null,null,null,null,null,null,null,null,null,null,null,null,null,null,null,{"$f":"'S6'!$H$12","v":0},null,null,null,null,null,null,null,null,null,null,null,null,null,null,null,null,null,null,{"$f":"'S6'!$H$12","v":0}]
[null,{"$f":"IF('S6'!$Q$18=\"\",\"\",\"Aufgabe\")","v":""},null,null,{"$f":"IF('S6'!$Q$18=\"\",\"\",'S6'!$Q$18)","v":""},{"$f":"IF('S6'!$R$18=\"\",\"\",'S6'!$R$18)","v":""},{"$f":"IF('S6'!$S$18=\"\",\"\",'S6'!$S$18)","v":""},{"$f":"IF('S6'!$T$18=\"\",\"\",'S6'!$T$18)","v":""},{"$f":"IF('S6'!$U$18=\"\",\"\",'S6'!$U$18)","v":""},{"$f":"IF('S6'!$V$18=\"\",\"\",'S6'!$V$18)","v":""},{"$f":"IF('S6'!$W$18=\"\",\"\",'S6'!$W$18)","v":""},{"$f":"IF('S6'!$X$18=\"\",\"\",'S6'!$X$18)","v":""},{"$f":"IF('S6'!$Y$18=\"\",\"\",'S6'!$Y$18)","v":""},{"$f":"IF('S6'!$Z$18=\"\",\"\",'S6'!$Z$18)","v":""},null,null,null,null,null,null,{"$f":"IF('S6'!$Q$18=\"\",\"\",\"Aufgabe\")","v":""},null,null,{"$f":"IF('S6'!$Q$18=\"\",\"\",'S6'!$Q$18)","v":""},{"$f":"IF('S6'!$R$18=\"\",\"\",'S6'!$R$18)","v":""},{"$f":"IF('S6'!$S$18=\"\",\"\",'S6'!$S$18)","v":""},{"$f":"IF('S6'!$T$18=\"\",\"\",'S6'!$T$18)","v":""},{"$f":"IF('S6'!$U$18=\"\",\"\",'S6'!$U$18)","v":""},{"$f":"IF('S6'!$V$18=\"\",\"\",'S6'!$V$18)","v":""},{"$f":"IF('S6'!$W$18=\"\",\"\",'S6'!$W$18)","v":""},{"$f":"IF('S6'!$X$18=\"\",\"\",'S6'!$X$18)","v":""},{"$f":"IF('S6'!$Y$18=\"\",\"\",'S6'!$Y$18)","v":""},{"$f":"IF('S6'!$Z$18=\"\",\"\",'S6'!$Z$18)","v":""}]
[null,{"$f":"IF('S6'!$Q$18=\"\",\"\",\"erreicht\")","v":""},null,null,{"$f":"IF(VLOOKUP(B144,'S6'!$B$23:$Z$57,16,FALSE)=\"\",\"\",VLOOKUP(B144,'S6'!$B$23:$Z$57,16,FALSE))","v":""},{"$f":"IF(VLOOKUP(B144,'S6'!$B$23:$Z$57,17,FALSE)=\"\",\"\",VLOOKUP(B144,'S6'!$B$23:$Z$57,17,FALSE))","v":""},{"$f":"IF(VLOOKUP(B144,'S6'!$B$23:$Z$57,18,FALSE)=\"\",\"\",VLOOKUP(B144,'S6'!$B$23:$Z$57,18,FALSE))","v":""},{"$f":"IF(VLOOKUP(B144,'S6'!$B$23:$Z$57,19,FALSE)=\"\",\"\",VLOOKUP(B144,'S6'!$B$23:$Z$57,19,FALSE))","v":""},{"$f":"IF(VLOOKUP(B144,'S6'!$B$23:$Z$57,20,FALSE)=\"\",\"\",VLOOKUP(B144,'S6'!$B$23:$Z$57,20,FALSE))","v":""},{"$f":"IF(VLOOKUP(B144,'S6'!$B$23:$Z$57,21,FALSE)=\"\",\"\",VLOOKUP(B144,'S6'!$B$23:$Z$57,21,FALSE))","v":""},{"$f":"IF(VLOOKUP(B144,'S6'!$B$23:$Z$57,22,FALSE)=\"\",\"\",VLOOKUP(B144,'S6'!$B$23:$Z$57,22,FALSE))","v":""},{"$f":"IF(VLOOKUP(B144,'S6'!$B$23:$Z$57,23,FALSE)=\"\",\"\",VLOOKUP(B144,'S6'!$B$23:$Z$57,23,FALSE))","v":""},{"$f":"IF(VLOOKUP(B144,'S6'!$B$23:$Z$57,24,FALSE)=\"\",\"\",VLOOKUP(B144,'S6'!$B$23:$Z$57,24,FALSE))","v":""},{"$f":"IF(VLOOKUP(B144,'S6'!$B$23:$Z$57,25,FALSE)=\"\",\"\",VLOOKUP(B144,'S6'!$B$23:$Z$57,25,FALSE))","v":""},null,"Note",null,null,null,null,{"$f":"IF('S6'!$Q$18=\"\",\"\",\"erreicht\")","v":""},null,null,{"$f":"IF(VLOOKUP(U144,'S6'!$B$23:$Z$57,16,FALSE)=\"\",\"\",VLOOKUP(U144,'S6'!$B$23:$Z$57,16,FALSE))","v":""},{"$f":"IF(VLOOKUP(U144,'S6'!$B$23:$Z$57,17,FALSE)=\"\",\"\",VLOOKUP(U144,'S6'!$B$23:$Z$57,17,FALSE))","v":""},{"$f":"IF(VLOOKUP(U144,'S6'!$B$23:$Z$57,18,FALSE)=\"\",\"\",VLOOKUP(U144,'S6'!$B$23:$Z$57,18,FALSE))","v":""},{"$f":"IF(VLOOKUP(U144,'S6'!$B$23:$Z$57,19,FALSE)=\"\",\"\",VLOOKUP(U144,'S6'!$B$23:$Z$57,19,FALSE))","v":""},{"$f":"IF(VLOOKUP(U144,'S6'!$B$23:$Z$57,20,FALSE)=\"\",\"\",VLOOKUP(U144,'S6'!$B$23:$Z$57,20,FALSE))","v":""},{"$f":"IF(VLOOKUP(U144,'S6'!$B$23:$Z$57,21,FALSE)=\"\",\"\",VLOOKUP(U144,'S6'!$B$23:$Z$57,21,FALSE))","v":""},{"$f":"IF(VLOOKUP(U144,'S6'!$B$23:$Z$57,22,FALSE)=\"\",\"\",VLOOKUP(U144,'S6'!$B$23:$Z$57,22,FALSE))","v":""},{"$f":"IF(VLOOKUP(U144,'S6'!$B$23:$Z$57,23,FALSE)=\"\",\"\",VLOOKUP(U144,'S6'!$B$23:$Z$57,23,FALSE))","v":""},{"$f":"IF(VLOOKUP(U144,'S6'!$B$23:$Z$57,24,FALSE)=\"\",\"\",VLOOKUP(U144,'S6'!$B$23:$Z$57,24,FALSE))","v":""},{"$f":"IF(VLOOKUP(U144,'S6'!$B$23:$Z$57,25,FALSE)=\"\",\"\",VLOOKUP(U144,'S6'!$B$23:$Z$57,25,FALSE))","v":""},null,"Note"]
[null,{"$f":"IF('S6'!$Q$18=\"\",\"\",\"von\")","v":""},null,null,{"$f":"IF('S6'!$Q$21=\"\",\"\",'S6'!$Q$21)","v":""},{"$f":"IF('S6'!$R$21=\"\",\"\",'S6'!$R$21)","v":""},{"$f":"IF('S6'!$S$21=\"\",\"\",'S6'!$S$21)","v":""},{"$f":"IF('S6'!$T$21=\"\",\"\",'S6'!$T$21)","v":""},{"$f":"IF('S6'!$U$21=\"\",\"\",'S6'!$U$21)","v":""},{"$f":"IF('S6'!$V$21=\"\",\"\",'S6'!$V$21)","v":""},{"$f":"IF('S6'!$W$21=\"\",\"\",'S6'!$W$21)","v":""},{"$f":"IF('S6'!$X$21=\"\",\"\",'S6'!$X$21)","v":""},{"$f":"IF('S6'!$Y$21=\"\",\"\",'S6'!$Y$21)","v":""},{"$f":"IF('S6'!$Z$21=\"\",\"\",'S6'!$Z$21)","v":""},null,{"$f":"IF(VLOOKUP(B144,'S6'!$B$23:$Z$57,2,FALSE)=\"\",\"\",CONCATENATE(VLOOKUP(B144,'S6'!$B$23:$Z$57,2,FALSE),\" \",VLOOKUP(B144,'S6'!$B$23:$Z$57,3,FALSE)))","v":"- "},null,null,null,null,{"$f":"IF('S6'!$Q$18=\"\",\"\",\"von\")","v":""},null,null,{"$f":"IF('S6'!$Q$21=\"\",\"\",'S6'!$Q$21)","v":""},{"$f":"IF('S6'!$R$21=\"\",\"\",'S6'!$R$21)","v":""},{"$f":"IF('S6'!$S$21=\"\",\"\",'S6'!$S$21)","v":""},{"$f":"IF('S6'!$T$21=\"\",\"\",'S6'!$T$21)","v":""},{"$f":"IF('S6'!$U$21=\"\",\"\",'S6'!$U$21)","v":""},{"$f":"IF('S6'!$V$21=\"\",\"\",'S6'!$V$21)","v":""},{"$f":"IF('S6'!$W$21=\"\",\"\",'S6'!$W$21)","v":""},{"$f":"IF('S6'!$X$21=\"\",\"\",'S6'!$X$21)","v":""},{"$f":"IF('S6'!$Y$21=\"\",\"\",'S6'!$Y$21)","v":""},{"$f":"IF('S6'!$Z$21=\"\",\"\",'S6'!$Z$21)","v":""},null,{"$f":"IF(VLOOKUP(U144,'S6'!$B$23:$Z$57,2,FALSE)=\"\",\"\",CONCATENATE(VLOOKUP(U144,'S6'!$B$23:$Z$57,2,FALSE),\" \",VLOOKUP(U144,'S6'!$B$23:$Z$57,3,FALSE)))","v":"- "}]
[]
[]
[]
[null,{"$f":"'S6'!$B$49","v":""},null,null,null,null,null,null,null,null,null,null,null,null,null,null,null,null,null,null,{"$f":"'S6'!$B$50","v":""}]
[null,null,null,null,null,null,null,null,null,null,null,null,null,null,null,"Summe",null,null,null,null,null,null,null,null,null,null,null,null,null,null,null,null,null,null,"Summe"]
[null,"Aufgabe",null,null,{"$f":"IF('S6'!$G$18=\"\",\"\",'S6'!$G$18)","v":1},{"$f":"IF('S6'!$H$18=\"\",\"\",'S6'!$H$18)","v":2},{"$f":"IF('S6'!$I$18=\"\",\"\",'S6'!$I$18)","v":3},{"$f":"IF('S6'!$J$18=\"\",\"\",'S6'!$J$18)","v":""},{"$f":"IF('S6'!$K$18=\"\",\"\",'S6'!$K$18)","v":""},{"$f":"IF('S6'!$L$18=\"\",\"\",'S6'!$L$18)","v":""},{"$f":"IF('S6'!$M$18=\"\",\"\",'S6'!$M$18)","v":""},{"$f":"IF('S6'!$N$18=\"\",\"\",'S6'!$N$18)","v":""},{"$f":"IF('S6'!$O$18=\"\",\"\",'S6'!$O$18)","v":""},{"$f":"IF('S6'!$P$18=\"\",\"\",'S6'!$P$18)","v":""},null,{"$f":"IF(VLOOKUP(B156,'S6'!$B$23:$Z$57,5,FALSE)=\"\",\"\",VLOOKUP(B156,'S6'!$B$23:$Z$57,5,FALSE))","v":0},null,null,null,null,"Aufgabe",null,null,{"$f":"IF('S6'!$G$18=\"\",\"\",'S6'!$G$18)","v":1},{"$f":"IF('S6'!$H$18=\"\",\"\",'S6'!$H$18)","v":2},{"$f":"IF('S6'!$I$18=\"\",\"\",'S6'!$I$18)","v":3},{"$f":"IF('S6'!$J$18=\"\",\"\",'S6'!$J$18)","v":""},{"$f":"IF('S6'!$K$18=\"\",\"\",'S6'!$K$18)","v":""},{"$f":"IF('S6'!$L$18=\"\",\"\",'S6'!$L$18)","v":""},{"$f":"IF('S6'!$M$18=\"\",\"\",'S6'!$M$18)","v":""},{"$f":"IF('S6'!$N$18=\"\",\"\",'S6'!$N$18)","v":""},{"$f":"IF('S6'!$O$18=\"\",\"\",'S6'!$O$18)","v":""},{"$f":"IF('S6'!$P$18=\"\",\"\",'S6'!$P$18)","v":""},null,{"$f":"IF(VLOOKUP(U156,'S6'!$B$23:$Z$57,5,FALSE)=\"\",\"\",VLOOKUP(U156,'S6'!$B$23:$Z$57,5,FALSE))","v":0}]
[null,"erreicht",null,null,{"$f":"IF(VLOOKUP(B156,'S6'!$B$23:$Z$57,6,FALSE)=\"\",\"\",VLOOKUP(B156,'S6'!$B$23:$Z$57,6,FALSE))","v":"."},{"$f":"IF(VLOOKUP(B156,'S6'!$B$23:$Z$57,7,FALSE)=\"\",\"\",VLOOKUP(B156,'S6'!$B$23:$Z$57,7,FALSE))","v":""},{"$f":"IF(VLOOKUP(B156,'S6'!$B$23:$Z$57,8,FALSE)=\"\",\"\",VLOOKUP(B156,'S6'!$B$23:$Z$57,8,FALSE))","v":""},{"$f":"IF(VLOOKUP(B156,'S6'!$B$23:$Z$57,9,FALSE)=\"\",\"\",VLOOKUP(B156,'S6'!$B$23:$Z$57,9,FALSE))","v":""},{"$f":"IF(VLOOKUP(B156,'S6'!$B$23:$Z$57,10,FALSE)=\"\",\"\",VLOOKUP(B156,'S6'!$B$23:$Z$57,10,FALSE))","v":""},{"$f":"IF(VLOOKUP(B156,'S6'!$B$23:$Z$57,11,FALSE)=\"\",\"\",VLOOKUP(B156,'S6'!$B$23:$Z$57,11,FALSE))","v":""},{"$f":"IF(VLOOKUP(B156,'S6'!$B$23:$Z$57,12,FALSE)=\"\",\"\",VLOOKUP(B156,'S6'!$B$23:$Z$57,12,FALSE))","v":""},{"$f":"IF(VLOOKUP(B156,'S6'!$B$23:$Z$57,13,FALSE)=\"\",\"\",VLOOKUP(B156,'S6'!$B$23:$Z$57,13,FALSE))","v":""},{"$f":"IF(VLOOKUP(B156,'S6'!$B$23:$Z$57,14,FALSE)=\"\",\"\",VLOOKUP(B156,'S6'!$B$23:$Z$57,14,FALSE))","v":""},{"$f":"IF(VLOOKUP(B156,'S6'!$B$23:$Z$57,15,FALSE)=\"\",\"\",VLOOKUP(B156,'S6'!$B$23:$Z$57,15,FALSE))","v":""},null,null,null,null,null,null,"erreicht",null,null,{"$f":"IF(VLOOKUP(U156,'S6'!$B$23:$Z$57,6,FALSE)=\"\",\"\",VLOOKUP(U156,'S6'!$B$23:$Z$57,6,FALSE))","v":"."},{"$f":"IF(VLOOKUP(U156,'S6'!$B$23:$Z$57,7,FALSE)=\"\",\"\",VLOOKUP(U156,'S6'!$B$23:$Z$57,7,FALSE))","v":""},{"$f":"IF(VLOOKUP(U156,'S6'!$B$23:$Z$57,8,FALSE)=\"\",\"\",VLOOKUP(U156,'S6'!$B$23:$Z$57,8,FALSE))","v":""},{"$f":"IF(VLOOKUP(U156,'S6'!$B$23:$Z$57,9,FALSE)=\"\",\"\",VLOOKUP(U156,'S6'!$B$23:$Z$57,9,FALSE))","v":""},{"$f":"IF(VLOOKUP(U156,'S6'!$B$23:$Z$57,10,FALSE)=\"\",\"\",VLOOKUP(U156,'S6'!$B$23:$Z$57,10,FALSE))","v":""},{"$f":"IF(VLOOKUP(U156,'S6'!$B$23:$Z$57,11,FALSE)=\"\",\"\",VLOOKUP(U156,'S6'!$B$23:$Z$57,11,FALSE))","v":""},{"$f":"IF(VLOOKUP(U156,'S6'!$B$23:$Z$57,12,FALSE)=\"\",\"\",VLOOKUP(U156,'S6'!$B$23:$Z$57,12,FALSE))","v":""},{"$f":"IF(VLOOKUP(U156,'S6'!$B$23:$Z$57,13,FALSE)=\"\",\"\",VLOOKUP(U156,'S6'!$B$23:$Z$57,13,FALSE))","v":""},{"$f":"IF(VLOOKUP(U156,'S6'!$B$23:$Z$57,14,FALSE)=\"\",\"\",VLOOKUP(U156,'S6'!$B$23:$Z$57,14,FALSE))","v":""},{"$f":"IF(VLOOKUP(U156,'S6'!$B$23:$Z$57,15,FALSE)=\"\",\"\",VLOOKUP(U156,'S6'!$B$23:$Z$57,15,FALSE))","v":""}]
[null,"von",null,null,{"$f":"IF('S6'!$G$21=\"\",\"\",'S6'!$G$21)","v":""},{"$f":"IF('S6'!$H$21=\"\",\"\",'S6'!$H$21)","v":""},{"$f":"IF('S6'!$I$21=\"\",\"\",'S6'!$I$21)","v":""},{"$f":"IF('S6'!$J$21=\"\",\"\",'S6'!$J$21)","v":""},{"$f":"IF('S6'!$K$21=\"\",\"\",'S6'!$K$21)","v":""},{"$f":"IF('S6'!$L$21=\"\",\"\",'S6'!$L$21)","v":""},{"$f":"IF('S6'!$M$21=\"\",\"\",'S6'!$M$21)","v":""},{"$f":"IF('S6'!$N$21=\"\",\"\",'S6'!$N$21)","v":""},{"$f":"IF('S6'!$O$21=\"\",\"\",'S6'!$O$21)","v":""},{"$f":"IF('S6'!$P$21=\"\",\"\",'S6'!$P$21)","v":""},null,"von",null,null,null,null,"von",null,null,{"$f":"IF('S6'!$G$21=\"\",\"\",'S6'!$G$21)","v":""},{"$f":"IF('S6'!$H$21=\"\",\"\",'S6'!$H$21)","v":""},{"$f":"IF('S6'!$I$21=\"\",\"\",'S6'!$I$21)","v":""},{"$f":"IF('S6'!$J$21=\"\",\"\",'S6'!$J$21)","v":""},{"$f":"IF('S6'!$K$21=\"\",\"\",'S6'!$K$21)","v":""},{"$f":"IF('S6'!$L$21=\"\",\"\",'S6'!$L$21)","v":""},{"$f":"IF('S6'!$M$21=\"\",\"\",'S6'!$M$21)","v":""},{"$f":"IF('S6'!$N$21=\"\",\"\",'S6'!$N$21)","v":""},{"$f":"IF('S6'!$O$21=\"\",\"\",'S6'!$O$21)","v":""},{"$f":"IF('S6'!$P$21=\"\",\"\",'S6'!$P$21)","v":""},null,"von"]
[null,null,null,null,null,null,null,null,null,null,null,null,null,null,null,{"$f":"'S6'!$H$12","v":0},null,null,null,null,null,null,null,null,null,null,null,null,null,null,null,null,null,null,{"$f":"'S6'!$H$12","v":0}]
[null,{"$f":"IF('S6'!$Q$18=\"\",\"\",\"Aufgabe\")","v":""},null,null,{"$f":"IF('S6'!$Q$18=\"\",\"\",'S6'!$Q$18)","v":""},{"$f":"IF('S6'!$R$18=\"\",\"\",'S6'!$R$18)","v":""},{"$f":"IF('S6'!$S$18=\"\",\"\",'S6'!$S$18)","v":""},{"$f":"IF('S6'!$T$18=\"\",\"\",'S6'!$T$18)","v":""},{"$f":"IF('S6'!$U$18=\"\",\"\",'S6'!$U$18)","v":""},{"$f":"IF('S6'!$V$18=\"\",\"\",'S6'!$V$18)","v":""},{"$f":"IF('S6'!$W$18=\"\",\"\",'S6'!$W$18)","v":""},{"$f":"IF('S6'!$X$18=\"\",\"\",'S6'!$X$18)","v":""},{"$f":"IF('S6'!$Y$18=\"\",\"\",'S6'!$Y$18)","v":""},{"$f":"IF('S6'!$Z$18=\"\",\"\",'S6'!$Z$18)","v":""},null,null,null,null,null,null,{"$f":"IF('S6'!$Q$18=\"\",\"\",\"Aufgabe\")","v":""},null,null,{"$f":"IF('S6'!$Q$18=\"\",\"\",'S6'!$Q$18)","v":""},{"$f":"IF('S6'!$R$18=\"\",\"\",'S6'!$R$18)","v":""},{"$f":"IF('S6'!$S$18=\"\",\"\",'S6'!$S$18)","v":""},{"$f":"IF('S6'!$T$18=\"\",\"\",'S6'!$T$18)","v":""},{"$f":"IF('S6'!$U$18=\"\",\"\",'S6'!$U$18)","v":""},{"$f":"IF('S6'!$V$18=\"\",\"\",'S6'!$V$18)","v":""},{"$f":"IF('S6'!$W$18=\"\",\"\",'S6'!$W$18)","v":""},{"$f":"IF('S6'!$X$18=\"\",\"\",'S6'!$X$18)","v":""},{"$f":"IF('S6'!$Y$18=\"\",\"\",'S6'!$Y$18)","v":""},{"$f":"IF('S6'!$Z$18=\"\",\"\",'S6'!$Z$18)","v":""}]
[null,{"$f":"IF('S6'!$Q$18=\"\",\"\",\"erreicht\")","v":""},null,null,{"$f":"IF(VLOOKUP(B156,'S6'!$B$23:$Z$57,16,FALSE)=\"\",\"\",VLOOKUP(B156,'S6'!$B$23:$Z$57,16,FALSE))","v":""},{"$f":"IF(VLOOKUP(B156,'S6'!$B$23:$Z$57,17,FALSE)=\"\",\"\",VLOOKUP(B156,'S6'!$B$23:$Z$57,17,FALSE))","v":""},{"$f":"IF(VLOOKUP(B156,'S6'!$B$23:$Z$57,18,FALSE)=\"\",\"\",VLOOKUP(B156,'S6'!$B$23:$Z$57,18,FALSE))","v":""},{"$f":"IF(VLOOKUP(B156,'S6'!$B$23:$Z$57,19,FALSE)=\"\",\"\",VLOOKUP(B156,'S6'!$B$23:$Z$57,19,FALSE))","v":""},{"$f":"IF(VLOOKUP(B156,'S6'!$B$23:$Z$57,20,FALSE)=\"\",\"\",VLOOKUP(B156,'S6'!$B$23:$Z$57,20,FALSE))","v":""},{"$f":"IF(VLOOKUP(B156,'S6'!$B$23:$Z$57,21,FALSE)=\"\",\"\",VLOOKUP(B156,'S6'!$B$23:$Z$57,21,FALSE))","v":""},{"$f":"IF(VLOOKUP(B156,'S6'!$B$23:$Z$57,22,FALSE)=\"\",\"\",VLOOKUP(B156,'S6'!$B$23:$Z$57,22,FALSE))","v":""},{"$f":"IF(VLOOKUP(B156,'S6'!$B$23:$Z$57,23,FALSE)=\"\",\"\",VLOOKUP(B156,'S6'!$B$23:$Z$57,23,FALSE))","v":""},{"$f":"IF(VLOOKUP(B156,'S6'!$B$23:$Z$57,24,FALSE)=\"\",\"\",VLOOKUP(B156,'S6'!$B$23:$Z$57,24,FALSE))","v":""},{"$f":"IF(VLOOKUP(B156,'S6'!$B$23:$Z$57,25,FALSE)=\"\",\"\",VLOOKUP(B156,'S6'!$B$23:$Z$57,25,FALSE))","v":""},null,"Note",null,null,null,null,{"$f":"IF('S6'!$Q$18=\"\",\"\",\"erreicht\")","v":""},null,null,{"$f":"IF(VLOOKUP(U156,'S6'!$B$23:$Z$57,16,FALSE)=\"\",\"\",VLOOKUP(U156,'S6'!$B$23:$Z$57,16,FALSE))","v":""},{"$f":"IF(VLOOKUP(U156,'S6'!$B$23:$Z$57,17,FALSE)=\"\",\"\",VLOOKUP(U156,'S6'!$B$23:$Z$57,17,FALSE))","v":""},{"$f":"IF(VLOOKUP(U156,'S6'!$B$23:$Z$57,18,FALSE)=\"\",\"\",VLOOKUP(U156,'S6'!$B$23:$Z$57,18,FALSE))","v":""},{"$f":"IF(VLOOKUP(U156,'S6'!$B$23:$Z$57,19,FALSE)=\"\",\"\",VLOOKUP(U156,'S6'!$B$23:$Z$57,19,FALSE))","v":""},{"$f":"IF(VLOOKUP(U156,'S6'!$B$23:$Z$57,20,FALSE)=\"\",\"\",VLOOKUP(U156,'S6'!$B$23:$Z$57,20,FALSE))","v":""},{"$f":"IF(VLOOKUP(U156,'S6'!$B$23:$Z$57,21,FALSE)=\"\",\"\",VLOOKUP(U156,'S6'!$B$23:$Z$57,21,FALSE))","v":""},{"$f":"IF(VLOOKUP(U156,'S6'!$B$23:$Z$57,22,FALSE)=\"\",\"\",VLOOKUP(U156,'S6'!$B$23:$Z$57,22,FALSE))","v":""},{"$f":"IF(VLOOKUP(U156,'S6'!$B$23:$Z$57,23,FALSE)=\"\",\"\",VLOOKUP(U156,'S6'!$B$23:$Z$57,23,FALSE))","v":""},{"$f":"IF(VLOOKUP(U156,'S6'!$B$23:$Z$57,24,FALSE)=\"\",\"\",VLOOKUP(U156,'S6'!$B$23:$Z$57,24,FALSE))","v":""},{"$f":"IF(VLOOKUP(U156,'S6'!$B$23:$Z$57,25,FALSE)=\"\",\"\",VLOOKUP(U156,'S6'!$B$23:$Z$57,25,FALSE))","v":""},null,"Note"]
[null,{"$f":"IF('S6'!$Q$18=\"\",\"\",\"von\")","v":""},null,null,{"$f":"IF('S6'!$Q$21=\"\",\"\",'S6'!$Q$21)","v":""},{"$f":"IF('S6'!$R$21=\"\",\"\",'S6'!$R$21)","v":""},{"$f":"IF('S6'!$S$21=\"\",\"\",'S6'!$S$21)","v":""},{"$f":"IF('S6'!$T$21=\"\",\"\",'S6'!$T$21)","v":""},{"$f":"IF('S6'!$U$21=\"\",\"\",'S6'!$U$21)","v":""},{"$f":"IF('S6'!$V$21=\"\",\"\",'S6'!$V$21)","v":""},{"$f":"IF('S6'!$W$21=\"\",\"\",'S6'!$W$21)","v":""},{"$f":"IF('S6'!$X$21=\"\",\"\",'S6'!$X$21)","v":""},{"$f":"IF('S6'!$Y$21=\"\",\"\",'S6'!$Y$21)","v":""},{"$f":"IF('S6'!$Z$21=\"\",\"\",'S6'!$Z$21)","v":""},null,{"$f":"IF(VLOOKUP(B156,'S6'!$B$23:$Z$57,2,FALSE)=\"\",\"\",CONCATENATE(VLOOKUP(B156,'S6'!$B$23:$Z$57,2,FALSE),\" \",VLOOKUP(B156,'S6'!$B$23:$Z$57,3,FALSE)))","v":"- "},null,null,null,null,{"$f":"IF('S6'!$Q$18=\"\",\"\",\"von\")","v":""},null,null,{"$f":"IF('S6'!$Q$21=\"\",\"\",'S6'!$Q$21)","v":""},{"$f":"IF('S6'!$R$21=\"\",\"\",'S6'!$R$21)","v":""},{"$f":"IF('S6'!$S$21=\"\",\"\",'S6'!$S$21)","v":""},{"$f":"IF('S6'!$T$21=\"\",\"\",'S6'!$T$21)","v":""},{"$f":"IF('S6'!$U$21=\"\",\"\",'S6'!$U$21)","v":""},{"$f":"IF('S6'!$V$21=\"\",\"\",'S6'!$V$21)","v":""},{"$f":"IF('S6'!$W$21=\"\",\"\",'S6'!$W$21)","v":""},{"$f":"IF('S6'!$X$21=\"\",\"\",'S6'!$X$21)","v":""},{"$f":"IF('S6'!$Y$21=\"\",\"\",'S6'!$Y$21)","v":""},{"$f":"IF('S6'!$Z$21=\"\",\"\",'S6'!$Z$21)","v":""},null,{"$f":"IF(VLOOKUP(U156,'S6'!$B$23:$Z$57,2,FALSE)=\"\",\"\",CONCATENATE(VLOOKUP(U156,'S6'!$B$23:$Z$57,2,FALSE),\" \",VLOOKUP(U156,'S6'!$B$23:$Z$57,3,FALSE)))","v":"- "}]
[]
[]
[]
[null,{"$f":"'S6'!$B$51","v":""},null,null,null,null,null,null,null,null,null,null,null,null,null,null,null,null,null,null,{"$f":"'S6'!$B$52","v":""}]
[null,null,null,null,null,null,null,null,null,null,null,null,null,null,null,"Summe",null,null,null,null,null,null,null,null,null,null,null,null,null,null,null,null,null,null,"Summe"]
[null,"Aufgabe",null,null,{"$f":"IF('S6'!$G$18=\"\",\"\",'S6'!$G$18)","v":1},{"$f":"IF('S6'!$H$18=\"\",\"\",'S6'!$H$18)","v":2},{"$f":"IF('S6'!$I$18=\"\",\"\",'S6'!$I$18)","v":3},{"$f":"IF('S6'!$J$18=\"\",\"\",'S6'!$J$18)","v":""},{"$f":"IF('S6'!$K$18=\"\",\"\",'S6'!$K$18)","v":""},{"$f":"IF('S6'!$L$18=\"\",\"\",'S6'!$L$18)","v":""},{"$f":"IF('S6'!$M$18=\"\",\"\",'S6'!$M$18)","v":""},{"$f":"IF('S6'!$N$18=\"\",\"\",'S6'!$N$18)","v":""},{"$f":"IF('S6'!$O$18=\"\",\"\",'S6'!$O$18)","v":""},{"$f":"IF('S6'!$P$18=\"\",\"\",'S6'!$P$18)","v":""},null,{"$f":"IF(VLOOKUP(B168,'S6'!$B$23:$Z$57,5,FALSE)=\"\",\"\",VLOOKUP(B168,'S6'!$B$23:$Z$57,5,FALSE))","v":0},null,null,null,null,"Aufgabe",null,null,{"$f":"IF('S6'!$G$18=\"\",\"\",'S6'!$G$18)","v":1},{"$f":"IF('S6'!$H$18=\"\",\"\",'S6'!$H$18)","v":2},{"$f":"IF('S6'!$I$18=\"\",\"\",'S6'!$I$18)","v":3},{"$f":"IF('S6'!$J$18=\"\",\"\",'S6'!$J$18)","v":""},{"$f":"IF('S6'!$K$18=\"\",\"\",'S6'!$K$18)","v":""},{"$f":"IF('S6'!$L$18=\"\",\"\",'S6'!$L$18)","v":""},{"$f":"IF('S6'!$M$18=\"\",\"\",'S6'!$M$18)","v":""},{"$f":"IF('S6'!$N$18=\"\",\"\",'S6'!$N$18)","v":""},{"$f":"IF('S6'!$O$18=\"\",\"\",'S6'!$O$18)","v":""},{"$f":"IF('S6'!$P$18=\"\",\"\",'S6'!$P$18)","v":""},null,{"$f":"IF(VLOOKUP(U168,'S6'!$B$23:$Z$57,5,FALSE)=\"\",\"\",VLOOKUP(U168,'S6'!$B$23:$Z$57,5,FALSE))","v":0}]
[null,"erreicht",null,null,{"$f":"IF(VLOOKUP(B168,'S6'!$B$23:$Z$57,6,FALSE)=\"\",\"\",VLOOKUP(B168,'S6'!$B$23:$Z$57,6,FALSE))","v":"."},{"$f":"IF(VLOOKUP(B168,'S6'!$B$23:$Z$57,7,FALSE)=\"\",\"\",VLOOKUP(B168,'S6'!$B$23:$Z$57,7,FALSE))","v":""},{"$f":"IF(VLOOKUP(B168,'S6'!$B$23:$Z$57,8,FALSE)=\"\",\"\",VLOOKUP(B168,'S6'!$B$23:$Z$57,8,FALSE))","v":""},{"$f":"IF(VLOOKUP(B168,'S6'!$B$23:$Z$57,9,FALSE)=\"\",\"\",VLOOKUP(B168,'S6'!$B$23:$Z$57,9,FALSE))","v":""},{"$f":"IF(VLOOKUP(B168,'S6'!$B$23:$Z$57,10,FALSE)=\"\",\"\",VLOOKUP(B168,'S6'!$B$23:$Z$57,10,FALSE))","v":""},{"$f":"IF(VLOOKUP(B168,'S6'!$B$23:$Z$57,11,FALSE)=\"\",\"\",VLOOKUP(B168,'S6'!$B$23:$Z$57,11,FALSE))","v":""},{"$f":"IF(VLOOKUP(B168,'S6'!$B$23:$Z$57,12,FALSE)=\"\",\"\",VLOOKUP(B168,'S6'!$B$23:$Z$57,12,FALSE))","v":""},{"$f":"IF(VLOOKUP(B168,'S6'!$B$23:$Z$57,13,FALSE)=\"\",\"\",VLOOKUP(B168,'S6'!$B$23:$Z$57,13,FALSE))","v":""},{"$f":"IF(VLOOKUP(B168,'S6'!$B$23:$Z$57,14,FALSE)=\"\",\"\",VLOOKUP(B168,'S6'!$B$23:$Z$57,14,FALSE))","v":""},{"$f":"IF(VLOOKUP(B168,'S6'!$B$23:$Z$57,15,FALSE)=\"\",\"\",VLOOKUP(B168,'S6'!$B$23:$Z$57,15,FALSE))","v":""},null,null,null,null,null,null,"erreicht",null,null,{"$f":"IF(VLOOKUP(U168,'S6'!$B$23:$Z$57,6,FALSE)=\"\",\"\",VLOOKUP(U168,'S6'!$B$23:$Z$57,6,FALSE))","v":"."},{"$f":"IF(VLOOKUP(U168,'S6'!$B$23:$Z$57,7,FALSE)=\"\",\"\",VLOOKUP(U168,'S6'!$B$23:$Z$57,7,FALSE))","v":""},{"$f":"IF(VLOOKUP(U168,'S6'!$B$23:$Z$57,8,FALSE)=\"\",\"\",VLOOKUP(U168,'S6'!$B$23:$Z$57,8,FALSE))","v":""},{"$f":"IF(VLOOKUP(U168,'S6'!$B$23:$Z$57,9,FALSE)=\"\",\"\",VLOOKUP(U168,'S6'!$B$23:$Z$57,9,FALSE))","v":""},{"$f":"IF(VLOOKUP(U168,'S6'!$B$23:$Z$57,10,FALSE)=\"\",\"\",VLOOKUP(U168,'S6'!$B$23:$Z$57,10,FALSE))","v":""},{"$f":"IF(VLOOKUP(U168,'S6'!$B$23:$Z$57,11,FALSE)=\"\",\"\",VLOOKUP(U168,'S6'!$B$23:$Z$57,11,FALSE))","v":""},{"$f":"IF(VLOOKUP(U168,'S6'!$B$23:$Z$57,12,FALSE)=\"\",\"\",VLOOKUP(U168,'S6'!$B$23:$Z$57,12,FALSE))","v":""},{"$f":"IF(VLOOKUP(U168,'S6'!$B$23:$Z$57,13,FALSE)=\"\",\"\",VLOOKUP(U168,'S6'!$B$23:$Z$57,13,FALSE))","v":""},{"$f":"IF(VLOOKUP(U168,'S6'!$B$23:$Z$57,14,FALSE)=\"\",\"\",VLOOKUP(U168,'S6'!$B$23:$Z$57,14,FALSE))","v":""},{"$f":"IF(VLOOKUP(U168,'S6'!$B$23:$Z$57,15,FALSE)=\"\",\"\",VLOOKUP(U168,'S6'!$B$23:$Z$57,15,FALSE))","v":""}]
[null,"von",null,null,{"$f":"IF('S6'!$G$21=\"\",\"\",'S6'!$G$21)","v":""},{"$f":"IF('S6'!$H$21=\"\",\"\",'S6'!$H$21)","v":""},{"$f":"IF('S6'!$I$21=\"\",\"\",'S6'!$I$21)","v":""},{"$f":"IF('S6'!$J$21=\"\",\"\",'S6'!$J$21)","v":""},{"$f":"IF('S6'!$K$21=\"\",\"\",'S6'!$K$21)","v":""},{"$f":"IF('S6'!$L$21=\"\",\"\",'S6'!$L$21)","v":""},{"$f":"IF('S6'!$M$21=\"\",\"\",'S6'!$M$21)","v":""},{"$f":"IF('S6'!$N$21=\"\",\"\",'S6'!$N$21)","v":""},{"$f":"IF('S6'!$O$21=\"\",\"\",'S6'!$O$21)","v":""},{"$f":"IF('S6'!$P$21=\"\",\"\",'S6'!$P$21)","v":""},null,"von",null,null,null,null,"von",null,null,{"$f":"IF('S6'!$G$21=\"\",\"\",'S6'!$G$21)","v":""},{"$f":"IF('S6'!$H$21=\"\",\"\",'S6'!$H$21)","v":""},{"$f":"IF('S6'!$I$21=\"\",\"\",'S6'!$I$21)","v":""},{"$f":"IF('S6'!$J$21=\"\",\"\",'S6'!$J$21)","v":""},{"$f":"IF('S6'!$K$21=\"\",\"\",'S6'!$K$21)","v":""},{"$f":"IF('S6'!$L$21=\"\",\"\",'S6'!$L$21)","v":""},{"$f":"IF('S6'!$M$21=\"\",\"\",'S6'!$M$21)","v":""},{"$f":"IF('S6'!$N$21=\"\",\"\",'S6'!$N$21)","v":""},{"$f":"IF('S6'!$O$21=\"\",\"\",'S6'!$O$21)","v":""},{"$f":"IF('S6'!$P$21=\"\",\"\",'S6'!$P$21)","v":""},null,"von"]
[null,null,null,null,null,null,null,null,null,null,null,null,null,null,null,{"$f":"'S6'!$H$12","v":0},null,null,null,null,null,null,null,null,null,null,null,null,null,null,null,null,null,null,{"$f":"'S6'!$H$12","v":0}]
[null,{"$f":"IF('S6'!$Q$18=\"\",\"\",\"Aufgabe\")","v":""},null,null,{"$f":"IF('S6'!$Q$18=\"\",\"\",'S6'!$Q$18)","v":""},{"$f":"IF('S6'!$R$18=\"\",\"\",'S6'!$R$18)","v":""},{"$f":"IF('S6'!$S$18=\"\",\"\",'S6'!$S$18)","v":""},{"$f":"IF('S6'!$T$18=\"\",\"\",'S6'!$T$18)","v":""},{"$f":"IF('S6'!$U$18=\"\",\"\",'S6'!$U$18)","v":""},{"$f":"IF('S6'!$V$18=\"\",\"\",'S6'!$V$18)","v":""},{"$f":"IF('S6'!$W$18=\"\",\"\",'S6'!$W$18)","v":""},{"$f":"IF('S6'!$X$18=\"\",\"\",'S6'!$X$18)","v":""},{"$f":"IF('S6'!$Y$18=\"\",\"\",'S6'!$Y$18)","v":""},{"$f":"IF('S6'!$Z$18=\"\",\"\",'S6'!$Z$18)","v":""},null,null,null,null,null,null,{"$f":"IF('S6'!$Q$18=\"\",\"\",\"Aufgabe\")","v":""},null,null,{"$f":"IF('S6'!$Q$18=\"\",\"\",'S6'!$Q$18)","v":""},{"$f":"IF('S6'!$R$18=\"\",\"\",'S6'!$R$18)","v":""},{"$f":"IF('S6'!$S$18=\"\",\"\",'S6'!$S$18)","v":""},{"$f":"IF('S6'!$T$18=\"\",\"\",'S6'!$T$18)","v":""},{"$f":"IF('S6'!$U$18=\"\",\"\",'S6'!$U$18)","v":""},{"$f":"IF('S6'!$V$18=\"\",\"\",'S6'!$V$18)","v":""},{"$f":"IF('S6'!$W$18=\"\",\"\",'S6'!$W$18)","v":""},{"$f":"IF('S6'!$X$18=\"\",\"\",'S6'!$X$18)","v":""},{"$f":"IF('S6'!$Y$18=\"\",\"\",'S6'!$Y$18)","v":""},{"$f":"IF('S6'!$Z$18=\"\",\"\",'S6'!$Z$18)","v":""}]
[null,{"$f":"IF('S6'!$Q$18=\"\",\"\",\"erreicht\")","v":""},null,null,{"$f":"IF(VLOOKUP(B168,'S6'!$B$23:$Z$57,16,FALSE)=\"\",\"\",VLOOKUP(B168,'S6'!$B$23:$Z$57,16,FALSE))","v":""},{"$f":"IF(VLOOKUP(B168,'S6'!$B$23:$Z$57,17,FALSE)=\"\",\"\",VLOOKUP(B168,'S6'!$B$23:$Z$57,17,FALSE))","v":""},{"$f":"IF(VLOOKUP(B168,'S6'!$B$23:$Z$57,18,FALSE)=\"\",\"\",VLOOKUP(B168,'S6'!$B$23:$Z$57,18,FALSE))","v":""},{"$f":"IF(VLOOKUP(B168,'S6'!$B$23:$Z$57,19,FALSE)=\"\",\"\",VLOOKUP(B168,'S6'!$B$23:$Z$57,19,FALSE))","v":""},{"$f":"IF(VLOOKUP(B168,'S6'!$B$23:$Z$57,20,FALSE)=\"\",\"\",VLOOKUP(B168,'S6'!$B$23:$Z$57,20,FALSE))","v":""},{"$f":"IF(VLOOKUP(B168,'S6'!$B$23:$Z$57,21,FALSE)=\"\",\"\",VLOOKUP(B168,'S6'!$B$23:$Z$57,21,FALSE))","v":""},{"$f":"IF(VLOOKUP(B168,'S6'!$B$23:$Z$57,22,FALSE)=\"\",\"\",VLOOKUP(B168,'S6'!$B$23:$Z$57,22,FALSE))","v":""},{"$f":"IF(VLOOKUP(B168,'S6'!$B$23:$Z$57,23,FALSE)=\"\",\"\",VLOOKUP(B168,'S6'!$B$23:$Z$57,23,FALSE))","v":""},{"$f":"IF(VLOOKUP(B168,'S6'!$B$23:$Z$57,24,FALSE)=\"\",\"\",VLOOKUP(B168,'S6'!$B$23:$Z$57,24,FALSE))","v":""},{"$f":"IF(VLOOKUP(B168,'S6'!$B$23:$Z$57,25,FALSE)=\"\",\"\",VLOOKUP(B168,'S6'!$B$23:$Z$57,25,FALSE))","v":""},null,"Note",null,null,null,null,{"$f":"IF('S6'!$Q$18=\"\",\"\",\"erreicht\")","v":""},null,null,{"$f":"IF(VLOOKUP(U168,'S6'!$B$23:$Z$57,16,FALSE)=\"\",\"\",VLOOKUP(U168,'S6'!$B$23:$Z$57,16,FALSE))","v":""},{"$f":"IF(VLOOKUP(U168,'S6'!$B$23:$Z$57,17,FALSE)=\"\",\"\",VLOOKUP(U168,'S6'!$B$23:$Z$57,17,FALSE))","v":""},{"$f":"IF(VLOOKUP(U168,'S6'!$B$23:$Z$57,18,FALSE)=\"\",\"\",VLOOKUP(U168,'S6'!$B$23:$Z$57,18,FALSE))","v":""},{"$f":"IF(VLOOKUP(U168,'S6'!$B$23:$Z$57,19,FALSE)=\"\",\"\",VLOOKUP(U168,'S6'!$B$23:$Z$57,19,FALSE))","v":""},{"$f":"IF(VLOOKUP(U168,'S6'!$B$23:$Z$57,20,FALSE)=\"\",\"\",VLOOKUP(U168,'S6'!$B$23:$Z$57,20,FALSE))","v":""},{"$f":"IF(VLOOKUP(U168,'S6'!$B$23:$Z$57,21,FALSE)=\"\",\"\",VLOOKUP(U168,'S6'!$B$23:$Z$57,21,FALSE))","v":""},{"$f":"IF(VLOOKUP(U168,'S6'!$B$23:$Z$57,22,FALSE)=\"\",\"\",VLOOKUP(U168,'S6'!$B$23:$Z$57,22,FALSE))","v":""},{"$f":"IF(VLOOKUP(U168,'S6'!$B$23:$Z$57,23,FALSE)=\"\",\"\",VLOOKUP(U168,'S6'!$B$23:$Z$57,23,FALSE))","v":""},{"$f":"IF(VLOOKUP(U168,'S6'!$B$23:$Z$57,24,FALSE)=\"\",\"\",VLOOKUP(U168,'S6'!$B$23:$Z$57,24,FALSE))","v":""},{"$f":"IF(VLOOKUP(U168,'S6'!$B$23:$Z$57,25,FALSE)=\"\",\"\",VLOOKUP(U168,'S6'!$B$23:$Z$57,25,FALSE))","v":""},null,"Note"]
[null,{"$f":"IF('S6'!$Q$18=\"\",\"\",\"von\")","v":""},null,null,{"$f":"IF('S6'!$Q$21=\"\",\"\",'S6'!$Q$21)","v":""},{"$f":"IF('S6'!$R$21=\"\",\"\",'S6'!$R$21)","v":""},{"$f":"IF('S6'!$S$21=\"\",\"\",'S6'!$S$21)","v":""},{"$f":"IF('S6'!$T$21=\"\",\"\",'S6'!$T$21)","v":""},{"$f":"IF('S6'!$U$21=\"\",\"\",'S6'!$U$21)","v":""},{"$f":"IF('S6'!$V$21=\"\",\"\",'S6'!$V$21)","v":""},{"$f":"IF('S6'!$W$21=\"\",\"\",'S6'!$W$21)","v":""},{"$f":"IF('S6'!$X$21=\"\",\"\",'S6'!$X$21)","v":""},{"$f":"IF('S6'!$Y$21=\"\",\"\",'S6'!$Y$21)","v":""},{"$f":"IF('S6'!$Z$21=\"\",\"\",'S6'!$Z$21)","v":""},null,{"$f":"IF(VLOOKUP(B168,'S6'!$B$23:$Z$57,2,FALSE)=\"\",\"\",CONCATENATE(VLOOKUP(B168,'S6'!$B$23:$Z$57,2,FALSE),\" \",VLOOKUP(B168,'S6'!$B$23:$Z$57,3,FALSE)))","v":"- "},null,null,null,null,{"$f":"IF('S6'!$Q$18=\"\",\"\",\"von\")","v":""},null,null,{"$f":"IF('S6'!$Q$21=\"\",\"\",'S6'!$Q$21)","v":""},{"$f":"IF('S6'!$R$21=\"\",\"\",'S6'!$R$21)","v":""},{"$f":"IF('S6'!$S$21=\"\",\"\",'S6'!$S$21)","v":""},{"$f":"IF('S6'!$T$21=\"\",\"\",'S6'!$T$21)","v":""},{"$f":"IF('S6'!$U$21=\"\",\"\",'S6'!$U$21)","v":""},{"$f":"IF('S6'!$V$21=\"\",\"\",'S6'!$V$21)","v":""},{"$f":"IF('S6'!$W$21=\"\",\"\",'S6'!$W$21)","v":""},{"$f":"IF('S6'!$X$21=\"\",\"\",'S6'!$X$21)","v":""},{"$f":"IF('S6'!$Y$21=\"\",\"\",'S6'!$Y$21)","v":""},{"$f":"IF('S6'!$Z$21=\"\",\"\",'S6'!$Z$21)","v":""},null,{"$f":"IF(VLOOKUP(U168,'S6'!$B$23:$Z$57,2,FALSE)=\"\",\"\",CONCATENATE(VLOOKUP(U168,'S6'!$B$23:$Z$57,2,FALSE),\" \",VLOOKUP(U168,'S6'!$B$23:$Z$57,3,FALSE)))","v":"- "}]
[]
[]
[]
[null,{"$f":"'S6'!$B$53","v":""},null,null,null,null,null,null,null,null,null,null,null,null,null,null,null,null,null,null,{"$f":"'S6'!$B$54","v":""}]
[null,null,null,null,null,null,null,null,null,null,null,null,null,null,null,"Summe",null,null,null,null,null,null,null,null,null,null,null,null,null,null,null,null,null,null,"Summe"]
[null,"Aufgabe",null,null,{"$f":"IF('S6'!$G$18=\"\",\"\",'S6'!$G$18)","v":1},{"$f":"IF('S6'!$H$18=\"\",\"\",'S6'!$H$18)","v":2},{"$f":"IF('S6'!$I$18=\"\",\"\",'S6'!$I$18)","v":3},{"$f":"IF('S6'!$J$18=\"\",\"\",'S6'!$J$18)","v":""},{"$f":"IF('S6'!$K$18=\"\",\"\",'S6'!$K$18)","v":""},{"$f":"IF('S6'!$L$18=\"\",\"\",'S6'!$L$18)","v":""},{"$f":"IF('S6'!$M$18=\"\",\"\",'S6'!$M$18)","v":""},{"$f":"IF('S6'!$N$18=\"\",\"\",'S6'!$N$18)","v":""},{"$f":"IF('S6'!$O$18=\"\",\"\",'S6'!$O$18)","v":""},{"$f":"IF('S6'!$P$18=\"\",\"\",'S6'!$P$18)","v":""},null,{"$f":"IF(VLOOKUP(B180,'S6'!$B$23:$Z$57,5,FALSE)=\"\",\"\",VLOOKUP(B180,'S6'!$B$23:$Z$57,5,FALSE))","v":0},null,null,null,null,"Aufgabe",null,null,{"$f":"IF('S6'!$G$18=\"\",\"\",'S6'!$G$18)","v":1},{"$f":"IF('S6'!$H$18=\"\",\"\",'S6'!$H$18)","v":2},{"$f":"IF('S6'!$I$18=\"\",\"\",'S6'!$I$18)","v":3},{"$f":"IF('S6'!$J$18=\"\",\"\",'S6'!$J$18)","v":""},{"$f":"IF('S6'!$K$18=\"\",\"\",'S6'!$K$18)","v":""},{"$f":"IF('S6'!$L$18=\"\",\"\",'S6'!$L$18)","v":""},{"$f":"IF('S6'!$M$18=\"\",\"\",'S6'!$M$18)","v":""},{"$f":"IF('S6'!$N$18=\"\",\"\",'S6'!$N$18)","v":""},{"$f":"IF('S6'!$O$18=\"\",\"\",'S6'!$O$18)","v":""},{"$f":"IF('S6'!$P$18=\"\",\"\",'S6'!$P$18)","v":""},null,{"$f":"IF(VLOOKUP(U180,'S6'!$B$23:$Z$57,5,FALSE)=\"\",\"\",VLOOKUP(U180,'S6'!$B$23:$Z$57,5,FALSE))","v":0}]
[null,"erreicht",null,null,{"$f":"IF(VLOOKUP(B180,'S6'!$B$23:$Z$57,6,FALSE)=\"\",\"\",VLOOKUP(B180,'S6'!$B$23:$Z$57,6,FALSE))","v":"."},{"$f":"IF(VLOOKUP(B180,'S6'!$B$23:$Z$57,7,FALSE)=\"\",\"\",VLOOKUP(B180,'S6'!$B$23:$Z$57,7,FALSE))","v":""},{"$f":"IF(VLOOKUP(B180,'S6'!$B$23:$Z$57,8,FALSE)=\"\",\"\",VLOOKUP(B180,'S6'!$B$23:$Z$57,8,FALSE))","v":""},{"$f":"IF(VLOOKUP(B180,'S6'!$B$23:$Z$57,9,FALSE)=\"\",\"\",VLOOKUP(B180,'S6'!$B$23:$Z$57,9,FALSE))","v":""},{"$f":"IF(VLOOKUP(B180,'S6'!$B$23:$Z$57,10,FALSE)=\"\",\"\",VLOOKUP(B180,'S6'!$B$23:$Z$57,10,FALSE))","v":""},{"$f":"IF(VLOOKUP(B180,'S6'!$B$23:$Z$57,11,FALSE)=\"\",\"\",VLOOKUP(B180,'S6'!$B$23:$Z$57,11,FALSE))","v":""},{"$f":"IF(VLOOKUP(B180,'S6'!$B$23:$Z$57,12,FALSE)=\"\",\"\",VLOOKUP(B180,'S6'!$B$23:$Z$57,12,FALSE))","v":""},{"$f":"IF(VLOOKUP(B180,'S6'!$B$23:$Z$57,13,FALSE)=\"\",\"\",VLOOKUP(B180,'S6'!$B$23:$Z$57,13,FALSE))","v":""},{"$f":"IF(VLOOKUP(B180,'S6'!$B$23:$Z$57,14,FALSE)=\"\",\"\",VLOOKUP(B180,'S6'!$B$23:$Z$57,14,FALSE))","v":""},{"$f":"IF(VLOOKUP(B180,'S6'!$B$23:$Z$57,15,FALSE)=\"\",\"\",VLOOKUP(B180,'S6'!$B$23:$Z$57,15,FALSE))","v":""},null,null,null,null,null,null,"erreicht",null,null,{"$f":"IF(VLOOKUP(U180,'S6'!$B$23:$Z$57,6,FALSE)=\"\",\"\",VLOOKUP(U180,'S6'!$B$23:$Z$57,6,FALSE))","v":"."},{"$f":"IF(VLOOKUP(U180,'S6'!$B$23:$Z$57,7,FALSE)=\"\",\"\",VLOOKUP(U180,'S6'!$B$23:$Z$57,7,FALSE))","v":""},{"$f":"IF(VLOOKUP(U180,'S6'!$B$23:$Z$57,8,FALSE)=\"\",\"\",VLOOKUP(U180,'S6'!$B$23:$Z$57,8,FALSE))","v":""},{"$f":"IF(VLOOKUP(U180,'S6'!$B$23:$Z$57,9,FALSE)=\"\",\"\",VLOOKUP(U180,'S6'!$B$23:$Z$57,9,FALSE))","v":""},{"$f":"IF(VLOOKUP(U180,'S6'!$B$23:$Z$57,10,FALSE)=\"\",\"\",VLOOKUP(U180,'S6'!$B$23:$Z$57,10,FALSE))","v":""},{"$f":"IF(VLOOKUP(U180,'S6'!$B$23:$Z$57,11,FALSE)=\"\",\"\",VLOOKUP(U180,'S6'!$B$23:$Z$57,11,FALSE))","v":""},{"$f":"IF(VLOOKUP(U180,'S6'!$B$23:$Z$57,12,FALSE)=\"\",\"\",VLOOKUP(U180,'S6'!$B$23:$Z$57,12,FALSE))","v":""},{"$f":"IF(VLOOKUP(U180,'S6'!$B$23:$Z$57,13,FALSE)=\"\",\"\",VLOOKUP(U180,'S6'!$B$23:$Z$57,13,FALSE))","v":""},{"$f":"IF(VLOOKUP(U180,'S6'!$B$23:$Z$57,14,FALSE)=\"\",\"\",VLOOKUP(U180,'S6'!$B$23:$Z$57,14,FALSE))","v":""},{"$f":"IF(VLOOKUP(U180,'S6'!$B$23:$Z$57,15,FALSE)=\"\",\"\",VLOOKUP(U180,'S6'!$B$23:$Z$57,15,FALSE))","v":""}]
[null,"von",null,null,{"$f":"IF('S6'!$G$21=\"\",\"\",'S6'!$G$21)","v":""},{"$f":"IF('S6'!$H$21=\"\",\"\",'S6'!$H$21)","v":""},{"$f":"IF('S6'!$I$21=\"\",\"\",'S6'!$I$21)","v":""},{"$f":"IF('S6'!$J$21=\"\",\"\",'S6'!$J$21)","v":""},{"$f":"IF('S6'!$K$21=\"\",\"\",'S6'!$K$21)","v":""},{"$f":"IF('S6'!$L$21=\"\",\"\",'S6'!$L$21)","v":""},{"$f":"IF('S6'!$M$21=\"\",\"\",'S6'!$M$21)","v":""},{"$f":"IF('S6'!$N$21=\"\",\"\",'S6'!$N$21)","v":""},{"$f":"IF('S6'!$O$21=\"\",\"\",'S6'!$O$21)","v":""},{"$f":"IF('S6'!$P$21=\"\",\"\",'S6'!$P$21)","v":""},null,"von",null,null,null,null,"von",null,null,{"$f":"IF('S6'!$G$21=\"\",\"\",'S6'!$G$21)","v":""},{"$f":"IF('S6'!$H$21=\"\",\"\",'S6'!$H$21)","v":""},{"$f":"IF('S6'!$I$21=\"\",\"\",'S6'!$I$21)","v":""},{"$f":"IF('S6'!$J$21=\"\",\"\",'S6'!$J$21)","v":""},{"$f":"IF('S6'!$K$21=\"\",\"\",'S6'!$K$21)","v":""},{"$f":"IF('S6'!$L$21=\"\",\"\",'S6'!$L$21)","v":""},{"$f":"IF('S6'!$M$21=\"\",\"\",'S6'!$M$21)","v":""},{"$f":"IF('S6'!$N$21=\"\",\"\",'S6'!$N$21)","v":""},{"$f":"IF('S6'!$O$21=\"\",\"\",'S6'!$O$21)","v":""},{"$f":"IF('S6'!$P$21=\"\",\"\",'S6'!$P$21)","v":""},null,"von"]
[null,null,null,null,null,null,null,null,null,null,null,null,null,null,null,{"$f":"'S6'!$H$12","v":0},null,null,null,null,null,null,null,null,null,null,null,null,null,null,null,null,null,null,{"$f":"'S6'!$H$12","v":0}]
[null,{"$f":"IF('S6'!$Q$18=\"\",\"\",\"Aufgabe\")","v":""},null,null,{"$f":"IF('S6'!$Q$18=\"\",\"\",'S6'!$Q$18)","v":""},{"$f":"IF('S6'!$R$18=\"\",\"\",'S6'!$R$18)","v":""},{"$f":"IF('S6'!$S$18=\"\",\"\",'S6'!$S$18)","v":""},{"$f":"IF('S6'!$T$18=\"\",\"\",'S6'!$T$18)","v":""},{"$f":"IF('S6'!$U$18=\"\",\"\",'S6'!$U$18)","v":""},{"$f":"IF('S6'!$V$18=\"\",\"\",'S6'!$V$18)","v":""},{"$f":"IF('S6'!$W$18=\"\",\"\",'S6'!$W$18)","v":""},{"$f":"IF('S6'!$X$18=\"\",\"\",'S6'!$X$18)","v":""},{"$f":"IF('S6'!$Y$18=\"\",\"\",'S6'!$Y$18)","v":""},{"$f":"IF('S6'!$Z$18=\"\",\"\",'S6'!$Z$18)","v":""},null,null,null,null,null,null,{"$f":"IF('S6'!$Q$18=\"\",\"\",\"Aufgabe\")","v":""},null,null,{"$f":"IF('S6'!$Q$18=\"\",\"\",'S6'!$Q$18)","v":""},{"$f":"IF('S6'!$R$18=\"\",\"\",'S6'!$R$18)","v":""},{"$f":"IF('S6'!$S$18=\"\",\"\",'S6'!$S$18)","v":""},{"$f":"IF('S6'!$T$18=\"\",\"\",'S6'!$T$18)","v":""},{"$f":"IF('S6'!$U$18=\"\",\"\",'S6'!$U$18)","v":""},{"$f":"IF('S6'!$V$18=\"\",\"\",'S6'!$V$18)","v":""},{"$f":"IF('S6'!$W$18=\"\",\"\",'S6'!$W$18)","v":""},{"$f":"IF('S6'!$X$18=\"\",\"\",'S6'!$X$18)","v":""},{"$f":"IF('S6'!$Y$18=\"\",\"\",'S6'!$Y$18)","v":""},{"$f":"IF('S6'!$Z$18=\"\",\"\",'S6'!$Z$18)","v":""}]
[null,{"$f":"IF('S6'!$Q$18=\"\",\"\",\"erreicht\")","v":""},null,null,{"$f":"IF(VLOOKUP(B180,'S6'!$B$23:$Z$57,16,FALSE)=\"\",\"\",VLOOKUP(B180,'S6'!$B$23:$Z$57,16,FALSE))","v":""},{"$f":"IF(VLOOKUP(B180,'S6'!$B$23:$Z$57,17,FALSE)=\"\",\"\",VLOOKUP(B180,'S6'!$B$23:$Z$57,17,FALSE))","v":""},{"$f":"IF(VLOOKUP(B180,'S6'!$B$23:$Z$57,18,FALSE)=\"\",\"\",VLOOKUP(B180,'S6'!$B$23:$Z$57,18,FALSE))","v":""},{"$f":"IF(VLOOKUP(B180,'S6'!$B$23:$Z$57,19,FALSE)=\"\",\"\",VLOOKUP(B180,'S6'!$B$23:$Z$57,19,FALSE))","v":""},{"$f":"IF(VLOOKUP(B180,'S6'!$B$23:$Z$57,20,FALSE)=\"\",\"\",VLOOKUP(B180,'S6'!$B$23:$Z$57,20,FALSE))","v":""},{"$f":"IF(VLOOKUP(B180,'S6'!$B$23:$Z$57,21,FALSE)=\"\",\"\",VLOOKUP(B180,'S6'!$B$23:$Z$57,21,FALSE))","v":""},{"$f":"IF(VLOOKUP(B180,'S6'!$B$23:$Z$57,22,FALSE)=\"\",\"\",VLOOKUP(B180,'S6'!$B$23:$Z$57,22,FALSE))","v":""},{"$f":"IF(VLOOKUP(B180,'S6'!$B$23:$Z$57,23,FALSE)=\"\",\"\",VLOOKUP(B180,'S6'!$B$23:$Z$57,23,FALSE))","v":""},{"$f":"IF(VLOOKUP(B180,'S6'!$B$23:$Z$57,24,FALSE)=\"\",\"\",VLOOKUP(B180,'S6'!$B$23:$Z$57,24,FALSE))","v":""},{"$f":"IF(VLOOKUP(B180,'S6'!$B$23:$Z$57,25,FALSE)=\"\",\"\",VLOOKUP(B180,'S6'!$B$23:$Z$57,25,FALSE))","v":""},null,"Note",null,null,null,null,{"$f":"IF('S6'!$Q$18=\"\",\"\",\"erreicht\")","v":""},null,null,{"$f":"IF(VLOOKUP(U180,'S6'!$B$23:$Z$57,16,FALSE)=\"\",\"\",VLOOKUP(U180,'S6'!$B$23:$Z$57,16,FALSE))","v":""},{"$f":"IF(VLOOKUP(U180,'S6'!$B$23:$Z$57,17,FALSE)=\"\",\"\",VLOOKUP(U180,'S6'!$B$23:$Z$57,17,FALSE))","v":""},{"$f":"IF(VLOOKUP(U180,'S6'!$B$23:$Z$57,18,FALSE)=\"\",\"\",VLOOKUP(U180,'S6'!$B$23:$Z$57,18,FALSE))","v":""},{"$f":"IF(VLOOKUP(U180,'S6'!$B$23:$Z$57,19,FALSE)=\"\",\"\",VLOOKUP(U180,'S6'!$B$23:$Z$57,19,FALSE))","v":""},{"$f":"IF(VLOOKUP(U180,'S6'!$B$23:$Z$57,20,FALSE)=\"\",\"\",VLOOKUP(U180,'S6'!$B$23:$Z$57,20,FALSE))","v":""},{"$f":"IF(VLOOKUP(U180,'S6'!$B$23:$Z$57,21,FALSE)=\"\",\"\",VLOOKUP(U180,'S6'!$B$23:$Z$57,21,FALSE))","v":""},{"$f":"IF(VLOOKUP(U180,'S6'!$B$23:$Z$57,22,FALSE)=\"\",\"\",VLOOKUP(U180,'S6'!$B$23:$Z$57,22,FALSE))","v":""},{"$f":"IF(VLOOKUP(U180,'S6'!$B$23:$Z$57,23,FALSE)=\"\",\"\",VLOOKUP(U180,'S6'!$B$23:$Z$57,23,FALSE))","v":""},{"$f":"IF(VLOOKUP(U180,'S6'!$B$23:$Z$57,24,FALSE)=\"\",\"\",VLOOKUP(U180,'S6'!$B$23:$Z$57,24,FALSE))","v":""},{"$f":"IF(VLOOKUP(U180,'S6'!$B$23:$Z$57,25,FALSE)=\"\",\"\",VLOOKUP(U180,'S6'!$B$23:$Z$57,25,FALSE))","v":""},null,"Note"]
[null,{"$f":"IF('S6'!$Q$18=\"\",\"\",\"von\")","v":""},null,null,{"$f":"IF('S6'!$Q$21=\"\",\"\",'S6'!$Q$21)","v":""},{"$f":"IF('S6'!$R$21=\"\",\"\",'S6'!$R$21)","v":""},{"$f":"IF('S6'!$S$21=\"\",\"\",'S6'!$S$21)","v":""},{"$f":"IF('S6'!$T$21=\"\",\"\",'S6'!$T$21)","v":""},{"$f":"IF('S6'!$U$21=\"\",\"\",'S6'!$U$21)","v":""},{"$f":"IF('S6'!$V$21=\"\",\"\",'S6'!$V$21)","v":""},{"$f":"IF('S6'!$W$21=\"\",\"\",'S6'!$W$21)","v":""},{"$f":"IF('S6'!$X$21=\"\",\"\",'S6'!$X$21)","v":""},{"$f":"IF('S6'!$Y$21=\"\",\"\",'S6'!$Y$21)","v":""},{"$f":"IF('S6'!$Z$21=\"\",\"\",'S6'!$Z$21)","v":""},null,{"$f":"IF(VLOOKUP(B180,'S6'!$B$23:$Z$57,2,FALSE)=\"\",\"\",CONCATENATE(VLOOKUP(B180,'S6'!$B$23:$Z$57,2,FALSE),\" \",VLOOKUP(B180,'S6'!$B$23:$Z$57,3,FALSE)))","v":"- "},null,null,null,null,{"$f":"IF('S6'!$Q$18=\"\",\"\",\"von\")","v":""},null,null,{"$f":"IF('S6'!$Q$21=\"\",\"\",'S6'!$Q$21)","v":""},{"$f":"IF('S6'!$R$21=\"\",\"\",'S6'!$R$21)","v":""},{"$f":"IF('S6'!$S$21=\"\",\"\",'S6'!$S$21)","v":""},{"$f":"IF('S6'!$T$21=\"\",\"\",'S6'!$T$21)","v":""},{"$f":"IF('S6'!$U$21=\"\",\"\",'S6'!$U$21)","v":""},{"$f":"IF('S6'!$V$21=\"\",\"\",'S6'!$V$21)","v":""},{"$f":"IF('S6'!$W$21=\"\",\"\",'S6'!$W$21)","v":""},{"$f":"IF('S6'!$X$21=\"\",\"\",'S6'!$X$21)","v":""},{"$f":"IF('S6'!$Y$21=\"\",\"\",'S6'!$Y$21)","v":""},{"$f":"IF('S6'!$Z$21=\"\",\"\",'S6'!$Z$21)","v":""},null,{"$f":"IF(VLOOKUP(U180,'S6'!$B$23:$Z$57,2,FALSE)=\"\",\"\",CONCATENATE(VLOOKUP(U180,'S6'!$B$23:$Z$57,2,FALSE),\" \",VLOOKUP(U180,'S6'!$B$23:$Z$57,3,FALSE)))","v":"- "}]
[]
[]
[]
[null,{"$f":"'S6'!$B$55","v":""},null,null,null,null,null,null,null,null,null,null,null,null,null,null,null,null,null,null,{"$f":"'S6'!$B$56","v":""}]
[null,null,null,null,null,null,null,null,null,null,null,null,null,null,null,"Summe",null,null,null,null,null,null,null,null,null,null,null,null,null,null,null,null,null,null,"Summe"]
[null,"Aufgabe",null,null,{"$f":"IF('S6'!$G$18=\"\",\"\",'S6'!$G$18)","v":1},{"$f":"IF('S6'!$H$18=\"\",\"\",'S6'!$H$18)","v":2},{"$f":"IF('S6'!$I$18=\"\",\"\",'S6'!$I$18)","v":3},{"$f":"IF('S6'!$J$18=\"\",\"\",'S6'!$J$18)","v":""},{"$f":"IF('S6'!$K$18=\"\",\"\",'S6'!$K$18)","v":""},{"$f":"IF('S6'!$L$18=\"\",\"\",'S6'!$L$18)","v":""},{"$f":"IF('S6'!$M$18=\"\",\"\",'S6'!$M$18)","v":""},{"$f":"IF('S6'!$N$18=\"\",\"\",'S6'!$N$18)","v":""},{"$f":"IF('S6'!$O$18=\"\",\"\",'S6'!$O$18)","v":""},{"$f":"IF('S6'!$P$18=\"\",\"\",'S6'!$P$18)","v":""},null,{"$f":"IF(VLOOKUP(B192,'S6'!$B$23:$Z$57,5,FALSE)=\"\",\"\",VLOOKUP(B192,'S6'!$B$23:$Z$57,5,FALSE))","v":0},null,null,null,null,"Aufgabe",null,null,{"$f":"IF('S6'!$G$18=\"\",\"\",'S6'!$G$18)","v":1},{"$f":"IF('S6'!$H$18=\"\",\"\",'S6'!$H$18)","v":2},{"$f":"IF('S6'!$I$18=\"\",\"\",'S6'!$I$18)","v":3},{"$f":"IF('S6'!$J$18=\"\",\"\",'S6'!$J$18)","v":""},{"$f":"IF('S6'!$K$18=\"\",\"\",'S6'!$K$18)","v":""},{"$f":"IF('S6'!$L$18=\"\",\"\",'S6'!$L$18)","v":""},{"$f":"IF('S6'!$M$18=\"\",\"\",'S6'!$M$18)","v":""},{"$f":"IF('S6'!$N$18=\"\",\"\",'S6'!$N$18)","v":""},{"$f":"IF('S6'!$O$18=\"\",\"\",'S6'!$O$18)","v":""},{"$f":"IF('S6'!$P$18=\"\",\"\",'S6'!$P$18)","v":""},null,{"$f":"IF(VLOOKUP(U192,'S6'!$B$23:$Z$57,5,FALSE)=\"\",\"\",VLOOKUP(U192,'S6'!$B$23:$Z$57,5,FALSE))","v":0}]
[null,"erreicht",null,null,{"$f":"IF(VLOOKUP(B192,'S6'!$B$23:$Z$57,6,FALSE)=\"\",\"\",VLOOKUP(B192,'S6'!$B$23:$Z$57,6,FALSE))","v":"."},{"$f":"IF(VLOOKUP(B192,'S6'!$B$23:$Z$57,7,FALSE)=\"\",\"\",VLOOKUP(B192,'S6'!$B$23:$Z$57,7,FALSE))","v":""},{"$f":"IF(VLOOKUP(B192,'S6'!$B$23:$Z$57,8,FALSE)=\"\",\"\",VLOOKUP(B192,'S6'!$B$23:$Z$57,8,FALSE))","v":""},{"$f":"IF(VLOOKUP(B192,'S6'!$B$23:$Z$57,9,FALSE)=\"\",\"\",VLOOKUP(B192,'S6'!$B$23:$Z$57,9,FALSE))","v":""},{"$f":"IF(VLOOKUP(B192,'S6'!$B$23:$Z$57,10,FALSE)=\"\",\"\",VLOOKUP(B192,'S6'!$B$23:$Z$57,10,FALSE))","v":""},{"$f":"IF(VLOOKUP(B192,'S6'!$B$23:$Z$57,11,FALSE)=\"\",\"\",VLOOKUP(B192,'S6'!$B$23:$Z$57,11,FALSE))","v":""},{"$f":"IF(VLOOKUP(B192,'S6'!$B$23:$Z$57,12,FALSE)=\"\",\"\",VLOOKUP(B192,'S6'!$B$23:$Z$57,12,FALSE))","v":""},{"$f":"IF(VLOOKUP(B192,'S6'!$B$23:$Z$57,13,FALSE)=\"\",\"\",VLOOKUP(B192,'S6'!$B$23:$Z$57,13,FALSE))","v":""},{"$f":"IF(VLOOKUP(B192,'S6'!$B$23:$Z$57,14,FALSE)=\"\",\"\",VLOOKUP(B192,'S6'!$B$23:$Z$57,14,FALSE))","v":""},{"$f":"IF(VLOOKUP(B192,'S6'!$B$23:$Z$57,15,FALSE)=\"\",\"\",VLOOKUP(B192,'S6'!$B$23:$Z$57,15,FALSE))","v":""},null,null,null,null,null,null,"erreicht",null,null,{"$f":"IF(VLOOKUP(U192,'S6'!$B$23:$Z$57,6,FALSE)=\"\",\"\",VLOOKUP(U192,'S6'!$B$23:$Z$57,6,FALSE))","v":"."},{"$f":"IF(VLOOKUP(U192,'S6'!$B$23:$Z$57,7,FALSE)=\"\",\"\",VLOOKUP(U192,'S6'!$B$23:$Z$57,7,FALSE))","v":""},{"$f":"IF(VLOOKUP(U192,'S6'!$B$23:$Z$57,8,FALSE)=\"\",\"\",VLOOKUP(U192,'S6'!$B$23:$Z$57,8,FALSE))","v":""},{"$f":"IF(VLOOKUP(U192,'S6'!$B$23:$Z$57,9,FALSE)=\"\",\"\",VLOOKUP(U192,'S6'!$B$23:$Z$57,9,FALSE))","v":""},{"$f":"IF(VLOOKUP(U192,'S6'!$B$23:$Z$57,10,FALSE)=\"\",\"\",VLOOKUP(U192,'S6'!$B$23:$Z$57,10,FALSE))","v":""},{"$f":"IF(VLOOKUP(U192,'S6'!$B$23:$Z$57,11,FALSE)=\"\",\"\",VLOOKUP(U192,'S6'!$B$23:$Z$57,11,FALSE))","v":""},{"$f":"IF(VLOOKUP(U192,'S6'!$B$23:$Z$57,12,FALSE)=\"\",\"\",VLOOKUP(U192,'S6'!$B$23:$Z$57,12,FALSE))","v":""},{"$f":"IF(VLOOKUP(U192,'S6'!$B$23:$Z$57,13,FALSE)=\"\",\"\",VLOOKUP(U192,'S6'!$B$23:$Z$57,13,FALSE))","v":""},{"$f":"IF(VLOOKUP(U192,'S6'!$B$23:$Z$57,14,FALSE)=\"\",\"\",VLOOKUP(U192,'S6'!$B$23:$Z$57,14,FALSE))","v":""},{"$f":"IF(VLOOKUP(U192,'S6'!$B$23:$Z$57,15,FALSE)=\"\",\"\",VLOOKUP(U192,'S6'!$B$23:$Z$57,15,FALSE))","v":""}]
[null,"von",null,null,{"$f":"IF('S6'!$G$21=\"\",\"\",'S6'!$G$21)","v":""},{"$f":"IF('S6'!$H$21=\"\",\"\",'S6'!$H$21)","v":""},{"$f":"IF('S6'!$I$21=\"\",\"\",'S6'!$I$21)","v":""},{"$f":"IF('S6'!$J$21=\"\",\"\",'S6'!$J$21)","v":""},{"$f":"IF('S6'!$K$21=\"\",\"\",'S6'!$K$21)","v":""},{"$f":"IF('S6'!$L$21=\"\",\"\",'S6'!$L$21)","v":""},{"$f":"IF('S6'!$M$21=\"\",\"\",'S6'!$M$21)","v":""},{"$f":"IF('S6'!$N$21=\"\",\"\",'S6'!$N$21)","v":""},{"$f":"IF('S6'!$O$21=\"\",\"\",'S6'!$O$21)","v":""},{"$f":"IF('S6'!$P$21=\"\",\"\",'S6'!$P$21)","v":""},null,"von",null,null,null,null,"von",null,null,{"$f":"IF('S6'!$G$21=\"\",\"\",'S6'!$G$21)","v":""},{"$f":"IF('S6'!$H$21=\"\",\"\",'S6'!$H$21)","v":""},{"$f":"IF('S6'!$I$21=\"\",\"\",'S6'!$I$21)","v":""},{"$f":"IF('S6'!$J$21=\"\",\"\",'S6'!$J$21)","v":""},{"$f":"IF('S6'!$K$21=\"\",\"\",'S6'!$K$21)","v":""},{"$f":"IF('S6'!$L$21=\"\",\"\",'S6'!$L$21)","v":""},{"$f":"IF('S6'!$M$21=\"\",\"\",'S6'!$M$21)","v":""},{"$f":"IF('S6'!$N$21=\"\",\"\",'S6'!$N$21)","v":""},{"$f":"IF('S6'!$O$21=\"\",\"\",'S6'!$O$21)","v":""},{"$f":"IF('S6'!$P$21=\"\",\"\",'S6'!$P$21)","v":""},null,"von"]
[null,null,null,null,null,null,null,null,null,null,null,null,null,null,null,{"$f":"'S6'!$H$12","v":0},null,null,null,null,null,null,null,null,null,null,null,null,null,null,null,null,null,null,{"$f":"'S6'!$H$12","v":0}]
[null,{"$f":"IF('S6'!$Q$18=\"\",\"\",\"Aufgabe\")","v":""},null,null,{"$f":"IF('S6'!$Q$18=\"\",\"\",'S6'!$Q$18)","v":""},{"$f":"IF('S6'!$R$18=\"\",\"\",'S6'!$R$18)","v":""},{"$f":"IF('S6'!$S$18=\"\",\"\",'S6'!$S$18)","v":""},{"$f":"IF('S6'!$T$18=\"\",\"\",'S6'!$T$18)","v":""},{"$f":"IF('S6'!$U$18=\"\",\"\",'S6'!$U$18)","v":""},{"$f":"IF('S6'!$V$18=\"\",\"\",'S6'!$V$18)","v":""},{"$f":"IF('S6'!$W$18=\"\",\"\",'S6'!$W$18)","v":""},{"$f":"IF('S6'!$X$18=\"\",\"\",'S6'!$X$18)","v":""},{"$f":"IF('S6'!$Y$18=\"\",\"\",'S6'!$Y$18)","v":""},{"$f":"IF('S6'!$Z$18=\"\",\"\",'S6'!$Z$18)","v":""},null,null,null,null,null,null,{"$f":"IF('S6'!$Q$18=\"\",\"\",\"Aufgabe\")","v":""},null,null,{"$f":"IF('S6'!$Q$18=\"\",\"\",'S6'!$Q$18)","v":""},{"$f":"IF('S6'!$R$18=\"\",\"\",'S6'!$R$18)","v":""},{"$f":"IF('S6'!$S$18=\"\",\"\",'S6'!$S$18)","v":""},{"$f":"IF('S6'!$T$18=\"\",\"\",'S6'!$T$18)","v":""},{"$f":"IF('S6'!$U$18=\"\",\"\",'S6'!$U$18)","v":""},{"$f":"IF('S6'!$V$18=\"\",\"\",'S6'!$V$18)","v":""},{"$f":"IF('S6'!$W$18=\"\",\"\",'S6'!$W$18)","v":""},{"$f":"IF('S6'!$X$18=\"\",\"\",'S6'!$X$18)","v":""},{"$f":"IF('S6'!$Y$18=\"\",\"\",'S6'!$Y$18)","v":""},{"$f":"IF('S6'!$Z$18=\"\",\"\",'S6'!$Z$18)","v":""}]
[null,{"$f":"IF('S6'!$Q$18=\"\",\"\",\"erreicht\")","v":""},null,null,{"$f":"IF(VLOOKUP(B192,'S6'!$B$23:$Z$57,16,FALSE)=\"\",\"\",VLOOKUP(B192,'S6'!$B$23:$Z$57,16,FALSE))","v":""},{"$f":"IF(VLOOKUP(B192,'S6'!$B$23:$Z$57,17,FALSE)=\"\",\"\",VLOOKUP(B192,'S6'!$B$23:$Z$57,17,FALSE))","v":""},{"$f":"IF(VLOOKUP(B192,'S6'!$B$23:$Z$57,18,FALSE)=\"\",\"\",VLOOKUP(B192,'S6'!$B$23:$Z$57,18,FALSE))","v":""},{"$f":"IF(VLOOKUP(B192,'S6'!$B$23:$Z$57,19,FALSE)=\"\",\"\",VLOOKUP(B192,'S6'!$B$23:$Z$57,19,FALSE))","v":""},{"$f":"IF(VLOOKUP(B192,'S6'!$B$23:$Z$57,20,FALSE)=\"\",\"\",VLOOKUP(B192,'S6'!$B$23:$Z$57,20,FALSE))","v":""},{"$f":"IF(VLOOKUP(B192,'S6'!$B$23:$Z$57,21,FALSE)=\"\",\"\",VLOOKUP(B192,'S6'!$B$23:$Z$57,21,FALSE))","v":""},{"$f":"IF(VLOOKUP(B192,'S6'!$B$23:$Z$57,22,FALSE)=\"\",\"\",VLOOKUP(B192,'S6'!$B$23:$Z$57,22,FALSE))","v":""},{"$f":"IF(VLOOKUP(B192,'S6'!$B$23:$Z$57,23,FALSE)=\"\",\"\",VLOOKUP(B192,'S6'!$B$23:$Z$57,23,FALSE))","v":""},{"$f":"IF(VLOOKUP(B192,'S6'!$B$23:$Z$57,24,FALSE)=\"\",\"\",VLOOKUP(B192,'S6'!$B$23:$Z$57,24,FALSE))","v":""},{"$f":"IF(VLOOKUP(B192,'S6'!$B$23:$Z$57,25,FALSE)=\"\",\"\",VLOOKUP(B192,'S6'!$B$23:$Z$57,25,FALSE))","v":""},null,"Note",null,null,null,null,{"$f":"IF('S6'!$Q$18=\"\",\"\",\"erreicht\")","v":""},null,null,{"$f":"IF(VLOOKUP(U192,'S6'!$B$23:$Z$57,16,FALSE)=\"\",\"\",VLOOKUP(U192,'S6'!$B$23:$Z$57,16,FALSE))","v":""},{"$f":"IF(VLOOKUP(U192,'S6'!$B$23:$Z$57,17,FALSE)=\"\",\"\",VLOOKUP(U192,'S6'!$B$23:$Z$57,17,FALSE))","v":""},{"$f":"IF(VLOOKUP(U192,'S6'!$B$23:$Z$57,18,FALSE)=\"\",\"\",VLOOKUP(U192,'S6'!$B$23:$Z$57,18,FALSE))","v":""},{"$f":"IF(VLOOKUP(U192,'S6'!$B$23:$Z$57,19,FALSE)=\"\",\"\",VLOOKUP(U192,'S6'!$B$23:$Z$57,19,FALSE))","v":""},{"$f":"IF(VLOOKUP(U192,'S6'!$B$23:$Z$57,20,FALSE)=\"\",\"\",VLOOKUP(U192,'S6'!$B$23:$Z$57,20,FALSE))","v":""},{"$f":"IF(VLOOKUP(U192,'S6'!$B$23:$Z$57,21,FALSE)=\"\",\"\",VLOOKUP(U192,'S6'!$B$23:$Z$57,21,FALSE))","v":""},{"$f":"IF(VLOOKUP(U192,'S6'!$B$23:$Z$57,22,FALSE)=\"\",\"\",VLOOKUP(U192,'S6'!$B$23:$Z$57,22,FALSE))","v":""},{"$f":"IF(VLOOKUP(U192,'S6'!$B$23:$Z$57,23,FALSE)=\"\",\"\",VLOOKUP(U192,'S6'!$B$23:$Z$57,23,FALSE))","v":""},{"$f":"IF(VLOOKUP(U192,'S6'!$B$23:$Z$57,24,FALSE)=\"\",\"\",VLOOKUP(U192,'S6'!$B$23:$Z$57,24,FALSE))","v":""},{"$f":"IF(VLOOKUP(U192,'S6'!$B$23:$Z$57,25,FALSE)=\"\",\"\",VLOOKUP(U192,'S6'!$B$23:$Z$57,25,FALSE))","v":""},null,"Note"]
[null,{"$f":"IF('S6'!$Q$18=\"\",\"\",\"von\")","v":""},null,null,{"$f":"IF('S6'!$Q$21=\"\",\"\",'S6'!$Q$21)","v":""},{"$f":"IF('S6'!$R$21=\"\",\"\",'S6'!$R$21)","v":""},{"$f":"IF('S6'!$S$21=\"\",\"\",'S6'!$S$21)","v":""},{"$f":"IF('S6'!$T$21=\"\",\"\",'S6'!$T$21)","v":""},{"$f":"IF('S6'!$U$21=\"\",\"\",'S6'!$U$21)","v":""},{"$f":"IF('S6'!$V$21=\"\",\"\",'S6'!$V$21)","v":""},{"$f":"IF('S6'!$W$21=\"\",\"\",'S6'!$W$21)","v":""},{"$f":"IF('S6'!$X$21=\"\",\"\",'S6'!$X$21)","v":""},{"$f":"IF('S6'!$Y$21=\"\",\"\",'S6'!$Y$21)","v":""},{"$f":"IF('S6'!$Z$21=\"\",\"\",'S6'!$Z$21)","v":""},null,{"$f":"IF(VLOOKUP(B192,'S6'!$B$23:$Z$57,2,FALSE)=\"\",\"\",CONCATENATE(VLOOKUP(B192,'S6'!$B$23:$Z$57,2,FALSE),\" \",VLOOKUP(B192,'S6'!$B$23:$Z$57,3,FALSE)))","v":"- "},null,null,null,null,{"$f":"IF('S6'!$Q$18=\"\",\"\",\"von\")","v":""},null,null,{"$f":"IF('S6'!$Q$21=\"\",\"\",'S6'!$Q$21)","v":""},{"$f":"IF('S6'!$R$21=\"\",\"\",'S6'!$R$21)","v":""},{"$f":"IF('S6'!$S$21=\"\",\"\",'S6'!$S$21)","v":""},{"$f":"IF('S6'!$T$21=\"\",\"\",'S6'!$T$21)","v":""},{"$f":"IF('S6'!$U$21=\"\",\"\",'S6'!$U$21)","v":""},{"$f":"IF('S6'!$V$21=\"\",\"\",'S6'!$V$21)","v":""},{"$f":"IF('S6'!$W$21=\"\",\"\",'S6'!$W$21)","v":""},{"$f":"IF('S6'!$X$21=\"\",\"\",'S6'!$X$21)","v":""},{"$f":"IF('S6'!$Y$21=\"\",\"\",'S6'!$Y$21)","v":""},{"$f":"IF('S6'!$Z$21=\"\",\"\",'S6'!$Z$21)","v":""},null,{"$f":"IF(VLOOKUP(U192,'S6'!$B$23:$Z$57,2,FALSE)=\"\",\"\",CONCATENATE(VLOOKUP(U192,'S6'!$B$23:$Z$57,2,FALSE),\" \",VLOOKUP(U192,'S6'!$B$23:$Z$57,3,FALSE)))","v":"- "}]
[]
[]
[]
[null,{"$f":"'S6'!$B$57","v":""}]
[null,null,null,null,null,null,null,null,null,null,null,null,null,null,null,"Summe"]
[null,"Aufgabe",null,null,{"$f":"IF('S6'!$G$18=\"\",\"\",'S6'!$G$18)","v":1},{"$f":"IF('S6'!$H$18=\"\",\"\",'S6'!$H$18)","v":2},{"$f":"IF('S6'!$I$18=\"\",\"\",'S6'!$I$18)","v":3},{"$f":"IF('S6'!$J$18=\"\",\"\",'S6'!$J$18)","v":""},{"$f":"IF('S6'!$K$18=\"\",\"\",'S6'!$K$18)","v":""},{"$f":"IF('S6'!$L$18=\"\",\"\",'S6'!$L$18)","v":""},{"$f":"IF('S6'!$M$18=\"\",\"\",'S6'!$M$18)","v":""},{"$f":"IF('S6'!$N$18=\"\",\"\",'S6'!$N$18)","v":""},{"$f":"IF('S6'!$O$18=\"\",\"\",'S6'!$O$18)","v":""},{"$f":"IF('S6'!$P$18=\"\",\"\",'S6'!$P$18)","v":""},null,{"$f":"IF(VLOOKUP(B204,'S6'!$B$23:$Z$57,5,FALSE)=\"\",\"\",VLOOKUP(B204,'S6'!$B$23:$Z$57,5,FALSE))","v":0}]
[null,"erreicht",null,null,{"$f":"IF(VLOOKUP(B204,'S6'!$B$23:$Z$57,6,FALSE)=\"\",\"\",VLOOKUP(B204,'S6'!$B$23:$Z$57,6,FALSE))","v":"."},{"$f":"IF(VLOOKUP(B204,'S6'!$B$23:$Z$57,7,FALSE)=\"\",\"\",VLOOKUP(B204,'S6'!$B$23:$Z$57,7,FALSE))","v":""},{"$f":"IF(VLOOKUP(B204,'S6'!$B$23:$Z$57,8,FALSE)=\"\",\"\",VLOOKUP(B204,'S6'!$B$23:$Z$57,8,FALSE))","v":""},{"$f":"IF(VLOOKUP(B204,'S6'!$B$23:$Z$57,9,FALSE)=\"\",\"\",VLOOKUP(B204,'S6'!$B$23:$Z$57,9,FALSE))","v":""},{"$f":"IF(VLOOKUP(B204,'S6'!$B$23:$Z$57,10,FALSE)=\"\",\"\",VLOOKUP(B204,'S6'!$B$23:$Z$57,10,FALSE))","v":""},{"$f":"IF(VLOOKUP(B204,'S6'!$B$23:$Z$57,11,FALSE)=\"\",\"\",VLOOKUP(B204,'S6'!$B$23:$Z$57,11,FALSE))","v":""},{"$f":"IF(VLOOKUP(B204,'S6'!$B$23:$Z$57,12,FALSE)=\"\",\"\",VLOOKUP(B204,'S6'!$B$23:$Z$57,12,FALSE))","v":""},{"$f":"IF(VLOOKUP(B204,'S6'!$B$23:$Z$57,13,FALSE)=\"\",\"\",VLOOKUP(B204,'S6'!$B$23:$Z$57,13,FALSE))","v":""},{"$f":"IF(VLOOKUP(B204,'S6'!$B$23:$Z$57,14,FALSE)=\"\",\"\",VLOOKUP(B204,'S6'!$B$23:$Z$57,14,FALSE))","v":""},{"$f":"IF(VLOOKUP(B204,'S6'!$B$23:$Z$57,15,FALSE)=\"\",\"\",VLOOKUP(B204,'S6'!$B$23:$Z$57,15,FALSE))","v":""}]
[null,"von",null,null,{"$f":"IF('S6'!$G$21=\"\",\"\",'S6'!$G$21)","v":""},{"$f":"IF('S6'!$H$21=\"\",\"\",'S6'!$H$21)","v":""},{"$f":"IF('S6'!$I$21=\"\",\"\",'S6'!$I$21)","v":""},{"$f":"IF('S6'!$J$21=\"\",\"\",'S6'!$J$21)","v":""},{"$f":"IF('S6'!$K$21=\"\",\"\",'S6'!$K$21)","v":""},{"$f":"IF('S6'!$L$21=\"\",\"\",'S6'!$L$21)","v":""},{"$f":"IF('S6'!$M$21=\"\",\"\",'S6'!$M$21)","v":""},{"$f":"IF('S6'!$N$21=\"\",\"\",'S6'!$N$21)","v":""},{"$f":"IF('S6'!$O$21=\"\",\"\",'S6'!$O$21)","v":""},{"$f":"IF('S6'!$P$21=\"\",\"\",'S6'!$P$21)","v":""},null,"von"]
[null,null,null,null,null,null,null,null,null,null,null,null,null,null,null,{"$f":"'S6'!$H$12","v":0}]
[null,{"$f":"IF('S6'!$Q$18=\"\",\"\",\"Aufgabe\")","v":""},null,null,{"$f":"IF('S6'!$Q$18=\"\",\"\",'S6'!$Q$18)","v":""},{"$f":"IF('S6'!$R$18=\"\",\"\",'S6'!$R$18)","v":""},{"$f":"IF('S6'!$S$18=\"\",\"\",'S6'!$S$18)","v":""},{"$f":"IF('S6'!$T$18=\"\",\"\",'S6'!$T$18)","v":""},{"$f":"IF('S6'!$U$18=\"\",\"\",'S6'!$U$18)","v":""},{"$f":"IF('S6'!$V$18=\"\",\"\",'S6'!$V$18)","v":""},{"$f":"IF('S6'!$W$18=\"\",\"\",'S6'!$W$18)","v":""},{"$f":"IF('S6'!$X$18=\"\",\"\",'S6'!$X$18)","v":""},{"$f":"IF('S6'!$Y$18=\"\",\"\",'S6'!$Y$18)","v":""},{"$f":"IF('S6'!$Z$18=\"\",\"\",'S6'!$Z$18)","v":""}]
[null,{"$f":"IF('S6'!$Q$18=\"\",\"\",\"erreicht\")","v":""},null,null,{"$f":"IF(VLOOKUP(B204,'S6'!$B$23:$Z$57,16,FALSE)=\"\",\"\",VLOOKUP(B204,'S6'!$B$23:$Z$57,16,FALSE))","v":""},{"$f":"IF(VLOOKUP(B204,'S6'!$B$23:$Z$57,17,FALSE)=\"\",\"\",VLOOKUP(B204,'S6'!$B$23:$Z$57,17,FALSE))","v":""},{"$f":"IF(VLOOKUP(B204,'S6'!$B$23:$Z$57,18,FALSE)=\"\",\"\",VLOOKUP(B204,'S6'!$B$23:$Z$57,18,FALSE))","v":""},{"$f":"IF(VLOOKUP(B204,'S6'!$B$23:$Z$57,19,FALSE)=\"\",\"\",VLOOKUP(B204,'S6'!$B$23:$Z$57,19,FALSE))","v":""},{"$f":"IF(VLOOKUP(B204,'S6'!$B$23:$Z$57,20,FALSE)=\"\",\"\",VLOOKUP(B204,'S6'!$B$23:$Z$57,20,FALSE))","v":""},{"$f":"IF(VLOOKUP(B204,'S6'!$B$23:$Z$57,21,FALSE)=\"\",\"\",VLOOKUP(B204,'S6'!$B$23:$Z$57,21,FALSE))","v":""},{"$f":"IF(VLOOKUP(B204,'S6'!$B$23:$Z$57,22,FALSE)=\"\",\"\",VLOOKUP(B204,'S6'!$B$23:$Z$57,22,FALSE))","v":""},{"$f":"IF(VLOOKUP(B204,'S6'!$B$23:$Z$57,23,FALSE)=\"\",\"\",VLOOKUP(B204,'S6'!$B$23:$Z$57,23,FALSE))","v":""},{"$f":"IF(VLOOKUP(B204,'S6'!$B$23:$Z$57,24,FALSE)=\"\",\"\",VLOOKUP(B204,'S6'!$B$23:$Z$57,24,FALSE))","v":""},{"$f":"IF(VLOOKUP(B204,'S6'!$B$23:$Z$57,25,FALSE)=\"\",\"\",VLOOKUP(B204,'S6'!$B$23:$Z$57,25,FALSE))","v":""},null,"Note"]
[null,{"$f":"IF('S6'!$Q$18=\"\",\"\",\"von\")","v":""},null,null,{"$f":"IF('S6'!$Q$21=\"\",\"\",'S6'!$Q$21)","v":""},{"$f":"IF('S6'!$R$21=\"\",\"\",'S6'!$R$21)","v":""},{"$f":"IF('S6'!$S$21=\"\",\"\",'S6'!$S$21)","v":""},{"$f":"IF('S6'!$T$21=\"\",\"\",'S6'!$T$21)","v":""},{"$f":"IF('S6'!$U$21=\"\",\"\",'S6'!$U$21)","v":""},{"$f":"IF('S6'!$V$21=\"\",\"\",'S6'!$V$21)","v":""},{"$f":"IF('S6'!$W$21=\"\",\"\",'S6'!$W$21)","v":""},{"$f":"IF('S6'!$X$21=\"\",\"\",'S6'!$X$21)","v":""},{"$f":"IF('S6'!$Y$21=\"\",\"\",'S6'!$Y$21)","v":""},{"$f":"IF('S6'!$Z$21=\"\",\"\",'S6'!$Z$21)","v":""},null,{"$f":"IF(VLOOKUP(B204,'S6'!$B$23:$Z$57,2,FALSE)=\"\",\"\",CONCATENATE(VLOOKUP(B204,'S6'!$B$23:$Z$57,2,FALSE),\" \",VLOOKUP(B204,'S6'!$B$23:$Z$57,3,FALSE)))","v":"- "}]

{"sheet":"L6","index":27,"n_rows":57,"n_cols":27,"rows_kept":57,"cut":false,"hidden":false,"merged":[[12,2,12,3],[13,2,13,3],[14,2,15,11],[0,1,4,3],[2,6,4,6],[8,2,8,11],[9,2,9,3],[10,2,10,3],[11,2,11,3]]}
[null,{"$f":"Dateneingabe!A1","v":"Mustergymnasium\nMusterstraße 1\n12345 Musterstadt"}]
[null,null,null,null,null,"Schuljahr:",{"$f":"Dateneingabe!F2","v":0}]
[null,null,null,null,null,null,{"$f":"Dateneingabe!F3","v":0},null,null,null,null,null,null,null,null,null,null,null,null,null,null,null,null,null,null,null,1]
[null,null,null,null,null,"Klasse:"]
[]
[]
[null,{"$f":"'S6'!B7","v":"Schriftliche Arbeit 6"}]
[]
[null,"Art der Arbeit:",{"$f":"'S6'!C9","v":0}]
[null,"Geschrieben am:",{"$f":"'S6'!C10","v":"00:00:00"}]
[null,"Arbeitszeit:",{"$f":"'S6'!C11","v":0}]
[null,"Zurückgegeben am:",{"$f":"'S6'!C12","v":"00:00:00"},null,null,"Gewichtung der Arbeit:",null,null,{"$f":"'S6'!T12","v":1}]
[null,"Dem Direktorat vorgelegt:",{"$f":"'S6'!C13","v":"00:00:00"}]
[null,"Notenlisteneintrag am:",{"$f":"'S6'!C14","v":"00:00:00"}]
[null,"Lehrstoff:",{"$f":"'S6'!C15","v":0}]
[]
[]
[]
[null,"Name","Note",null,null,null,null,"Auswertung Häufigkeit"]
[null,null,null,null,null,null,null,"Note","Anzahl"]
[]
[null,null,null,null,null,null,null,"0",{"$f":"'S6'!AF25","v":0}]
[1,{"$f":"'S6'!B23","v":""},{"$f":"'S6'!C23","v":"-"},null,null,null,null,1,{"$f":"'S6'!AF26","v":0}]
[2,{"$f":"'S6'!B24","v":""},{"$f":"'S6'!C24","v":"-"},null,null,null,null,2,{"$f":"'S6'!AF27","v":0}]
[3,{"$f":"'S6'!B25","v":""},{"$f":"'S6'!C25","v":"-"},null,null,null,null,3,{"$f":"'S6'!AF28","v":0}]
[4,{"$f":"'S6'!B26","v":""},{"$f":"'S6'!C26","v":"-"},null,null,null,null,4,{"$f":"'S6'!AF29","v":0}]
[5,{"$f":"'S6'!B27","v":""},{"$f":"'S6'!C27","v":"-"},null,null,null,null,5,{"$f":"'S6'!AF30","v":0}]
[6,{"$f":"'S6'!B28","v":""},{"$f":"'S6'!C28","v":"-"},null,null,null,null,6,{"$f":"'S6'!AF31","v":0}]
[7,{"$f":"'S6'!B29","v":""},{"$f":"'S6'!C29","v":"-"},null,null,null,null,7,{"$f":"'S6'!AF32","v":0}]
[8,{"$f":"'S6'!B30","v":""},{"$f":"'S6'!C30","v":"-"},null,null,null,null,8,{"$f":"'S6'!AF33","v":0}]
[9,{"$f":"'S6'!B31","v":""},{"$f":"'S6'!C31","v":"-"},null,null,null,null,9,{"$f":"'S6'!AF34","v":0}]
[10,{"$f":"'S6'!B32","v":""},{"$f":"'S6'!C32","v":"-"},null,null,null,null,10,{"$f":"'S6'!AF35","v":0}]
[11,{"$f":"'S6'!B33","v":""},{"$f":"'S6'!C33","v":"-"},null,null,null,null,11,{"$f":"'S6'!AF36","v":0}]
[12,{"$f":"'S6'!B34","v":""},{"$f":"'S6'!C34","v":"-"},null,null,null,null,12,{"$f":"'S6'!AF37","v":0}]
[13,{"$f":"'S6'!B35","v":""},{"$f":"'S6'!C35","v":"-"},null,null,null,null,13,{"$f":"'S6'!AF38","v":0}]
[14,{"$f":"'S6'!B36","v":""},{"$f":"'S6'!C36","v":"-"},null,null,null,null,14,{"$f":"'S6'!AF39","v":0}]
[15,{"$f":"'S6'!B37","v":""},{"$f":"'S6'!C37","v":"-"},null,null,null,null,15,{"$f":"'S6'!AF40","v":0}]
[16,{"$f":"'S6'!B38","v":""},{"$f":"'S6'!C38","v":"-"}]
[17,{"$f":"'S6'!B39","v":""},{"$f":"'S6'!C39","v":"-"}]
[18,{"$f":"'S6'!B40","v":""},{"$f":"'S6'!C40","v":"-"}]
[19,{"$f":"'S6'!B41","v":""},{"$f":"'S6'!C41","v":"-"}]
[20,{"$f":"'S6'!B42","v":""},{"$f":"'S6'!C42","v":"-"}]
[21,{"$f":"'S6'!B43","v":""},{"$f":"'S6'!C43","v":"-"}]
[22,{"$f":"'S6'!B44","v":""},{"$f":"'S6'!C44","v":"-"}]
[23,{"$f":"'S6'!B45","v":""},{"$f":"'S6'!C45","v":"-"}]
[24,{"$f":"'S6'!B46","v":""},{"$f":"'S6'!C46","v":"-"}]
[25,{"$f":"'S6'!B47","v":""},{"$f":"'S6'!C47","v":"-"}]
[26,{"$f":"'S6'!B48","v":""},{"$f":"'S6'!C48","v":"-"}]
[27,{"$f":"'S6'!B49","v":""},{"$f":"'S6'!C49","v":"-"}]
[28,{"$f":"'S6'!B50","v":""},{"$f":"'S6'!C50","v":"-"}]
[29,{"$f":"'S6'!B51","v":""},{"$f":"'S6'!C51","v":"-"}]
[30,{"$f":"'S6'!B52","v":""},{"$f":"'S6'!C52","v":"-"}]
[31,{"$f":"'S6'!B53","v":""},{"$f":"'S6'!C53","v":"-"}]
[32,{"$f":"'S6'!B54","v":""},{"$f":"'S6'!C54","v":"-"}]
[33,{"$f":"'S6'!B55","v":""},{"$f":"'S6'!C55","v":"-"},null,null,null,"Notendurchschnitt:",null,{"$f":"'S6'!AD60","v":"-"}]
[34,{"$f":"'S6'!B56","v":""},{"$f":"'S6'!C56","v":"-"}]
[35,{"$f":"'S6'!B57","v":""},{"$f":"'S6'!C57","v":"-"},null,null,null,"% 5er und 6er",null,{"$f":"'S6'!AD62","v":"0 %"}]

{"sheet":"M6","index":28,"n_rows":37,"n_cols":27,"rows_kept":37,"cut":false,"hidden":false,"merged":[[32,18,32,19],[4,17,4,23],[16,18,16,22],[18,15,19,23],[26,11,26,13],[26,14,26,16],[26,17,26,19],[26,20,26,22],[26,23,26,25],[6,12,6,23],[8,16,8,20],[10,15,10,20],[12,17,12,22],[14,20,14,23],[0,11,0,26]]}
[null,null,null,null,null,null,null,null,null,null,null,{"$f":"Dateneingabe!I28","v":0}]
[]
[null,null,null,null,null,null,null,null,null,null,null,"ABA",null,{"$f":"Dateneingabe!F6","v":0},null,null,null,null,null,null,null,"Schuljahr",null,null,{"$f":"Dateneingabe!F2","v":0}]
[]
[null,null,null,null,null,null,null,null,null,null,null,null,"Schülerarbeiten",null,null,null,null,"________________________"]
[]
[null,null,null,null,null,null,null,null,null,null,null,null,"_________________________________"]
[]
[null,null,null,null,null,null,null,null,null,null,null,"Geschrieben am:",null,null,null,null,{"$f":"'S6'!C10","v":"00:00:00"}]
[]
[null,null,null,null,null,null,null,null,null,null,null,"Arbeitszeit: ",null,null,null,{"$f":"'S6'!C11","v":0}]
[]
[null,null,null,null,null,null,null,null,null,null,null,"Zurückgegeben am:",null,null,null,null,null,{"$f":"'S6'!C12","v":"00:00:00"}]
[]
[null,null,null,null,null,null,null,null,null,null,null,"Dem Direktorat vorgelegt am:",null,null,null,null,null,null,null,null,{"$f":"'S6'!C13","v":"00:00:00"}]
[]
[null,null,null,null,null,null,null,null,null,null,null,"Notenlisteneintrag am: ",null,null,null,null,null,null,{"$f":"'S6'!C14","v":"00:00:00"}]
[]
[null,null,null,null,null,null,null,null,null,null,null,"Lehrstoff:",null,null,null,{"$f":"'S6'!C15","v":0}]
[]
[]
[null,null,null,null,null,null,null,null,null,null,null,"Nicht mitgeschrieben haben:",null,null,null,null,null,null,null,"_________________"]
[]
[]
[null,null,null,null,null,null,null,null,null,null,null,"Notenstatistik:"]
[]
[null,null,null,null,null,null,null,null,null,null,null,1,null,null,2,null,null,3,null,null,4,null,null,5,null,null,6]
[null,null,null,null,null,null,null,null,null,null,null,15,14,13,12,11,10,9,8,7,6,5,4,3,2,1,0]
[null,null,null,null,null,null,null,null,null,null,null,{"$f":"'S6'!$AF40","v":0},{"$f":"'S6'!$AF39","v":0},{"$f":"'S6'!$AF38","v":0},{"$f":"'S6'!$AF37","v":0},{"$f":"'S6'!$AF36","v":0},{"$f":"'S6'!$AF35","v":0},{"$f":"'S6'!$AF34","v":0},{"$f":"'S6'!$AF33","v":0},{"$f":"'S6'!$AF32","v":0},{"$f":"'S6'!$AF31","v":0},{"$f":"'S6'!$AF30","v":0},{"$f":"'S6'!$AF29","v":0},{"$f":"'S6'!$AF28","v":0},{"$f":"'S6'!$AF27","v":0},{"$f":"'S6'!$AF26","v":0},{"$f":"'S6'!$AF25","v":0}]
[]
[null,null,null,null,null,null,null,null,null,null,null,"Punktedurchschnitt:",null,null,null,null,null,null,{"$f":"'S6'!AD60","v":"-"}]
[]
[null,null,null,null,null,null,null,null,null,null,null,"Anteil Note 5 und 6:",null,null,null,null,null,null,{"$f":"'S6'!AD62","v":"0 %"}]
[]
[]
[]
[null,null,null,null,null,null,null,null,null,null,null,"Unterschrift: __________________________"]

{"sheet":"E7","index":29,"n_rows":212,"n_cols":35,"rows_kept":212,"cut":false,"hidden":false,"merged":[[2,15,2,17],[2,34,2,36],[3,15,3,17],[3,34,3,36],[5,15,5,17],[5,34,5,36],[6,15,6,17],[6,34,6,36],[8,15,8,17],[8,34,8,36],[9,15,9,17],[9,34,9,36],[14,15,14,17],[14,34,14,36],[15,15,15,17],[15,34,15,36],[17,15,17,17],[17,34,17,36],[18,15,18,17],[18,34,18,36],[20,15,20,17],[20,34,20,36],[21,15,21,17],[21,34,21,36],[26,15,26,17],[26,34,26,36],[27,15,27,17],[27,34,27,36],[29,15,29,17],[29,34,29,36],[30,15,30,17],[30,34,30,36],[32,15,32,17],[32,34,32,36],[33,15,33,17],[33,34,33,36],[38,15,38,17],[38,34,38,36],[39,15,39,17],[39,34,39,36],[41,15,41,17],[41,34,41,36],[42,15,42,17],[42,34,42,36],[44,15,44,17],[44,34,44,36],[45,15,45,17],[45,34,45,36],[50,15,50,17],[50,34,50,36],[51,15,51,17],[51,34,51,36],[53,15,53,17],[53,34,53,36],[54,15,54,17],[54,34,54,36],[56,15,56,17],[56,34,56,36],[57,15,57,17],[57,34,57,36],[62,15,62,17],[62,34,62,36],[63,15,63,17],[63,34,63,36],[65,15,65,17],[65,34,65,36],[66,15,66,17],[66,34,66,36],[68,15,68,17],[68,34,68,36],[69,15,69,17],[69,34,69,36],[73,15,73,17],[73,34,73,36],[74,15,74,17],[74,34,74,36],[76,15,76,17],[76,34,76,36],[77,15,77,17],[77,34,77,36],[79,15,79,17],[79,34,79,36],[80,15,80,17],[80,34,80,36],[85,15,85,17],[85,34,85,36],[86,15,86,17],[86,34,86,36],[88,15,88,17],[88,34,88,36],[89,15,89,17],[89,34,89,36],[91,15,91,17],[91,34,91,36],[92,15,92,17],[92,34,92,36],[97,15,97,17],[97,34,97,36],[98,15,98,17],[98,34,98,36],[100,15,100,17],[100,34,100,36],[101,15,101,17],[101,34,101,36],[103,15,103,17],[103,34,103,36],[104,15,104,17],[104,34,104,36],[109,15,109,17],[109,34,109,36],[110,15,110,17],[110,34,110,36],[112,15,112,17],[112,34,112,36],[113,15,113,17],[113,34,113,36],[115,15,115,17],[115,34,115,36],[116,15,116,17],[116,34,116,36],[121,15,121,17],[121,34,121,36],[122,15,122,17],[122,34,122,36],[124,15,124,17],[124,34,124,36],[125,15,125,17],[125,34,125,36],[127,15,127,17],[127,34,127,36],[128,15,128,17],[128,34,128,36],[133,15,133,17],[133,34,133,36],[134,15,134,17],[134,34,134,36],[136,15,136,17],[136,34,136,36],[137,15,137,17],[137,34,137,36],[139,15,139,17],[139,34,139,36],[140,15,140,17],[140,34,140,36],[144,15,144,17],[144,34,144,36],[145,15,145,17],[145,34,145,36],[147,15,147,17],[147,34,147,36],[148,15,148,17],[148,34,148,36],[150,15,150,17],[150,34,150,36],[151,15,151,17],[151,34,151,36],[156,15,156,17],[156,34,156,36],[157,15,157,17],[157,34,157,36],[159,15,159,17],[159,34,159,36],[160,15,160,17],[160,34,160,36],[162,15,162,17],[162,34,162,36],[163,15,163,17],[163,34,163,36],[168,15,168,17],[168,34,168,36],[169,15,169,17],[169,34,169,36],[171,15,171,17],[171,34,171,36],[172,15,172,17],[172,34,172,36],[174,15,174,17],[174,34,174,36],[175,15,175,17],[175,34,175,36],[180,15,180,17],[180,34,180,36],[181,15,181,17],[181,34,181,36],[183,15,183,17],[183,34,183,36],[184,15,184,17],[184,34,184,36],[186,15,186,17],[186,34,186,36],[187,15,187,17],[187,34,187,36],[192,15,192,17],[192,34,192,36],[193,15,193,17],[193,34,193,36],[195,15,195,17],[195,34,195,36],[196,15,196,17],[196,34,196,36],[198,15,198,17],[198,34,198,36],[199,15,199,17],[199,34,199,36],[204,15,204,17],[204,34,204,36],[205,15,205,17],[205,34,205,36],[207,15,207,17],[207,34,207,36],[208,15,208,17],[208,34,208,36],[210,15,210,17],[210,34,210,36],[211,15,211,17],[211,34,211,36]]}
[]
[null,{"$f":"'S7'!$B$23","v":""},null,null,null,null,null,null,null,null,null,null,null,null,null,null,null,null,null,null,{"$f":"'S7'!$B$24","v":""}]
[null,null,null,null,null,null,null,null,null,null,null,null,null,null,null,"Summe",null,null,null,null,null,null,null,null,null,null,null,null,null,null,null,null,null,null,"Summe"]
[null,"Aufgabe",null,null,{"$f":"IF('S7'!$G$18=\"\",\"\",'S7'!$G$18)","v":1},{"$f":"IF('S7'!$H$18=\"\",\"\",'S7'!$H$18)","v":2},{"$f":"IF('S7'!$I$18=\"\",\"\",'S7'!$I$18)","v":3},{"$f":"IF('S7'!$J$18=\"\",\"\",'S7'!$J$18)","v":""},{"$f":"IF('S7'!$K$18=\"\",\"\",'S7'!$K$18)","v":""},{"$f":"IF('S7'!$L$18=\"\",\"\",'S7'!$L$18)","v":""},{"$f":"IF('S7'!$M$18=\"\",\"\",'S7'!$M$18)","v":""},{"$f":"IF('S7'!$N$18=\"\",\"\",'S7'!$N$18)","v":""},{"$f":"IF('S7'!$O$18=\"\",\"\",'S7'!$O$18)","v":""},{"$f":"IF('S7'!$P$18=\"\",\"\",'S7'!$P$18)","v":""},null,{"$f":"IF(VLOOKUP(B2,'S7'!$B$23:$Z$57,5,FALSE)=\"\",\"\",VLOOKUP(B2,'S7'!$B$23:$Z$57,5,FALSE))","v":0},null,null,null,null,"Aufgabe",null,null,{"$f":"IF('S7'!$G$18=\"\",\"\",'S7'!$G$18)","v":1},{"$f":"IF('S7'!$H$18=\"\",\"\",'S7'!$H$18)","v":2},{"$f":"IF('S7'!$I$18=\"\",\"\",'S7'!$I$18)","v":3},{"$f":"IF('S7'!$J$18=\"\",\"\",'S7'!$J$18)","v":""},{"$f":"IF('S7'!$K$18=\"\",\"\",'S7'!$K$18)","v":""},{"$f":"IF('S7'!$L$18=\"\",\"\",'S7'!$L$18)","v":""},{"$f":"IF('S7'!$M$18=\"\",\"\",'S7'!$M$18)","v":""},{"$f":"IF('S7'!$N$18=\"\",\"\",'S7'!$N$18)","v":""},{"$f":"IF('S7'!$O$18=\"\",\"\",'S7'!$O$18)","v":""},{"$f":"IF('S7'!$P$18=\"\",\"\",'S7'!$P$18)","v":""},null,{"$f":"IF(VLOOKUP(U2,'S7'!$B$23:$Z$57,5,FALSE)=\"\",\"\",VLOOKUP(U2,'S7'!$B$23:$Z$57,5,FALSE))","v":0}]
[null,"erreicht",null,null,{"$f":"IF(VLOOKUP(B2,'S7'!$B$23:$Z$57,6,FALSE)=\"\",\"\",VLOOKUP(B2,'S7'!$B$23:$Z$57,6,FALSE))","v":"."},{"$f":"IF(VLOOKUP(B2,'S7'!$B$23:$Z$57,7,FALSE)=\"\",\"\",VLOOKUP(B2,'S7'!$B$23:$Z$57,7,FALSE))","v":""},{"$f":"IF(VLOOKUP(B2,'S7'!$B$23:$Z$57,8,FALSE)=\"\",\"\",VLOOKUP(B2,'S7'!$B$23:$Z$57,8,FALSE))","v":""},{"$f":"IF(VLOOKUP(B2,'S7'!$B$23:$Z$57,9,FALSE)=\"\",\"\",VLOOKUP(B2,'S7'!$B$23:$Z$57,9,FALSE))","v":""},{"$f":"IF(VLOOKUP(B2,'S7'!$B$23:$Z$57,10,FALSE)=\"\",\"\",VLOOKUP(B2,'S7'!$B$23:$Z$57,10,FALSE))","v":""},{"$f":"IF(VLOOKUP(B2,'S7'!$B$23:$Z$57,11,FALSE)=\"\",\"\",VLOOKUP(B2,'S7'!$B$23:$Z$57,11,FALSE))","v":""},{"$f":"IF(VLOOKUP(B2,'S7'!$B$23:$Z$57,12,FALSE)=\"\",\"\",VLOOKUP(B2,'S7'!$B$23:$Z$57,12,FALSE))","v":""},{"$f":"IF(VLOOKUP(B2,'S7'!$B$23:$Z$57,13,FALSE)=\"\",\"\",VLOOKUP(B2,'S7'!$B$23:$Z$57,13,FALSE))","v":""},{"$f":"IF(VLOOKUP(B2,'S7'!$B$23:$Z$57,14,FALSE)=\"\",\"\",VLOOKUP(B2,'S7'!$B$23:$Z$57,14,FALSE))","v":""},{"$f":"IF(VLOOKUP(B2,'S7'!$B$23:$Z$57,15,FALSE)=\"\",\"\",VLOOKUP(B2,'S7'!$B$23:$Z$57,15,FALSE))","v":""},null,null,null,null,null,null,"erreicht",null,null,{"$f":"IF(VLOOKUP(U2,'S7'!$B$23:$Z$57,6,FALSE)=\"\",\"\",VLOOKUP(U2,'S7'!$B$23:$Z$57,6,FALSE))","v":"."},{"$f":"IF(VLOOKUP(U2,'S7'!$B$23:$Z$57,7,FALSE)=\"\",\"\",VLOOKUP(U2,'S7'!$B$23:$Z$57,7,FALSE))","v":""},{"$f":"IF(VLOOKUP(U2,'S7'!$B$23:$Z$57,8,FALSE)=\"\",\"\",VLOOKUP(U2,'S7'!$B$23:$Z$57,8,FALSE))","v":""},{"$f":"IF(VLOOKUP(U2,'S7'!$B$23:$Z$57,9,FALSE)=\"\",\"\",VLOOKUP(U2,'S7'!$B$23:$Z$57,9,FALSE))","v":""},{"$f":"IF(VLOOKUP(U2,'S7'!$B$23:$Z$57,10,FALSE)=\"\",\"\",VLOOKUP(U2,'S7'!$B$23:$Z$57,10,FALSE))","v":""},{"$f":"IF(VLOOKUP(U2,'S7'!$B$23:$Z$57,11,FALSE)=\"\",\"\",VLOOKUP(U2,'S7'!$B$23:$Z$57,11,FALSE))","v":""},{"$f":"IF(VLOOKUP(U2,'S7'!$B$23:$Z$57,12,FALSE)=\"\",\"\",VLOOKUP(U2,'S7'!$B$23:$Z$57,12,FALSE))","v":""},{"$f":"IF(VLOOKUP(U2,'S7'!$B$23:$Z$57,13,FALSE)=\"\",\"\",VLOOKUP(U2,'S7'!$B$23:$Z$57,13,FALSE))","v":""},{"$f":"IF(VLOOKUP(U2,'S7'!$B$23:$Z$57,14,FALSE)=\"\",\"\",VLOOKUP(U2,'S7'!$B$23:$Z$57,14,FALSE))","v":""},{"$f":"IF(VLOOKUP(U2,'S7'!$B$23:$Z$57,15,FALSE)=\"\",\"\",VLOOKUP(U2,'S7'!$B$23:$Z$57,15,FALSE))","v":""}]
[null,"von",null,null,{"$f":"IF('S7'!$G$21=\"\",\"\",'S7'!$G$21)","v":""},{"$f":"IF('S7'!$H$21=\"\",\"\",'S7'!$H$21)","v":""},{"$f":"IF('S7'!$I$21=\"\",\"\",'S7'!$I$21)","v":""},{"$f":"IF('S7'!$J$21=\"\",\"\",'S7'!$J$21)","v":""},{"$f":"IF('S7'!$K$21=\"\",\"\",'S7'!$K$21)","v":""},{"$f":"IF('S7'!$L$21=\"\",\"\",'S7'!$L$21)","v":""},{"$f":"IF('S7'!$M$21=\"\",\"\",'S7'!$M$21)","v":""},{"$f":"IF('S7'!$N$21=\"\",\"\",'S7'!$N$21)","v":""},{"$f":"IF('S7'!$O$21=\"\",\"\",'S7'!$O$21)","v":""},{"$f":"IF('S7'!$P$21=\"\",\"\",'S7'!$P$21)","v":""},null,"von",null,null,null,null,"von",null,null,{"$f":"IF('S7'!$G$21=\"\",\"\",'S7'!$G$21)","v":""},{"$f":"IF('S7'!$H$21=\"\",\"\",'S7'!$H$21)","v":""},{"$f":"IF('S7'!$I$21=\"\",\"\",'S7'!$I$21)","v":""},{"$f":"IF('S7'!$J$21=\"\",\"\",'S7'!$J$21)","v":""},{"$f":"IF('S7'!$K$21=\"\",\"\",'S7'!$K$21)","v":""},{"$f":"IF('S7'!$L$21=\"\",\"\",'S7'!$L$21)","v":""},{"$f":"IF('S7'!$M$21=\"\",\"\",'S7'!$M$21)","v":""},{"$f":"IF('S7'!$N$21=\"\",\"\",'S7'!$N$21)","v":""},{"$f":"IF('S7'!$O$21=\"\",\"\",'S7'!$O$21)","v":""},{"$f":"IF('S7'!$P$21=\"\",\"\",'S7'!$P$21)","v":""},null,"von"]
[null,null,null,null,null,null,null,null,null,null,null,null,null,null,null,{"$f":"'S7'!$H$12","v":0},null,null,null,null,null,null,null,null,null,null,null,null,null,null,null,null,null,null,{"$f":"'S7'!$H$12","v":0}]
[null,{"$f":"IF('S7'!$Q$18=\"\",\"\",\"Aufgabe\")","v":""},null,null,{"$f":"IF('S7'!$Q$18=\"\",\"\",'S7'!$Q$18)","v":""},{"$f":"IF('S7'!$R$18=\"\",\"\",'S7'!$R$18)","v":""},{"$f":"IF('S7'!$S$18=\"\",\"\",'S7'!$S$18)","v":""},{"$f":"IF('S7'!$T$18=\"\",\"\",'S7'!$T$18)","v":""},{"$f":"IF('S7'!$U$18=\"\",\"\",'S7'!$U$18)","v":""},{"$f":"IF('S7'!$V$18=\"\",\"\",'S7'!$V$18)","v":""},{"$f":"IF('S7'!$W$18=\"\",\"\",'S7'!$W$18)","v":""},{"$f":"IF('S7'!$X$18=\"\",\"\",'S7'!$X$18)","v":""},{"$f":"IF('S7'!$Y$18=\"\",\"\",'S7'!$Y$18)","v":""},{"$f":"IF('S7'!$Z$18=\"\",\"\",'S7'!$Z$18)","v":""},null,null,null,null,null,null,{"$f":"IF('S7'!$Q$18=\"\",\"\",\"Aufgabe\")","v":""},null,null,{"$f":"IF('S7'!$Q$18=\"\",\"\",'S7'!$Q$18)","v":""},{"$f":"IF('S7'!$R$18=\"\",\"\",'S7'!$R$18)","v":""},{"$f":"IF('S7'!$S$18=\"\",\"\",'S7'!$S$18)","v":""},{"$f":"IF('S7'!$T$18=\"\",\"\",'S7'!$T$18)","v":""},{"$f":"IF('S7'!$U$18=\"\",\"\",'S7'!$U$18)","v":""},{"$f":"IF('S7'!$V$18=\"\",\"\",'S7'!$V$18)","v":""},{"$f":"IF('S7'!$W$18=\"\",\"\",'S7'!$W$18)","v":""},{"$f":"IF('S7'!$X$18=\"\",\"\",'S7'!$X$18)","v":""},{"$f":"IF('S7'!$Y$18=\"\",\"\",'S7'!$Y$18)","v":""},{"$f":"IF('S7'!$Z$18=\"\",\"\",'S7'!$Z$18)","v":""}]
[null,{"$f":"IF('S7'!$Q$18=\"\",\"\",\"erreicht\")","v":""},null,null,{"$f":"IF(VLOOKUP(B2,'S7'!$B$23:$Z$57,16,FALSE)=\"\",\"\",VLOOKUP(B2,'S7'!$B$23:$Z$57,16,FALSE))","v":""},{"$f":"IF(VLOOKUP(B2,'S7'!$B$23:$Z$57,17,FALSE)=\"\",\"\",VLOOKUP(B2,'S7'!$B$23:$Z$57,17,FALSE))","v":""},{"$f":"IF(VLOOKUP(B2,'S7'!$B$23:$Z$57,18,FALSE)=\"\",\"\",VLOOKUP(B2,'S7'!$B$23:$Z$57,18,FALSE))","v":""},{"$f":"IF(VLOOKUP(B2,'S7'!$B$23:$Z$57,19,FALSE)=\"\",\"\",VLOOKUP(B2,'S7'!$B$23:$Z$57,19,FALSE))","v":""},{"$f":"IF(VLOOKUP(B2,'S7'!$B$23:$Z$57,20,FALSE)=\"\",\"\",VLOOKUP(B2,'S7'!$B$23:$Z$57,20,FALSE))","v":""},{"$f":"IF(VLOOKUP(B2,'S7'!$B$23:$Z$57,21,FALSE)=\"\",\"\",VLOOKUP(B2,'S7'!$B$23:$Z$57,21,FALSE))","v":""},{"$f":"IF(VLOOKUP(B2,'S7'!$B$23:$Z$57,22,FALSE)=\"\",\"\",VLOOKUP(B2,'S7'!$B$23:$Z$57,22,FALSE))","v":""},{"$f":"IF(VLOOKUP(B2,'S7'!$B$23:$Z$57,23,FALSE)=\"\",\"\",VLOOKUP(B2,'S7'!$B$23:$Z$57,23,FALSE))","v":""},{"$f":"IF(VLOOKUP(B2,'S7'!$B$23:$Z$57,24,FALSE)=\"\",\"\",VLOOKUP(B2,'S7'!$B$23:$Z$57,24,FALSE))","v":""},{"$f":"IF(VLOOKUP(B2,'S7'!$B$23:$Z$57,25,FALSE)=\"\",\"\",VLOOKUP(B2,'S7'!$B$23:$Z$57,25,FALSE))","v":""},null,"Note",null,null,null,null,{"$f":"IF('S7'!$Q$18=\"\",\"\",\"erreicht\")","v":""},null,null,{"$f":"IF(VLOOKUP(U2,'S7'!$B$23:$Z$57,16,FALSE)=\"\",\"\",VLOOKUP(U2,'S7'!$B$23:$Z$57,16,FALSE))","v":""},{"$f":"IF(VLOOKUP(U2,'S7'!$B$23:$Z$57,17,FALSE)=\"\",\"\",VLOOKUP(U2,'S7'!$B$23:$Z$57,17,FALSE))","v":""},{"$f":"IF(VLOOKUP(U2,'S7'!$B$23:$Z$57,18,FALSE)=\"\",\"\",VLOOKUP(U2,'S7'!$B$23:$Z$57,18,FALSE))","v":""},{"$f":"IF(VLOOKUP(U2,'S7'!$B$23:$Z$57,19,FALSE)=\"\",\"\",VLOOKUP(U2,'S7'!$B$23:$Z$57,19,FALSE))","v":""},{"$f":"IF(VLOOKUP(U2,'S7'!$B$23:$Z$57,20,FALSE)=\"\",\"\",VLOOKUP(U2,'S7'!$B$23:$Z$57,20,FALSE))","v":""},{"$f":"IF(VLOOKUP(U2,'S7'!$B$23:$Z$57,21,FALSE)=\"\",\"\",VLOOKUP(U2,'S7'!$B$23:$Z$57,21,FALSE))","v":""},{"$f":"IF(VLOOKUP(U2,'S7'!$B$23:$Z$57,22,FALSE)=\"\",\"\",VLOOKUP(U2,'S7'!$B$23:$Z$57,22,FALSE))","v":""},{"$f":"IF(VLOOKUP(U2,'S7'!$B$23:$Z$57,23,FALSE)=\"\",\"\",VLOOKUP(U2,'S7'!$B$23:$Z$57,23,FALSE))","v":""},{"$f":"IF(VLOOKUP(U2,'S7'!$B$23:$Z$57,24,FALSE)=\"\",\"\",VLOOKUP(U2,'S7'!$B$23:$Z$57,24,FALSE))","v":""},{"$f":"IF(VLOOKUP(U2,'S7'!$B$23:$Z$57,25,FALSE)=\"\",\"\",VLOOKUP(U2,'S7'!$B$23:$Z$57,25,FALSE))","v":""},null,"Note"]
[null,{"$f":"IF('S7'!$Q$18=\"\",\"\",\"von\")","v":""},null,null,{"$f":"IF('S7'!$Q$21=\"\",\"\",'S7'!$Q$21)","v":""},{"$f":"IF('S7'!$R$21=\"\",\"\",'S7'!$R$21)","v":""},{"$f":"IF('S7'!$S$21=\"\",\"\",'S7'!$S$21)","v":""},{"$f":"IF('S7'!$T$21=\"\",\"\",'S7'!$T$21)","v":""},{"$f":"IF('S7'!$U$21=\"\",\"\",'S7'!$U$21)","v":""},{"$f":"IF('S7'!$V$21=\"\",\"\",'S7'!$V$21)","v":""},{"$f":"IF('S7'!$W$21=\"\",\"\",'S7'!$W$21)","v":""},{"$f":"IF('S7'!$X$21=\"\",\"\",'S7'!$X$21)","v":""},{"$f":"IF('S7'!$Y$21=\"\",\"\",'S7'!$Y$21)","v":""},{"$f":"IF('S7'!$Z$21=\"\",\"\",'S7'!$Z$21)","v":""},null,{"$f":"IF(VLOOKUP(B2,'S7'!$B$23:$Z$57,2,FALSE)=\"\",\"\",CONCATENATE(VLOOKUP(B2,'S7'!$B$23:$Z$57,2,FALSE),\" \",VLOOKUP(B2,'S7'!$B$23:$Z$57,3,FALSE)))","v":"- "},null,null,null,null,{"$f":"IF('S7'!$Q$18=\"\",\"\",\"von\")","v":""},null,null,{"$f":"IF('S7'!$Q$21=\"\",\"\",'S7'!$Q$21)","v":""},{"$f":"IF('S7'!$R$21=\"\",\"\",'S7'!$R$21)","v":""},{"$f":"IF('S7'!$S$21=\"\",\"\",'S7'!$S$21)","v":""},{"$f":"IF('S7'!$T$21=\"\",\"\",'S7'!$T$21)","v":""},{"$f":"IF('S7'!$U$21=\"\",\"\",'S7'!$U$21)","v":""},{"$f":"IF('S7'!$V$21=\"\",\"\",'S7'!$V$21)","v":""},{"$f":"IF('S7'!$W$21=\"\",\"\",'S7'!$W$21)","v":""},{"$f":"IF('S7'!$X$21=\"\",\"\",'S7'!$X$21)","v":""},{"$f":"IF('S7'!$Y$21=\"\",\"\",'S7'!$Y$21)","v":""},{"$f":"IF('S7'!$Z$21=\"\",\"\",'S7'!$Z$21)","v":""},null,{"$f":"IF(VLOOKUP(U2,'S7'!$B$23:$Z$57,2,FALSE)=\"\",\"\",CONCATENATE(VLOOKUP(U2,'S7'!$B$23:$Z$57,2,FALSE),\" \",VLOOKUP(U2,'S7'!$B$23:$Z$57,3,FALSE)))","v":"- "}]
[]
[]
[]
[null,{"$f":"'S7'!$B$25","v":""},null,null,null,null,null,null,null,null,null,null,null,null,null,null,null,null,null,null,{"$f":"'S7'!$B$26","v":""}]
[null,null,null,null,null,null,null,null,null,null,null,null,null,null,null,"Summe",null,null,null,null,null,null,null,null,null,null,null,null,null,null,null,null,null,null,"Summe"]
[null,"Aufgabe",null,null,{"$f":"IF('S7'!$G$18=\"\",\"\",'S7'!$G$18)","v":1},{"$f":"IF('S7'!$H$18=\"\",\"\",'S7'!$H$18)","v":2},{"$f":"IF('S7'!$I$18=\"\",\"\",'S7'!$I$18)","v":3},{"$f":"IF('S7'!$J$18=\"\",\"\",'S7'!$J$18)","v":""},{"$f":"IF('S7'!$K$18=\"\",\"\",'S7'!$K$18)","v":""},{"$f":"IF('S7'!$L$18=\"\",\"\",'S7'!$L$18)","v":""},{"$f":"IF('S7'!$M$18=\"\",\"\",'S7'!$M$18)","v":""},{"$f":"IF('S7'!$N$18=\"\",\"\",'S7'!$N$18)","v":""},{"$f":"IF('S7'!$O$18=\"\",\"\",'S7'!$O$18)","v":""},{"$f":"IF('S7'!$P$18=\"\",\"\",'S7'!$P$18)","v":""},null,{"$f":"IF(VLOOKUP(B14,'S7'!$B$23:$Z$57,5,FALSE)=\"\",\"\",VLOOKUP(B14,'S7'!$B$23:$Z$57,5,FALSE))","v":0},null,null,null,null,"Aufgabe",null,null,{"$f":"IF('S7'!$G$18=\"\",\"\",'S7'!$G$18)","v":1},{"$f":"IF('S7'!$H$18=\"\",\"\",'S7'!$H$18)","v":2},{"$f":"IF('S7'!$I$18=\"\",\"\",'S7'!$I$18)","v":3},{"$f":"IF('S7'!$J$18=\"\",\"\",'S7'!$J$18)","v":""},{"$f":"IF('S7'!$K$18=\"\",\"\",'S7'!$K$18)","v":""},{"$f":"IF('S7'!$L$18=\"\",\"\",'S7'!$L$18)","v":""},{"$f":"IF('S7'!$M$18=\"\",\"\",'S7'!$M$18)","v":""},{"$f":"IF('S7'!$N$18=\"\",\"\",'S7'!$N$18)","v":""},{"$f":"IF('S7'!$O$18=\"\",\"\",'S7'!$O$18)","v":""},{"$f":"IF('S7'!$P$18=\"\",\"\",'S7'!$P$18)","v":""},null,{"$f":"IF(VLOOKUP(U14,'S7'!$B$23:$Z$57,5,FALSE)=\"\",\"\",VLOOKUP(U14,'S7'!$B$23:$Z$57,5,FALSE))","v":0}]
[null,"erreicht",null,null,{"$f":"IF(VLOOKUP(B14,'S7'!$B$23:$Z$57,6,FALSE)=\"\",\"\",VLOOKUP(B14,'S7'!$B$23:$Z$57,6,FALSE))","v":"."},{"$f":"IF(VLOOKUP(B14,'S7'!$B$23:$Z$57,7,FALSE)=\"\",\"\",VLOOKUP(B14,'S7'!$B$23:$Z$57,7,FALSE))","v":""},{"$f":"IF(VLOOKUP(B14,'S7'!$B$23:$Z$57,8,FALSE)=\"\",\"\",VLOOKUP(B14,'S7'!$B$23:$Z$57,8,FALSE))","v":""},{"$f":"IF(VLOOKUP(B14,'S7'!$B$23:$Z$57,9,FALSE)=\"\",\"\",VLOOKUP(B14,'S7'!$B$23:$Z$57,9,FALSE))","v":""},{"$f":"IF(VLOOKUP(B14,'S7'!$B$23:$Z$57,10,FALSE)=\"\",\"\",VLOOKUP(B14,'S7'!$B$23:$Z$57,10,FALSE))","v":""},{"$f":"IF(VLOOKUP(B14,'S7'!$B$23:$Z$57,11,FALSE)=\"\",\"\",VLOOKUP(B14,'S7'!$B$23:$Z$57,11,FALSE))","v":""},{"$f":"IF(VLOOKUP(B14,'S7'!$B$23:$Z$57,12,FALSE)=\"\",\"\",VLOOKUP(B14,'S7'!$B$23:$Z$57,12,FALSE))","v":""},{"$f":"IF(VLOOKUP(B14,'S7'!$B$23:$Z$57,13,FALSE)=\"\",\"\",VLOOKUP(B14,'S7'!$B$23:$Z$57,13,FALSE))","v":""},{"$f":"IF(VLOOKUP(B14,'S7'!$B$23:$Z$57,14,FALSE)=\"\",\"\",VLOOKUP(B14,'S7'!$B$23:$Z$57,14,FALSE))","v":""},{"$f":"IF(VLOOKUP(B14,'S7'!$B$23:$Z$57,15,FALSE)=\"\",\"\",VLOOKUP(B14,'S7'!$B$23:$Z$57,15,FALSE))","v":""},null,null,null,null,null,null,"erreicht",null,null,{"$f":"IF(VLOOKUP(U14,'S7'!$B$23:$Z$57,6,FALSE)=\"\",\"\",VLOOKUP(U14,'S7'!$B$23:$Z$57,6,FALSE))","v":"."},{"$f":"IF(VLOOKUP(U14,'S7'!$B$23:$Z$57,7,FALSE)=\"\",\"\",VLOOKUP(U14,'S7'!$B$23:$Z$57,7,FALSE))","v":""},{"$f":"IF(VLOOKUP(U14,'S7'!$B$23:$Z$57,8,FALSE)=\"\",\"\",VLOOKUP(U14,'S7'!$B$23:$Z$57,8,FALSE))","v":""},{"$f":"IF(VLOOKUP(U14,'S7'!$B$23:$Z$57,9,FALSE)=\"\",\"\",VLOOKUP(U14,'S7'!$B$23:$Z$57,9,FALSE))","v":""},{"$f":"IF(VLOOKUP(U14,'S7'!$B$23:$Z$57,10,FALSE)=\"\",\"\",VLOOKUP(U14,'S7'!$B$23:$Z$57,10,FALSE))","v":""},{"$f":"IF(VLOOKUP(U14,'S7'!$B$23:$Z$57,11,FALSE)=\"\",\"\",VLOOKUP(U14,'S7'!$B$23:$Z$57,11,FALSE))","v":""},{"$f":"IF(VLOOKUP(U14,'S7'!$B$23:$Z$57,12,FALSE)=\"\",\"\",VLOOKUP(U14,'S7'!$B$23:$Z$57,12,FALSE))","v":""},{"$f":"IF(VLOOKUP(U14,'S7'!$B$23:$Z$57,13,FALSE)=\"\",\"\",VLOOKUP(U14,'S7'!$B$23:$Z$57,13,FALSE))","v":""},{"$f":"IF(VLOOKUP(U14,'S7'!$B$23:$Z$57,14,FALSE)=\"\",\"\",VLOOKUP(U14,'S7'!$B$23:$Z$57,14,FALSE))","v":""},{"$f":"IF(VLOOKUP(U14,'S7'!$B$23:$Z$57,15,FALSE)=\"\",\"\",VLOOKUP(U14,'S7'!$B$23:$Z$57,15,FALSE))","v":""}]
[null,"von",null,null,{"$f":"IF('S7'!$G$21=\"\",\"\",'S7'!$G$21)","v":""},{"$f":"IF('S7'!$H$21=\"\",\"\",'S7'!$H$21)","v":""},{"$f":"IF('S7'!$I$21=\"\",\"\",'S7'!$I$21)","v":""},{"$f":"IF('S7'!$J$21=\"\",\"\",'S7'!$J$21)","v":""},{"$f":"IF('S7'!$K$21=\"\",\"\",'S7'!$K$21)","v":""},{"$f":"IF('S7'!$L$21=\"\",\"\",'S7'!$L$21)","v":""},{"$f":"IF('S7'!$M$21=\"\",\"\",'S7'!$M$21)","v":""},{"$f":"IF('S7'!$N$21=\"\",\"\",'S7'!$N$21)","v":""},{"$f":"IF('S7'!$O$21=\"\",\"\",'S7'!$O$21)","v":""},{"$f":"IF('S7'!$P$21=\"\",\"\",'S7'!$P$21)","v":""},null,"von",null,null,null,null,"von",null,null,{"$f":"IF('S7'!$G$21=\"\",\"\",'S7'!$G$21)","v":""},{"$f":"IF('S7'!$H$21=\"\",\"\",'S7'!$H$21)","v":""},{"$f":"IF('S7'!$I$21=\"\",\"\",'S7'!$I$21)","v":""},{"$f":"IF('S7'!$J$21=\"\",\"\",'S7'!$J$21)","v":""},{"$f":"IF('S7'!$K$21=\"\",\"\",'S7'!$K$21)","v":""},{"$f":"IF('S7'!$L$21=\"\",\"\",'S7'!$L$21)","v":""},{"$f":"IF('S7'!$M$21=\"\",\"\",'S7'!$M$21)","v":""},{"$f":"IF('S7'!$N$21=\"\",\"\",'S7'!$N$21)","v":""},{"$f":"IF('S7'!$O$21=\"\",\"\",'S7'!$O$21)","v":""},{"$f":"IF('S7'!$P$21=\"\",\"\",'S7'!$P$21)","v":""},null,"von"]
[null,null,null,null,null,null,null,null,null,null,null,null,null,null,null,{"$f":"'S7'!$H$12","v":0},null,null,null,null,null,null,null,null,null,null,null,null,null,null,null,null,null,null,{"$f":"'S7'!$H$12","v":0}]
[null,{"$f":"IF('S7'!$Q$18=\"\",\"\",\"Aufgabe\")","v":""},null,null,{"$f":"IF('S7'!$Q$18=\"\",\"\",'S7'!$Q$18)","v":""},{"$f":"IF('S7'!$R$18=\"\",\"\",'S7'!$R$18)","v":""},{"$f":"IF('S7'!$S$18=\"\",\"\",'S7'!$S$18)","v":""},{"$f":"IF('S7'!$T$18=\"\",\"\",'S7'!$T$18)","v":""},{"$f":"IF('S7'!$U$18=\"\",\"\",'S7'!$U$18)","v":""},{"$f":"IF('S7'!$V$18=\"\",\"\",'S7'!$V$18)","v":""},{"$f":"IF('S7'!$W$18=\"\",\"\",'S7'!$W$18)","v":""},{"$f":"IF('S7'!$X$18=\"\",\"\",'S7'!$X$18)","v":""},{"$f":"IF('S7'!$Y$18=\"\",\"\",'S7'!$Y$18)","v":""},{"$f":"IF('S7'!$Z$18=\"\",\"\",'S7'!$Z$18)","v":""},null,null,null,null,null,null,{"$f":"IF('S7'!$Q$18=\"\",\"\",\"Aufgabe\")","v":""},null,null,{"$f":"IF('S7'!$Q$18=\"\",\"\",'S7'!$Q$18)","v":""},{"$f":"IF('S7'!$R$18=\"\",\"\",'S7'!$R$18)","v":""},{"$f":"IF('S7'!$S$18=\"\",\"\",'S7'!$S$18)","v":""},{"$f":"IF('S7'!$T$18=\"\",\"\",'S7'!$T$18)","v":""},{"$f":"IF('S7'!$U$18=\"\",\"\",'S7'!$U$18)","v":""},{"$f":"IF('S7'!$V$18=\"\",\"\",'S7'!$V$18)","v":""},{"$f":"IF('S7'!$W$18=\"\",\"\",'S7'!$W$18)","v":""},{"$f":"IF('S7'!$X$18=\"\",\"\",'S7'!$X$18)","v":""},{"$f":"IF('S7'!$Y$18=\"\",\"\",'S7'!$Y$18)","v":""},{"$f":"IF('S7'!$Z$18=\"\",\"\",'S7'!$Z$18)","v":""}]
[null,{"$f":"IF('S7'!$Q$18=\"\",\"\",\"erreicht\")","v":""},null,null,{"$f":"IF(VLOOKUP(B14,'S7'!$B$23:$Z$57,16,FALSE)=\"\",\"\",VLOOKUP(B14,'S7'!$B$23:$Z$57,16,FALSE))","v":""},{"$f":"IF(VLOOKUP(B14,'S7'!$B$23:$Z$57,17,FALSE)=\"\",\"\",VLOOKUP(B14,'S7'!$B$23:$Z$57,17,FALSE))","v":""},{"$f":"IF(VLOOKUP(B14,'S7'!$B$23:$Z$57,18,FALSE)=\"\",\"\",VLOOKUP(B14,'S7'!$B$23:$Z$57,18,FALSE))","v":""},{"$f":"IF(VLOOKUP(B14,'S7'!$B$23:$Z$57,19,FALSE)=\"\",\"\",VLOOKUP(B14,'S7'!$B$23:$Z$57,19,FALSE))","v":""},{"$f":"IF(VLOOKUP(B14,'S7'!$B$23:$Z$57,20,FALSE)=\"\",\"\",VLOOKUP(B14,'S7'!$B$23:$Z$57,20,FALSE))","v":""},{"$f":"IF(VLOOKUP(B14,'S7'!$B$23:$Z$57,21,FALSE)=\"\",\"\",VLOOKUP(B14,'S7'!$B$23:$Z$57,21,FALSE))","v":""},{"$f":"IF(VLOOKUP(B14,'S7'!$B$23:$Z$57,22,FALSE)=\"\",\"\",VLOOKUP(B14,'S7'!$B$23:$Z$57,22,FALSE))","v":""},{"$f":"IF(VLOOKUP(B14,'S7'!$B$23:$Z$57,23,FALSE)=\"\",\"\",VLOOKUP(B14,'S7'!$B$23:$Z$57,23,FALSE))","v":""},{"$f":"IF(VLOOKUP(B14,'S7'!$B$23:$Z$57,24,FALSE)=\"\",\"\",VLOOKUP(B14,'S7'!$B$23:$Z$57,24,FALSE))","v":""},{"$f":"IF(VLOOKUP(B14,'S7'!$B$23:$Z$57,25,FALSE)=\"\",\"\",VLOOKUP(B14,'S7'!$B$23:$Z$57,25,FALSE))","v":""},null,"Note",null,null,null,null,{"$f":"IF('S7'!$Q$18=\"\",\"\",\"erreicht\")","v":""},null,null,{"$f":"IF(VLOOKUP(U14,'S7'!$B$23:$Z$57,16,FALSE)=\"\",\"\",VLOOKUP(U14,'S7'!$B$23:$Z$57,16,FALSE))","v":""},{"$f":"IF(VLOOKUP(U14,'S7'!$B$23:$Z$57,17,FALSE)=\"\",\"\",VLOOKUP(U14,'S7'!$B$23:$Z$57,17,FALSE))","v":""},{"$f":"IF(VLOOKUP(U14,'S7'!$B$23:$Z$57,18,FALSE)=\"\",\"\",VLOOKUP(U14,'S7'!$B$23:$Z$57,18,FALSE))","v":""},{"$f":"IF(VLOOKUP(U14,'S7'!$B$23:$Z$57,19,FALSE)=\"\",\"\",VLOOKUP(U14,'S7'!$B$23:$Z$57,19,FALSE))","v":""},{"$f":"IF(VLOOKUP(U14,'S7'!$B$23:$Z$57,20,FALSE)=\"\",\"\",VLOOKUP(U14,'S7'!$B$23:$Z$57,20,FALSE))","v":""},{"$f":"IF(VLOOKUP(U14,'S7'!$B$23:$Z$57,21,FALSE)=\"\",\"\",VLOOKUP(U14,'S7'!$B$23:$Z$57,21,FALSE))","v":""},{"$f":"IF(VLOOKUP(U14,'S7'!$B$23:$Z$57,22,FALSE)=\"\",\"\",VLOOKUP(U14,'S7'!$B$23:$Z$57,22,FALSE))","v":""},{"$f":"IF(VLOOKUP(U14,'S7'!$B$23:$Z$57,23,FALSE)=\"\",\"\",VLOOKUP(U14,'S7'!$B$23:$Z$57,23,FALSE))","v":""},{"$f":"IF(VLOOKUP(U14,'S7'!$B$23:$Z$57,24,FALSE)=\"\",\"\",VLOOKUP(U14,'S7'!$B$23:$Z$57,24,FALSE))","v":""},{"$f":"IF(VLOOKUP(U14,'S7'!$B$23:$Z$57,25,FALSE)=\"\",\"\",VLOOKUP(U14,'S7'!$B$23:$Z$57,25,FALSE))","v":""},null,"Note"]
[null,{"$f":"IF('S7'!$Q$18=\"\",\"\",\"von\")","v":""},null,null,{"$f":"IF('S7'!$Q$21=\"\",\"\",'S7'!$Q$21)","v":""},{"$f":"IF('S7'!$R$21=\"\",\"\",'S7'!$R$21)","v":""},{"$f":"IF('S7'!$S$21=\"\",\"\",'S7'!$S$21)","v":""},{"$f":"IF('S7'!$T$21=\"\",\"\",'S7'!$T$21)","v":""},{"$f":"IF('S7'!$U$21=\"\",\"\",'S7'!$U$21)","v":""},{"$f":"IF('S7'!$V$21=\"\",\"\",'S7'!$V$21)","v":""},{"$f":"IF('S7'!$W$21=\"\",\"\",'S7'!$W$21)","v":""},{"$f":"IF('S7'!$X$21=\"\",\"\",'S7'!$X$21)","v":""},{"$f":"IF('S7'!$Y$21=\"\",\"\",'S7'!$Y$21)","v":""},{"$f":"IF('S7'!$Z$21=\"\",\"\",'S7'!$Z$21)","v":""},null,{"$f":"IF(VLOOKUP(B14,'S7'!$B$23:$Z$57,2,FALSE)=\"\",\"\",CONCATENATE(VLOOKUP(B14,'S7'!$B$23:$Z$57,2,FALSE),\" \",VLOOKUP(B14,'S7'!$B$23:$Z$57,3,FALSE)))","v":"- "},null,null,null,null,{"$f":"IF('S7'!$Q$18=\"\",\"\",\"von\")","v":""},null,null,{"$f":"IF('S7'!$Q$21=\"\",\"\",'S7'!$Q$21)","v":""},{"$f":"IF('S7'!$R$21=\"\",\"\",'S7'!$R$21)","v":""},{"$f":"IF('S7'!$S$21=\"\",\"\",'S7'!$S$21)","v":""},{"$f":"IF('S7'!$T$21=\"\",\"\",'S7'!$T$21)","v":""},{"$f":"IF('S7'!$U$21=\"\",\"\",'S7'!$U$21)","v":""},{"$f":"IF('S7'!$V$21=\"\",\"\",'S7'!$V$21)","v":""},{"$f":"IF('S7'!$W$21=\"\",\"\",'S7'!$W$21)","v":""},{"$f":"IF('S7'!$X$21=\"\",\"\",'S7'!$X$21)","v":""},{"$f":"IF('S7'!$Y$21=\"\",\"\",'S7'!$Y$21)","v":""},{"$f":"IF('S7'!$Z$21=\"\",\"\",'S7'!$Z$21)","v":""},null,{"$f":"IF(VLOOKUP(U14,'S7'!$B$23:$Z$57,2,FALSE)=\"\",\"\",CONCATENATE(VLOOKUP(U14,'S7'!$B$23:$Z$57,2,FALSE),\" \",VLOOKUP(U14,'S7'!$B$23:$Z$57,3,FALSE)))","v":"- "}]
[]
[]
[]
[null,{"$f":"'S7'!$B$27","v":""},null,null,null,null,null,null,null,null,null,null,null,null,null,null,null,null,null,null,{"$f":"'S7'!$B$28","v":""}]
[null,null,null,null,null,null,null,null,null,null,null,null,null,null,null,"Summe",null,null,null,null,null,null,null,null,null,null,null,null,null,null,null,null,null,null,"Summe"]
[null,"Aufgabe",null,null,{"$f":"IF('S7'!$G$18=\"\",\"\",'S7'!$G$18)","v":1},{"$f":"IF('S7'!$H$18=\"\",\"\",'S7'!$H$18)","v":2},{"$f":"IF('S7'!$I$18=\"\",\"\",'S7'!$I$18)","v":3},{"$f":"IF('S7'!$J$18=\"\",\"\",'S7'!$J$18)","v":""},{"$f":"IF('S7'!$K$18=\"\",\"\",'S7'!$K$18)","v":""},{"$f":"IF('S7'!$L$18=\"\",\"\",'S7'!$L$18)","v":""},{"$f":"IF('S7'!$M$18=\"\",\"\",'S7'!$M$18)","v":""},{"$f":"IF('S7'!$N$18=\"\",\"\",'S7'!$N$18)","v":""},{"$f":"IF('S7'!$O$18=\"\",\"\",'S7'!$O$18)","v":""},{"$f":"IF('S7'!$P$18=\"\",\"\",'S7'!$P$18)","v":""},null,{"$f":"IF(VLOOKUP(B26,'S7'!$B$23:$Z$57,5,FALSE)=\"\",\"\",VLOOKUP(B26,'S7'!$B$23:$Z$57,5,FALSE))","v":0},null,null,null,null,"Aufgabe",null,null,{"$f":"IF('S7'!$G$18=\"\",\"\",'S7'!$G$18)","v":1},{"$f":"IF('S7'!$H$18=\"\",\"\",'S7'!$H$18)","v":2},{"$f":"IF('S7'!$I$18=\"\",\"\",'S7'!$I$18)","v":3},{"$f":"IF('S7'!$J$18=\"\",\"\",'S7'!$J$18)","v":""},{"$f":"IF('S7'!$K$18=\"\",\"\",'S7'!$K$18)","v":""},{"$f":"IF('S7'!$L$18=\"\",\"\",'S7'!$L$18)","v":""},{"$f":"IF('S7'!$M$18=\"\",\"\",'S7'!$M$18)","v":""},{"$f":"IF('S7'!$N$18=\"\",\"\",'S7'!$N$18)","v":""},{"$f":"IF('S7'!$O$18=\"\",\"\",'S7'!$O$18)","v":""},{"$f":"IF('S7'!$P$18=\"\",\"\",'S7'!$P$18)","v":""},null,{"$f":"IF(VLOOKUP(U26,'S7'!$B$23:$Z$57,5,FALSE)=\"\",\"\",VLOOKUP(U26,'S7'!$B$23:$Z$57,5,FALSE))","v":0}]
[null,"erreicht",null,null,{"$f":"IF(VLOOKUP(B26,'S7'!$B$23:$Z$57,6,FALSE)=\"\",\"\",VLOOKUP(B26,'S7'!$B$23:$Z$57,6,FALSE))","v":"."},{"$f":"IF(VLOOKUP(B26,'S7'!$B$23:$Z$57,7,FALSE)=\"\",\"\",VLOOKUP(B26,'S7'!$B$23:$Z$57,7,FALSE))","v":""},{"$f":"IF(VLOOKUP(B26,'S7'!$B$23:$Z$57,8,FALSE)=\"\",\"\",VLOOKUP(B26,'S7'!$B$23:$Z$57,8,FALSE))","v":""},{"$f":"IF(VLOOKUP(B26,'S7'!$B$23:$Z$57,9,FALSE)=\"\",\"\",VLOOKUP(B26,'S7'!$B$23:$Z$57,9,FALSE))","v":""},{"$f":"IF(VLOOKUP(B26,'S7'!$B$23:$Z$57,10,FALSE)=\"\",\"\",VLOOKUP(B26,'S7'!$B$23:$Z$57,10,FALSE))","v":""},{"$f":"IF(VLOOKUP(B26,'S7'!$B$23:$Z$57,11,FALSE)=\"\",\"\",VLOOKUP(B26,'S7'!$B$23:$Z$57,11,FALSE))","v":""},{"$f":"IF(VLOOKUP(B26,'S7'!$B$23:$Z$57,12,FALSE)=\"\",\"\",VLOOKUP(B26,'S7'!$B$23:$Z$57,12,FALSE))","v":""},{"$f":"IF(VLOOKUP(B26,'S7'!$B$23:$Z$57,13,FALSE)=\"\",\"\",VLOOKUP(B26,'S7'!$B$23:$Z$57,13,FALSE))","v":""},{"$f":"IF(VLOOKUP(B26,'S7'!$B$23:$Z$57,14,FALSE)=\"\",\"\",VLOOKUP(B26,'S7'!$B$23:$Z$57,14,FALSE))","v":""},{"$f":"IF(VLOOKUP(B26,'S7'!$B$23:$Z$57,15,FALSE)=\"\",\"\",VLOOKUP(B26,'S7'!$B$23:$Z$57,15,FALSE))","v":""},null,null,null,null,null,null,"erreicht",null,null,{"$f":"IF(VLOOKUP(U26,'S7'!$B$23:$Z$57,6,FALSE)=\"\",\"\",VLOOKUP(U26,'S7'!$B$23:$Z$57,6,FALSE))","v":"."},{"$f":"IF(VLOOKUP(U26,'S7'!$B$23:$Z$57,7,FALSE)=\"\",\"\",VLOOKUP(U26,'S7'!$B$23:$Z$57,7,FALSE))","v":""},{"$f":"IF(VLOOKUP(U26,'S7'!$B$23:$Z$57,8,FALSE)=\"\",\"\",VLOOKUP(U26,'S7'!$B$23:$Z$57,8,FALSE))","v":""},{"$f":"IF(VLOOKUP(U26,'S7'!$B$23:$Z$57,9,FALSE)=\"\",\"\",VLOOKUP(U26,'S7'!$B$23:$Z$57,9,FALSE))","v":""},{"$f":"IF(VLOOKUP(U26,'S7'!$B$23:$Z$57,10,FALSE)=\"\",\"\",VLOOKUP(U26,'S7'!$B$23:$Z$57,10,FALSE))","v":""},{"$f":"IF(VLOOKUP(U26,'S7'!$B$23:$Z$57,11,FALSE)=\"\",\"\",VLOOKUP(U26,'S7'!$B$23:$Z$57,11,FALSE))","v":""},{"$f":"IF(VLOOKUP(U26,'S7'!$B$23:$Z$57,12,FALSE)=\"\",\"\",VLOOKUP(U26,'S7'!$B$23:$Z$57,12,FALSE))","v":""},{"$f":"IF(VLOOKUP(U26,'S7'!$B$23:$Z$57,13,FALSE)=\"\",\"\",VLOOKUP(U26,'S7'!$B$23:$Z$57,13,FALSE))","v":""},{"$f":"IF(VLOOKUP(U26,'S7'!$B$23:$Z$57,14,FALSE)=\"\",\"\",VLOOKUP(U26,'S7'!$B$23:$Z$57,14,FALSE))","v":""},{"$f":"IF(VLOOKUP(U26,'S7'!$B$23:$Z$57,15,FALSE)=\"\",\"\",VLOOKUP(U26,'S7'!$B$23:$Z$57,15,FALSE))","v":""}]
[null,"von",null,null,{"$f":"IF('S7'!$G$21=\"\",\"\",'S7'!$G$21)","v":""},{"$f":"IF('S7'!$H$21=\"\",\"\",'S7'!$H$21)","v":""},{"$f":"IF('S7'!$I$21=\"\",\"\",'S7'!$I$21)","v":""},{"$f":"IF('S7'!$J$21=\"\",\"\",'S7'!$J$21)","v":""},{"$f":"IF('S7'!$K$21=\"\",\"\",'S7'!$K$21)","v":""},{"$f":"IF('S7'!$L$21=\"\",\"\",'S7'!$L$21)","v":""},{"$f":"IF('S7'!$M$21=\"\",\"\",'S7'!$M$21)","v":""},{"$f":"IF('S7'!$N$21=\"\",\"\",'S7'!$N$21)","v":""},{"$f":"IF('S7'!$O$21=\"\",\"\",'S7'!$O$21)","v":""},{"$f":"IF('S7'!$P$21=\"\",\"\",'S7'!$P$21)","v":""},null,"von",null,null,null,null,"von",null,null,{"$f":"IF('S7'!$G$21=\"\",\"\",'S7'!$G$21)","v":""},{"$f":"IF('S7'!$H$21=\"\",\"\",'S7'!$H$21)","v":""},{"$f":"IF('S7'!$I$21=\"\",\"\",'S7'!$I$21)","v":""},{"$f":"IF('S7'!$J$21=\"\",\"\",'S7'!$J$21)","v":""},{"$f":"IF('S7'!$K$21=\"\",\"\",'S7'!$K$21)","v":""},{"$f":"IF('S7'!$L$21=\"\",\"\",'S7'!$L$21)","v":""},{"$f":"IF('S7'!$M$21=\"\",\"\",'S7'!$M$21)","v":""},{"$f":"IF('S7'!$N$21=\"\",\"\",'S7'!$N$21)","v":""},{"$f":"IF('S7'!$O$21=\"\",\"\",'S7'!$O$21)","v":""},{"$f":"IF('S7'!$P$21=\"\",\"\",'S7'!$P$21)","v":""},null,"von"]
[null,null,null,null,null,null,null,null,null,null,null,null,null,null,null,{"$f":"'S7'!$H$12","v":0},null,null,null,null,null,null,null,null,null,null,null,null,null,null,null,null,null,null,{"$f":"'S7'!$H$12","v":0}]
[null,{"$f":"IF('S7'!$Q$18=\"\",\"\",\"Aufgabe\")","v":""},null,null,{"$f":"IF('S7'!$Q$18=\"\",\"\",'S7'!$Q$18)","v":""},{"$f":"IF('S7'!$R$18=\"\",\"\",'S7'!$R$18)","v":""},{"$f":"IF('S7'!$S$18=\"\",\"\",'S7'!$S$18)","v":""},{"$f":"IF('S7'!$T$18=\"\",\"\",'S7'!$T$18)","v":""},{"$f":"IF('S7'!$U$18=\"\",\"\",'S7'!$U$18)","v":""},{"$f":"IF('S7'!$V$18=\"\",\"\",'S7'!$V$18)","v":""},{"$f":"IF('S7'!$W$18=\"\",\"\",'S7'!$W$18)","v":""},{"$f":"IF('S7'!$X$18=\"\",\"\",'S7'!$X$18)","v":""},{"$f":"IF('S7'!$Y$18=\"\",\"\",'S7'!$Y$18)","v":""},{"$f":"IF('S7'!$Z$18=\"\",\"\",'S7'!$Z$18)","v":""},null,null,null,null,null,null,{"$f":"IF('S7'!$Q$18=\"\",\"\",\"Aufgabe\")","v":""},null,null,{"$f":"IF('S7'!$Q$18=\"\",\"\",'S7'!$Q$18)","v":""},{"$f":"IF('S7'!$R$18=\"\",\"\",'S7'!$R$18)","v":""},{"$f":"IF('S7'!$S$18=\"\",\"\",'S7'!$S$18)","v":""},{"$f":"IF('S7'!$T$18=\"\",\"\",'S7'!$T$18)","v":""},{"$f":"IF('S7'!$U$18=\"\",\"\",'S7'!$U$18)","v":""},{"$f":"IF('S7'!$V$18=\"\",\"\",'S7'!$V$18)","v":""},{"$f":"IF('S7'!$W$18=\"\",\"\",'S7'!$W$18)","v":""},{"$f":"IF('S7'!$X$18=\"\",\"\",'S7'!$X$18)","v":""},{"$f":"IF('S7'!$Y$18=\"\",\"\",'S7'!$Y$18)","v":""},{"$f":"IF('S7'!$Z$18=\"\",\"\",'S7'!$Z$18)","v":""}]
[null,{"$f":"IF('S7'!$Q$18=\"\",\"\",\"erreicht\")","v":""},null,null,{"$f":"IF(VLOOKUP(B26,'S7'!$B$23:$Z$57,16,FALSE)=\"\",\"\",VLOOKUP(B26,'S7'!$B$23:$Z$57,16,FALSE))","v":""},{"$f":"IF(VLOOKUP(B26,'S7'!$B$23:$Z$57,17,FALSE)=\"\",\"\",VLOOKUP(B26,'S7'!$B$23:$Z$57,17,FALSE))","v":""},{"$f":"IF(VLOOKUP(B26,'S7'!$B$23:$Z$57,18,FALSE)=\"\",\"\",VLOOKUP(B26,'S7'!$B$23:$Z$57,18,FALSE))","v":""},{"$f":"IF(VLOOKUP(B26,'S7'!$B$23:$Z$57,19,FALSE)=\"\",\"\",VLOOKUP(B26,'S7'!$B$23:$Z$57,19,FALSE))","v":""},{"$f":"IF(VLOOKUP(B26,'S7'!$B$23:$Z$57,20,FALSE)=\"\",\"\",VLOOKUP(B26,'S7'!$B$23:$Z$57,20,FALSE))","v":""},{"$f":"IF(VLOOKUP(B26,'S7'!$B$23:$Z$57,21,FALSE)=\"\",\"\",VLOOKUP(B26,'S7'!$B$23:$Z$57,21,FALSE))","v":""},{"$f":"IF(VLOOKUP(B26,'S7'!$B$23:$Z$57,22,FALSE)=\"\",\"\",VLOOKUP(B26,'S7'!$B$23:$Z$57,22,FALSE))","v":""},{"$f":"IF(VLOOKUP(B26,'S7'!$B$23:$Z$57,23,FALSE)=\"\",\"\",VLOOKUP(B26,'S7'!$B$23:$Z$57,23,FALSE))","v":""},{"$f":"IF(VLOOKUP(B26,'S7'!$B$23:$Z$57,24,FALSE)=\"\",\"\",VLOOKUP(B26,'S7'!$B$23:$Z$57,24,FALSE))","v":""},{"$f":"IF(VLOOKUP(B26,'S7'!$B$23:$Z$57,25,FALSE)=\"\",\"\",VLOOKUP(B26,'S7'!$B$23:$Z$57,25,FALSE))","v":""},null,"Note",null,null,null,null,{"$f":"IF('S7'!$Q$18=\"\",\"\",\"erreicht\")","v":""},null,null,{"$f":"IF(VLOOKUP(U26,'S7'!$B$23:$Z$57,16,FALSE)=\"\",\"\",VLOOKUP(U26,'S7'!$B$23:$Z$57,16,FALSE))","v":""},{"$f":"IF(VLOOKUP(U26,'S7'!$B$23:$Z$57,17,FALSE)=\"\",\"\",VLOOKUP(U26,'S7'!$B$23:$Z$57,17,FALSE))","v":""},{"$f":"IF(VLOOKUP(U26,'S7'!$B$23:$Z$57,18,FALSE)=\"\",\"\",VLOOKUP(U26,'S7'!$B$23:$Z$57,18,FALSE))","v":""},{"$f":"IF(VLOOKUP(U26,'S7'!$B$23:$Z$57,19,FALSE)=\"\",\"\",VLOOKUP(U26,'S7'!$B$23:$Z$57,19,FALSE))","v":""},{"$f":"IF(VLOOKUP(U26,'S7'!$B$23:$Z$57,20,FALSE)=\"\",\"\",VLOOKUP(U26,'S7'!$B$23:$Z$57,20,FALSE))","v":""},{"$f":"IF(VLOOKUP(U26,'S7'!$B$23:$Z$57,21,FALSE)=\"\",\"\",VLOOKUP(U26,'S7'!$B$23:$Z$57,21,FALSE))","v":""},{"$f":"IF(VLOOKUP(U26,'S7'!$B$23:$Z$57,22,FALSE)=\"\",\"\",VLOOKUP(U26,'S7'!$B$23:$Z$57,22,FALSE))","v":""},{"$f":"IF(VLOOKUP(U26,'S7'!$B$23:$Z$57,23,FALSE)=\"\",\"\",VLOOKUP(U26,'S7'!$B$23:$Z$57,23,FALSE))","v":""},{"$f":"IF(VLOOKUP(U26,'S7'!$B$23:$Z$57,24,FALSE)=\"\",\"\",VLOOKUP(U26,'S7'!$B$23:$Z$57,24,FALSE))","v":""},{"$f":"IF(VLOOKUP(U26,'S7'!$B$23:$Z$57,25,FALSE)=\"\",\"\",VLOOKUP(U26,'S7'!$B$23:$Z$57,25,FALSE))","v":""},null,"Note"]
[null,{"$f":"IF('S7'!$Q$18=\"\",\"\",\"von\")","v":""},null,null,{"$f":"IF('S7'!$Q$21=\"\",\"\",'S7'!$Q$21)","v":""},{"$f":"IF('S7'!$R$21=\"\",\"\",'S7'!$R$21)","v":""},{"$f":"IF('S7'!$S$21=\"\",\"\",'S7'!$S$21)","v":""},{"$f":"IF('S7'!$T$21=\"\",\"\",'S7'!$T$21)","v":""},{"$f":"IF('S7'!$U$21=\"\",\"\",'S7'!$U$21)","v":""},{"$f":"IF('S7'!$V$21=\"\",\"\",'S7'!$V$21)","v":""},{"$f":"IF('S7'!$W$21=\"\",\"\",'S7'!$W$21)","v":""},{"$f":"IF('S7'!$X$21=\"\",\"\",'S7'!$X$21)","v":""},{"$f":"IF('S7'!$Y$21=\"\",\"\",'S7'!$Y$21)","v":""},{"$f":"IF('S7'!$Z$21=\"\",\"\",'S7'!$Z$21)","v":""},null,{"$f":"IF(VLOOKUP(B26,'S7'!$B$23:$Z$57,2,FALSE)=\"\",\"\",CONCATENATE(VLOOKUP(B26,'S7'!$B$23:$Z$57,2,FALSE),\" \",VLOOKUP(B26,'S7'!$B$23:$Z$57,3,FALSE)))","v":"- "},null,null,null,null,{"$f":"IF('S7'!$Q$18=\"\",\"\",\"von\")","v":""},null,null,{"$f":"IF('S7'!$Q$21=\"\",\"\",'S7'!$Q$21)","v":""},{"$f":"IF('S7'!$R$21=\"\",\"\",'S7'!$R$21)","v":""},{"$f":"IF('S7'!$S$21=\"\",\"\",'S7'!$S$21)","v":""},{"$f":"IF('S7'!$T$21=\"\",\"\",'S7'!$T$21)","v":""},{"$f":"IF('S7'!$U$21=\"\",\"\",'S7'!$U$21)","v":""},{"$f":"IF('S7'!$V$21=\"\",\"\",'S7'!$V$21)","v":""},{"$f":"IF('S7'!$W$21=\"\",\"\",'S7'!$W$21)","v":""},{"$f":"IF('S7'!$X$21=\"\",\"\",'S7'!$X$21)","v":""},{"$f":"IF('S7'!$Y$21=\"\",\"\",'S7'!$Y$21)","v":""},{"$f":"IF('S7'!$Z$21=\"\",\"\",'S7'!$Z$21)","v":""},null,{"$f":"IF(VLOOKUP(U26,'S7'!$B$23:$Z$57,2,FALSE)=\"\",\"\",CONCATENATE(VLOOKUP(U26,'S7'!$B$23:$Z$57,2,FALSE),\" \",VLOOKUP(U26,'S7'!$B$23:$Z$57,3,FALSE)))","v":"- "}]
[]
[]
[]
[null,{"$f":"'S7'!$B$29","v":""},null,null,null,null,null,null,null,null,null,null,null,null,null,null,null,null,null,null,{"$f":"'S7'!$B$30","v":""}]
[null,null,null,null,null,null,null,null,null,null,null,null,null,null,null,"Summe",null,null,null,null,null,null,null,null,null,null,null,null,null,null,null,null,null,null,"Summe"]
[null,"Aufgabe",null,null,{"$f":"IF('S7'!$G$18=\"\",\"\",'S7'!$G$18)","v":1},{"$f":"IF('S7'!$H$18=\"\",\"\",'S7'!$H$18)","v":2},{"$f":"IF('S7'!$I$18=\"\",\"\",'S7'!$I$18)","v":3},{"$f":"IF('S7'!$J$18=\"\",\"\",'S7'!$J$18)","v":""},{"$f":"IF('S7'!$K$18=\"\",\"\",'S7'!$K$18)","v":""},{"$f":"IF('S7'!$L$18=\"\",\"\",'S7'!$L$18)","v":""},{"$f":"IF('S7'!$M$18=\"\",\"\",'S7'!$M$18)","v":""},{"$f":"IF('S7'!$N$18=\"\",\"\",'S7'!$N$18)","v":""},{"$f":"IF('S7'!$O$18=\"\",\"\",'S7'!$O$18)","v":""},{"$f":"IF('S7'!$P$18=\"\",\"\",'S7'!$P$18)","v":""},null,{"$f":"IF(VLOOKUP(B38,'S7'!$B$23:$Z$57,5,FALSE)=\"\",\"\",VLOOKUP(B38,'S7'!$B$23:$Z$57,5,FALSE))","v":0},null,null,null,null,"Aufgabe",null,null,{"$f":"IF('S7'!$G$18=\"\",\"\",'S7'!$G$18)","v":1},{"$f":"IF('S7'!$H$18=\"\",\"\",'S7'!$H$18)","v":2},{"$f":"IF('S7'!$I$18=\"\",\"\",'S7'!$I$18)","v":3},{"$f":"IF('S7'!$J$18=\"\",\"\",'S7'!$J$18)","v":""},{"$f":"IF('S7'!$K$18=\"\",\"\",'S7'!$K$18)","v":""},{"$f":"IF('S7'!$L$18=\"\",\"\",'S7'!$L$18)","v":""},{"$f":"IF('S7'!$M$18=\"\",\"\",'S7'!$M$18)","v":""},{"$f":"IF('S7'!$N$18=\"\",\"\",'S7'!$N$18)","v":""},{"$f":"IF('S7'!$O$18=\"\",\"\",'S7'!$O$18)","v":""},{"$f":"IF('S7'!$P$18=\"\",\"\",'S7'!$P$18)","v":""},null,{"$f":"IF(VLOOKUP(U38,'S7'!$B$23:$Z$57,5,FALSE)=\"\",\"\",VLOOKUP(U38,'S7'!$B$23:$Z$57,5,FALSE))","v":0}]
[null,"erreicht",null,null,{"$f":"IF(VLOOKUP(B38,'S7'!$B$23:$Z$57,6,FALSE)=\"\",\"\",VLOOKUP(B38,'S7'!$B$23:$Z$57,6,FALSE))","v":"."},{"$f":"IF(VLOOKUP(B38,'S7'!$B$23:$Z$57,7,FALSE)=\"\",\"\",VLOOKUP(B38,'S7'!$B$23:$Z$57,7,FALSE))","v":""},{"$f":"IF(VLOOKUP(B38,'S7'!$B$23:$Z$57,8,FALSE)=\"\",\"\",VLOOKUP(B38,'S7'!$B$23:$Z$57,8,FALSE))","v":""},{"$f":"IF(VLOOKUP(B38,'S7'!$B$23:$Z$57,9,FALSE)=\"\",\"\",VLOOKUP(B38,'S7'!$B$23:$Z$57,9,FALSE))","v":""},{"$f":"IF(VLOOKUP(B38,'S7'!$B$23:$Z$57,10,FALSE)=\"\",\"\",VLOOKUP(B38,'S7'!$B$23:$Z$57,10,FALSE))","v":""},{"$f":"IF(VLOOKUP(B38,'S7'!$B$23:$Z$57,11,FALSE)=\"\",\"\",VLOOKUP(B38,'S7'!$B$23:$Z$57,11,FALSE))","v":""},{"$f":"IF(VLOOKUP(B38,'S7'!$B$23:$Z$57,12,FALSE)=\"\",\"\",VLOOKUP(B38,'S7'!$B$23:$Z$57,12,FALSE))","v":""},{"$f":"IF(VLOOKUP(B38,'S7'!$B$23:$Z$57,13,FALSE)=\"\",\"\",VLOOKUP(B38,'S7'!$B$23:$Z$57,13,FALSE))","v":""},{"$f":"IF(VLOOKUP(B38,'S7'!$B$23:$Z$57,14,FALSE)=\"\",\"\",VLOOKUP(B38,'S7'!$B$23:$Z$57,14,FALSE))","v":""},{"$f":"IF(VLOOKUP(B38,'S7'!$B$23:$Z$57,15,FALSE)=\"\",\"\",VLOOKUP(B38,'S7'!$B$23:$Z$57,15,FALSE))","v":""},null,null,null,null,null,null,"erreicht",null,null,{"$f":"IF(VLOOKUP(U38,'S7'!$B$23:$Z$57,6,FALSE)=\"\",\"\",VLOOKUP(U38,'S7'!$B$23:$Z$57,6,FALSE))","v":"."},{"$f":"IF(VLOOKUP(U38,'S7'!$B$23:$Z$57,7,FALSE)=\"\",\"\",VLOOKUP(U38,'S7'!$B$23:$Z$57,7,FALSE))","v":""},{"$f":"IF(VLOOKUP(U38,'S7'!$B$23:$Z$57,8,FALSE)=\"\",\"\",VLOOKUP(U38,'S7'!$B$23:$Z$57,8,FALSE))","v":""},{"$f":"IF(VLOOKUP(U38,'S7'!$B$23:$Z$57,9,FALSE)=\"\",\"\",VLOOKUP(U38,'S7'!$B$23:$Z$57,9,FALSE))","v":""},{"$f":"IF(VLOOKUP(U38,'S7'!$B$23:$Z$57,10,FALSE)=\"\",\"\",VLOOKUP(U38,'S7'!$B$23:$Z$57,10,FALSE))","v":""},{"$f":"IF(VLOOKUP(U38,'S7'!$B$23:$Z$57,11,FALSE)=\"\",\"\",VLOOKUP(U38,'S7'!$B$23:$Z$57,11,FALSE))","v":""},{"$f":"IF(VLOOKUP(U38,'S7'!$B$23:$Z$57,12,FALSE)=\"\",\"\",VLOOKUP(U38,'S7'!$B$23:$Z$57,12,FALSE))","v":""},{"$f":"IF(VLOOKUP(U38,'S7'!$B$23:$Z$57,13,FALSE)=\"\",\"\",VLOOKUP(U38,'S7'!$B$23:$Z$57,13,FALSE))","v":""},{"$f":"IF(VLOOKUP(U38,'S7'!$B$23:$Z$57,14,FALSE)=\"\",\"\",VLOOKUP(U38,'S7'!$B$23:$Z$57,14,FALSE))","v":""},{"$f":"IF(VLOOKUP(U38,'S7'!$B$23:$Z$57,15,FALSE)=\"\",\"\",VLOOKUP(U38,'S7'!$B$23:$Z$57,15,FALSE))","v":""}]
[null,"von",null,null,{"$f":"IF('S7'!$G$21=\"\",\"\",'S7'!$G$21)","v":""},{"$f":"IF('S7'!$H$21=\"\",\"\",'S7'!$H$21)","v":""},{"$f":"IF('S7'!$I$21=\"\",\"\",'S7'!$I$21)","v":""},{"$f":"IF('S7'!$J$21=\"\",\"\",'S7'!$J$21)","v":""},{"$f":"IF('S7'!$K$21=\"\",\"\",'S7'!$K$21)","v":""},{"$f":"IF('S7'!$L$21=\"\",\"\",'S7'!$L$21)","v":""},{"$f":"IF('S7'!$M$21=\"\",\"\",'S7'!$M$21)","v":""},{"$f":"IF('S7'!$N$21=\"\",\"\",'S7'!$N$21)","v":""},{"$f":"IF('S7'!$O$21=\"\",\"\",'S7'!$O$21)","v":""},{"$f":"IF('S7'!$P$21=\"\",\"\",'S7'!$P$21)","v":""},null,"von",null,null,null,null,"von",null,null,{"$f":"IF('S7'!$G$21=\"\",\"\",'S7'!$G$21)","v":""},{"$f":"IF('S7'!$H$21=\"\",\"\",'S7'!$H$21)","v":""},{"$f":"IF('S7'!$I$21=\"\",\"\",'S7'!$I$21)","v":""},{"$f":"IF('S7'!$J$21=\"\",\"\",'S7'!$J$21)","v":""},{"$f":"IF('S7'!$K$21=\"\",\"\",'S7'!$K$21)","v":""},{"$f":"IF('S7'!$L$21=\"\",\"\",'S7'!$L$21)","v":""},{"$f":"IF('S7'!$M$21=\"\",\"\",'S7'!$M$21)","v":""},{"$f":"IF('S7'!$N$21=\"\",\"\",'S7'!$N$21)","v":""},{"$f":"IF('S7'!$O$21=\"\",\"\",'S7'!$O$21)","v":""},{"$f":"IF('S7'!$P$21=\"\",\"\",'S7'!$P$21)","v":""},null,"von"]
[null,null,null,null,null,null,null,null,null,null,null,null,null,null,null,{"$f":"'S7'!$H$12","v":0},null,null,null,null,null,null,null,null,null,null,null,null,null,null,null,null,null,null,{"$f":"'S7'!$H$12","v":0}]
[null,{"$f":"IF('S7'!$Q$18=\"\",\"\",\"Aufgabe\")","v":""},null,null,{"$f":"IF('S7'!$Q$18=\"\",\"\",'S7'!$Q$18)","v":""},{"$f":"IF('S7'!$R$18=\"\",\"\",'S7'!$R$18)","v":""},{"$f":"IF('S7'!$S$18=\"\",\"\",'S7'!$S$18)","v":""},{"$f":"IF('S7'!$T$18=\"\",\"\",'S7'!$T$18)","v":""},{"$f":"IF('S7'!$U$18=\"\",\"\",'S7'!$U$18)","v":""},{"$f":"IF('S7'!$V$18=\"\",\"\",'S7'!$V$18)","v":""},{"$f":"IF('S7'!$W$18=\"\",\"\",'S7'!$W$18)","v":""},{"$f":"IF('S7'!$X$18=\"\",\"\",'S7'!$X$18)","v":""},{"$f":"IF('S7'!$Y$18=\"\",\"\",'S7'!$Y$18)","v":""},{"$f":"IF('S7'!$Z$18=\"\",\"\",'S7'!$Z$18)","v":""},null,null,null,null,null,null,{"$f":"IF('S7'!$Q$18=\"\",\"\",\"Aufgabe\")","v":""},null,null,{"$f":"IF('S7'!$Q$18=\"\",\"\",'S7'!$Q$18)","v":""},{"$f":"IF('S7'!$R$18=\"\",\"\",'S7'!$R$18)","v":""},{"$f":"IF('S7'!$S$18=\"\",\"\",'S7'!$S$18)","v":""},{"$f":"IF('S7'!$T$18=\"\",\"\",'S7'!$T$18)","v":""},{"$f":"IF('S7'!$U$18=\"\",\"\",'S7'!$U$18)","v":""},{"$f":"IF('S7'!$V$18=\"\",\"\",'S7'!$V$18)","v":""},{"$f":"IF('S7'!$W$18=\"\",\"\",'S7'!$W$18)","v":""},{"$f":"IF('S7'!$X$18=\"\",\"\",'S7'!$X$18)","v":""},{"$f":"IF('S7'!$Y$18=\"\",\"\",'S7'!$Y$18)","v":""},{"$f":"IF('S7'!$Z$18=\"\",\"\",'S7'!$Z$18)","v":""}]
[null,{"$f":"IF('S7'!$Q$18=\"\",\"\",\"erreicht\")","v":""},null,null,{"$f":"IF(VLOOKUP(B38,'S7'!$B$23:$Z$57,16,FALSE)=\"\",\"\",VLOOKUP(B38,'S7'!$B$23:$Z$57,16,FALSE))","v":""},{"$f":"IF(VLOOKUP(B38,'S7'!$B$23:$Z$57,17,FALSE)=\"\",\"\",VLOOKUP(B38,'S7'!$B$23:$Z$57,17,FALSE))","v":""},{"$f":"IF(VLOOKUP(B38,'S7'!$B$23:$Z$57,18,FALSE)=\"\",\"\",VLOOKUP(B38,'S7'!$B$23:$Z$57,18,FALSE))","v":""},{"$f":"IF(VLOOKUP(B38,'S7'!$B$23:$Z$57,19,FALSE)=\"\",\"\",VLOOKUP(B38,'S7'!$B$23:$Z$57,19,FALSE))","v":""},{"$f":"IF(VLOOKUP(B38,'S7'!$B$23:$Z$57,20,FALSE)=\"\",\"\",VLOOKUP(B38,'S7'!$B$23:$Z$57,20,FALSE))","v":""},{"$f":"IF(VLOOKUP(B38,'S7'!$B$23:$Z$57,21,FALSE)=\"\",\"\",VLOOKUP(B38,'S7'!$B$23:$Z$57,21,FALSE))","v":""},{"$f":"IF(VLOOKUP(B38,'S7'!$B$23:$Z$57,22,FALSE)=\"\",\"\",VLOOKUP(B38,'S7'!$B$23:$Z$57,22,FALSE))","v":""},{"$f":"IF(VLOOKUP(B38,'S7'!$B$23:$Z$57,23,FALSE)=\"\",\"\",VLOOKUP(B38,'S7'!$B$23:$Z$57,23,FALSE))","v":""},{"$f":"IF(VLOOKUP(B38,'S7'!$B$23:$Z$57,24,FALSE)=\"\",\"\",VLOOKUP(B38,'S7'!$B$23:$Z$57,24,FALSE))","v":""},{"$f":"IF(VLOOKUP(B38,'S7'!$B$23:$Z$57,25,FALSE)=\"\",\"\",VLOOKUP(B38,'S7'!$B$23:$Z$57,25,FALSE))","v":""},null,"Note",null,null,null,null,{"$f":"IF('S7'!$Q$18=\"\",\"\",\"erreicht\")","v":""},null,null,{"$f":"IF(VLOOKUP(U38,'S7'!$B$23:$Z$57,16,FALSE)=\"\",\"\",VLOOKUP(U38,'S7'!$B$23:$Z$57,16,FALSE))","v":""},{"$f":"IF(VLOOKUP(U38,'S7'!$B$23:$Z$57,17,FALSE)=\"\",\"\",VLOOKUP(U38,'S7'!$B$23:$Z$57,17,FALSE))","v":""},{"$f":"IF(VLOOKUP(U38,'S7'!$B$23:$Z$57,18,FALSE)=\"\",\"\",VLOOKUP(U38,'S7'!$B$23:$Z$57,18,FALSE))","v":""},{"$f":"IF(VLOOKUP(U38,'S7'!$B$23:$Z$57,19,FALSE)=\"\",\"\",VLOOKUP(U38,'S7'!$B$23:$Z$57,19,FALSE))","v":""},{"$f":"IF(VLOOKUP(U38,'S7'!$B$23:$Z$57,20,FALSE)=\"\",\"\",VLOOKUP(U38,'S7'!$B$23:$Z$57,20,FALSE))","v":""},{"$f":"IF(VLOOKUP(U38,'S7'!$B$23:$Z$57,21,FALSE)=\"\",\"\",VLOOKUP(U38,'S7'!$B$23:$Z$57,21,FALSE))","v":""},{"$f":"IF(VLOOKUP(U38,'S7'!$B$23:$Z$57,22,FALSE)=\"\",\"\",VLOOKUP(U38,'S7'!$B$23:$Z$57,22,FALSE))","v":""},{"$f":"IF(VLOOKUP(U38,'S7'!$B$23:$Z$57,23,FALSE)=\"\",\"\",VLOOKUP(U38,'S7'!$B$23:$Z$57,23,FALSE))","v":""},{"$f":"IF(VLOOKUP(U38,'S7'!$B$23:$Z$57,24,FALSE)=\"\",\"\",VLOOKUP(U38,'S7'!$B$23:$Z$57,24,FALSE))","v":""},{"$f":"IF(VLOOKUP(U38,'S7'!$B$23:$Z$57,25,FALSE)=\"\",\"\",VLOOKUP(U38,'S7'!$B$23:$Z$57,25,FALSE))","v":""},null,"Note"]
[null,{"$f":"IF('S7'!$Q$18=\"\",\"\",\"von\")","v":""},null,null,{"$f":"IF('S7'!$Q$21=\"\",\"\",'S7'!$Q$21)","v":""},{"$f":"IF('S7'!$R$21=\"\",\"\",'S7'!$R$21)","v":""},{"$f":"IF('S7'!$S$21=\"\",\"\",'S7'!$S$21)","v":""},{"$f":"IF('S7'!$T$21=\"\",\"\",'S7'!$T$21)","v":""},{"$f":"IF('S7'!$U$21=\"\",\"\",'S7'!$U$21)","v":""},{"$f":"IF('S7'!$V$21=\"\",\"\",'S7'!$V$21)","v":""},{"$f":"IF('S7'!$W$21=\"\",\"\",'S7'!$W$21)","v":""},{"$f":"IF('S7'!$X$21=\"\",\"\",'S7'!$X$21)","v":""},{"$f":"IF('S7'!$Y$21=\"\",\"\",'S7'!$Y$21)","v":""},{"$f":"IF('S7'!$Z$21=\"\",\"\",'S7'!$Z$21)","v":""},null,{"$f":"IF(VLOOKUP(B38,'S7'!$B$23:$Z$57,2,FALSE)=\"\",\"\",CONCATENATE(VLOOKUP(B38,'S7'!$B$23:$Z$57,2,FALSE),\" \",VLOOKUP(B38,'S7'!$B$23:$Z$57,3,FALSE)))","v":"- "},null,null,null,null,{"$f":"IF('S7'!$Q$18=\"\",\"\",\"von\")","v":""},null,null,{"$f":"IF('S7'!$Q$21=\"\",\"\",'S7'!$Q$21)","v":""},{"$f":"IF('S7'!$R$21=\"\",\"\",'S7'!$R$21)","v":""},{"$f":"IF('S7'!$S$21=\"\",\"\",'S7'!$S$21)","v":""},{"$f":"IF('S7'!$T$21=\"\",\"\",'S7'!$T$21)","v":""},{"$f":"IF('S7'!$U$21=\"\",\"\",'S7'!$U$21)","v":""},{"$f":"IF('S7'!$V$21=\"\",\"\",'S7'!$V$21)","v":""},{"$f":"IF('S7'!$W$21=\"\",\"\",'S7'!$W$21)","v":""},{"$f":"IF('S7'!$X$21=\"\",\"\",'S7'!$X$21)","v":""},{"$f":"IF('S7'!$Y$21=\"\",\"\",'S7'!$Y$21)","v":""},{"$f":"IF('S7'!$Z$21=\"\",\"\",'S7'!$Z$21)","v":""},null,{"$f":"IF(VLOOKUP(U38,'S7'!$B$23:$Z$57,2,FALSE)=\"\",\"\",CONCATENATE(VLOOKUP(U38,'S7'!$B$23:$Z$57,2,FALSE),\" \",VLOOKUP(U38,'S7'!$B$23:$Z$57,3,FALSE)))","v":"- "}]
[]
[]
[]
[null,{"$f":"'S7'!$B$31","v":""},null,null,null,null,null,null,null,null,null,null,null,null,null,null,null,null,null,null,{"$f":"'S7'!$B$32","v":""}]
[null,null,null,null,null,null,null,null,null,null,null,null,null,null,null,"Summe",null,null,null,null,null,null,null,null,null,null,null,null,null,null,null,null,null,null,"Summe"]
[null,"Aufgabe",null,null,{"$f":"IF('S7'!$G$18=\"\",\"\",'S7'!$G$18)","v":1},{"$f":"IF('S7'!$H$18=\"\",\"\",'S7'!$H$18)","v":2},{"$f":"IF('S7'!$I$18=\"\",\"\",'S7'!$I$18)","v":3},{"$f":"IF('S7'!$J$18=\"\",\"\",'S7'!$J$18)","v":""},{"$f":"IF('S7'!$K$18=\"\",\"\",'S7'!$K$18)","v":""},{"$f":"IF('S7'!$L$18=\"\",\"\",'S7'!$L$18)","v":""},{"$f":"IF('S7'!$M$18=\"\",\"\",'S7'!$M$18)","v":""},{"$f":"IF('S7'!$N$18=\"\",\"\",'S7'!$N$18)","v":""},{"$f":"IF('S7'!$O$18=\"\",\"\",'S7'!$O$18)","v":""},{"$f":"IF('S7'!$P$18=\"\",\"\",'S7'!$P$18)","v":""},null,{"$f":"IF(VLOOKUP(B50,'S7'!$B$23:$Z$57,5,FALSE)=\"\",\"\",VLOOKUP(B50,'S7'!$B$23:$Z$57,5,FALSE))","v":0},null,null,null,null,"Aufgabe",null,null,{"$f":"IF('S7'!$G$18=\"\",\"\",'S7'!$G$18)","v":1},{"$f":"IF('S7'!$H$18=\"\",\"\",'S7'!$H$18)","v":2},{"$f":"IF('S7'!$I$18=\"\",\"\",'S7'!$I$18)","v":3},{"$f":"IF('S7'!$J$18=\"\",\"\",'S7'!$J$18)","v":""},{"$f":"IF('S7'!$K$18=\"\",\"\",'S7'!$K$18)","v":""},{"$f":"IF('S7'!$L$18=\"\",\"\",'S7'!$L$18)","v":""},{"$f":"IF('S7'!$M$18=\"\",\"\",'S7'!$M$18)","v":""},{"$f":"IF('S7'!$N$18=\"\",\"\",'S7'!$N$18)","v":""},{"$f":"IF('S7'!$O$18=\"\",\"\",'S7'!$O$18)","v":""},{"$f":"IF('S7'!$P$18=\"\",\"\",'S7'!$P$18)","v":""},null,{"$f":"IF(VLOOKUP(U50,'S7'!$B$23:$Z$57,5,FALSE)=\"\",\"\",VLOOKUP(U50,'S7'!$B$23:$Z$57,5,FALSE))","v":0}]
[null,"erreicht",null,null,{"$f":"IF(VLOOKUP(B50,'S7'!$B$23:$Z$57,6,FALSE)=\"\",\"\",VLOOKUP(B50,'S7'!$B$23:$Z$57,6,FALSE))","v":"."},{"$f":"IF(VLOOKUP(B50,'S7'!$B$23:$Z$57,7,FALSE)=\"\",\"\",VLOOKUP(B50,'S7'!$B$23:$Z$57,7,FALSE))","v":""},{"$f":"IF(VLOOKUP(B50,'S7'!$B$23:$Z$57,8,FALSE)=\"\",\"\",VLOOKUP(B50,'S7'!$B$23:$Z$57,8,FALSE))","v":""},{"$f":"IF(VLOOKUP(B50,'S7'!$B$23:$Z$57,9,FALSE)=\"\",\"\",VLOOKUP(B50,'S7'!$B$23:$Z$57,9,FALSE))","v":""},{"$f":"IF(VLOOKUP(B50,'S7'!$B$23:$Z$57,10,FALSE)=\"\",\"\",VLOOKUP(B50,'S7'!$B$23:$Z$57,10,FALSE))","v":""},{"$f":"IF(VLOOKUP(B50,'S7'!$B$23:$Z$57,11,FALSE)=\"\",\"\",VLOOKUP(B50,'S7'!$B$23:$Z$57,11,FALSE))","v":""},{"$f":"IF(VLOOKUP(B50,'S7'!$B$23:$Z$57,12,FALSE)=\"\",\"\",VLOOKUP(B50,'S7'!$B$23:$Z$57,12,FALSE))","v":""},{"$f":"IF(VLOOKUP(B50,'S7'!$B$23:$Z$57,13,FALSE)=\"\",\"\",VLOOKUP(B50,'S7'!$B$23:$Z$57,13,FALSE))","v":""},{"$f":"IF(VLOOKUP(B50,'S7'!$B$23:$Z$57,14,FALSE)=\"\",\"\",VLOOKUP(B50,'S7'!$B$23:$Z$57,14,FALSE))","v":""},{"$f":"IF(VLOOKUP(B50,'S7'!$B$23:$Z$57,15,FALSE)=\"\",\"\",VLOOKUP(B50,'S7'!$B$23:$Z$57,15,FALSE))","v":""},null,null,null,null,null,null,"erreicht",null,null,{"$f":"IF(VLOOKUP(U50,'S7'!$B$23:$Z$57,6,FALSE)=\"\",\"\",VLOOKUP(U50,'S7'!$B$23:$Z$57,6,FALSE))","v":"."},{"$f":"IF(VLOOKUP(U50,'S7'!$B$23:$Z$57,7,FALSE)=\"\",\"\",VLOOKUP(U50,'S7'!$B$23:$Z$57,7,FALSE))","v":""},{"$f":"IF(VLOOKUP(U50,'S7'!$B$23:$Z$57,8,FALSE)=\"\",\"\",VLOOKUP(U50,'S7'!$B$23:$Z$57,8,FALSE))","v":""},{"$f":"IF(VLOOKUP(U50,'S7'!$B$23:$Z$57,9,FALSE)=\"\",\"\",VLOOKUP(U50,'S7'!$B$23:$Z$57,9,FALSE))","v":""},{"$f":"IF(VLOOKUP(U50,'S7'!$B$23:$Z$57,10,FALSE)=\"\",\"\",VLOOKUP(U50,'S7'!$B$23:$Z$57,10,FALSE))","v":""},{"$f":"IF(VLOOKUP(U50,'S7'!$B$23:$Z$57,11,FALSE)=\"\",\"\",VLOOKUP(U50,'S7'!$B$23:$Z$57,11,FALSE))","v":""},{"$f":"IF(VLOOKUP(U50,'S7'!$B$23:$Z$57,12,FALSE)=\"\",\"\",VLOOKUP(U50,'S7'!$B$23:$Z$57,12,FALSE))","v":""},{"$f":"IF(VLOOKUP(U50,'S7'!$B$23:$Z$57,13,FALSE)=\"\",\"\",VLOOKUP(U50,'S7'!$B$23:$Z$57,13,FALSE))","v":""},{"$f":"IF(VLOOKUP(U50,'S7'!$B$23:$Z$57,14,FALSE)=\"\",\"\",VLOOKUP(U50,'S7'!$B$23:$Z$57,14,FALSE))","v":""},{"$f":"IF(VLOOKUP(U50,'S7'!$B$23:$Z$57,15,FALSE)=\"\",\"\",VLOOKUP(U50,'S7'!$B$23:$Z$57,15,FALSE))","v":""}]
[null,"von",null,null,{"$f":"IF('S7'!$G$21=\"\",\"\",'S7'!$G$21)","v":""},{"$f":"IF('S7'!$H$21=\"\",\"\",'S7'!$H$21)","v":""},{"$f":"IF('S7'!$I$21=\"\",\"\",'S7'!$I$21)","v":""},{"$f":"IF('S7'!$J$21=\"\",\"\",'S7'!$J$21)","v":""},{"$f":"IF('S7'!$K$21=\"\",\"\",'S7'!$K$21)","v":""},{"$f":"IF('S7'!$L$21=\"\",\"\",'S7'!$L$21)","v":""},{"$f":"IF('S7'!$M$21=\"\",\"\",'S7'!$M$21)","v":""},{"$f":"IF('S7'!$N$21=\"\",\"\",'S7'!$N$21)","v":""},{"$f":"IF('S7'!$O$21=\"\",\"\",'S7'!$O$21)","v":""},{"$f":"IF('S7'!$P$21=\"\",\"\",'S7'!$P$21)","v":""},null,"von",null,null,null,null,"von",null,null,{"$f":"IF('S7'!$G$21=\"\",\"\",'S7'!$G$21)","v":""},{"$f":"IF('S7'!$H$21=\"\",\"\",'S7'!$H$21)","v":""},{"$f":"IF('S7'!$I$21=\"\",\"\",'S7'!$I$21)","v":""},{"$f":"IF('S7'!$J$21=\"\",\"\",'S7'!$J$21)","v":""},{"$f":"IF('S7'!$K$21=\"\",\"\",'S7'!$K$21)","v":""},{"$f":"IF('S7'!$L$21=\"\",\"\",'S7'!$L$21)","v":""},{"$f":"IF('S7'!$M$21=\"\",\"\",'S7'!$M$21)","v":""},{"$f":"IF('S7'!$N$21=\"\",\"\",'S7'!$N$21)","v":""},{"$f":"IF('S7'!$O$21=\"\",\"\",'S7'!$O$21)","v":""},{"$f":"IF('S7'!$P$21=\"\",\"\",'S7'!$P$21)","v":""},null,"von"]
[null,null,null,null,null,null,null,null,null,null,null,null,null,null,null,{"$f":"'S7'!$H$12","v":0},null,null,null,null,null,null,null,null,null,null,null,null,null,null,null,null,null,null,{"$f":"'S7'!$H$12","v":0}]
[null,{"$f":"IF('S7'!$Q$18=\"\",\"\",\"Aufgabe\")","v":""},null,null,{"$f":"IF('S7'!$Q$18=\"\",\"\",'S7'!$Q$18)","v":""},{"$f":"IF('S7'!$R$18=\"\",\"\",'S7'!$R$18)","v":""},{"$f":"IF('S7'!$S$18=\"\",\"\",'S7'!$S$18)","v":""},{"$f":"IF('S7'!$T$18=\"\",\"\",'S7'!$T$18)","v":""},{"$f":"IF('S7'!$U$18=\"\",\"\",'S7'!$U$18)","v":""},{"$f":"IF('S7'!$V$18=\"\",\"\",'S7'!$V$18)","v":""},{"$f":"IF('S7'!$W$18=\"\",\"\",'S7'!$W$18)","v":""},{"$f":"IF('S7'!$X$18=\"\",\"\",'S7'!$X$18)","v":""},{"$f":"IF('S7'!$Y$18=\"\",\"\",'S7'!$Y$18)","v":""},{"$f":"IF('S7'!$Z$18=\"\",\"\",'S7'!$Z$18)","v":""},null,null,null,null,null,null,{"$f":"IF('S7'!$Q$18=\"\",\"\",\"Aufgabe\")","v":""},null,null,{"$f":"IF('S7'!$Q$18=\"\",\"\",'S7'!$Q$18)","v":""},{"$f":"IF('S7'!$R$18=\"\",\"\",'S7'!$R$18)","v":""},{"$f":"IF('S7'!$S$18=\"\",\"\",'S7'!$S$18)","v":""},{"$f":"IF('S7'!$T$18=\"\",\"\",'S7'!$T$18)","v":""},{"$f":"IF('S7'!$U$18=\"\",\"\",'S7'!$U$18)","v":""},{"$f":"IF('S7'!$V$18=\"\",\"\",'S7'!$V$18)","v":""},{"$f":"IF('S7'!$W$18=\"\",\"\",'S7'!$W$18)","v":""},{"$f":"IF('S7'!$X$18=\"\",\"\",'S7'!$X$18)","v":""},{"$f":"IF('S7'!$Y$18=\"\",\"\",'S7'!$Y$18)","v":""},{"$f":"IF('S7'!$Z$18=\"\",\"\",'S7'!$Z$18)","v":""}]
[null,{"$f":"IF('S7'!$Q$18=\"\",\"\",\"erreicht\")","v":""},null,null,{"$f":"IF(VLOOKUP(B50,'S7'!$B$23:$Z$57,16,FALSE)=\"\",\"\",VLOOKUP(B50,'S7'!$B$23:$Z$57,16,FALSE))","v":""},{"$f":"IF(VLOOKUP(B50,'S7'!$B$23:$Z$57,17,FALSE)=\"\",\"\",VLOOKUP(B50,'S7'!$B$23:$Z$57,17,FALSE))","v":""},{"$f":"IF(VLOOKUP(B50,'S7'!$B$23:$Z$57,18,FALSE)=\"\",\"\",VLOOKUP(B50,'S7'!$B$23:$Z$57,18,FALSE))","v":""},{"$f":"IF(VLOOKUP(B50,'S7'!$B$23:$Z$57,19,FALSE)=\"\",\"\",VLOOKUP(B50,'S7'!$B$23:$Z$57,19,FALSE))","v":""},{"$f":"IF(VLOOKUP(B50,'S7'!$B$23:$Z$57,20,FALSE)=\"\",\"\",VLOOKUP(B50,'S7'!$B$23:$Z$57,20,FALSE))","v":""},{"$f":"IF(VLOOKUP(B50,'S7'!$B$23:$Z$57,21,FALSE)=\"\",\"\",VLOOKUP(B50,'S7'!$B$23:$Z$57,21,FALSE))","v":""},{"$f":"IF(VLOOKUP(B50,'S7'!$B$23:$Z$57,22,FALSE)=\"\",\"\",VLOOKUP(B50,'S7'!$B$23:$Z$57,22,FALSE))","v":""},{"$f":"IF(VLOOKUP(B50,'S7'!$B$23:$Z$57,23,FALSE)=\"\",\"\",VLOOKUP(B50,'S7'!$B$23:$Z$57,23,FALSE))","v":""},{"$f":"IF(VLOOKUP(B50,'S7'!$B$23:$Z$57,24,FALSE)=\"\",\"\",VLOOKUP(B50,'S7'!$B$23:$Z$57,24,FALSE))","v":""},{"$f":"IF(VLOOKUP(B50,'S7'!$B$23:$Z$57,25,FALSE)=\"\",\"\",VLOOKUP(B50,'S7'!$B$23:$Z$57,25,FALSE))","v":""},null,"Note",null,null,null,null,{"$f":"IF('S7'!$Q$18=\"\",\"\",\"erreicht\")","v":""},null,null,{"$f":"IF(VLOOKUP(U50,'S7'!$B$23:$Z$57,16,FALSE)=\"\",\"\",VLOOKUP(U50,'S7'!$B$23:$Z$57,16,FALSE))","v":""},{"$f":"IF(VLOOKUP(U50,'S7'!$B$23:$Z$57,17,FALSE)=\"\",\"\",VLOOKUP(U50,'S7'!$B$23:$Z$57,17,FALSE))","v":""},{"$f":"IF(VLOOKUP(U50,'S7'!$B$23:$Z$57,18,FALSE)=\"\",\"\",VLOOKUP(U50,'S7'!$B$23:$Z$57,18,FALSE))","v":""},{"$f":"IF(VLOOKUP(U50,'S7'!$B$23:$Z$57,19,FALSE)=\"\",\"\",VLOOKUP(U50,'S7'!$B$23:$Z$57,19,FALSE))","v":""},{"$f":"IF(VLOOKUP(U50,'S7'!$B$23:$Z$57,20,FALSE)=\"\",\"\",VLOOKUP(U50,'S7'!$B$23:$Z$57,20,FALSE))","v":""},{"$f":"IF(VLOOKUP(U50,'S7'!$B$23:$Z$57,21,FALSE)=\"\",\"\",VLOOKUP(U50,'S7'!$B$23:$Z$57,21,FALSE))","v":""},{"$f":"IF(VLOOKUP(U50,'S7'!$B$23:$Z$57,22,FALSE)=\"\",\"\",VLOOKUP(U50,'S7'!$B$23:$Z$57,22,FALSE))","v":""},{"$f":"IF(VLOOKUP(U50,'S7'!$B$23:$Z$57,23,FALSE)=\"\",\"\",VLOOKUP(U50,'S7'!$B$23:$Z$57,23,FALSE))","v":""},{"$f":"IF(VLOOKUP(U50,'S7'!$B$23:$Z$57,24,FALSE)=\"\",\"\",VLOOKUP(U50,'S7'!$B$23:$Z$57,24,FALSE))","v":""},{"$f":"IF(VLOOKUP(U50,'S7'!$B$23:$Z$57,25,FALSE)=\"\",\"\",VLOOKUP(U50,'S7'!$B$23:$Z$57,25,FALSE))","v":""},null,"Note"]
[null,{"$f":"IF('S7'!$Q$18=\"\",\"\",\"von\")","v":""},null,null,{"$f":"IF('S7'!$Q$21=\"\",\"\",'S7'!$Q$21)","v":""},{"$f":"IF('S7'!$R$21=\"\",\"\",'S7'!$R$21)","v":""},{"$f":"IF('S7'!$S$21=\"\",\"\",'S7'!$S$21)","v":""},{"$f":"IF('S7'!$T$21=\"\",\"\",'S7'!$T$21)","v":""},{"$f":"IF('S7'!$U$21=\"\",\"\",'S7'!$U$21)","v":""},{"$f":"IF('S7'!$V$21=\"\",\"\",'S7'!$V$21)","v":""},{"$f":"IF('S7'!$W$21=\"\",\"\",'S7'!$W$21)","v":""},{"$f":"IF('S7'!$X$21=\"\",\"\",'S7'!$X$21)","v":""},{"$f":"IF('S7'!$Y$21=\"\",\"\",'S7'!$Y$21)","v":""},{"$f":"IF('S7'!$Z$21=\"\",\"\",'S7'!$Z$21)","v":""},null,{"$f":"IF(VLOOKUP(B50,'S7'!$B$23:$Z$57,2,FALSE)=\"\",\"\",CONCATENATE(VLOOKUP(B50,'S7'!$B$23:$Z$57,2,FALSE),\" \",VLOOKUP(B50,'S7'!$B$23:$Z$57,3,FALSE)))","v":"- "},null,null,null,null,{"$f":"IF('S7'!$Q$18=\"\",\"\",\"von\")","v":""},null,null,{"$f":"IF('S7'!$Q$21=\"\",\"\",'S7'!$Q$21)","v":""},{"$f":"IF('S7'!$R$21=\"\",\"\",'S7'!$R$21)","v":""},{"$f":"IF('S7'!$S$21=\"\",\"\",'S7'!$S$21)","v":""},{"$f":"IF('S7'!$T$21=\"\",\"\",'S7'!$T$21)","v":""},{"$f":"IF('S7'!$U$21=\"\",\"\",'S7'!$U$21)","v":""},{"$f":"IF('S7'!$V$21=\"\",\"\",'S7'!$V$21)","v":""},{"$f":"IF('S7'!$W$21=\"\",\"\",'S7'!$W$21)","v":""},{"$f":"IF('S7'!$X$21=\"\",\"\",'S7'!$X$21)","v":""},{"$f":"IF('S7'!$Y$21=\"\",\"\",'S7'!$Y$21)","v":""},{"$f":"IF('S7'!$Z$21=\"\",\"\",'S7'!$Z$21)","v":""},null,{"$f":"IF(VLOOKUP(U50,'S7'!$B$23:$Z$57,2,FALSE)=\"\",\"\",CONCATENATE(VLOOKUP(U50,'S7'!$B$23:$Z$57,2,FALSE),\" \",VLOOKUP(U50,'S7'!$B$23:$Z$57,3,FALSE)))","v":"- "}]
[]
[]
[]
[null,{"$f":"'S7'!$B$33","v":""},null,null,null,null,null,null,null,null,null,null,null,null,null,null,null,null,null,null,{"$f":"'S7'!$B$34","v":""}]
[null,null,null,null,null,null,null,null,null,null,null,null,null,null,null,"Summe",null,null,null,null,null,null,null,null,null,null,null,null,null,null,null,null,null,null,"Summe"]
[null,"Aufgabe",null,null,{"$f":"IF('S7'!$G$18=\"\",\"\",'S7'!$G$18)","v":1},{"$f":"IF('S7'!$H$18=\"\",\"\",'S7'!$H$18)","v":2},{"$f":"IF('S7'!$I$18=\"\",\"\",'S7'!$I$18)","v":3},{"$f":"IF('S7'!$J$18=\"\",\"\",'S7'!$J$18)","v":""},{"$f":"IF('S7'!$K$18=\"\",\"\",'S7'!$K$18)","v":""},{"$f":"IF('S7'!$L$18=\"\",\"\",'S7'!$L$18)","v":""},{"$f":"IF('S7'!$M$18=\"\",\"\",'S7'!$M$18)","v":""},{"$f":"IF('S7'!$N$18=\"\",\"\",'S7'!$N$18)","v":""},{"$f":"IF('S7'!$O$18=\"\",\"\",'S7'!$O$18)","v":""},{"$f":"IF('S7'!$P$18=\"\",\"\",'S7'!$P$18)","v":""},null,{"$f":"IF(VLOOKUP(B62,'S7'!$B$23:$Z$57,5,FALSE)=\"\",\"\",VLOOKUP(B62,'S7'!$B$23:$Z$57,5,FALSE))","v":0},null,null,null,null,"Aufgabe",null,null,{"$f":"IF('S7'!$G$18=\"\",\"\",'S7'!$G$18)","v":1},{"$f":"IF('S7'!$H$18=\"\",\"\",'S7'!$H$18)","v":2},{"$f":"IF('S7'!$I$18=\"\",\"\",'S7'!$I$18)","v":3},{"$f":"IF('S7'!$J$18=\"\",\"\",'S7'!$J$18)","v":""},{"$f":"IF('S7'!$K$18=\"\",\"\",'S7'!$K$18)","v":""},{"$f":"IF('S7'!$L$18=\"\",\"\",'S7'!$L$18)","v":""},{"$f":"IF('S7'!$M$18=\"\",\"\",'S7'!$M$18)","v":""},{"$f":"IF('S7'!$N$18=\"\",\"\",'S7'!$N$18)","v":""},{"$f":"IF('S7'!$O$18=\"\",\"\",'S7'!$O$18)","v":""},{"$f":"IF('S7'!$P$18=\"\",\"\",'S7'!$P$18)","v":""},null,{"$f":"IF(VLOOKUP(U62,'S7'!$B$23:$Z$57,5,FALSE)=\"\",\"\",VLOOKUP(U62,'S7'!$B$23:$Z$57,5,FALSE))","v":0}]
[null,"erreicht",null,null,{"$f":"IF(VLOOKUP(B62,'S7'!$B$23:$Z$57,6,FALSE)=\"\",\"\",VLOOKUP(B62,'S7'!$B$23:$Z$57,6,FALSE))","v":"."},{"$f":"IF(VLOOKUP(B62,'S7'!$B$23:$Z$57,7,FALSE)=\"\",\"\",VLOOKUP(B62,'S7'!$B$23:$Z$57,7,FALSE))","v":""},{"$f":"IF(VLOOKUP(B62,'S7'!$B$23:$Z$57,8,FALSE)=\"\",\"\",VLOOKUP(B62,'S7'!$B$23:$Z$57,8,FALSE))","v":""},{"$f":"IF(VLOOKUP(B62,'S7'!$B$23:$Z$57,9,FALSE)=\"\",\"\",VLOOKUP(B62,'S7'!$B$23:$Z$57,9,FALSE))","v":""},{"$f":"IF(VLOOKUP(B62,'S7'!$B$23:$Z$57,10,FALSE)=\"\",\"\",VLOOKUP(B62,'S7'!$B$23:$Z$57,10,FALSE))","v":""},{"$f":"IF(VLOOKUP(B62,'S7'!$B$23:$Z$57,11,FALSE)=\"\",\"\",VLOOKUP(B62,'S7'!$B$23:$Z$57,11,FALSE))","v":""},{"$f":"IF(VLOOKUP(B62,'S7'!$B$23:$Z$57,12,FALSE)=\"\",\"\",VLOOKUP(B62,'S7'!$B$23:$Z$57,12,FALSE))","v":""},{"$f":"IF(VLOOKUP(B62,'S7'!$B$23:$Z$57,13,FALSE)=\"\",\"\",VLOOKUP(B62,'S7'!$B$23:$Z$57,13,FALSE))","v":""},{"$f":"IF(VLOOKUP(B62,'S7'!$B$23:$Z$57,14,FALSE)=\"\",\"\",VLOOKUP(B62,'S7'!$B$23:$Z$57,14,FALSE))","v":""},{"$f":"IF(VLOOKUP(B62,'S7'!$B$23:$Z$57,15,FALSE)=\"\",\"\",VLOOKUP(B62,'S7'!$B$23:$Z$57,15,FALSE))","v":""},null,null,null,null,null,null,"erreicht",null,null,{"$f":"IF(VLOOKUP(U62,'S7'!$B$23:$Z$57,6,FALSE)=\"\",\"\",VLOOKUP(U62,'S7'!$B$23:$Z$57,6,FALSE))","v":"."},{"$f":"IF(VLOOKUP(U62,'S7'!$B$23:$Z$57,7,FALSE)=\"\",\"\",VLOOKUP(U62,'S7'!$B$23:$Z$57,7,FALSE))","v":""},{"$f":"IF(VLOOKUP(U62,'S7'!$B$23:$Z$57,8,FALSE)=\"\",\"\",VLOOKUP(U62,'S7'!$B$23:$Z$57,8,FALSE))","v":""},{"$f":"IF(VLOOKUP(U62,'S7'!$B$23:$Z$57,9,FALSE)=\"\",\"\",VLOOKUP(U62,'S7'!$B$23:$Z$57,9,FALSE))","v":""},{"$f":"IF(VLOOKUP(U62,'S7'!$B$23:$Z$57,10,FALSE)=\"\",\"\",VLOOKUP(U62,'S7'!$B$23:$Z$57,10,FALSE))","v":""},{"$f":"IF(VLOOKUP(U62,'S7'!$B$23:$Z$57,11,FALSE)=\"\",\"\",VLOOKUP(U62,'S7'!$B$23:$Z$57,11,FALSE))","v":""},{"$f":"IF(VLOOKUP(U62,'S7'!$B$23:$Z$57,12,FALSE)=\"\",\"\",VLOOKUP(U62,'S7'!$B$23:$Z$57,12,FALSE))","v":""},{"$f":"IF(VLOOKUP(U62,'S7'!$B$23:$Z$57,13,FALSE)=\"\",\"\",VLOOKUP(U62,'S7'!$B$23:$Z$57,13,FALSE))","v":""},{"$f":"IF(VLOOKUP(U62,'S7'!$B$23:$Z$57,14,FALSE)=\"\",\"\",VLOOKUP(U62,'S7'!$B$23:$Z$57,14,FALSE))","v":""},{"$f":"IF(VLOOKUP(U62,'S7'!$B$23:$Z$57,15,FALSE)=\"\",\"\",VLOOKUP(U62,'S7'!$B$23:$Z$57,15,FALSE))","v":""}]
[null,"von",null,null,{"$f":"IF('S7'!$G$21=\"\",\"\",'S7'!$G$21)","v":""},{"$f":"IF('S7'!$H$21=\"\",\"\",'S7'!$H$21)","v":""},{"$f":"IF('S7'!$I$21=\"\",\"\",'S7'!$I$21)","v":""},{"$f":"IF('S7'!$J$21=\"\",\"\",'S7'!$J$21)","v":""},{"$f":"IF('S7'!$K$21=\"\",\"\",'S7'!$K$21)","v":""},{"$f":"IF('S7'!$L$21=\"\",\"\",'S7'!$L$21)","v":""},{"$f":"IF('S7'!$M$21=\"\",\"\",'S7'!$M$21)","v":""},{"$f":"IF('S7'!$N$21=\"\",\"\",'S7'!$N$21)","v":""},{"$f":"IF('S7'!$O$21=\"\",\"\",'S7'!$O$21)","v":""},{"$f":"IF('S7'!$P$21=\"\",\"\",'S7'!$P$21)","v":""},null,"von",null,null,null,null,"von",null,null,{"$f":"IF('S7'!$G$21=\"\",\"\",'S7'!$G$21)","v":""},{"$f":"IF('S7'!$H$21=\"\",\"\",'S7'!$H$21)","v":""},{"$f":"IF('S7'!$I$21=\"\",\"\",'S7'!$I$21)","v":""},{"$f":"IF('S7'!$J$21=\"\",\"\",'S7'!$J$21)","v":""},{"$f":"IF('S7'!$K$21=\"\",\"\",'S7'!$K$21)","v":""},{"$f":"IF('S7'!$L$21=\"\",\"\",'S7'!$L$21)","v":""},{"$f":"IF('S7'!$M$21=\"\",\"\",'S7'!$M$21)","v":""},{"$f":"IF('S7'!$N$21=\"\",\"\",'S7'!$N$21)","v":""},{"$f":"IF('S7'!$O$21=\"\",\"\",'S7'!$O$21)","v":""},{"$f":"IF('S7'!$P$21=\"\",\"\",'S7'!$P$21)","v":""},null,"von"]
[null,null,null,null,null,null,null,null,null,null,null,null,null,null,null,{"$f":"'S7'!$H$12","v":0},null,null,null,null,null,null,null,null,null,null,null,null,null,null,null,null,null,null,{"$f":"'S7'!$H$12","v":0}]
[null,{"$f":"IF('S7'!$Q$18=\"\",\"\",\"Aufgabe\")","v":""},null,null,{"$f":"IF('S7'!$Q$18=\"\",\"\",'S7'!$Q$18)","v":""},{"$f":"IF('S7'!$R$18=\"\",\"\",'S7'!$R$18)","v":""},{"$f":"IF('S7'!$S$18=\"\",\"\",'S7'!$S$18)","v":""},{"$f":"IF('S7'!$T$18=\"\",\"\",'S7'!$T$18)","v":""},{"$f":"IF('S7'!$U$18=\"\",\"\",'S7'!$U$18)","v":""},{"$f":"IF('S7'!$V$18=\"\",\"\",'S7'!$V$18)","v":""},{"$f":"IF('S7'!$W$18=\"\",\"\",'S7'!$W$18)","v":""},{"$f":"IF('S7'!$X$18=\"\",\"\",'S7'!$X$18)","v":""},{"$f":"IF('S7'!$Y$18=\"\",\"\",'S7'!$Y$18)","v":""},{"$f":"IF('S7'!$Z$18=\"\",\"\",'S7'!$Z$18)","v":""},null,null,null,null,null,null,{"$f":"IF('S7'!$Q$18=\"\",\"\",\"Aufgabe\")","v":""},null,null,{"$f":"IF('S7'!$Q$18=\"\",\"\",'S7'!$Q$18)","v":""},{"$f":"IF('S7'!$R$18=\"\",\"\",'S7'!$R$18)","v":""},{"$f":"IF('S7'!$S$18=\"\",\"\",'S7'!$S$18)","v":""},{"$f":"IF('S7'!$T$18=\"\",\"\",'S7'!$T$18)","v":""},{"$f":"IF('S7'!$U$18=\"\",\"\",'S7'!$U$18)","v":""},{"$f":"IF('S7'!$V$18=\"\",\"\",'S7'!$V$18)","v":""},{"$f":"IF('S7'!$W$18=\"\",\"\",'S7'!$W$18)","v":""},{"$f":"IF('S7'!$X$18=\"\",\"\",'S7'!$X$18)","v":""},{"$f":"IF('S7'!$Y$18=\"\",\"\",'S7'!$Y$18)","v":""},{"$f":"IF('S7'!$Z$18=\"\",\"\",'S7'!$Z$18)","v":""}]
[null,{"$f":"IF('S7'!$Q$18=\"\",\"\",\"erreicht\")","v":""},null,null,{"$f":"IF(VLOOKUP(B62,'S7'!$B$23:$Z$57,16,FALSE)=\"\",\"\",VLOOKUP(B62,'S7'!$B$23:$Z$57,16,FALSE))","v":""},{"$f":"IF(VLOOKUP(B62,'S7'!$B$23:$Z$57,17,FALSE)=\"\",\"\",VLOOKUP(B62,'S7'!$B$23:$Z$57,17,FALSE))","v":""},{"$f":"IF(VLOOKUP(B62,'S7'!$B$23:$Z$57,18,FALSE)=\"\",\"\",VLOOKUP(B62,'S7'!$B$23:$Z$57,18,FALSE))","v":""},{"$f":"IF(VLOOKUP(B62,'S7'!$B$23:$Z$57,19,FALSE)=\"\",\"\",VLOOKUP(B62,'S7'!$B$23:$Z$57,19,FALSE))","v":""},{"$f":"IF(VLOOKUP(B62,'S7'!$B$23:$Z$57,20,FALSE)=\"\",\"\",VLOOKUP(B62,'S7'!$B$23:$Z$57,20,FALSE))","v":""},{"$f":"IF(VLOOKUP(B62,'S7'!$B$23:$Z$57,21,FALSE)=\"\",\"\",VLOOKUP(B62,'S7'!$B$23:$Z$57,21,FALSE))","v":""},{"$f":"IF(VLOOKUP(B62,'S7'!$B$23:$Z$57,22,FALSE)=\"\",\"\",VLOOKUP(B62,'S7'!$B$23:$Z$57,22,FALSE))","v":""},{"$f":"IF(VLOOKUP(B62,'S7'!$B$23:$Z$57,23,FALSE)=\"\",\"\",VLOOKUP(B62,'S7'!$B$23:$Z$57,23,FALSE))","v":""},{"$f":"IF(VLOOKUP(B62,'S7'!$B$23:$Z$57,24,FALSE)=\"\",\"\",VLOOKUP(B62,'S7'!$B$23:$Z$57,24,FALSE))","v":""},{"$f":"IF(VLOOKUP(B62,'S7'!$B$23:$Z$57,25,FALSE)=\"\",\"\",VLOOKUP(B62,'S7'!$B$23:$Z$57,25,FALSE))","v":""},null,"Note",null,null,null,null,{"$f":"IF('S7'!$Q$18=\"\",\"\",\"erreicht\")","v":""},null,null,{"$f":"IF(VLOOKUP(U62,'S7'!$B$23:$Z$57,16,FALSE)=\"\",\"\",VLOOKUP(U62,'S7'!$B$23:$Z$57,16,FALSE))","v":""},{"$f":"IF(VLOOKUP(U62,'S7'!$B$23:$Z$57,17,FALSE)=\"\",\"\",VLOOKUP(U62,'S7'!$B$23:$Z$57,17,FALSE))","v":""},{"$f":"IF(VLOOKUP(U62,'S7'!$B$23:$Z$57,18,FALSE)=\"\",\"\",VLOOKUP(U62,'S7'!$B$23:$Z$57,18,FALSE))","v":""},{"$f":"IF(VLOOKUP(U62,'S7'!$B$23:$Z$57,19,FALSE)=\"\",\"\",VLOOKUP(U62,'S7'!$B$23:$Z$57,19,FALSE))","v":""},{"$f":"IF(VLOOKUP(U62,'S7'!$B$23:$Z$57,20,FALSE)=\"\",\"\",VLOOKUP(U62,'S7'!$B$23:$Z$57,20,FALSE))","v":""},{"$f":"IF(VLOOKUP(U62,'S7'!$B$23:$Z$57,21,FALSE)=\"\",\"\",VLOOKUP(U62,'S7'!$B$23:$Z$57,21,FALSE))","v":""},{"$f":"IF(VLOOKUP(U62,'S7'!$B$23:$Z$57,22,FALSE)=\"\",\"\",VLOOKUP(U62,'S7'!$B$23:$Z$57,22,FALSE))","v":""},{"$f":"IF(VLOOKUP(U62,'S7'!$B$23:$Z$57,23,FALSE)=\"\",\"\",VLOOKUP(U62,'S7'!$B$23:$Z$57,23,FALSE))","v":""},{"$f":"IF(VLOOKUP(U62,'S7'!$B$23:$Z$57,24,FALSE)=\"\",\"\",VLOOKUP(U62,'S7'!$B$23:$Z$57,24,FALSE))","v":""},{"$f":"IF(VLOOKUP(U62,'S7'!$B$23:$Z$57,25,FALSE)=\"\",\"\",VLOOKUP(U62,'S7'!$B$23:$Z$57,25,FALSE))","v":""},null,"Note"]
[null,{"$f":"IF('S7'!$Q$18=\"\",\"\",\"von\")","v":""},null,null,{"$f":"IF('S7'!$Q$21=\"\",\"\",'S7'!$Q$21)","v":""},{"$f":"IF('S7'!$R$21=\"\",\"\",'S7'!$R$21)","v":""},{"$f":"IF('S7'!$S$21=\"\",\"\",'S7'!$S$21)","v":""},{"$f":"IF('S7'!$T$21=\"\",\"\",'S7'!$T$21)","v":""},{"$f":"IF('S7'!$U$21=\"\",\"\",'S7'!$U$21)","v":""},{"$f":"IF('S7'!$V$21=\"\",\"\",'S7'!$V$21)","v":""},{"$f":"IF('S7'!$W$21=\"\",\"\",'S7'!$W$21)","v":""},{"$f":"IF('S7'!$X$21=\"\",\"\",'S7'!$X$21)","v":""},{"$f":"IF('S7'!$Y$21=\"\",\"\",'S7'!$Y$21)","v":""},{"$f":"IF('S7'!$Z$21=\"\",\"\",'S7'!$Z$21)","v":""},null,{"$f":"IF(VLOOKUP(B62,'S7'!$B$23:$Z$57,2,FALSE)=\"\",\"\",CONCATENATE(VLOOKUP(B62,'S7'!$B$23:$Z$57,2,FALSE),\" \",VLOOKUP(B62,'S7'!$B$23:$Z$57,3,FALSE)))","v":"- "},null,null,null,null,{"$f":"IF('S7'!$Q$18=\"\",\"\",\"von\")","v":""},null,null,{"$f":"IF('S7'!$Q$21=\"\",\"\",'S7'!$Q$21)","v":""},{"$f":"IF('S7'!$R$21=\"\",\"\",'S7'!$R$21)","v":""},{"$f":"IF('S7'!$S$21=\"\",\"\",'S7'!$S$21)","v":""},{"$f":"IF('S7'!$T$21=\"\",\"\",'S7'!$T$21)","v":""},{"$f":"IF('S7'!$U$21=\"\",\"\",'S7'!$U$21)","v":""},{"$f":"IF('S7'!$V$21=\"\",\"\",'S7'!$V$21)","v":""},{"$f":"IF('S7'!$W$21=\"\",\"\",'S7'!$W$21)","v":""},{"$f":"IF('S7'!$X$21=\"\",\"\",'S7'!$X$21)","v":""},{"$f":"IF('S7'!$Y$21=\"\",\"\",'S7'!$Y$21)","v":""},{"$f":"IF('S7'!$Z$21=\"\",\"\",'S7'!$Z$21)","v":""},null,{"$f":"IF(VLOOKUP(U62,'S7'!$B$23:$Z$57,2,FALSE)=\"\",\"\",CONCATENATE(VLOOKUP(U62,'S7'!$B$23:$Z$57,2,FALSE),\" \",VLOOKUP(U62,'S7'!$B$23:$Z$57,3,FALSE)))","v":"- "}]
[]
[]
[null,{"$f":"'S7'!$B$35","v":""},null,null,null,null,null,null,null,null,null,null,null,null,null,null,null,null,null,null,{"$f":"'S7'!$B$36","v":""}]
[null,null,null,null,null,null,null,null,null,null,null,null,null,null,null,"Summe",null,null,null,null,null,null,null,null,null,null,null,null,null,null,null,null,null,null,"Summe"]
[null,"Aufgabe",null,null,{"$f":"IF('S7'!$G$18=\"\",\"\",'S7'!$G$18)","v":1},{"$f":"IF('S7'!$H$18=\"\",\"\",'S7'!$H$18)","v":2},{"$f":"IF('S7'!$I$18=\"\",\"\",'S7'!$I$18)","v":3},{"$f":"IF('S7'!$J$18=\"\",\"\",'S7'!$J$18)","v":""},{"$f":"IF('S7'!$K$18=\"\",\"\",'S7'!$K$18)","v":""},{"$f":"IF('S7'!$L$18=\"\",\"\",'S7'!$L$18)","v":""},{"$f":"IF('S7'!$M$18=\"\",\"\",'S7'!$M$18)","v":""},{"$f":"IF('S7'!$N$18=\"\",\"\",'S7'!$N$18)","v":""},{"$f":"IF('S7'!$O$18=\"\",\"\",'S7'!$O$18)","v":""},{"$f":"IF('S7'!$P$18=\"\",\"\",'S7'!$P$18)","v":""},null,{"$f":"IF(VLOOKUP(B73,'S7'!$B$23:$Z$57,5,FALSE)=\"\",\"\",VLOOKUP(B73,'S7'!$B$23:$Z$57,5,FALSE))","v":0},null,null,null,null,"Aufgabe",null,null,{"$f":"IF('S7'!$G$18=\"\",\"\",'S7'!$G$18)","v":1},{"$f":"IF('S7'!$H$18=\"\",\"\",'S7'!$H$18)","v":2},{"$f":"IF('S7'!$I$18=\"\",\"\",'S7'!$I$18)","v":3},{"$f":"IF('S7'!$J$18=\"\",\"\",'S7'!$J$18)","v":""},{"$f":"IF('S7'!$K$18=\"\",\"\",'S7'!$K$18)","v":""},{"$f":"IF('S7'!$L$18=\"\",\"\",'S7'!$L$18)","v":""},{"$f":"IF('S7'!$M$18=\"\",\"\",'S7'!$M$18)","v":""},{"$f":"IF('S7'!$N$18=\"\",\"\",'S7'!$N$18)","v":""},{"$f":"IF('S7'!$O$18=\"\",\"\",'S7'!$O$18)","v":""},{"$f":"IF('S7'!$P$18=\"\",\"\",'S7'!$P$18)","v":""},null,{"$f":"IF(VLOOKUP(U73,'S7'!$B$23:$Z$57,5,FALSE)=\"\",\"\",VLOOKUP(U73,'S7'!$B$23:$Z$57,5,FALSE))","v":0}]
[null,"erreicht",null,null,{"$f":"IF(VLOOKUP(B73,'S7'!$B$23:$Z$57,6,FALSE)=\"\",\"\",VLOOKUP(B73,'S7'!$B$23:$Z$57,6,FALSE))","v":"."},{"$f":"IF(VLOOKUP(B73,'S7'!$B$23:$Z$57,7,FALSE)=\"\",\"\",VLOOKUP(B73,'S7'!$B$23:$Z$57,7,FALSE))","v":""},{"$f":"IF(VLOOKUP(B73,'S7'!$B$23:$Z$57,8,FALSE)=\"\",\"\",VLOOKUP(B73,'S7'!$B$23:$Z$57,8,FALSE))","v":""},{"$f":"IF(VLOOKUP(B73,'S7'!$B$23:$Z$57,9,FALSE)=\"\",\"\",VLOOKUP(B73,'S7'!$B$23:$Z$57,9,FALSE))","v":""},{"$f":"IF(VLOOKUP(B73,'S7'!$B$23:$Z$57,10,FALSE)=\"\",\"\",VLOOKUP(B73,'S7'!$B$23:$Z$57,10,FALSE))","v":""},{"$f":"IF(VLOOKUP(B73,'S7'!$B$23:$Z$57,11,FALSE)=\"\",\"\",VLOOKUP(B73,'S7'!$B$23:$Z$57,11,FALSE))","v":""},{"$f":"IF(VLOOKUP(B73,'S7'!$B$23:$Z$57,12,FALSE)=\"\",\"\",VLOOKUP(B73,'S7'!$B$23:$Z$57,12,FALSE))","v":""},{"$f":"IF(VLOOKUP(B73,'S7'!$B$23:$Z$57,13,FALSE)=\"\",\"\",VLOOKUP(B73,'S7'!$B$23:$Z$57,13,FALSE))","v":""},{"$f":"IF(VLOOKUP(B73,'S7'!$B$23:$Z$57,14,FALSE)=\"\",\"\",VLOOKUP(B73,'S7'!$B$23:$Z$57,14,FALSE))","v":""},{"$f":"IF(VLOOKUP(B73,'S7'!$B$23:$Z$57,15,FALSE)=\"\",\"\",VLOOKUP(B73,'S7'!$B$23:$Z$57,15,FALSE))","v":""},null,null,null,null,null,null,"erreicht",null,null,{"$f":"IF(VLOOKUP(U73,'S7'!$B$23:$Z$57,6,FALSE)=\"\",\"\",VLOOKUP(U73,'S7'!$B$23:$Z$57,6,FALSE))","v":"."},{"$f":"IF(VLOOKUP(U73,'S7'!$B$23:$Z$57,7,FALSE)=\"\",\"\",VLOOKUP(U73,'S7'!$B$23:$Z$57,7,FALSE))","v":""},{"$f":"IF(VLOOKUP(U73,'S7'!$B$23:$Z$57,8,FALSE)=\"\",\"\",VLOOKUP(U73,'S7'!$B$23:$Z$57,8,FALSE))","v":""},{"$f":"IF(VLOOKUP(U73,'S7'!$B$23:$Z$57,9,FALSE)=\"\",\"\",VLOOKUP(U73,'S7'!$B$23:$Z$57,9,FALSE))","v":""},{"$f":"IF(VLOOKUP(U73,'S7'!$B$23:$Z$57,10,FALSE)=\"\",\"\",VLOOKUP(U73,'S7'!$B$23:$Z$57,10,FALSE))","v":""},{"$f":"IF(VLOOKUP(U73,'S7'!$B$23:$Z$57,11,FALSE)=\"\",\"\",VLOOKUP(U73,'S7'!$B$23:$Z$57,11,FALSE))","v":""},{"$f":"IF(VLOOKUP(U73,'S7'!$B$23:$Z$57,12,FALSE)=\"\",\"\",VLOOKUP(U73,'S7'!$B$23:$Z$57,12,FALSE))","v":""},{"$f":"IF(VLOOKUP(U73,'S7'!$B$23:$Z$57,13,FALSE)=\"\",\"\",VLOOKUP(U73,'S7'!$B$23:$Z$57,13,FALSE))","v":""},{"$f":"IF(VLOOKUP(U73,'S7'!$B$23:$Z$57,14,FALSE)=\"\",\"\",VLOOKUP(U73,'S7'!$B$23:$Z$57,14,FALSE))","v":""},{"$f":"IF(VLOOKUP(U73,'S7'!$B$23:$Z$57,15,FALSE)=\"\",\"\",VLOOKUP(U73,'S7'!$B$23:$Z$57,15,FALSE))","v":""}]
[null,"von",null,null,{"$f":"IF('S7'!$G$21=\"\",\"\",'S7'!$G$21)","v":""},{"$f":"IF('S7'!$H$21=\"\",\"\",'S7'!$H$21)","v":""},{"$f":"IF('S7'!$I$21=\"\",\"\",'S7'!$I$21)","v":""},{"$f":"IF('S7'!$J$21=\"\",\"\",'S7'!$J$21)","v":""},{"$f":"IF('S7'!$K$21=\"\",\"\",'S7'!$K$21)","v":""},{"$f":"IF('S7'!$L$21=\"\",\"\",'S7'!$L$21)","v":""},{"$f":"IF('S7'!$M$21=\"\",\"\",'S7'!$M$21)","v":""},{"$f":"IF('S7'!$N$21=\"\",\"\",'S7'!$N$21)","v":""},{"$f":"IF('S7'!$O$21=\"\",\"\",'S7'!$O$21)","v":""},{"$f":"IF('S7'!$P$21=\"\",\"\",'S7'!$P$21)","v":""},null,"von",null,null,null,null,"von",null,null,{"$f":"IF('S7'!$G$21=\"\",\"\",'S7'!$G$21)","v":""},{"$f":"IF('S7'!$H$21=\"\",\"\",'S7'!$H$21)","v":""},{"$f":"IF('S7'!$I$21=\"\",\"\",'S7'!$I$21)","v":""},{"$f":"IF('S7'!$J$21=\"\",\"\",'S7'!$J$21)","v":""},{"$f":"IF('S7'!$K$21=\"\",\"\",'S7'!$K$21)","v":""},{"$f":"IF('S7'!$L$21=\"\",\"\",'S7'!$L$21)","v":""},{"$f":"IF('S7'!$M$21=\"\",\"\",'S7'!$M$21)","v":""},{"$f":"IF('S7'!$N$21=\"\",\"\",'S7'!$N$21)","v":""},{"$f":"IF('S7'!$O$21=\"\",\"\",'S7'!$O$21)","v":""},{"$f":"IF('S7'!$P$21=\"\",\"\",'S7'!$P$21)","v":""},null,"von"]
[null,null,null,null,null,null,null,null,null,null,null,null,null,null,null,{"$f":"'S7'!$H$12","v":0},null,null,null,null,null,null,null,null,null,null,null,null,null,null,null,null,null,null,{"$f":"'S7'!$H$12","v":0}]
[null,{"$f":"IF('S7'!$Q$18=\"\",\"\",\"Aufgabe\")","v":""},null,null,{"$f":"IF('S7'!$Q$18=\"\",\"\",'S7'!$Q$18)","v":""},{"$f":"IF('S7'!$R$18=\"\",\"\",'S7'!$R$18)","v":""},{"$f":"IF('S7'!$S$18=\"\",\"\",'S7'!$S$18)","v":""},{"$f":"IF('S7'!$T$18=\"\",\"\",'S7'!$T$18)","v":""},{"$f":"IF('S7'!$U$18=\"\",\"\",'S7'!$U$18)","v":""},{"$f":"IF('S7'!$V$18=\"\",\"\",'S7'!$V$18)","v":""},{"$f":"IF('S7'!$W$18=\"\",\"\",'S7'!$W$18)","v":""},{"$f":"IF('S7'!$X$18=\"\",\"\",'S7'!$X$18)","v":""},{"$f":"IF('S7'!$Y$18=\"\",\"\",'S7'!$Y$18)","v":""},{"$f":"IF('S7'!$Z$18=\"\",\"\",'S7'!$Z$18)","v":""},null,null,null,null,null,null,{"$f":"IF('S7'!$Q$18=\"\",\"\",\"Aufgabe\")","v":""},null,null,{"$f":"IF('S7'!$Q$18=\"\",\"\",'S7'!$Q$18)","v":""},{"$f":"IF('S7'!$R$18=\"\",\"\",'S7'!$R$18)","v":""},{"$f":"IF('S7'!$S$18=\"\",\"\",'S7'!$S$18)","v":""},{"$f":"IF('S7'!$T$18=\"\",\"\",'S7'!$T$18)","v":""},{"$f":"IF('S7'!$U$18=\"\",\"\",'S7'!$U$18)","v":""},{"$f":"IF('S7'!$V$18=\"\",\"\",'S7'!$V$18)","v":""},{"$f":"IF('S7'!$W$18=\"\",\"\",'S7'!$W$18)","v":""},{"$f":"IF('S7'!$X$18=\"\",\"\",'S7'!$X$18)","v":""},{"$f":"IF('S7'!$Y$18=\"\",\"\",'S7'!$Y$18)","v":""},{"$f":"IF('S7'!$Z$18=\"\",\"\",'S7'!$Z$18)","v":""}]
[null,{"$f":"IF('S7'!$Q$18=\"\",\"\",\"erreicht\")","v":""},null,null,{"$f":"IF(VLOOKUP(B73,'S7'!$B$23:$Z$57,16,FALSE)=\"\",\"\",VLOOKUP(B73,'S7'!$B$23:$Z$57,16,FALSE))","v":""},{"$f":"IF(VLOOKUP(B73,'S7'!$B$23:$Z$57,17,FALSE)=\"\",\"\",VLOOKUP(B73,'S7'!$B$23:$Z$57,17,FALSE))","v":""},{"$f":"IF(VLOOKUP(B73,'S7'!$B$23:$Z$57,18,FALSE)=\"\",\"\",VLOOKUP(B73,'S7'!$B$23:$Z$57,18,FALSE))","v":""},{"$f":"IF(VLOOKUP(B73,'S7'!$B$23:$Z$57,19,FALSE)=\"\",\"\",VLOOKUP(B73,'S7'!$B$23:$Z$57,19,FALSE))","v":""},{"$f":"IF(VLOOKUP(B73,'S7'!$B$23:$Z$57,20,FALSE)=\"\",\"\",VLOOKUP(B73,'S7'!$B$23:$Z$57,20,FALSE))","v":""},{"$f":"IF(VLOOKUP(B73,'S7'!$B$23:$Z$57,21,FALSE)=\"\",\"\",VLOOKUP(B73,'S7'!$B$23:$Z$57,21,FALSE))","v":""},{"$f":"IF(VLOOKUP(B73,'S7'!$B$23:$Z$57,22,FALSE)=\"\",\"\",VLOOKUP(B73,'S7'!$B$23:$Z$57,22,FALSE))","v":""},{"$f":"IF(VLOOKUP(B73,'S7'!$B$23:$Z$57,23,FALSE)=\"\",\"\",VLOOKUP(B73,'S7'!$B$23:$Z$57,23,FALSE))","v":""},{"$f":"IF(VLOOKUP(B73,'S7'!$B$23:$Z$57,24,FALSE)=\"\",\"\",VLOOKUP(B73,'S7'!$B$23:$Z$57,24,FALSE))","v":""},{"$f":"IF(VLOOKUP(B73,'S7'!$B$23:$Z$57,25,FALSE)=\"\",\"\",VLOOKUP(B73,'S7'!$B$23:$Z$57,25,FALSE))","v":""},null,"Note",null,null,null,null,{"$f":"IF('S7'!$Q$18=\"\",\"\",\"erreicht\")","v":""},null,null,{"$f":"IF(VLOOKUP(U73,'S7'!$B$23:$Z$57,16,FALSE)=\"\",\"\",VLOOKUP(U73,'S7'!$B$23:$Z$57,16,FALSE))","v":""},{"$f":"IF(VLOOKUP(U73,'S7'!$B$23:$Z$57,17,FALSE)=\"\",\"\",VLOOKUP(U73,'S7'!$B$23:$Z$57,17,FALSE))","v":""},{"$f":"IF(VLOOKUP(U73,'S7'!$B$23:$Z$57,18,FALSE)=\"\",\"\",VLOOKUP(U73,'S7'!$B$23:$Z$57,18,FALSE))","v":""},{"$f":"IF(VLOOKUP(U73,'S7'!$B$23:$Z$57,19,FALSE)=\"\",\"\",VLOOKUP(U73,'S7'!$B$23:$Z$57,19,FALSE))","v":""},{"$f":"IF(VLOOKUP(U73,'S7'!$B$23:$Z$57,20,FALSE)=\"\",\"\",VLOOKUP(U73,'S7'!$B$23:$Z$57,20,FALSE))","v":""},{"$f":"IF(VLOOKUP(U73,'S7'!$B$23:$Z$57,21,FALSE)=\"\",\"\",VLOOKUP(U73,'S7'!$B$23:$Z$57,21,FALSE))","v":""},{"$f":"IF(VLOOKUP(U73,'S7'!$B$23:$Z$57,22,FALSE)=\"\",\"\",VLOOKUP(U73,'S7'!$B$23:$Z$57,22,FALSE))","v":""},{"$f":"IF(VLOOKUP(U73,'S7'!$B$23:$Z$57,23,FALSE)=\"\",\"\",VLOOKUP(U73,'S7'!$B$23:$Z$57,23,FALSE))","v":""},{"$f":"IF(VLOOKUP(U73,'S7'!$B$23:$Z$57,24,FALSE)=\"\",\"\",VLOOKUP(U73,'S7'!$B$23:$Z$57,24,FALSE))","v":""},{"$f":"IF(VLOOKUP(U73,'S7'!$B$23:$Z$57,25,FALSE)=\"\",\"\",VLOOKUP(U73,'S7'!$B$23:$Z$57,25,FALSE))","v":""},null,"Note"]
[null,{"$f":"IF('S7'!$Q$18=\"\",\"\",\"von\")","v":""},null,null,{"$f":"IF('S7'!$Q$21=\"\",\"\",'S7'!$Q$21)","v":""},{"$f":"IF('S7'!$R$21=\"\",\"\",'S7'!$R$21)","v":""},{"$f":"IF('S7'!$S$21=\"\",\"\",'S7'!$S$21)","v":""},{"$f":"IF('S7'!$T$21=\"\",\"\",'S7'!$T$21)","v":""},{"$f":"IF('S7'!$U$21=\"\",\"\",'S7'!$U$21)","v":""},{"$f":"IF('S7'!$V$21=\"\",\"\",'S7'!$V$21)","v":""},{"$f":"IF('S7'!$W$21=\"\",\"\",'S7'!$W$21)","v":""},{"$f":"IF('S7'!$X$21=\"\",\"\",'S7'!$X$21)","v":""},{"$f":"IF('S7'!$Y$21=\"\",\"\",'S7'!$Y$21)","v":""},{"$f":"IF('S7'!$Z$21=\"\",\"\",'S7'!$Z$21)","v":""},null,{"$f":"IF(VLOOKUP(B73,'S7'!$B$23:$Z$57,2,FALSE)=\"\",\"\",CONCATENATE(VLOOKUP(B73,'S7'!$B$23:$Z$57,2,FALSE),\" \",VLOOKUP(B73,'S7'!$B$23:$Z$57,3,FALSE)))","v":"- "},null,null,null,null,{"$f":"IF('S7'!$Q$18=\"\",\"\",\"von\")","v":""},null,null,{"$f":"IF('S7'!$Q$21=\"\",\"\",'S7'!$Q$21)","v":""},{"$f":"IF('S7'!$R$21=\"\",\"\",'S7'!$R$21)","v":""},{"$f":"IF('S7'!$S$21=\"\",\"\",'S7'!$S$21)","v":""},{"$f":"IF('S7'!$T$21=\"\",\"\",'S7'!$T$21)","v":""},{"$f":"IF('S7'!$U$21=\"\",\"\",'S7'!$U$21)","v":""},{"$f":"IF('S7'!$V$21=\"\",\"\",'S7'!$V$21)","v":""},{"$f":"IF('S7'!$W$21=\"\",\"\",'S7'!$W$21)","v":""},{"$f":"IF('S7'!$X$21=\"\",\"\",'S7'!$X$21)","v":""},{"$f":"IF('S7'!$Y$21=\"\",\"\",'S7'!$Y$21)","v":""},{"$f":"IF('S7'!$Z$21=\"\",\"\",'S7'!$Z$21)","v":""},null,{"$f":"IF(VLOOKUP(U73,'S7'!$B$23:$Z$57,2,FALSE)=\"\",\"\",CONCATENATE(VLOOKUP(U73,'S7'!$B$23:$Z$57,2,FALSE),\" \",VLOOKUP(U73,'S7'!$B$23:$Z$57,3,FALSE)))","v":"- "}]
[]
[]
[]
[null,{"$f":"'S7'!$B$37","v":""},null,null,null,null,null,null,null,null,null,null,null,null,null,null,null,null,null,null,{"$f":"'S7'!$B$38","v":""}]
[null,null,null,null,null,null,null,null,null,null,null,null,null,null,null,"Summe",null,null,null,null,null,null,null,null,null,null,null,null,null,null,null,null,null,null,"Summe"]
[null,"Aufgabe",null,null,{"$f":"IF('S7'!$G$18=\"\",\"\",'S7'!$G$18)","v":1},{"$f":"IF('S7'!$H$18=\"\",\"\",'S7'!$H$18)","v":2},{"$f":"IF('S7'!$I$18=\"\",\"\",'S7'!$I$18)","v":3},{"$f":"IF('S7'!$J$18=\"\",\"\",'S7'!$J$18)","v":""},{"$f":"IF('S7'!$K$18=\"\",\"\",'S7'!$K$18)","v":""},{"$f":"IF('S7'!$L$18=\"\",\"\",'S7'!$L$18)","v":""},{"$f":"IF('S7'!$M$18=\"\",\"\",'S7'!$M$18)","v":""},{"$f":"IF('S7'!$N$18=\"\",\"\",'S7'!$N$18)","v":""},{"$f":"IF('S7'!$O$18=\"\",\"\",'S7'!$O$18)","v":""},{"$f":"IF('S7'!$P$18=\"\",\"\",'S7'!$P$18)","v":""},null,{"$f":"IF(VLOOKUP(B85,'S7'!$B$23:$Z$57,5,FALSE)=\"\",\"\",VLOOKUP(B85,'S7'!$B$23:$Z$57,5,FALSE))","v":0},null,null,null,null,"Aufgabe",null,null,{"$f":"IF('S7'!$G$18=\"\",\"\",'S7'!$G$18)","v":1},{"$f":"IF('S7'!$H$18=\"\",\"\",'S7'!$H$18)","v":2},{"$f":"IF('S7'!$I$18=\"\",\"\",'S7'!$I$18)","v":3},{"$f":"IF('S7'!$J$18=\"\",\"\",'S7'!$J$18)","v":""},{"$f":"IF('S7'!$K$18=\"\",\"\",'S7'!$K$18)","v":""},{"$f":"IF('S7'!$L$18=\"\",\"\",'S7'!$L$18)","v":""},{"$f":"IF('S7'!$M$18=\"\",\"\",'S7'!$M$18)","v":""},{"$f":"IF('S7'!$N$18=\"\",\"\",'S7'!$N$18)","v":""},{"$f":"IF('S7'!$O$18=\"\",\"\",'S7'!$O$18)","v":""},{"$f":"IF('S7'!$P$18=\"\",\"\",'S7'!$P$18)","v":""},null,{"$f":"IF(VLOOKUP(U85,'S7'!$B$23:$Z$57,5,FALSE)=\"\",\"\",VLOOKUP(U85,'S7'!$B$23:$Z$57,5,FALSE))","v":0}]
[null,"erreicht",null,null,{"$f":"IF(VLOOKUP(B85,'S7'!$B$23:$Z$57,6,FALSE)=\"\",\"\",VLOOKUP(B85,'S7'!$B$23:$Z$57,6,FALSE))","v":"."},{"$f":"IF(VLOOKUP(B85,'S7'!$B$23:$Z$57,7,FALSE)=\"\",\"\",VLOOKUP(B85,'S7'!$B$23:$Z$57,7,FALSE))","v":""},{"$f":"IF(VLOOKUP(B85,'S7'!$B$23:$Z$57,8,FALSE)=\"\",\"\",VLOOKUP(B85,'S7'!$B$23:$Z$57,8,FALSE))","v":""},{"$f":"IF(VLOOKUP(B85,'S7'!$B$23:$Z$57,9,FALSE)=\"\",\"\",VLOOKUP(B85,'S7'!$B$23:$Z$57,9,FALSE))","v":""},{"$f":"IF(VLOOKUP(B85,'S7'!$B$23:$Z$57,10,FALSE)=\"\",\"\",VLOOKUP(B85,'S7'!$B$23:$Z$57,10,FALSE))","v":""},{"$f":"IF(VLOOKUP(B85,'S7'!$B$23:$Z$57,11,FALSE)=\"\",\"\",VLOOKUP(B85,'S7'!$B$23:$Z$57,11,FALSE))","v":""},{"$f":"IF(VLOOKUP(B85,'S7'!$B$23:$Z$57,12,FALSE)=\"\",\"\",VLOOKUP(B85,'S7'!$B$23:$Z$57,12,FALSE))","v":""},{"$f":"IF(VLOOKUP(B85,'S7'!$B$23:$Z$57,13,FALSE)=\"\",\"\",VLOOKUP(B85,'S7'!$B$23:$Z$57,13,FALSE))","v":""},{"$f":"IF(VLOOKUP(B85,'S7'!$B$23:$Z$57,14,FALSE)=\"\",\"\",VLOOKUP(B85,'S7'!$B$23:$Z$57,14,FALSE))","v":""},{"$f":"IF(VLOOKUP(B85,'S7'!$B$23:$Z$57,15,FALSE)=\"\",\"\",VLOOKUP(B85,'S7'!$B$23:$Z$57,15,FALSE))","v":""},null,null,null,null,null,null,"erreicht",null,null,{"$f":"IF(VLOOKUP(U85,'S7'!$B$23:$Z$57,6,FALSE)=\"\",\"\",VLOOKUP(U85,'S7'!$B$23:$Z$57,6,FALSE))","v":"."},{"$f":"IF(VLOOKUP(U85,'S7'!$B$23:$Z$57,7,FALSE)=\"\",\"\",VLOOKUP(U85,'S7'!$B$23:$Z$57,7,FALSE))","v":""},{"$f":"IF(VLOOKUP(U85,'S7'!$B$23:$Z$57,8,FALSE)=\"\",\"\",VLOOKUP(U85,'S7'!$B$23:$Z$57,8,FALSE))","v":""},{"$f":"IF(VLOOKUP(U85,'S7'!$B$23:$Z$57,9,FALSE)=\"\",\"\",VLOOKUP(U85,'S7'!$B$23:$Z$57,9,FALSE))","v":""},{"$f":"IF(VLOOKUP(U85,'S7'!$B$23:$Z$57,10,FALSE)=\"\",\"\",VLOOKUP(U85,'S7'!$B$23:$Z$57,10,FALSE))","v":""},{"$f":"IF(VLOOKUP(U85,'S7'!$B$23:$Z$57,11,FALSE)=\"\",\"\",VLOOKUP(U85,'S7'!$B$23:$Z$57,11,FALSE))","v":""},{"$f":"IF(VLOOKUP(U85,'S7'!$B$23:$Z$57,12,FALSE)=\"\",\"\",VLOOKUP(U85,'S7'!$B$23:$Z$57,12,FALSE))","v":""},{"$f":"IF(VLOOKUP(U85,'S7'!$B$23:$Z$57,13,FALSE)=\"\",\"\",VLOOKUP(U85,'S7'!$B$23:$Z$57,13,FALSE))","v":""},{"$f":"IF(VLOOKUP(U85,'S7'!$B$23:$Z$57,14,FALSE)=\"\",\"\",VLOOKUP(U85,'S7'!$B$23:$Z$57,14,FALSE))","v":""},{"$f":"IF(VLOOKUP(U85,'S7'!$B$23:$Z$57,15,FALSE)=\"\",\"\",VLOOKUP(U85,'S7'!$B$23:$Z$57,15,FALSE))","v":""}]
[null,"von",null,null,{"$f":"IF('S7'!$G$21=\"\",\"\",'S7'!$G$21)","v":""},{"$f":"IF('S7'!$H$21=\"\",\"\",'S7'!$H$21)","v":""},{"$f":"IF('S7'!$I$21=\"\",\"\",'S7'!$I$21)","v":""},{"$f":"IF('S7'!$J$21=\"\",\"\",'S7'!$J$21)","v":""},{"$f":"IF('S7'!$K$21=\"\",\"\",'S7'!$K$21)","v":""},{"$f":"IF('S7'!$L$21=\"\",\"\",'S7'!$L$21)","v":""},{"$f":"IF('S7'!$M$21=\"\",\"\",'S7'!$M$21)","v":""},{"$f":"IF('S7'!$N$21=\"\",\"\",'S7'!$N$21)","v":""},{"$f":"IF('S7'!$O$21=\"\",\"\",'S7'!$O$21)","v":""},{"$f":"IF('S7'!$P$21=\"\",\"\",'S7'!$P$21)","v":""},null,"von",null,null,null,null,"von",null,null,{"$f":"IF('S7'!$G$21=\"\",\"\",'S7'!$G$21)","v":""},{"$f":"IF('S7'!$H$21=\"\",\"\",'S7'!$H$21)","v":""},{"$f":"IF('S7'!$I$21=\"\",\"\",'S7'!$I$21)","v":""},{"$f":"IF('S7'!$J$21=\"\",\"\",'S7'!$J$21)","v":""},{"$f":"IF('S7'!$K$21=\"\",\"\",'S7'!$K$21)","v":""},{"$f":"IF('S7'!$L$21=\"\",\"\",'S7'!$L$21)","v":""},{"$f":"IF('S7'!$M$21=\"\",\"\",'S7'!$M$21)","v":""},{"$f":"IF('S7'!$N$21=\"\",\"\",'S7'!$N$21)","v":""},{"$f":"IF('S7'!$O$21=\"\",\"\",'S7'!$O$21)","v":""},{"$f":"IF('S7'!$P$21=\"\",\"\",'S7'!$P$21)","v":""},null,"von"]
[null,null,null,null,null,null,null,null,null,null,null,null,null,null,null,{"$f":"'S7'!$H$12","v":0},null,null,null,null,null,null,null,null,null,null,null,null,null,null,null,null,null,null,{"$f":"'S7'!$H$12","v":0}]
[null,{"$f":"IF('S7'!$Q$18=\"\",\"\",\"Aufgabe\")","v":""},null,null,{"$f":"IF('S7'!$Q$18=\"\",\"\",'S7'!$Q$18)","v":""},{"$f":"IF('S7'!$R$18=\"\",\"\",'S7'!$R$18)","v":""},{"$f":"IF('S7'!$S$18=\"\",\"\",'S7'!$S$18)","v":""},{"$f":"IF('S7'!$T$18=\"\",\"\",'S7'!$T$18)","v":""},{"$f":"IF('S7'!$U$18=\"\",\"\",'S7'!$U$18)","v":""},{"$f":"IF('S7'!$V$18=\"\",\"\",'S7'!$V$18)","v":""},{"$f":"IF('S7'!$W$18=\"\",\"\",'S7'!$W$18)","v":""},{"$f":"IF('S7'!$X$18=\"\",\"\",'S7'!$X$18)","v":""},{"$f":"IF('S7'!$Y$18=\"\",\"\",'S7'!$Y$18)","v":""},{"$f":"IF('S7'!$Z$18=\"\",\"\",'S7'!$Z$18)","v":""},null,null,null,null,null,null,{"$f":"IF('S7'!$Q$18=\"\",\"\",\"Aufgabe\")","v":""},null,null,{"$f":"IF('S7'!$Q$18=\"\",\"\",'S7'!$Q$18)","v":""},{"$f":"IF('S7'!$R$18=\"\",\"\",'S7'!$R$18)","v":""},{"$f":"IF('S7'!$S$18=\"\",\"\",'S7'!$S$18)","v":""},{"$f":"IF('S7'!$T$18=\"\",\"\",'S7'!$T$18)","v":""},{"$f":"IF('S7'!$U$18=\"\",\"\",'S7'!$U$18)","v":""},{"$f":"IF('S7'!$V$18=\"\",\"\",'S7'!$V$18)","v":""},{"$f":"IF('S7'!$W$18=\"\",\"\",'S7'!$W$18)","v":""},{"$f":"IF('S7'!$X$18=\"\",\"\",'S7'!$X$18)","v":""},{"$f":"IF('S7'!$Y$18=\"\",\"\",'S7'!$Y$18)","v":""},{"$f":"IF('S7'!$Z$18=\"\",\"\",'S7'!$Z$18)","v":""}]
[null,{"$f":"IF('S7'!$Q$18=\"\",\"\",\"erreicht\")","v":""},null,null,{"$f":"IF(VLOOKUP(B85,'S7'!$B$23:$Z$57,16,FALSE)=\"\",\"\",VLOOKUP(B85,'S7'!$B$23:$Z$57,16,FALSE))","v":""},{"$f":"IF(VLOOKUP(B85,'S7'!$B$23:$Z$57,17,FALSE)=\"\",\"\",VLOOKUP(B85,'S7'!$B$23:$Z$57,17,FALSE))","v":""},{"$f":"IF(VLOOKUP(B85,'S7'!$B$23:$Z$57,18,FALSE)=\"\",\"\",VLOOKUP(B85,'S7'!$B$23:$Z$57,18,FALSE))","v":""},{"$f":"IF(VLOOKUP(B85,'S7'!$B$23:$Z$57,19,FALSE)=\"\",\"\",VLOOKUP(B85,'S7'!$B$23:$Z$57,19,FALSE))","v":""},{"$f":"IF(VLOOKUP(B85,'S7'!$B$23:$Z$57,20,FALSE)=\"\",\"\",VLOOKUP(B85,'S7'!$B$23:$Z$57,20,FALSE))","v":""},{"$f":"IF(VLOOKUP(B85,'S7'!$B$23:$Z$57,21,FALSE)=\"\",\"\",VLOOKUP(B85,'S7'!$B$23:$Z$57,21,FALSE))","v":""},{"$f":"IF(VLOOKUP(B85,'S7'!$B$23:$Z$57,22,FALSE)=\"\",\"\",VLOOKUP(B85,'S7'!$B$23:$Z$57,22,FALSE))","v":""},{"$f":"IF(VLOOKUP(B85,'S7'!$B$23:$Z$57,23,FALSE)=\"\",\"\",VLOOKUP(B85,'S7'!$B$23:$Z$57,23,FALSE))","v":""},{"$f":"IF(VLOOKUP(B85,'S7'!$B$23:$Z$57,24,FALSE)=\"\",\"\",VLOOKUP(B85,'S7'!$B$23:$Z$57,24,FALSE))","v":""},{"$f":"IF(VLOOKUP(B85,'S7'!$B$23:$Z$57,25,FALSE)=\"\",\"\",VLOOKUP(B85,'S7'!$B$23:$Z$57,25,FALSE))","v":""},null,"Note",null,null,null,null,{"$f":"IF('S7'!$Q$18=\"\",\"\",\"erreicht\")","v":""},null,null,{"$f":"IF(VLOOKUP(U85,'S7'!$B$23:$Z$57,16,FALSE)=\"\",\"\",VLOOKUP(U85,'S7'!$B$23:$Z$57,16,FALSE))","v":""},{"$f":"IF(VLOOKUP(U85,'S7'!$B$23:$Z$57,17,FALSE)=\"\",\"\",VLOOKUP(U85,'S7'!$B$23:$Z$57,17,FALSE))","v":""},{"$f":"IF(VLOOKUP(U85,'S7'!$B$23:$Z$57,18,FALSE)=\"\",\"\",VLOOKUP(U85,'S7'!$B$23:$Z$57,18,FALSE))","v":""},{"$f":"IF(VLOOKUP(U85,'S7'!$B$23:$Z$57,19,FALSE)=\"\",\"\",VLOOKUP(U85,'S7'!$B$23:$Z$57,19,FALSE))","v":""},{"$f":"IF(VLOOKUP(U85,'S7'!$B$23:$Z$57,20,FALSE)=\"\",\"\",VLOOKUP(U85,'S7'!$B$23:$Z$57,20,FALSE))","v":""},{"$f":"IF(VLOOKUP(U85,'S7'!$B$23:$Z$57,21,FALSE)=\"\",\"\",VLOOKUP(U85,'S7'!$B$23:$Z$57,21,FALSE))","v":""},{"$f":"IF(VLOOKUP(U85,'S7'!$B$23:$Z$57,22,FALSE)=\"\",\"\",VLOOKUP(U85,'S7'!$B$23:$Z$57,22,FALSE))","v":""},{"$f":"IF(VLOOKUP(U85,'S7'!$B$23:$Z$57,23,FALSE)=\"\",\"\",VLOOKUP(U85,'S7'!$B$23:$Z$57,23,FALSE))","v":""},{"$f":"IF(VLOOKUP(U85,'S7'!$B$23:$Z$57,24,FALSE)=\"\",\"\",VLOOKUP(U85,'S7'!$B$23:$Z$57,24,FALSE))","v":""},{"$f":"IF(VLOOKUP(U85,'S7'!$B$23:$Z$57,25,FALSE)=\"\",\"\",VLOOKUP(U85,'S7'!$B$23:$Z$57,25,FALSE))","v":""},null,"Note"]
[null,{"$f":"IF('S7'!$Q$18=\"\",\"\",\"von\")","v":""},null,null,{"$f":"IF('S7'!$Q$21=\"\",\"\",'S7'!$Q$21)","v":""},{"$f":"IF('S7'!$R$21=\"\",\"\",'S7'!$R$21)","v":""},{"$f":"IF('S7'!$S$21=\"\",\"\",'S7'!$S$21)","v":""},{"$f":"IF('S7'!$T$21=\"\",\"\",'S7'!$T$21)","v":""},{"$f":"IF('S7'!$U$21=\"\",\"\",'S7'!$U$21)","v":""},{"$f":"IF('S7'!$V$21=\"\",\"\",'S7'!$V$21)","v":""},{"$f":"IF('S7'!$W$21=\"\",\"\",'S7'!$W$21)","v":""},{"$f":"IF('S7'!$X$21=\"\",\"\",'S7'!$X$21)","v":""},{"$f":"IF('S7'!$Y$21=\"\",\"\",'S7'!$Y$21)","v":""},{"$f":"IF('S7'!$Z$21=\"\",\"\",'S7'!$Z$21)","v":""},null,{"$f":"IF(VLOOKUP(B85,'S7'!$B$23:$Z$57,2,FALSE)=\"\",\"\",CONCATENATE(VLOOKUP(B85,'S7'!$B$23:$Z$57,2,FALSE),\" \",VLOOKUP(B85,'S7'!$B$23:$Z$57,3,FALSE)))","v":"- "},null,null,null,null,{"$f":"IF('S7'!$Q$18=\"\",\"\",\"von\")","v":""},null,null,{"$f":"IF('S7'!$Q$21=\"\",\"\",'S7'!$Q$21)","v":""},{"$f":"IF('S7'!$R$21=\"\",\"\",'S7'!$R$21)","v":""},{"$f":"IF('S7'!$S$21=\"\",\"\",'S7'!$S$21)","v":""},{"$f":"IF('S7'!$T$21=\"\",\"\",'S7'!$T$21)","v":""},{"$f":"IF('S7'!$U$21=\"\",\"\",'S7'!$U$21)","v":""},{"$f":"IF('S7'!$V$21=\"\",\"\",'S7'!$V$21)","v":""},{"$f":"IF('S7'!$W$21=\"\",\"\",'S7'!$W$21)","v":""},{"$f":"IF('S7'!$X$21=\"\",\"\",'S7'!$X$21)","v":""},{"$f":"IF('S7'!$Y$21=\"\",\"\",'S7'!$Y$21)","v":""},{"$f":"IF('S7'!$Z$21=\"\",\"\",'S7'!$Z$21)","v":""},null,{"$f":"IF(VLOOKUP(U85,'S7'!$B$23:$Z$57,2,FALSE)=\"\",\"\",CONCATENATE(VLOOKUP(U85,'S7'!$B$23:$Z$57,2,FALSE),\" \",VLOOKUP(U85,'S7'!$B$23:$Z$57,3,FALSE)))","v":"- "}]
[]
[]
[]
[null,{"$f":"'S7'!$B$39","v":""},null,null,null,null,null,null,null,null,null,null,null,null,null,null,null,null,null,null,{"$f":"'S7'!$B$40","v":""}]
[null,null,null,null,null,null,null,null,null,null,null,null,null,null,null,"Summe",null,null,null,null,null,null,null,null,null,null,null,null,null,null,null,null,null,null,"Summe"]
[null,"Aufgabe",null,null,{"$f":"IF('S7'!$G$18=\"\",\"\",'S7'!$G$18)","v":1},{"$f":"IF('S7'!$H$18=\"\",\"\",'S7'!$H$18)","v":2},{"$f":"IF('S7'!$I$18=\"\",\"\",'S7'!$I$18)","v":3},{"$f":"IF('S7'!$J$18=\"\",\"\",'S7'!$J$18)","v":""},{"$f":"IF('S7'!$K$18=\"\",\"\",'S7'!$K$18)","v":""},{"$f":"IF('S7'!$L$18=\"\",\"\",'S7'!$L$18)","v":""},{"$f":"IF('S7'!$M$18=\"\",\"\",'S7'!$M$18)","v":""},{"$f":"IF('S7'!$N$18=\"\",\"\",'S7'!$N$18)","v":""},{"$f":"IF('S7'!$O$18=\"\",\"\",'S7'!$O$18)","v":""},{"$f":"IF('S7'!$P$18=\"\",\"\",'S7'!$P$18)","v":""},null,{"$f":"IF(VLOOKUP(B97,'S7'!$B$23:$Z$57,5,FALSE)=\"\",\"\",VLOOKUP(B97,'S7'!$B$23:$Z$57,5,FALSE))","v":0},null,null,null,null,"Aufgabe",null,null,{"$f":"IF('S7'!$G$18=\"\",\"\",'S7'!$G$18)","v":1},{"$f":"IF('S7'!$H$18=\"\",\"\",'S7'!$H$18)","v":2},{"$f":"IF('S7'!$I$18=\"\",\"\",'S7'!$I$18)","v":3},{"$f":"IF('S7'!$J$18=\"\",\"\",'S7'!$J$18)","v":""},{"$f":"IF('S7'!$K$18=\"\",\"\",'S7'!$K$18)","v":""},{"$f":"IF('S7'!$L$18=\"\",\"\",'S7'!$L$18)","v":""},{"$f":"IF('S7'!$M$18=\"\",\"\",'S7'!$M$18)","v":""},{"$f":"IF('S7'!$N$18=\"\",\"\",'S7'!$N$18)","v":""},{"$f":"IF('S7'!$O$18=\"\",\"\",'S7'!$O$18)","v":""},{"$f":"IF('S7'!$P$18=\"\",\"\",'S7'!$P$18)","v":""},null,{"$f":"IF(VLOOKUP(U97,'S7'!$B$23:$Z$57,5,FALSE)=\"\",\"\",VLOOKUP(U97,'S7'!$B$23:$Z$57,5,FALSE))","v":0}]
[null,"erreicht",null,null,{"$f":"IF(VLOOKUP(B97,'S7'!$B$23:$Z$57,6,FALSE)=\"\",\"\",VLOOKUP(B97,'S7'!$B$23:$Z$57,6,FALSE))","v":"."},{"$f":"IF(VLOOKUP(B97,'S7'!$B$23:$Z$57,7,FALSE)=\"\",\"\",VLOOKUP(B97,'S7'!$B$23:$Z$57,7,FALSE))","v":""},{"$f":"IF(VLOOKUP(B97,'S7'!$B$23:$Z$57,8,FALSE)=\"\",\"\",VLOOKUP(B97,'S7'!$B$23:$Z$57,8,FALSE))","v":""},{"$f":"IF(VLOOKUP(B97,'S7'!$B$23:$Z$57,9,FALSE)=\"\",\"\",VLOOKUP(B97,'S7'!$B$23:$Z$57,9,FALSE))","v":""},{"$f":"IF(VLOOKUP(B97,'S7'!$B$23:$Z$57,10,FALSE)=\"\",\"\",VLOOKUP(B97,'S7'!$B$23:$Z$57,10,FALSE))","v":""},{"$f":"IF(VLOOKUP(B97,'S7'!$B$23:$Z$57,11,FALSE)=\"\",\"\",VLOOKUP(B97,'S7'!$B$23:$Z$57,11,FALSE))","v":""},{"$f":"IF(VLOOKUP(B97,'S7'!$B$23:$Z$57,12,FALSE)=\"\",\"\",VLOOKUP(B97,'S7'!$B$23:$Z$57,12,FALSE))","v":""},{"$f":"IF(VLOOKUP(B97,'S7'!$B$23:$Z$57,13,FALSE)=\"\",\"\",VLOOKUP(B97,'S7'!$B$23:$Z$57,13,FALSE))","v":""},{"$f":"IF(VLOOKUP(B97,'S7'!$B$23:$Z$57,14,FALSE)=\"\",\"\",VLOOKUP(B97,'S7'!$B$23:$Z$57,14,FALSE))","v":""},{"$f":"IF(VLOOKUP(B97,'S7'!$B$23:$Z$57,15,FALSE)=\"\",\"\",VLOOKUP(B97,'S7'!$B$23:$Z$57,15,FALSE))","v":""},null,null,null,null,null,null,"erreicht",null,null,{"$f":"IF(VLOOKUP(U97,'S7'!$B$23:$Z$57,6,FALSE)=\"\",\"\",VLOOKUP(U97,'S7'!$B$23:$Z$57,6,FALSE))","v":"."},{"$f":"IF(VLOOKUP(U97,'S7'!$B$23:$Z$57,7,FALSE)=\"\",\"\",VLOOKUP(U97,'S7'!$B$23:$Z$57,7,FALSE))","v":""},{"$f":"IF(VLOOKUP(U97,'S7'!$B$23:$Z$57,8,FALSE)=\"\",\"\",VLOOKUP(U97,'S7'!$B$23:$Z$57,8,FALSE))","v":""},{"$f":"IF(VLOOKUP(U97,'S7'!$B$23:$Z$57,9,FALSE)=\"\",\"\",VLOOKUP(U97,'S7'!$B$23:$Z$57,9,FALSE))","v":""},{"$f":"IF(VLOOKUP(U97,'S7'!$B$23:$Z$57,10,FALSE)=\"\",\"\",VLOOKUP(U97,'S7'!$B$23:$Z$57,10,FALSE))","v":""},{"$f":"IF(VLOOKUP(U97,'S7'!$B$23:$Z$57,11,FALSE)=\"\",\"\",VLOOKUP(U97,'S7'!$B$23:$Z$57,11,FALSE))","v":""},{"$f":"IF(VLOOKUP(U97,'S7'!$B$23:$Z$57,12,FALSE)=\"\",\"\",VLOOKUP(U97,'S7'!$B$23:$Z$57,12,FALSE))","v":""},{"$f":"IF(VLOOKUP(U97,'S7'!$B$23:$Z$57,13,FALSE)=\"\",\"\",VLOOKUP(U97,'S7'!$B$23:$Z$57,13,FALSE))","v":""},{"$f":"IF(VLOOKUP(U97,'S7'!$B$23:$Z$57,14,FALSE)=\"\",\"\",VLOOKUP(U97,'S7'!$B$23:$Z$57,14,FALSE))","v":""},{"$f":"IF(VLOOKUP(U97,'S7'!$B$23:$Z$57,15,FALSE)=\"\",\"\",VLOOKUP(U97,'S7'!$B$23:$Z$57,15,FALSE))","v":""}]
[null,"von",null,null,{"$f":"IF('S7'!$G$21=\"\",\"\",'S7'!$G$21)","v":""},{"$f":"IF('S7'!$H$21=\"\",\"\",'S7'!$H$21)","v":""},{"$f":"IF('S7'!$I$21=\"\",\"\",'S7'!$I$21)","v":""},{"$f":"IF('S7'!$J$21=\"\",\"\",'S7'!$J$21)","v":""},{"$f":"IF('S7'!$K$21=\"\",\"\",'S7'!$K$21)","v":""},{"$f":"IF('S7'!$L$21=\"\",\"\",'S7'!$L$21)","v":""},{"$f":"IF('S7'!$M$21=\"\",\"\",'S7'!$M$21)","v":""},{"$f":"IF('S7'!$N$21=\"\",\"\",'S7'!$N$21)","v":""},{"$f":"IF('S7'!$O$21=\"\",\"\",'S7'!$O$21)","v":""},{"$f":"IF('S7'!$P$21=\"\",\"\",'S7'!$P$21)","v":""},null,"von",null,null,null,null,"von",null,null,{"$f":"IF('S7'!$G$21=\"\",\"\",'S7'!$G$21)","v":""},{"$f":"IF('S7'!$H$21=\"\",\"\",'S7'!$H$21)","v":""},{"$f":"IF('S7'!$I$21=\"\",\"\",'S7'!$I$21)","v":""},{"$f":"IF('S7'!$J$21=\"\",\"\",'S7'!$J$21)","v":""},{"$f":"IF('S7'!$K$21=\"\",\"\",'S7'!$K$21)","v":""},{"$f":"IF('S7'!$L$21=\"\",\"\",'S7'!$L$21)","v":""},{"$f":"IF('S7'!$M$21=\"\",\"\",'S7'!$M$21)","v":""},{"$f":"IF('S7'!$N$21=\"\",\"\",'S7'!$N$21)","v":""},{"$f":"IF('S7'!$O$21=\"\",\"\",'S7'!$O$21)","v":""},{"$f":"IF('S7'!$P$21=\"\",\"\",'S7'!$P$21)","v":""},null,"von"]
[null,null,null,null,null,null,null,null,null,null,null,null,null,null,null,{"$f":"'S7'!$H$12","v":0},null,null,null,null,null,null,null,null,null,null,null,null,null,null,null,null,null,null,{"$f":"'S7'!$H$12","v":0}]
[null,{"$f":"IF('S7'!$Q$18=\"\",\"\",\"Aufgabe\")","v":""},null,null,{"$f":"IF('S7'!$Q$18=\"\",\"\",'S7'!$Q$18)","v":""},{"$f":"IF('S7'!$R$18=\"\",\"\",'S7'!$R$18)","v":""},{"$f":"IF('S7'!$S$18=\"\",\"\",'S7'!$S$18)","v":""},{"$f":"IF('S7'!$T$18=\"\",\"\",'S7'!$T$18)","v":""},{"$f":"IF('S7'!$U$18=\"\",\"\",'S7'!$U$18)","v":""},{"$f":"IF('S7'!$V$18=\"\",\"\",'S7'!$V$18)","v":""},{"$f":"IF('S7'!$W$18=\"\",\"\",'S7'!$W$18)","v":""},{"$f":"IF('S7'!$X$18=\"\",\"\",'S7'!$X$18)","v":""},{"$f":"IF('S7'!$Y$18=\"\",\"\",'S7'!$Y$18)","v":""},{"$f":"IF('S7'!$Z$18=\"\",\"\",'S7'!$Z$18)","v":""},null,null,null,null,null,null,{"$f":"IF('S7'!$Q$18=\"\",\"\",\"Aufgabe\")","v":""},null,null,{"$f":"IF('S7'!$Q$18=\"\",\"\",'S7'!$Q$18)","v":""},{"$f":"IF('S7'!$R$18=\"\",\"\",'S7'!$R$18)","v":""},{"$f":"IF('S7'!$S$18=\"\",\"\",'S7'!$S$18)","v":""},{"$f":"IF('S7'!$T$18=\"\",\"\",'S7'!$T$18)","v":""},{"$f":"IF('S7'!$U$18=\"\",\"\",'S7'!$U$18)","v":""},{"$f":"IF('S7'!$V$18=\"\",\"\",'S7'!$V$18)","v":""},{"$f":"IF('S7'!$W$18=\"\",\"\",'S7'!$W$18)","v":""},{"$f":"IF('S7'!$X$18=\"\",\"\",'S7'!$X$18)","v":""},{"$f":"IF('S7'!$Y$18=\"\",\"\",'S7'!$Y$18)","v":""},{"$f":"IF('S7'!$Z$18=\"\",\"\",'S7'!$Z$18)","v":""}]
[null,{"$f":"IF('S7'!$Q$18=\"\",\"\",\"erreicht\")","v":""},null,null,{"$f":"IF(VLOOKUP(B97,'S7'!$B$23:$Z$57,16,FALSE)=\"\",\"\",VLOOKUP(B97,'S7'!$B$23:$Z$57,16,FALSE))","v":""},{"$f":"IF(VLOOKUP(B97,'S7'!$B$23:$Z$57,17,FALSE)=\"\",\"\",VLOOKUP(B97,'S7'!$B$23:$Z$57,17,FALSE))","v":""},{"$f":"IF(VLOOKUP(B97,'S7'!$B$23:$Z$57,18,FALSE)=\"\",\"\",VLOOKUP(B97,'S7'!$B$23:$Z$57,18,FALSE))","v":""},{"$f":"IF(VLOOKUP(B97,'S7'!$B$23:$Z$57,19,FALSE)=\"\",\"\",VLOOKUP(B97,'S7'!$B$23:$Z$57,19,FALSE))","v":""},{"$f":"IF(VLOOKUP(B97,'S7'!$B$23:$Z$57,20,FALSE)=\"\",\"\",VLOOKUP(B97,'S7'!$B$23:$Z$57,20,FALSE))","v":""},{"$f":"IF(VLOOKUP(B97,'S7'!$B$23:$Z$57,21,FALSE)=\"\",\"\",VLOOKUP(B97,'S7'!$B$23:$Z$57,21,FALSE))","v":""},{"$f":"IF(VLOOKUP(B97,'S7'!$B$23:$Z$57,22,FALSE)=\"\",\"\",VLOOKUP(B97,'S7'!$B$23:$Z$57,22,FALSE))","v":""},{"$f":"IF(VLOOKUP(B97,'S7'!$B$23:$Z$57,23,FALSE)=\"\",\"\",VLOOKUP(B97,'S7'!$B$23:$Z$57,23,FALSE))","v":""},{"$f":"IF(VLOOKUP(B97,'S7'!$B$23:$Z$57,24,FALSE)=\"\",\"\",VLOOKUP(B97,'S7'!$B$23:$Z$57,24,FALSE))","v":""},{"$f":"IF(VLOOKUP(B97,'S7'!$B$23:$Z$57,25,FALSE)=\"\",\"\",VLOOKUP(B97,'S7'!$B$23:$Z$57,25,FALSE))","v":""},null,"Note",null,null,null,null,{"$f":"IF('S7'!$Q$18=\"\",\"\",\"erreicht\")","v":""},null,null,{"$f":"IF(VLOOKUP(U97,'S7'!$B$23:$Z$57,16,FALSE)=\"\",\"\",VLOOKUP(U97,'S7'!$B$23:$Z$57,16,FALSE))","v":""},{"$f":"IF(VLOOKUP(U97,'S7'!$B$23:$Z$57,17,FALSE)=\"\",\"\",VLOOKUP(U97,'S7'!$B$23:$Z$57,17,FALSE))","v":""},{"$f":"IF(VLOOKUP(U97,'S7'!$B$23:$Z$57,18,FALSE)=\"\",\"\",VLOOKUP(U97,'S7'!$B$23:$Z$57,18,FALSE))","v":""},{"$f":"IF(VLOOKUP(U97,'S7'!$B$23:$Z$57,19,FALSE)=\"\",\"\",VLOOKUP(U97,'S7'!$B$23:$Z$57,19,FALSE))","v":""},{"$f":"IF(VLOOKUP(U97,'S7'!$B$23:$Z$57,20,FALSE)=\"\",\"\",VLOOKUP(U97,'S7'!$B$23:$Z$57,20,FALSE))","v":""},{"$f":"IF(VLOOKUP(U97,'S7'!$B$23:$Z$57,21,FALSE)=\"\",\"\",VLOOKUP(U97,'S7'!$B$23:$Z$57,21,FALSE))","v":""},{"$f":"IF(VLOOKUP(U97,'S7'!$B$23:$Z$57,22,FALSE)=\"\",\"\",VLOOKUP(U97,'S7'!$B$23:$Z$57,22,FALSE))","v":""},{"$f":"IF(VLOOKUP(U97,'S7'!$B$23:$Z$57,23,FALSE)=\"\",\"\",VLOOKUP(U97,'S7'!$B$23:$Z$57,23,FALSE))","v":""},{"$f":"IF(VLOOKUP(U97,'S7'!$B$23:$Z$57,24,FALSE)=\"\",\"\",VLOOKUP(U97,'S7'!$B$23:$Z$57,24,FALSE))","v":""},{"$f":"IF(VLOOKUP(U97,'S7'!$B$23:$Z$57,25,FALSE)=\"\",\"\",VLOOKUP(U97,'S7'!$B$23:$Z$57,25,FALSE))","v":""},null,"Note"]
[null,{"$f":"IF('S7'!$Q$18=\"\",\"\",\"von\")","v":""},null,null,{"$f":"IF('S7'!$Q$21=\"\",\"\",'S7'!$Q$21)","v":""},{"$f":"IF('S7'!$R$21=\"\",\"\",'S7'!$R$21)","v":""},{"$f":"IF('S7'!$S$21=\"\",\"\",'S7'!$S$21)","v":""},{"$f":"IF('S7'!$T$21=\"\",\"\",'S7'!$T$21)","v":""},{"$f":"IF('S7'!$U$21=\"\",\"\",'S7'!$U$21)","v":""},{"$f":"IF('S7'!$V$21=\"\",\"\",'S7'!$V$21)","v":""},{"$f":"IF('S7'!$W$21=\"\",\"\",'S7'!$W$21)","v":""},{"$f":"IF('S7'!$X$21=\"\",\"\",'S7'!$X$21)","v":""},{"$f":"IF('S7'!$Y$21=\"\",\"\",'S7'!$Y$21)","v":""},{"$f":"IF('S7'!$Z$21=\"\",\"\",'S7'!$Z$21)","v":""},null,{"$f":"IF(VLOOKUP(B97,'S7'!$B$23:$Z$57,2,FALSE)=\"\",\"\",CONCATENATE(VLOOKUP(B97,'S7'!$B$23:$Z$57,2,FALSE),\" \",VLOOKUP(B97,'S7'!$B$23:$Z$57,3,FALSE)))","v":"- "},null,null,null,null,{"$f":"IF('S7'!$Q$18=\"\",\"\",\"von\")","v":""},null,null,{"$f":"IF('S7'!$Q$21=\"\",\"\",'S7'!$Q$21)","v":""},{"$f":"IF('S7'!$R$21=\"\",\"\",'S7'!$R$21)","v":""},{"$f":"IF('S7'!$S$21=\"\",\"\",'S7'!$S$21)","v":""},{"$f":"IF('S7'!$T$21=\"\",\"\",'S7'!$T$21)","v":""},{"$f":"IF('S7'!$U$21=\"\",\"\",'S7'!$U$21)","v":""},{"$f":"IF('S7'!$V$21=\"\",\"\",'S7'!$V$21)","v":""},{"$f":"IF('S7'!$W$21=\"\",\"\",'S7'!$W$21)","v":""},{"$f":"IF('S7'!$X$21=\"\",\"\",'S7'!$X$21)","v":""},{"$f":"IF('S7'!$Y$21=\"\",\"\",'S7'!$Y$21)","v":""},{"$f":"IF('S7'!$Z$21=\"\",\"\",'S7'!$Z$21)","v":""},null,{"$f":"IF(VLOOKUP(U97,'S7'!$B$23:$Z$57,2,FALSE)=\"\",\"\",CONCATENATE(VLOOKUP(U97,'S7'!$B$23:$Z$57,2,FALSE),\" \",VLOOKUP(U97,'S7'!$B$23:$Z$57,3,FALSE)))","v":"- "}]
[]
[]
[]
[null,{"$f":"'S7'!$B$41","v":""},null,null,null,null,null,null,null,null,null,null,null,null,null,null,null,null,null,null,{"$f":"'S7'!$B$42","v":""}]
[null,null,null,null,null,null,null,null,null,null,null,null,null,null,null,"Summe",null,null,null,null,null,null,null,null,null,null,null,null,null,null,null,null,null,null,"Summe"]
[null,"Aufgabe",null,null,{"$f":"IF('S7'!$G$18=\"\",\"\",'S7'!$G$18)","v":1},{"$f":"IF('S7'!$H$18=\"\",\"\",'S7'!$H$18)","v":2},{"$f":"IF('S7'!$I$18=\"\",\"\",'S7'!$I$18)","v":3},{"$f":"IF('S7'!$J$18=\"\",\"\",'S7'!$J$18)","v":""},{"$f":"IF('S7'!$K$18=\"\",\"\",'S7'!$K$18)","v":""},{"$f":"IF('S7'!$L$18=\"\",\"\",'S7'!$L$18)","v":""},{"$f":"IF('S7'!$M$18=\"\",\"\",'S7'!$M$18)","v":""},{"$f":"IF('S7'!$N$18=\"\",\"\",'S7'!$N$18)","v":""},{"$f":"IF('S7'!$O$18=\"\",\"\",'S7'!$O$18)","v":""},{"$f":"IF('S7'!$P$18=\"\",\"\",'S7'!$P$18)","v":""},null,{"$f":"IF(VLOOKUP(B109,'S7'!$B$23:$Z$57,5,FALSE)=\"\",\"\",VLOOKUP(B109,'S7'!$B$23:$Z$57,5,FALSE))","v":0},null,null,null,null,"Aufgabe",null,null,{"$f":"IF('S7'!$G$18=\"\",\"\",'S7'!$G$18)","v":1},{"$f":"IF('S7'!$H$18=\"\",\"\",'S7'!$H$18)","v":2},{"$f":"IF('S7'!$I$18=\"\",\"\",'S7'!$I$18)","v":3},{"$f":"IF('S7'!$J$18=\"\",\"\",'S7'!$J$18)","v":""},{"$f":"IF('S7'!$K$18=\"\",\"\",'S7'!$K$18)","v":""},{"$f":"IF('S7'!$L$18=\"\",\"\",'S7'!$L$18)","v":""},{"$f":"IF('S7'!$M$18=\"\",\"\",'S7'!$M$18)","v":""},{"$f":"IF('S7'!$N$18=\"\",\"\",'S7'!$N$18)","v":""},{"$f":"IF('S7'!$O$18=\"\",\"\",'S7'!$O$18)","v":""},{"$f":"IF('S7'!$P$18=\"\",\"\",'S7'!$P$18)","v":""},null,{"$f":"IF(VLOOKUP(U109,'S7'!$B$23:$Z$57,5,FALSE)=\"\",\"\",VLOOKUP(U109,'S7'!$B$23:$Z$57,5,FALSE))","v":0}]
[null,"erreicht",null,null,{"$f":"IF(VLOOKUP(B109,'S7'!$B$23:$Z$57,6,FALSE)=\"\",\"\",VLOOKUP(B109,'S7'!$B$23:$Z$57,6,FALSE))","v":"."},{"$f":"IF(VLOOKUP(B109,'S7'!$B$23:$Z$57,7,FALSE)=\"\",\"\",VLOOKUP(B109,'S7'!$B$23:$Z$57,7,FALSE))","v":""},{"$f":"IF(VLOOKUP(B109,'S7'!$B$23:$Z$57,8,FALSE)=\"\",\"\",VLOOKUP(B109,'S7'!$B$23:$Z$57,8,FALSE))","v":""},{"$f":"IF(VLOOKUP(B109,'S7'!$B$23:$Z$57,9,FALSE)=\"\",\"\",VLOOKUP(B109,'S7'!$B$23:$Z$57,9,FALSE))","v":""},{"$f":"IF(VLOOKUP(B109,'S7'!$B$23:$Z$57,10,FALSE)=\"\",\"\",VLOOKUP(B109,'S7'!$B$23:$Z$57,10,FALSE))","v":""},{"$f":"IF(VLOOKUP(B109,'S7'!$B$23:$Z$57,11,FALSE)=\"\",\"\",VLOOKUP(B109,'S7'!$B$23:$Z$57,11,FALSE))","v":""},{"$f":"IF(VLOOKUP(B109,'S7'!$B$23:$Z$57,12,FALSE)=\"\",\"\",VLOOKUP(B109,'S7'!$B$23:$Z$57,12,FALSE))","v":""},{"$f":"IF(VLOOKUP(B109,'S7'!$B$23:$Z$57,13,FALSE)=\"\",\"\",VLOOKUP(B109,'S7'!$B$23:$Z$57,13,FALSE))","v":""},{"$f":"IF(VLOOKUP(B109,'S7'!$B$23:$Z$57,14,FALSE)=\"\",\"\",VLOOKUP(B109,'S7'!$B$23:$Z$57,14,FALSE))","v":""},{"$f":"IF(VLOOKUP(B109,'S7'!$B$23:$Z$57,15,FALSE)=\"\",\"\",VLOOKUP(B109,'S7'!$B$23:$Z$57,15,FALSE))","v":""},null,null,null,null,null,null,"erreicht",null,null,{"$f":"IF(VLOOKUP(U109,'S7'!$B$23:$Z$57,6,FALSE)=\"\",\"\",VLOOKUP(U109,'S7'!$B$23:$Z$57,6,FALSE))","v":"."},{"$f":"IF(VLOOKUP(U109,'S7'!$B$23:$Z$57,7,FALSE)=\"\",\"\",VLOOKUP(U109,'S7'!$B$23:$Z$57,7,FALSE))","v":""},{"$f":"IF(VLOOKUP(U109,'S7'!$B$23:$Z$57,8,FALSE)=\"\",\"\",VLOOKUP(U109,'S7'!$B$23:$Z$57,8,FALSE))","v":""},{"$f":"IF(VLOOKUP(U109,'S7'!$B$23:$Z$57,9,FALSE)=\"\",\"\",VLOOKUP(U109,'S7'!$B$23:$Z$57,9,FALSE))","v":""},{"$f":"IF(VLOOKUP(U109,'S7'!$B$23:$Z$57,10,FALSE)=\"\",\"\",VLOOKUP(U109,'S7'!$B$23:$Z$57,10,FALSE))","v":""},{"$f":"IF(VLOOKUP(U109,'S7'!$B$23:$Z$57,11,FALSE)=\"\",\"\",VLOOKUP(U109,'S7'!$B$23:$Z$57,11,FALSE))","v":""},{"$f":"IF(VLOOKUP(U109,'S7'!$B$23:$Z$57,12,FALSE)=\"\",\"\",VLOOKUP(U109,'S7'!$B$23:$Z$57,12,FALSE))","v":""},{"$f":"IF(VLOOKUP(U109,'S7'!$B$23:$Z$57,13,FALSE)=\"\",\"\",VLOOKUP(U109,'S7'!$B$23:$Z$57,13,FALSE))","v":""},{"$f":"IF(VLOOKUP(U109,'S7'!$B$23:$Z$57,14,FALSE)=\"\",\"\",VLOOKUP(U109,'S7'!$B$23:$Z$57,14,FALSE))","v":""},{"$f":"IF(VLOOKUP(U109,'S7'!$B$23:$Z$57,15,FALSE)=\"\",\"\",VLOOKUP(U109,'S7'!$B$23:$Z$57,15,FALSE))","v":""}]
[null,"von",null,null,{"$f":"IF('S7'!$G$21=\"\",\"\",'S7'!$G$21)","v":""},{"$f":"IF('S7'!$H$21=\"\",\"\",'S7'!$H$21)","v":""},{"$f":"IF('S7'!$I$21=\"\",\"\",'S7'!$I$21)","v":""},{"$f":"IF('S7'!$J$21=\"\",\"\",'S7'!$J$21)","v":""},{"$f":"IF('S7'!$K$21=\"\",\"\",'S7'!$K$21)","v":""},{"$f":"IF('S7'!$L$21=\"\",\"\",'S7'!$L$21)","v":""},{"$f":"IF('S7'!$M$21=\"\",\"\",'S7'!$M$21)","v":""},{"$f":"IF('S7'!$N$21=\"\",\"\",'S7'!$N$21)","v":""},{"$f":"IF('S7'!$O$21=\"\",\"\",'S7'!$O$21)","v":""},{"$f":"IF('S7'!$P$21=\"\",\"\",'S7'!$P$21)","v":""},null,"von",null,null,null,null,"von",null,null,{"$f":"IF('S7'!$G$21=\"\",\"\",'S7'!$G$21)","v":""},{"$f":"IF('S7'!$H$21=\"\",\"\",'S7'!$H$21)","v":""},{"$f":"IF('S7'!$I$21=\"\",\"\",'S7'!$I$21)","v":""},{"$f":"IF('S7'!$J$21=\"\",\"\",'S7'!$J$21)","v":""},{"$f":"IF('S7'!$K$21=\"\",\"\",'S7'!$K$21)","v":""},{"$f":"IF('S7'!$L$21=\"\",\"\",'S7'!$L$21)","v":""},{"$f":"IF('S7'!$M$21=\"\",\"\",'S7'!$M$21)","v":""},{"$f":"IF('S7'!$N$21=\"\",\"\",'S7'!$N$21)","v":""},{"$f":"IF('S7'!$O$21=\"\",\"\",'S7'!$O$21)","v":""},{"$f":"IF('S7'!$P$21=\"\",\"\",'S7'!$P$21)","v":""},null,"von"]
[null,null,null,null,null,null,null,null,null,null,null,null,null,null,null,{"$f":"'S7'!$H$12","v":0},null,null,null,null,null,null,null,null,null,null,null,null,null,null,null,null,null,null,{"$f":"'S7'!$H$12","v":0}]
[null,{"$f":"IF('S7'!$Q$18=\"\",\"\",\"Aufgabe\")","v":""},null,null,{"$f":"IF('S7'!$Q$18=\"\",\"\",'S7'!$Q$18)","v":""},{"$f":"IF('S7'!$R$18=\"\",\"\",'S7'!$R$18)","v":""},{"$f":"IF('S7'!$S$18=\"\",\"\",'S7'!$S$18)","v":""},{"$f":"IF('S7'!$T$18=\"\",\"\",'S7'!$T$18)","v":""},{"$f":"IF('S7'!$U$18=\"\",\"\",'S7'!$U$18)","v":""},{"$f":"IF('S7'!$V$18=\"\",\"\",'S7'!$V$18)","v":""},{"$f":"IF('S7'!$W$18=\"\",\"\",'S7'!$W$18)","v":""},{"$f":"IF('S7'!$X$18=\"\",\"\",'S7'!$X$18)","v":""},{"$f":"IF('S7'!$Y$18=\"\",\"\",'S7'!$Y$18)","v":""},{"$f":"IF('S7'!$Z$18=\"\",\"\",'S7'!$Z$18)","v":""},null,null,null,null,null,null,{"$f":"IF('S7'!$Q$18=\"\",\"\",\"Aufgabe\")","v":""},null,null,{"$f":"IF('S7'!$Q$18=\"\",\"\",'S7'!$Q$18)","v":""},{"$f":"IF('S7'!$R$18=\"\",\"\",'S7'!$R$18)","v":""},{"$f":"IF('S7'!$S$18=\"\",\"\",'S7'!$S$18)","v":""},{"$f":"IF('S7'!$T$18=\"\",\"\",'S7'!$T$18)","v":""},{"$f":"IF('S7'!$U$18=\"\",\"\",'S7'!$U$18)","v":""},{"$f":"IF('S7'!$V$18=\"\",\"\",'S7'!$V$18)","v":""},{"$f":"IF('S7'!$W$18=\"\",\"\",'S7'!$W$18)","v":""},{"$f":"IF('S7'!$X$18=\"\",\"\",'S7'!$X$18)","v":""},{"$f":"IF('S7'!$Y$18=\"\",\"\",'S7'!$Y$18)","v":""},{"$f":"IF('S7'!$Z$18=\"\",\"\",'S7'!$Z$18)","v":""}]
[null,{"$f":"IF('S7'!$Q$18=\"\",\"\",\"erreicht\")","v":""},null,null,{"$f":"IF(VLOOKUP(B109,'S7'!$B$23:$Z$57,16,FALSE)=\"\",\"\",VLOOKUP(B109,'S7'!$B$23:$Z$57,16,FALSE))","v":""},{"$f":"IF(VLOOKUP(B109,'S7'!$B$23:$Z$57,17,FALSE)=\"\",\"\",VLOOKUP(B109,'S7'!$B$23:$Z$57,17,FALSE))","v":""},{"$f":"IF(VLOOKUP(B109,'S7'!$B$23:$Z$57,18,FALSE)=\"\",\"\",VLOOKUP(B109,'S7'!$B$23:$Z$57,18,FALSE))","v":""},{"$f":"IF(VLOOKUP(B109,'S7'!$B$23:$Z$57,19,FALSE)=\"\",\"\",VLOOKUP(B109,'S7'!$B$23:$Z$57,19,FALSE))","v":""},{"$f":"IF(VLOOKUP(B109,'S7'!$B$23:$Z$57,20,FALSE)=\"\",\"\",VLOOKUP(B109,'S7'!$B$23:$Z$57,20,FALSE))","v":""},{"$f":"IF(VLOOKUP(B109,'S7'!$B$23:$Z$57,21,FALSE)=\"\",\"\",VLOOKUP(B109,'S7'!$B$23:$Z$57,21,FALSE))","v":""},{"$f":"IF(VLOOKUP(B109,'S7'!$B$23:$Z$57,22,FALSE)=\"\",\"\",VLOOKUP(B109,'S7'!$B$23:$Z$57,22,FALSE))","v":""},{"$f":"IF(VLOOKUP(B109,'S7'!$B$23:$Z$57,23,FALSE)=\"\",\"\",VLOOKUP(B109,'S7'!$B$23:$Z$57,23,FALSE))","v":""},{"$f":"IF(VLOOKUP(B109,'S7'!$B$23:$Z$57,24,FALSE)=\"\",\"\",VLOOKUP(B109,'S7'!$B$23:$Z$57,24,FALSE))","v":""},{"$f":"IF(VLOOKUP(B109,'S7'!$B$23:$Z$57,25,FALSE)=\"\",\"\",VLOOKUP(B109,'S7'!$B$23:$Z$57,25,FALSE))","v":""},null,"Note",null,null,null,null,{"$f":"IF('S7'!$Q$18=\"\",\"\",\"erreicht\")","v":""},null,null,{"$f":"IF(VLOOKUP(U109,'S7'!$B$23:$Z$57,16,FALSE)=\"\",\"\",VLOOKUP(U109,'S7'!$B$23:$Z$57,16,FALSE))","v":""},{"$f":"IF(VLOOKUP(U109,'S7'!$B$23:$Z$57,17,FALSE)=\"\",\"\",VLOOKUP(U109,'S7'!$B$23:$Z$57,17,FALSE))","v":""},{"$f":"IF(VLOOKUP(U109,'S7'!$B$23:$Z$57,18,FALSE)=\"\",\"\",VLOOKUP(U109,'S7'!$B$23:$Z$57,18,FALSE))","v":""},{"$f":"IF(VLOOKUP(U109,'S7'!$B$23:$Z$57,19,FALSE)=\"\",\"\",VLOOKUP(U109,'S7'!$B$23:$Z$57,19,FALSE))","v":""},{"$f":"IF(VLOOKUP(U109,'S7'!$B$23:$Z$57,20,FALSE)=\"\",\"\",VLOOKUP(U109,'S7'!$B$23:$Z$57,20,FALSE))","v":""},{"$f":"IF(VLOOKUP(U109,'S7'!$B$23:$Z$57,21,FALSE)=\"\",\"\",VLOOKUP(U109,'S7'!$B$23:$Z$57,21,FALSE))","v":""},{"$f":"IF(VLOOKUP(U109,'S7'!$B$23:$Z$57,22,FALSE)=\"\",\"\",VLOOKUP(U109,'S7'!$B$23:$Z$57,22,FALSE))","v":""},{"$f":"IF(VLOOKUP(U109,'S7'!$B$23:$Z$57,23,FALSE)=\"\",\"\",VLOOKUP(U109,'S7'!$B$23:$Z$57,23,FALSE))","v":""},{"$f":"IF(VLOOKUP(U109,'S7'!$B$23:$Z$57,24,FALSE)=\"\",\"\",VLOOKUP(U109,'S7'!$B$23:$Z$57,24,FALSE))","v":""},{"$f":"IF(VLOOKUP(U109,'S7'!$B$23:$Z$57,25,FALSE)=\"\",\"\",VLOOKUP(U109,'S7'!$B$23:$Z$57,25,FALSE))","v":""},null,"Note"]
[null,{"$f":"IF('S7'!$Q$18=\"\",\"\",\"von\")","v":""},null,null,{"$f":"IF('S7'!$Q$21=\"\",\"\",'S7'!$Q$21)","v":""},{"$f":"IF('S7'!$R$21=\"\",\"\",'S7'!$R$21)","v":""},{"$f":"IF('S7'!$S$21=\"\",\"\",'S7'!$S$21)","v":""},{"$f":"IF('S7'!$T$21=\"\",\"\",'S7'!$T$21)","v":""},{"$f":"IF('S7'!$U$21=\"\",\"\",'S7'!$U$21)","v":""},{"$f":"IF('S7'!$V$21=\"\",\"\",'S7'!$V$21)","v":""},{"$f":"IF('S7'!$W$21=\"\",\"\",'S7'!$W$21)","v":""},{"$f":"IF('S7'!$X$21=\"\",\"\",'S7'!$X$21)","v":""},{"$f":"IF('S7'!$Y$21=\"\",\"\",'S7'!$Y$21)","v":""},{"$f":"IF('S7'!$Z$21=\"\",\"\",'S7'!$Z$21)","v":""},null,{"$f":"IF(VLOOKUP(B109,'S7'!$B$23:$Z$57,2,FALSE)=\"\",\"\",CONCATENATE(VLOOKUP(B109,'S7'!$B$23:$Z$57,2,FALSE),\" \",VLOOKUP(B109,'S7'!$B$23:$Z$57,3,FALSE)))","v":"- "},null,null,null,null,{"$f":"IF('S7'!$Q$18=\"\",\"\",\"von\")","v":""},null,null,{"$f":"IF('S7'!$Q$21=\"\",\"\",'S7'!$Q$21)","v":""},{"$f":"IF('S7'!$R$21=\"\",\"\",'S7'!$R$21)","v":""},{"$f":"IF('S7'!$S$21=\"\",\"\",'S7'!$S$21)","v":""},{"$f":"IF('S7'!$T$21=\"\",\"\",'S7'!$T$21)","v":""},{"$f":"IF('S7'!$U$21=\"\",\"\",'S7'!$U$21)","v":""},{"$f":"IF('S7'!$V$21=\"\",\"\",'S7'!$V$21)","v":""},{"$f":"IF('S7'!$W$21=\"\",\"\",'S7'!$W$21)","v":""},{"$f":"IF('S7'!$X$21=\"\",\"\",'S7'!$X$21)","v":""},{"$f":"IF('S7'!$Y$21=\"\",\"\",'S7'!$Y$21)","v":""},{"$f":"IF('S7'!$Z$21=\"\",\"\",'S7'!$Z$21)","v":""},null,{"$f":"IF(VLOOKUP(U109,'S7'!$B$23:$Z$57,2,FALSE)=\"\",\"\",CONCATENATE(VLOOKUP(U109,'S7'!$B$23:$Z$57,2,FALSE),\" \",VLOOKUP(U109,'S7'!$B$23:$Z$57,3,FALSE)))","v":"- "}]
[]
[]
[]
[null,{"$f":"'S7'!$B$43","v":""},null,null,null,null,null,null,null,null,null,null,null,null,null,null,null,null,null,null,{"$f":"'S7'!$B$44","v":""}]
[null,null,null,null,null,null,null,null,null,null,null,null,null,null,null,"Summe",null,null,null,null,null,null,null,null,null,null,null,null,null,null,null,null,null,null,"Summe"]
[null,"Aufgabe",null,null,{"$f":"IF('S7'!$G$18=\"\",\"\",'S7'!$G$18)","v":1},{"$f":"IF('S7'!$H$18=\"\",\"\",'S7'!$H$18)","v":2},{"$f":"IF('S7'!$I$18=\"\",\"\",'S7'!$I$18)","v":3},{"$f":"IF('S7'!$J$18=\"\",\"\",'S7'!$J$18)","v":""},{"$f":"IF('S7'!$K$18=\"\",\"\",'S7'!$K$18)","v":""},{"$f":"IF('S7'!$L$18=\"\",\"\",'S7'!$L$18)","v":""},{"$f":"IF('S7'!$M$18=\"\",\"\",'S7'!$M$18)","v":""},{"$f":"IF('S7'!$N$18=\"\",\"\",'S7'!$N$18)","v":""},{"$f":"IF('S7'!$O$18=\"\",\"\",'S7'!$O$18)","v":""},{"$f":"IF('S7'!$P$18=\"\",\"\",'S7'!$P$18)","v":""},null,{"$f":"IF(VLOOKUP(B121,'S7'!$B$23:$Z$57,5,FALSE)=\"\",\"\",VLOOKUP(B121,'S7'!$B$23:$Z$57,5,FALSE))","v":0},null,null,null,null,"Aufgabe",null,null,{"$f":"IF('S7'!$G$18=\"\",\"\",'S7'!$G$18)","v":1},{"$f":"IF('S7'!$H$18=\"\",\"\",'S7'!$H$18)","v":2},{"$f":"IF('S7'!$I$18=\"\",\"\",'S7'!$I$18)","v":3},{"$f":"IF('S7'!$J$18=\"\",\"\",'S7'!$J$18)","v":""},{"$f":"IF('S7'!$K$18=\"\",\"\",'S7'!$K$18)","v":""},{"$f":"IF('S7'!$L$18=\"\",\"\",'S7'!$L$18)","v":""},{"$f":"IF('S7'!$M$18=\"\",\"\",'S7'!$M$18)","v":""},{"$f":"IF('S7'!$N$18=\"\",\"\",'S7'!$N$18)","v":""},{"$f":"IF('S7'!$O$18=\"\",\"\",'S7'!$O$18)","v":""},{"$f":"IF('S7'!$P$18=\"\",\"\",'S7'!$P$18)","v":""},null,{"$f":"IF(VLOOKUP(U121,'S7'!$B$23:$Z$57,5,FALSE)=\"\",\"\",VLOOKUP(U121,'S7'!$B$23:$Z$57,5,FALSE))","v":0}]
[null,"erreicht",null,null,{"$f":"IF(VLOOKUP(B121,'S7'!$B$23:$Z$57,6,FALSE)=\"\",\"\",VLOOKUP(B121,'S7'!$B$23:$Z$57,6,FALSE))","v":"."},{"$f":"IF(VLOOKUP(B121,'S7'!$B$23:$Z$57,7,FALSE)=\"\",\"\",VLOOKUP(B121,'S7'!$B$23:$Z$57,7,FALSE))","v":""},{"$f":"IF(VLOOKUP(B121,'S7'!$B$23:$Z$57,8,FALSE)=\"\",\"\",VLOOKUP(B121,'S7'!$B$23:$Z$57,8,FALSE))","v":""},{"$f":"IF(VLOOKUP(B121,'S7'!$B$23:$Z$57,9,FALSE)=\"\",\"\",VLOOKUP(B121,'S7'!$B$23:$Z$57,9,FALSE))","v":""},{"$f":"IF(VLOOKUP(B121,'S7'!$B$23:$Z$57,10,FALSE)=\"\",\"\",VLOOKUP(B121,'S7'!$B$23:$Z$57,10,FALSE))","v":""},{"$f":"IF(VLOOKUP(B121,'S7'!$B$23:$Z$57,11,FALSE)=\"\",\"\",VLOOKUP(B121,'S7'!$B$23:$Z$57,11,FALSE))","v":""},{"$f":"IF(VLOOKUP(B121,'S7'!$B$23:$Z$57,12,FALSE)=\"\",\"\",VLOOKUP(B121,'S7'!$B$23:$Z$57,12,FALSE))","v":""},{"$f":"IF(VLOOKUP(B121,'S7'!$B$23:$Z$57,13,FALSE)=\"\",\"\",VLOOKUP(B121,'S7'!$B$23:$Z$57,13,FALSE))","v":""},{"$f":"IF(VLOOKUP(B121,'S7'!$B$23:$Z$57,14,FALSE)=\"\",\"\",VLOOKUP(B121,'S7'!$B$23:$Z$57,14,FALSE))","v":""},{"$f":"IF(VLOOKUP(B121,'S7'!$B$23:$Z$57,15,FALSE)=\"\",\"\",VLOOKUP(B121,'S7'!$B$23:$Z$57,15,FALSE))","v":""},null,null,null,null,null,null,"erreicht",null,null,{"$f":"IF(VLOOKUP(U121,'S7'!$B$23:$Z$57,6,FALSE)=\"\",\"\",VLOOKUP(U121,'S7'!$B$23:$Z$57,6,FALSE))","v":"."},{"$f":"IF(VLOOKUP(U121,'S7'!$B$23:$Z$57,7,FALSE)=\"\",\"\",VLOOKUP(U121,'S7'!$B$23:$Z$57,7,FALSE))","v":""},{"$f":"IF(VLOOKUP(U121,'S7'!$B$23:$Z$57,8,FALSE)=\"\",\"\",VLOOKUP(U121,'S7'!$B$23:$Z$57,8,FALSE))","v":""},{"$f":"IF(VLOOKUP(U121,'S7'!$B$23:$Z$57,9,FALSE)=\"\",\"\",VLOOKUP(U121,'S7'!$B$23:$Z$57,9,FALSE))","v":""},{"$f":"IF(VLOOKUP(U121,'S7'!$B$23:$Z$57,10,FALSE)=\"\",\"\",VLOOKUP(U121,'S7'!$B$23:$Z$57,10,FALSE))","v":""},{"$f":"IF(VLOOKUP(U121,'S7'!$B$23:$Z$57,11,FALSE)=\"\",\"\",VLOOKUP(U121,'S7'!$B$23:$Z$57,11,FALSE))","v":""},{"$f":"IF(VLOOKUP(U121,'S7'!$B$23:$Z$57,12,FALSE)=\"\",\"\",VLOOKUP(U121,'S7'!$B$23:$Z$57,12,FALSE))","v":""},{"$f":"IF(VLOOKUP(U121,'S7'!$B$23:$Z$57,13,FALSE)=\"\",\"\",VLOOKUP(U121,'S7'!$B$23:$Z$57,13,FALSE))","v":""},{"$f":"IF(VLOOKUP(U121,'S7'!$B$23:$Z$57,14,FALSE)=\"\",\"\",VLOOKUP(U121,'S7'!$B$23:$Z$57,14,FALSE))","v":""},{"$f":"IF(VLOOKUP(U121,'S7'!$B$23:$Z$57,15,FALSE)=\"\",\"\",VLOOKUP(U121,'S7'!$B$23:$Z$57,15,FALSE))","v":""}]
[null,"von",null,null,{"$f":"IF('S7'!$G$21=\"\",\"\",'S7'!$G$21)","v":""},{"$f":"IF('S7'!$H$21=\"\",\"\",'S7'!$H$21)","v":""},{"$f":"IF('S7'!$I$21=\"\",\"\",'S7'!$I$21)","v":""},{"$f":"IF('S7'!$J$21=\"\",\"\",'S7'!$J$21)","v":""},{"$f":"IF('S7'!$K$21=\"\",\"\",'S7'!$K$21)","v":""},{"$f":"IF('S7'!$L$21=\"\",\"\",'S7'!$L$21)","v":""},{"$f":"IF('S7'!$M$21=\"\",\"\",'S7'!$M$21)","v":""},{"$f":"IF('S7'!$N$21=\"\",\"\",'S7'!$N$21)","v":""},{"$f":"IF('S7'!$O$21=\"\",\"\",'S7'!$O$21)","v":""},{"$f":"IF('S7'!$P$21=\"\",\"\",'S7'!$P$21)","v":""},null,"von",null,null,null,null,"von",null,null,{"$f":"IF('S7'!$G$21=\"\",\"\",'S7'!$G$21)","v":""},{"$f":"IF('S7'!$H$21=\"\",\"\",'S7'!$H$21)","v":""},{"$f":"IF('S7'!$I$21=\"\",\"\",'S7'!$I$21)","v":""},{"$f":"IF('S7'!$J$21=\"\",\"\",'S7'!$J$21)","v":""},{"$f":"IF('S7'!$K$21=\"\",\"\",'S7'!$K$21)","v":""},{"$f":"IF('S7'!$L$21=\"\",\"\",'S7'!$L$21)","v":""},{"$f":"IF('S7'!$M$21=\"\",\"\",'S7'!$M$21)","v":""},{"$f":"IF('S7'!$N$21=\"\",\"\",'S7'!$N$21)","v":""},{"$f":"IF('S7'!$O$21=\"\",\"\",'S7'!$O$21)","v":""},{"$f":"IF('S7'!$P$21=\"\",\"\",'S7'!$P$21)","v":""},null,"von"]
[null,null,null,null,null,null,null,null,null,null,null,null,null,null,null,{"$f":"'S7'!$H$12","v":0},null,null,null,null,null,null,null,null,null,null,null,null,null,null,null,null,null,null,{"$f":"'S7'!$H$12","v":0}]
[null,{"$f":"IF('S7'!$Q$18=\"\",\"\",\"Aufgabe\")","v":""},null,null,{"$f":"IF('S7'!$Q$18=\"\",\"\",'S7'!$Q$18)","v":""},{"$f":"IF('S7'!$R$18=\"\",\"\",'S7'!$R$18)","v":""},{"$f":"IF('S7'!$S$18=\"\",\"\",'S7'!$S$18)","v":""},{"$f":"IF('S7'!$T$18=\"\",\"\",'S7'!$T$18)","v":""},{"$f":"IF('S7'!$U$18=\"\",\"\",'S7'!$U$18)","v":""},{"$f":"IF('S7'!$V$18=\"\",\"\",'S7'!$V$18)","v":""},{"$f":"IF('S7'!$W$18=\"\",\"\",'S7'!$W$18)","v":""},{"$f":"IF('S7'!$X$18=\"\",\"\",'S7'!$X$18)","v":""},{"$f":"IF('S7'!$Y$18=\"\",\"\",'S7'!$Y$18)","v":""},{"$f":"IF('S7'!$Z$18=\"\",\"\",'S7'!$Z$18)","v":""},null,null,null,null,null,null,{"$f":"IF('S7'!$Q$18=\"\",\"\",\"Aufgabe\")","v":""},null,null,{"$f":"IF('S7'!$Q$18=\"\",\"\",'S7'!$Q$18)","v":""},{"$f":"IF('S7'!$R$18=\"\",\"\",'S7'!$R$18)","v":""},{"$f":"IF('S7'!$S$18=\"\",\"\",'S7'!$S$18)","v":""},{"$f":"IF('S7'!$T$18=\"\",\"\",'S7'!$T$18)","v":""},{"$f":"IF('S7'!$U$18=\"\",\"\",'S7'!$U$18)","v":""},{"$f":"IF('S7'!$V$18=\"\",\"\",'S7'!$V$18)","v":""},{"$f":"IF('S7'!$W$18=\"\",\"\",'S7'!$W$18)","v":""},{"$f":"IF('S7'!$X$18=\"\",\"\",'S7'!$X$18)","v":""},{"$f":"IF('S7'!$Y$18=\"\",\"\",'S7'!$Y$18)","v":""},{"$f":"IF('S7'!$Z$18=\"\",\"\",'S7'!$Z$18)","v":""}]
[null,{"$f":"IF('S7'!$Q$18=\"\",\"\",\"erreicht\")","v":""},null,null,{"$f":"IF(VLOOKUP(B121,'S7'!$B$23:$Z$57,16,FALSE)=\"\",\"\",VLOOKUP(B121,'S7'!$B$23:$Z$57,16,FALSE))","v":""},{"$f":"IF(VLOOKUP(B121,'S7'!$B$23:$Z$57,17,FALSE)=\"\",\"\",VLOOKUP(B121,'S7'!$B$23:$Z$57,17,FALSE))","v":""},{"$f":"IF(VLOOKUP(B121,'S7'!$B$23:$Z$57,18,FALSE)=\"\",\"\",VLOOKUP(B121,'S7'!$B$23:$Z$57,18,FALSE))","v":""},{"$f":"IF(VLOOKUP(B121,'S7'!$B$23:$Z$57,19,FALSE)=\"\",\"\",VLOOKUP(B121,'S7'!$B$23:$Z$57,19,FALSE))","v":""},{"$f":"IF(VLOOKUP(B121,'S7'!$B$23:$Z$57,20,FALSE)=\"\",\"\",VLOOKUP(B121,'S7'!$B$23:$Z$57,20,FALSE))","v":""},{"$f":"IF(VLOOKUP(B121,'S7'!$B$23:$Z$57,21,FALSE)=\"\",\"\",VLOOKUP(B121,'S7'!$B$23:$Z$57,21,FALSE))","v":""},{"$f":"IF(VLOOKUP(B121,'S7'!$B$23:$Z$57,22,FALSE)=\"\",\"\",VLOOKUP(B121,'S7'!$B$23:$Z$57,22,FALSE))","v":""},{"$f":"IF(VLOOKUP(B121,'S7'!$B$23:$Z$57,23,FALSE)=\"\",\"\",VLOOKUP(B121,'S7'!$B$23:$Z$57,23,FALSE))","v":""},{"$f":"IF(VLOOKUP(B121,'S7'!$B$23:$Z$57,24,FALSE)=\"\",\"\",VLOOKUP(B121,'S7'!$B$23:$Z$57,24,FALSE))","v":""},{"$f":"IF(VLOOKUP(B121,'S7'!$B$23:$Z$57,25,FALSE)=\"\",\"\",VLOOKUP(B121,'S7'!$B$23:$Z$57,25,FALSE))","v":""},null,"Note",null,null,null,null,{"$f":"IF('S7'!$Q$18=\"\",\"\",\"erreicht\")","v":""},null,null,{"$f":"IF(VLOOKUP(U121,'S7'!$B$23:$Z$57,16,FALSE)=\"\",\"\",VLOOKUP(U121,'S7'!$B$23:$Z$57,16,FALSE))","v":""},{"$f":"IF(VLOOKUP(U121,'S7'!$B$23:$Z$57,17,FALSE)=\"\",\"\",VLOOKUP(U121,'S7'!$B$23:$Z$57,17,FALSE))","v":""},{"$f":"IF(VLOOKUP(U121,'S7'!$B$23:$Z$57,18,FALSE)=\"\",\"\",VLOOKUP(U121,'S7'!$B$23:$Z$57,18,FALSE))","v":""},{"$f":"IF(VLOOKUP(U121,'S7'!$B$23:$Z$57,19,FALSE)=\"\",\"\",VLOOKUP(U121,'S7'!$B$23:$Z$57,19,FALSE))","v":""},{"$f":"IF(VLOOKUP(U121,'S7'!$B$23:$Z$57,20,FALSE)=\"\",\"\",VLOOKUP(U121,'S7'!$B$23:$Z$57,20,FALSE))","v":""},{"$f":"IF(VLOOKUP(U121,'S7'!$B$23:$Z$57,21,FALSE)=\"\",\"\",VLOOKUP(U121,'S7'!$B$23:$Z$57,21,FALSE))","v":""},{"$f":"IF(VLOOKUP(U121,'S7'!$B$23:$Z$57,22,FALSE)=\"\",\"\",VLOOKUP(U121,'S7'!$B$23:$Z$57,22,FALSE))","v":""},{"$f":"IF(VLOOKUP(U121,'S7'!$B$23:$Z$57,23,FALSE)=\"\",\"\",VLOOKUP(U121,'S7'!$B$23:$Z$57,23,FALSE))","v":""},{"$f":"IF(VLOOKUP(U121,'S7'!$B$23:$Z$57,24,FALSE)=\"\",\"\",VLOOKUP(U121,'S7'!$B$23:$Z$57,24,FALSE))","v":""},{"$f":"IF(VLOOKUP(U121,'S7'!$B$23:$Z$57,25,FALSE)=\"\",\"\",VLOOKUP(U121,'S7'!$B$23:$Z$57,25,FALSE))","v":""},null,"Note"]
[null,{"$f":"IF('S7'!$Q$18=\"\",\"\",\"von\")","v":""},null,null,{"$f":"IF('S7'!$Q$21=\"\",\"\",'S7'!$Q$21)","v":""},{"$f":"IF('S7'!$R$21=\"\",\"\",'S7'!$R$21)","v":""},{"$f":"IF('S7'!$S$21=\"\",\"\",'S7'!$S$21)","v":""},{"$f":"IF('S7'!$T$21=\"\",\"\",'S7'!$T$21)","v":""},{"$f":"IF('S7'!$U$21=\"\",\"\",'S7'!$U$21)","v":""},{"$f":"IF('S7'!$V$21=\"\",\"\",'S7'!$V$21)","v":""},{"$f":"IF('S7'!$W$21=\"\",\"\",'S7'!$W$21)","v":""},{"$f":"IF('S7'!$X$21=\"\",\"\",'S7'!$X$21)","v":""},{"$f":"IF('S7'!$Y$21=\"\",\"\",'S7'!$Y$21)","v":""},{"$f":"IF('S7'!$Z$21=\"\",\"\",'S7'!$Z$21)","v":""},null,{"$f":"IF(VLOOKUP(B121,'S7'!$B$23:$Z$57,2,FALSE)=\"\",\"\",CONCATENATE(VLOOKUP(B121,'S7'!$B$23:$Z$57,2,FALSE),\" \",VLOOKUP(B121,'S7'!$B$23:$Z$57,3,FALSE)))","v":"- "},null,null,null,null,{"$f":"IF('S7'!$Q$18=\"\",\"\",\"von\")","v":""},null,null,{"$f":"IF('S7'!$Q$21=\"\",\"\",'S7'!$Q$21)","v":""},{"$f":"IF('S7'!$R$21=\"\",\"\",'S7'!$R$21)","v":""},{"$f":"IF('S7'!$S$21=\"\",\"\",'S7'!$S$21)","v":""},{"$f":"IF('S7'!$T$21=\"\",\"\",'S7'!$T$21)","v":""},{"$f":"IF('S7'!$U$21=\"\",\"\",'S7'!$U$21)","v":""},{"$f":"IF('S7'!$V$21=\"\",\"\",'S7'!$V$21)","v":""},{"$f":"IF('S7'!$W$21=\"\",\"\",'S7'!$W$21)","v":""},{"$f":"IF('S7'!$X$21=\"\",\"\",'S7'!$X$21)","v":""},{"$f":"IF('S7'!$Y$21=\"\",\"\",'S7'!$Y$21)","v":""},{"$f":"IF('S7'!$Z$21=\"\",\"\",'S7'!$Z$21)","v":""},null,{"$f":"IF(VLOOKUP(U121,'S7'!$B$23:$Z$57,2,FALSE)=\"\",\"\",CONCATENATE(VLOOKUP(U121,'S7'!$B$23:$Z$57,2,FALSE),\" \",VLOOKUP(U121,'S7'!$B$23:$Z$57,3,FALSE)))","v":"- "}]
[]
[]
[]
[null,{"$f":"'S7'!$B$45","v":""},null,null,null,null,null,null,null,null,null,null,null,null,null,null,null,null,null,null,{"$f":"'S7'!$B$46","v":""}]
[null,null,null,null,null,null,null,null,null,null,null,null,null,null,null,"Summe",null,null,null,null,null,null,null,null,null,null,null,null,null,null,null,null,null,null,"Summe"]
[null,"Aufgabe",null,null,{"$f":"IF('S7'!$G$18=\"\",\"\",'S7'!$G$18)","v":1},{"$f":"IF('S7'!$H$18=\"\",\"\",'S7'!$H$18)","v":2},{"$f":"IF('S7'!$I$18=\"\",\"\",'S7'!$I$18)","v":3},{"$f":"IF('S7'!$J$18=\"\",\"\",'S7'!$J$18)","v":""},{"$f":"IF('S7'!$K$18=\"\",\"\",'S7'!$K$18)","v":""},{"$f":"IF('S7'!$L$18=\"\",\"\",'S7'!$L$18)","v":""},{"$f":"IF('S7'!$M$18=\"\",\"\",'S7'!$M$18)","v":""},{"$f":"IF('S7'!$N$18=\"\",\"\",'S7'!$N$18)","v":""},{"$f":"IF('S7'!$O$18=\"\",\"\",'S7'!$O$18)","v":""},{"$f":"IF('S7'!$P$18=\"\",\"\",'S7'!$P$18)","v":""},null,{"$f":"IF(VLOOKUP(B133,'S7'!$B$23:$Z$57,5,FALSE)=\"\",\"\",VLOOKUP(B133,'S7'!$B$23:$Z$57,5,FALSE))","v":0},null,null,null,null,"Aufgabe",null,null,{"$f":"IF('S7'!$G$18=\"\",\"\",'S7'!$G$18)","v":1},{"$f":"IF('S7'!$H$18=\"\",\"\",'S7'!$H$18)","v":2},{"$f":"IF('S7'!$I$18=\"\",\"\",'S7'!$I$18)","v":3},{"$f":"IF('S7'!$J$18=\"\",\"\",'S7'!$J$18)","v":""},{"$f":"IF('S7'!$K$18=\"\",\"\",'S7'!$K$18)","v":""},{"$f":"IF('S7'!$L$18=\"\",\"\",'S7'!$L$18)","v":""},{"$f":"IF('S7'!$M$18=\"\",\"\",'S7'!$M$18)","v":""},{"$f":"IF('S7'!$N$18=\"\",\"\",'S7'!$N$18)","v":""},{"$f":"IF('S7'!$O$18=\"\",\"\",'S7'!$O$18)","v":""},{"$f":"IF('S7'!$P$18=\"\",\"\",'S7'!$P$18)","v":""},null,{"$f":"IF(VLOOKUP(U133,'S7'!$B$23:$Z$57,5,FALSE)=\"\",\"\",VLOOKUP(U133,'S7'!$B$23:$Z$57,5,FALSE))","v":0}]
[null,"erreicht",null,null,{"$f":"IF(VLOOKUP(B133,'S7'!$B$23:$Z$57,6,FALSE)=\"\",\"\",VLOOKUP(B133,'S7'!$B$23:$Z$57,6,FALSE))","v":"."},{"$f":"IF(VLOOKUP(B133,'S7'!$B$23:$Z$57,7,FALSE)=\"\",\"\",VLOOKUP(B133,'S7'!$B$23:$Z$57,7,FALSE))","v":""},{"$f":"IF(VLOOKUP(B133,'S7'!$B$23:$Z$57,8,FALSE)=\"\",\"\",VLOOKUP(B133,'S7'!$B$23:$Z$57,8,FALSE))","v":""},{"$f":"IF(VLOOKUP(B133,'S7'!$B$23:$Z$57,9,FALSE)=\"\",\"\",VLOOKUP(B133,'S7'!$B$23:$Z$57,9,FALSE))","v":""},{"$f":"IF(VLOOKUP(B133,'S7'!$B$23:$Z$57,10,FALSE)=\"\",\"\",VLOOKUP(B133,'S7'!$B$23:$Z$57,10,FALSE))","v":""},{"$f":"IF(VLOOKUP(B133,'S7'!$B$23:$Z$57,11,FALSE)=\"\",\"\",VLOOKUP(B133,'S7'!$B$23:$Z$57,11,FALSE))","v":""},{"$f":"IF(VLOOKUP(B133,'S7'!$B$23:$Z$57,12,FALSE)=\"\",\"\",VLOOKUP(B133,'S7'!$B$23:$Z$57,12,FALSE))","v":""},{"$f":"IF(VLOOKUP(B133,'S7'!$B$23:$Z$57,13,FALSE)=\"\",\"\",VLOOKUP(B133,'S7'!$B$23:$Z$57,13,FALSE))","v":""},{"$f":"IF(VLOOKUP(B133,'S7'!$B$23:$Z$57,14,FALSE)=\"\",\"\",VLOOKUP(B133,'S7'!$B$23:$Z$57,14,FALSE))","v":""},{"$f":"IF(VLOOKUP(B133,'S7'!$B$23:$Z$57,15,FALSE)=\"\",\"\",VLOOKUP(B133,'S7'!$B$23:$Z$57,15,FALSE))","v":""},null,null,null,null,null,null,"erreicht",null,null,{"$f":"IF(VLOOKUP(U133,'S7'!$B$23:$Z$57,6,FALSE)=\"\",\"\",VLOOKUP(U133,'S7'!$B$23:$Z$57,6,FALSE))","v":"."},{"$f":"IF(VLOOKUP(U133,'S7'!$B$23:$Z$57,7,FALSE)=\"\",\"\",VLOOKUP(U133,'S7'!$B$23:$Z$57,7,FALSE))","v":""},{"$f":"IF(VLOOKUP(U133,'S7'!$B$23:$Z$57,8,FALSE)=\"\",\"\",VLOOKUP(U133,'S7'!$B$23:$Z$57,8,FALSE))","v":""},{"$f":"IF(VLOOKUP(U133,'S7'!$B$23:$Z$57,9,FALSE)=\"\",\"\",VLOOKUP(U133,'S7'!$B$23:$Z$57,9,FALSE))","v":""},{"$f":"IF(VLOOKUP(U133,'S7'!$B$23:$Z$57,10,FALSE)=\"\",\"\",VLOOKUP(U133,'S7'!$B$23:$Z$57,10,FALSE))","v":""},{"$f":"IF(VLOOKUP(U133,'S7'!$B$23:$Z$57,11,FALSE)=\"\",\"\",VLOOKUP(U133,'S7'!$B$23:$Z$57,11,FALSE))","v":""},{"$f":"IF(VLOOKUP(U133,'S7'!$B$23:$Z$57,12,FALSE)=\"\",\"\",VLOOKUP(U133,'S7'!$B$23:$Z$57,12,FALSE))","v":""},{"$f":"IF(VLOOKUP(U133,'S7'!$B$23:$Z$57,13,FALSE)=\"\",\"\",VLOOKUP(U133,'S7'!$B$23:$Z$57,13,FALSE))","v":""},{"$f":"IF(VLOOKUP(U133,'S7'!$B$23:$Z$57,14,FALSE)=\"\",\"\",VLOOKUP(U133,'S7'!$B$23:$Z$57,14,FALSE))","v":""},{"$f":"IF(VLOOKUP(U133,'S7'!$B$23:$Z$57,15,FALSE)=\"\",\"\",VLOOKUP(U133,'S7'!$B$23:$Z$57,15,FALSE))","v":""}]
[null,"von",null,null,{"$f":"IF('S7'!$G$21=\"\",\"\",'S7'!$G$21)","v":""},{"$f":"IF('S7'!$H$21=\"\",\"\",'S7'!$H$21)","v":""},{"$f":"IF('S7'!$I$21=\"\",\"\",'S7'!$I$21)","v":""},{"$f":"IF('S7'!$J$21=\"\",\"\",'S7'!$J$21)","v":""},{"$f":"IF('S7'!$K$21=\"\",\"\",'S7'!$K$21)","v":""},{"$f":"IF('S7'!$L$21=\"\",\"\",'S7'!$L$21)","v":""},{"$f":"IF('S7'!$M$21=\"\",\"\",'S7'!$M$21)","v":""},{"$f":"IF('S7'!$N$21=\"\",\"\",'S7'!$N$21)","v":""},{"$f":"IF('S7'!$O$21=\"\",\"\",'S7'!$O$21)","v":""},{"$f":"IF('S7'!$P$21=\"\",\"\",'S7'!$P$21)","v":""},null,"von",null,null,null,null,"von",null,null,{"$f":"IF('S7'!$G$21=\"\",\"\",'S7'!$G$21)","v":""},{"$f":"IF('S7'!$H$21=\"\",\"\",'S7'!$H$21)","v":""},{"$f":"IF('S7'!$I$21=\"\",\"\",'S7'!$I$21)","v":""},{"$f":"IF('S7'!$J$21=\"\",\"\",'S7'!$J$21)","v":""},{"$f":"IF('S7'!$K$21=\"\",\"\",'S7'!$K$21)","v":""},{"$f":"IF('S7'!$L$21=\"\",\"\",'S7'!$L$21)","v":""},{"$f":"IF('S7'!$M$21=\"\",\"\",'S7'!$M$21)","v":""},{"$f":"IF('S7'!$N$21=\"\",\"\",'S7'!$N$21)","v":""},{"$f":"IF('S7'!$O$21=\"\",\"\",'S7'!$O$21)","v":""},{"$f":"IF('S7'!$P$21=\"\",\"\",'S7'!$P$21)","v":""},null,"von"]
[null,null,null,null,null,null,null,null,null,null,null,null,null,null,null,{"$f":"'S7'!$H$12","v":0},null,null,null,null,null,null,null,null,null,null,null,null,null,null,null,null,null,null,{"$f":"'S7'!$H$12","v":0}]
[null,{"$f":"IF('S7'!$Q$18=\"\",\"\",\"Aufgabe\")","v":""},null,null,{"$f":"IF('S7'!$Q$18=\"\",\"\",'S7'!$Q$18)","v":""},{"$f":"IF('S7'!$R$18=\"\",\"\",'S7'!$R$18)","v":""},{"$f":"IF('S7'!$S$18=\"\",\"\",'S7'!$S$18)","v":""},{"$f":"IF('S7'!$T$18=\"\",\"\",'S7'!$T$18)","v":""},{"$f":"IF('S7'!$U$18=\"\",\"\",'S7'!$U$18)","v":""},{"$f":"IF('S7'!$V$18=\"\",\"\",'S7'!$V$18)","v":""},{"$f":"IF('S7'!$W$18=\"\",\"\",'S7'!$W$18)","v":""},{"$f":"IF('S7'!$X$18=\"\",\"\",'S7'!$X$18)","v":""},{"$f":"IF('S7'!$Y$18=\"\",\"\",'S7'!$Y$18)","v":""},{"$f":"IF('S7'!$Z$18=\"\",\"\",'S7'!$Z$18)","v":""},null,null,null,null,null,null,{"$f":"IF('S7'!$Q$18=\"\",\"\",\"Aufgabe\")","v":""},null,null,{"$f":"IF('S7'!$Q$18=\"\",\"\",'S7'!$Q$18)","v":""},{"$f":"IF('S7'!$R$18=\"\",\"\",'S7'!$R$18)","v":""},{"$f":"IF('S7'!$S$18=\"\",\"\",'S7'!$S$18)","v":""},{"$f":"IF('S7'!$T$18=\"\",\"\",'S7'!$T$18)","v":""},{"$f":"IF('S7'!$U$18=\"\",\"\",'S7'!$U$18)","v":""},{"$f":"IF('S7'!$V$18=\"\",\"\",'S7'!$V$18)","v":""},{"$f":"IF('S7'!$W$18=\"\",\"\",'S7'!$W$18)","v":""},{"$f":"IF('S7'!$X$18=\"\",\"\",'S7'!$X$18)","v":""},{"$f":"IF('S7'!$Y$18=\"\",\"\",'S7'!$Y$18)","v":""},{"$f":"IF('S7'!$Z$18=\"\",\"\",'S7'!$Z$18)","v":""}]
[null,{"$f":"IF('S7'!$Q$18=\"\",\"\",\"erreicht\")","v":""},null,null,{"$f":"IF(VLOOKUP(B133,'S7'!$B$23:$Z$57,16,FALSE)=\"\",\"\",VLOOKUP(B133,'S7'!$B$23:$Z$57,16,FALSE))","v":""},{"$f":"IF(VLOOKUP(B133,'S7'!$B$23:$Z$57,17,FALSE)=\"\",\"\",VLOOKUP(B133,'S7'!$B$23:$Z$57,17,FALSE))","v":""},{"$f":"IF(VLOOKUP(B133,'S7'!$B$23:$Z$57,18,FALSE)=\"\",\"\",VLOOKUP(B133,'S7'!$B$23:$Z$57,18,FALSE))","v":""},{"$f":"IF(VLOOKUP(B133,'S7'!$B$23:$Z$57,19,FALSE)=\"\",\"\",VLOOKUP(B133,'S7'!$B$23:$Z$57,19,FALSE))","v":""},{"$f":"IF(VLOOKUP(B133,'S7'!$B$23:$Z$57,20,FALSE)=\"\",\"\",VLOOKUP(B133,'S7'!$B$23:$Z$57,20,FALSE))","v":""},{"$f":"IF(VLOOKUP(B133,'S7'!$B$23:$Z$57,21,FALSE)=\"\",\"\",VLOOKUP(B133,'S7'!$B$23:$Z$57,21,FALSE))","v":""},{"$f":"IF(VLOOKUP(B133,'S7'!$B$23:$Z$57,22,FALSE)=\"\",\"\",VLOOKUP(B133,'S7'!$B$23:$Z$57,22,FALSE))","v":""},{"$f":"IF(VLOOKUP(B133,'S7'!$B$23:$Z$57,23,FALSE)=\"\",\"\",VLOOKUP(B133,'S7'!$B$23:$Z$57,23,FALSE))","v":""},{"$f":"IF(VLOOKUP(B133,'S7'!$B$23:$Z$57,24,FALSE)=\"\",\"\",VLOOKUP(B133,'S7'!$B$23:$Z$57,24,FALSE))","v":""},{"$f":"IF(VLOOKUP(B133,'S7'!$B$23:$Z$57,25,FALSE)=\"\",\"\",VLOOKUP(B133,'S7'!$B$23:$Z$57,25,FALSE))","v":""},null,"Note",null,null,null,null,{"$f":"IF('S7'!$Q$18=\"\",\"\",\"erreicht\")","v":""},null,null,{"$f":"IF(VLOOKUP(U133,'S7'!$B$23:$Z$57,16,FALSE)=\"\",\"\",VLOOKUP(U133,'S7'!$B$23:$Z$57,16,FALSE))","v":""},{"$f":"IF(VLOOKUP(U133,'S7'!$B$23:$Z$57,17,FALSE)=\"\",\"\",VLOOKUP(U133,'S7'!$B$23:$Z$57,17,FALSE))","v":""},{"$f":"IF(VLOOKUP(U133,'S7'!$B$23:$Z$57,18,FALSE)=\"\",\"\",VLOOKUP(U133,'S7'!$B$23:$Z$57,18,FALSE))","v":""},{"$f":"IF(VLOOKUP(U133,'S7'!$B$23:$Z$57,19,FALSE)=\"\",\"\",VLOOKUP(U133,'S7'!$B$23:$Z$57,19,FALSE))","v":""},{"$f":"IF(VLOOKUP(U133,'S7'!$B$23:$Z$57,20,FALSE)=\"\",\"\",VLOOKUP(U133,'S7'!$B$23:$Z$57,20,FALSE))","v":""},{"$f":"IF(VLOOKUP(U133,'S7'!$B$23:$Z$57,21,FALSE)=\"\",\"\",VLOOKUP(U133,'S7'!$B$23:$Z$57,21,FALSE))","v":""},{"$f":"IF(VLOOKUP(U133,'S7'!$B$23:$Z$57,22,FALSE)=\"\",\"\",VLOOKUP(U133,'S7'!$B$23:$Z$57,22,FALSE))","v":""},{"$f":"IF(VLOOKUP(U133,'S7'!$B$23:$Z$57,23,FALSE)=\"\",\"\",VLOOKUP(U133,'S7'!$B$23:$Z$57,23,FALSE))","v":""},{"$f":"IF(VLOOKUP(U133,'S7'!$B$23:$Z$57,24,FALSE)=\"\",\"\",VLOOKUP(U133,'S7'!$B$23:$Z$57,24,FALSE))","v":""},{"$f":"IF(VLOOKUP(U133,'S7'!$B$23:$Z$57,25,FALSE)=\"\",\"\",VLOOKUP(U133,'S7'!$B$23:$Z$57,25,FALSE))","v":""},null,"Note"]
[null,{"$f":"IF('S7'!$Q$18=\"\",\"\",\"von\")","v":""},null,null,{"$f":"IF('S7'!$Q$21=\"\",\"\",'S7'!$Q$21)","v":""},{"$f":"IF('S7'!$R$21=\"\",\"\",'S7'!$R$21)","v":""},{"$f":"IF('S7'!$S$21=\"\",\"\",'S7'!$S$21)","v":""},{"$f":"IF('S7'!$T$21=\"\",\"\",'S7'!$T$21)","v":""},{"$f":"IF('S7'!$U$21=\"\",\"\",'S7'!$U$21)","v":""},{"$f":"IF('S7'!$V$21=\"\",\"\",'S7'!$V$21)","v":""},{"$f":"IF('S7'!$W$21=\"\",\"\",'S7'!$W$21)","v":""},{"$f":"IF('S7'!$X$21=\"\",\"\",'S7'!$X$21)","v":""},{"$f":"IF('S7'!$Y$21=\"\",\"\",'S7'!$Y$21)","v":""},{"$f":"IF('S7'!$Z$21=\"\",\"\",'S7'!$Z$21)","v":""},null,{"$f":"IF(VLOOKUP(B133,'S7'!$B$23:$Z$57,2,FALSE)=\"\",\"\",CONCATENATE(VLOOKUP(B133,'S7'!$B$23:$Z$57,2,FALSE),\" \",VLOOKUP(B133,'S7'!$B$23:$Z$57,3,FALSE)))","v":"- "},null,null,null,null,{"$f":"IF('S7'!$Q$18=\"\",\"\",\"von\")","v":""},null,null,{"$f":"IF('S7'!$Q$21=\"\",\"\",'S7'!$Q$21)","v":""},{"$f":"IF('S7'!$R$21=\"\",\"\",'S7'!$R$21)","v":""},{"$f":"IF('S7'!$S$21=\"\",\"\",'S7'!$S$21)","v":""},{"$f":"IF('S7'!$T$21=\"\",\"\",'S7'!$T$21)","v":""},{"$f":"IF('S7'!$U$21=\"\",\"\",'S7'!$U$21)","v":""},{"$f":"IF('S7'!$V$21=\"\",\"\",'S7'!$V$21)","v":""},{"$f":"IF('S7'!$W$21=\"\",\"\",'S7'!$W$21)","v":""},{"$f":"IF('S7'!$X$21=\"\",\"\",'S7'!$X$21)","v":""},{"$f":"IF('S7'!$Y$21=\"\",\"\",'S7'!$Y$21)","v":""},{"$f":"IF('S7'!$Z$21=\"\",\"\",'S7'!$Z$21)","v":""},null,{"$f":"IF(VLOOKUP(U133,'S7'!$B$23:$Z$57,2,FALSE)=\"\",\"\",CONCATENATE(VLOOKUP(U133,'S7'!$B$23:$Z$57,2,FALSE),\" \",VLOOKUP(U133,'S7'!$B$23:$Z$57,3,FALSE)))","v":"- "}]
[]
[]
[null,{"$f":"'S7'!$B$47","v":""},null,null,null,null,null,null,null,null,null,null,null,null,null,null,null,null,null,null,{"$f":"'S7'!$B$48","v":""}]
[null,null,null,null,null,null,null,null,null,null,null,null,null,null,null,"Summe",null,null,null,null,null,null,null,null,null,null,null,null,null,null,null,null,null,null,"Summe"]
[null,"Aufgabe",null,null,{"$f":"IF('S7'!$G$18=\"\",\"\",'S7'!$G$18)","v":1},{"$f":"IF('S7'!$H$18=\"\",\"\",'S7'!$H$18)","v":2},{"$f":"IF('S7'!$I$18=\"\",\"\",'S7'!$I$18)","v":3},{"$f":"IF('S7'!$J$18=\"\",\"\",'S7'!$J$18)","v":""},{"$f":"IF('S7'!$K$18=\"\",\"\",'S7'!$K$18)","v":""},{"$f":"IF('S7'!$L$18=\"\",\"\",'S7'!$L$18)","v":""},{"$f":"IF('S7'!$M$18=\"\",\"\",'S7'!$M$18)","v":""},{"$f":"IF('S7'!$N$18=\"\",\"\",'S7'!$N$18)","v":""},{"$f":"IF('S7'!$O$18=\"\",\"\",'S7'!$O$18)","v":""},{"$f":"IF('S7'!$P$18=\"\",\"\",'S7'!$P$18)","v":""},null,{"$f":"IF(VLOOKUP(B144,'S7'!$B$23:$Z$57,5,FALSE)=\"\",\"\",VLOOKUP(B144,'S7'!$B$23:$Z$57,5,FALSE))","v":0},null,null,null,null,"Aufgabe",null,null,{"$f":"IF('S7'!$G$18=\"\",\"\",'S7'!$G$18)","v":1},{"$f":"IF('S7'!$H$18=\"\",\"\",'S7'!$H$18)","v":2},{"$f":"IF('S7'!$I$18=\"\",\"\",'S7'!$I$18)","v":3},{"$f":"IF('S7'!$J$18=\"\",\"\",'S7'!$J$18)","v":""},{"$f":"IF('S7'!$K$18=\"\",\"\",'S7'!$K$18)","v":""},{"$f":"IF('S7'!$L$18=\"\",\"\",'S7'!$L$18)","v":""},{"$f":"IF('S7'!$M$18=\"\",\"\",'S7'!$M$18)","v":""},{"$f":"IF('S7'!$N$18=\"\",\"\",'S7'!$N$18)","v":""},{"$f":"IF('S7'!$O$18=\"\",\"\",'S7'!$O$18)","v":""},{"$f":"IF('S7'!$P$18=\"\",\"\",'S7'!$P$18)","v":""},null,{"$f":"IF(VLOOKUP(U144,'S7'!$B$23:$Z$57,5,FALSE)=\"\",\"\",VLOOKUP(U144,'S7'!$B$23:$Z$57,5,FALSE))","v":0}]
[null,"erreicht",null,null,{"$f":"IF(VLOOKUP(B144,'S7'!$B$23:$Z$57,6,FALSE)=\"\",\"\",VLOOKUP(B144,'S7'!$B$23:$Z$57,6,FALSE))","v":"."},{"$f":"IF(VLOOKUP(B144,'S7'!$B$23:$Z$57,7,FALSE)=\"\",\"\",VLOOKUP(B144,'S7'!$B$23:$Z$57,7,FALSE))","v":""},{"$f":"IF(VLOOKUP(B144,'S7'!$B$23:$Z$57,8,FALSE)=\"\",\"\",VLOOKUP(B144,'S7'!$B$23:$Z$57,8,FALSE))","v":""},{"$f":"IF(VLOOKUP(B144,'S7'!$B$23:$Z$57,9,FALSE)=\"\",\"\",VLOOKUP(B144,'S7'!$B$23:$Z$57,9,FALSE))","v":""},{"$f":"IF(VLOOKUP(B144,'S7'!$B$23:$Z$57,10,FALSE)=\"\",\"\",VLOOKUP(B144,'S7'!$B$23:$Z$57,10,FALSE))","v":""},{"$f":"IF(VLOOKUP(B144,'S7'!$B$23:$Z$57,11,FALSE)=\"\",\"\",VLOOKUP(B144,'S7'!$B$23:$Z$57,11,FALSE))","v":""},{"$f":"IF(VLOOKUP(B144,'S7'!$B$23:$Z$57,12,FALSE)=\"\",\"\",VLOOKUP(B144,'S7'!$B$23:$Z$57,12,FALSE))","v":""},{"$f":"IF(VLOOKUP(B144,'S7'!$B$23:$Z$57,13,FALSE)=\"\",\"\",VLOOKUP(B144,'S7'!$B$23:$Z$57,13,FALSE))","v":""},{"$f":"IF(VLOOKUP(B144,'S7'!$B$23:$Z$57,14,FALSE)=\"\",\"\",VLOOKUP(B144,'S7'!$B$23:$Z$57,14,FALSE))","v":""},{"$f":"IF(VLOOKUP(B144,'S7'!$B$23:$Z$57,15,FALSE)=\"\",\"\",VLOOKUP(B144,'S7'!$B$23:$Z$57,15,FALSE))","v":""},null,null,null,null,null,null,"erreicht",null,null,{"$f":"IF(VLOOKUP(U144,'S7'!$B$23:$Z$57,6,FALSE)=\"\",\"\",VLOOKUP(U144,'S7'!$B$23:$Z$57,6,FALSE))","v":"."},{"$f":"IF(VLOOKUP(U144,'S7'!$B$23:$Z$57,7,FALSE)=\"\",\"\",VLOOKUP(U144,'S7'!$B$23:$Z$57,7,FALSE))","v":""},{"$f":"IF(VLOOKUP(U144,'S7'!$B$23:$Z$57,8,FALSE)=\"\",\"\",VLOOKUP(U144,'S7'!$B$23:$Z$57,8,FALSE))","v":""},{"$f":"IF(VLOOKUP(U144,'S7'!$B$23:$Z$57,9,FALSE)=\"\",\"\",VLOOKUP(U144,'S7'!$B$23:$Z$57,9,FALSE))","v":""},{"$f":"IF(VLOOKUP(U144,'S7'!$B$23:$Z$57,10,FALSE)=\"\",\"\",VLOOKUP(U144,'S7'!$B$23:$Z$57,10,FALSE))","v":""},{"$f":"IF(VLOOKUP(U144,'S7'!$B$23:$Z$57,11,FALSE)=\"\",\"\",VLOOKUP(U144,'S7'!$B$23:$Z$57,11,FALSE))","v":""},{"$f":"IF(VLOOKUP(U144,'S7'!$B$23:$Z$57,12,FALSE)=\"\",\"\",VLOOKUP(U144,'S7'!$B$23:$Z$57,12,FALSE))","v":""},{"$f":"IF(VLOOKUP(U144,'S7'!$B$23:$Z$57,13,FALSE)=\"\",\"\",VLOOKUP(U144,'S7'!$B$23:$Z$57,13,FALSE))","v":""},{"$f":"IF(VLOOKUP(U144,'S7'!$B$23:$Z$57,14,FALSE)=\"\",\"\",VLOOKUP(U144,'S7'!$B$23:$Z$57,14,FALSE))","v":""},{"$f":"IF(VLOOKUP(U144,'S7'!$B$23:$Z$57,15,FALSE)=\"\",\"\",VLOOKUP(U144,'S7'!$B$23:$Z$57,15,FALSE))","v":""}]
[null,"von",null,null,{"$f":"IF('S7'!$G$21=\"\",\"\",'S7'!$G$21)","v":""},{"$f":"IF('S7'!$H$21=\"\",\"\",'S7'!$H$21)","v":""},{"$f":"IF('S7'!$I$21=\"\",\"\",'S7'!$I$21)","v":""},{"$f":"IF('S7'!$J$21=\"\",\"\",'S7'!$J$21)","v":""},{"$f":"IF('S7'!$K$21=\"\",\"\",'S7'!$K$21)","v":""},{"$f":"IF('S7'!$L$21=\"\",\"\",'S7'!$L$21)","v":""},{"$f":"IF('S7'!$M$21=\"\",\"\",'S7'!$M$21)","v":""},{"$f":"IF('S7'!$N$21=\"\",\"\",'S7'!$N$21)","v":""},{"$f":"IF('S7'!$O$21=\"\",\"\",'S7'!$O$21)","v":""},{"$f":"IF('S7'!$P$21=\"\",\"\",'S7'!$P$21)","v":""},null,"von",null,null,null,null,"von",null,null,{"$f":"IF('S7'!$G$21=\"\",\"\",'S7'!$G$21)","v":""},{"$f":"IF('S7'!$H$21=\"\",\"\",'S7'!$H$21)","v":""},{"$f":"IF('S7'!$I$21=\"\",\"\",'S7'!$I$21)","v":""},{"$f":"IF('S7'!$J$21=\"\",\"\",'S7'!$J$21)","v":""},{"$f":"IF('S7'!$K$21=\"\",\"\",'S7'!$K$21)","v":""},{"$f":"IF('S7'!$L$21=\"\",\"\",'S7'!$L$21)","v":""},{"$f":"IF('S7'!$M$21=\"\",\"\",'S7'!$M$21)","v":""},{"$f":"IF('S7'!$N$21=\"\",\"\",'S7'!$N$21)","v":""},{"$f":"IF('S7'!$O$21=\"\",\"\",'S7'!$O$21)","v":""},{"$f":"IF('S7'!$P$21=\"\",\"\",'S7'!$P$21)","v":""},null,"von"]
[null,null,null,null,null,null,null,null,null,null,null,null,null,null,null,{"$f":"'S7'!$H$12","v":0},null,null,null,null,null,null,null,null,null,null,null,null,null,null,null,null,null,null,{"$f":"'S7'!$H$12","v":0}]
[null,{"$f":"IF('S7'!$Q$18=\"\",\"\",\"Aufgabe\")","v":""},null,null,{"$f":"IF('S7'!$Q$18=\"\",\"\",'S7'!$Q$18)","v":""},{"$f":"IF('S7'!$R$18=\"\",\"\",'S7'!$R$18)","v":""},{"$f":"IF('S7'!$S$18=\"\",\"\",'S7'!$S$18)","v":""},{"$f":"IF('S7'!$T$18=\"\",\"\",'S7'!$T$18)","v":""},{"$f":"IF('S7'!$U$18=\"\",\"\",'S7'!$U$18)","v":""},{"$f":"IF('S7'!$V$18=\"\",\"\",'S7'!$V$18)","v":""},{"$f":"IF('S7'!$W$18=\"\",\"\",'S7'!$W$18)","v":""},{"$f":"IF('S7'!$X$18=\"\",\"\",'S7'!$X$18)","v":""},{"$f":"IF('S7'!$Y$18=\"\",\"\",'S7'!$Y$18)","v":""},{"$f":"IF('S7'!$Z$18=\"\",\"\",'S7'!$Z$18)","v":""},null,null,null,null,null,null,{"$f":"IF('S7'!$Q$18=\"\",\"\",\"Aufgabe\")","v":""},null,null,{"$f":"IF('S7'!$Q$18=\"\",\"\",'S7'!$Q$18)","v":""},{"$f":"IF('S7'!$R$18=\"\",\"\",'S7'!$R$18)","v":""},{"$f":"IF('S7'!$S$18=\"\",\"\",'S7'!$S$18)","v":""},{"$f":"IF('S7'!$T$18=\"\",\"\",'S7'!$T$18)","v":""},{"$f":"IF('S7'!$U$18=\"\",\"\",'S7'!$U$18)","v":""},{"$f":"IF('S7'!$V$18=\"\",\"\",'S7'!$V$18)","v":""},{"$f":"IF('S7'!$W$18=\"\",\"\",'S7'!$W$18)","v":""},{"$f":"IF('S7'!$X$18=\"\",\"\",'S7'!$X$18)","v":""},{"$f":"IF('S7'!$Y$18=\"\",\"\",'S7'!$Y$18)","v":""},{"$f":"IF('S7'!$Z$18=\"\",\"\",'S7'!$Z$18)","v":""}]
[null,{"$f":"IF('S7'!$Q$18=\"\",\"\",\"erreicht\")","v":""},null,null,{"$f":"IF(VLOOKUP(B144,'S7'!$B$23:$Z$57,16,FALSE)=\"\",\"\",VLOOKUP(B144,'S7'!$B$23:$Z$57,16,FALSE))","v":""},{"$f":"IF(VLOOKUP(B144,'S7'!$B$23:$Z$57,17,FALSE)=\"\",\"\",VLOOKUP(B144,'S7'!$B$23:$Z$57,17,FALSE))","v":""},{"$f":"IF(VLOOKUP(B144,'S7'!$B$23:$Z$57,18,FALSE)=\"\",\"\",VLOOKUP(B144,'S7'!$B$23:$Z$57,18,FALSE))","v":""},{"$f":"IF(VLOOKUP(B144,'S7'!$B$23:$Z$57,19,FALSE)=\"\",\"\",VLOOKUP(B144,'S7'!$B$23:$Z$57,19,FALSE))","v":""},{"$f":"IF(VLOOKUP(B144,'S7'!$B$23:$Z$57,20,FALSE)=\"\",\"\",VLOOKUP(B144,'S7'!$B$23:$Z$57,20,FALSE))","v":""},{"$f":"IF(VLOOKUP(B144,'S7'!$B$23:$Z$57,21,FALSE)=\"\",\"\",VLOOKUP(B144,'S7'!$B$23:$Z$57,21,FALSE))","v":""},{"$f":"IF(VLOOKUP(B144,'S7'!$B$23:$Z$57,22,FALSE)=\"\",\"\",VLOOKUP(B144,'S7'!$B$23:$Z$57,22,FALSE))","v":""},{"$f":"IF(VLOOKUP(B144,'S7'!$B$23:$Z$57,23,FALSE)=\"\",\"\",VLOOKUP(B144,'S7'!$B$23:$Z$57,23,FALSE))","v":""},{"$f":"IF(VLOOKUP(B144,'S7'!$B$23:$Z$57,24,FALSE)=\"\",\"\",VLOOKUP(B144,'S7'!$B$23:$Z$57,24,FALSE))","v":""},{"$f":"IF(VLOOKUP(B144,'S7'!$B$23:$Z$57,25,FALSE)=\"\",\"\",VLOOKUP(B144,'S7'!$B$23:$Z$57,25,FALSE))","v":""},null,"Note",null,null,null,null,{"$f":"IF('S7'!$Q$18=\"\",\"\",\"erreicht\")","v":""},null,null,{"$f":"IF(VLOOKUP(U144,'S7'!$B$23:$Z$57,16,FALSE)=\"\",\"\",VLOOKUP(U144,'S7'!$B$23:$Z$57,16,FALSE))","v":""},{"$f":"IF(VLOOKUP(U144,'S7'!$B$23:$Z$57,17,FALSE)=\"\",\"\",VLOOKUP(U144,'S7'!$B$23:$Z$57,17,FALSE))","v":""},{"$f":"IF(VLOOKUP(U144,'S7'!$B$23:$Z$57,18,FALSE)=\"\",\"\",VLOOKUP(U144,'S7'!$B$23:$Z$57,18,FALSE))","v":""},{"$f":"IF(VLOOKUP(U144,'S7'!$B$23:$Z$57,19,FALSE)=\"\",\"\",VLOOKUP(U144,'S7'!$B$23:$Z$57,19,FALSE))","v":""},{"$f":"IF(VLOOKUP(U144,'S7'!$B$23:$Z$57,20,FALSE)=\"\",\"\",VLOOKUP(U144,'S7'!$B$23:$Z$57,20,FALSE))","v":""},{"$f":"IF(VLOOKUP(U144,'S7'!$B$23:$Z$57,21,FALSE)=\"\",\"\",VLOOKUP(U144,'S7'!$B$23:$Z$57,21,FALSE))","v":""},{"$f":"IF(VLOOKUP(U144,'S7'!$B$23:$Z$57,22,FALSE)=\"\",\"\",VLOOKUP(U144,'S7'!$B$23:$Z$57,22,FALSE))","v":""},{"$f":"IF(VLOOKUP(U144,'S7'!$B$23:$Z$57,23,FALSE)=\"\",\"\",VLOOKUP(U144,'S7'!$B$23:$Z$57,23,FALSE))","v":""},{"$f":"IF(VLOOKUP(U144,'S7'!$B$23:$Z$57,24,FALSE)=\"\",\"\",VLOOKUP(U144,'S7'!$B$23:$Z$57,24,FALSE))","v":""},{"$f":"IF(VLOOKUP(U144,'S7'!$B$23:$Z$57,25,FALSE)=\"\",\"\",VLOOKUP(U144,'S7'!$B$23:$Z$57,25,FALSE))","v":""},null,"Note"]
[null,{"$f":"IF('S7'!$Q$18=\"\",\"\",\"von\")","v":""},null,null,{"$f":"IF('S7'!$Q$21=\"\",\"\",'S7'!$Q$21)","v":""},{"$f":"IF('S7'!$R$21=\"\",\"\",'S7'!$R$21)","v":""},{"$f":"IF('S7'!$S$21=\"\",\"\",'S7'!$S$21)","v":""},{"$f":"IF('S7'!$T$21=\"\",\"\",'S7'!$T$21)","v":""},{"$f":"IF('S7'!$U$21=\"\",\"\",'S7'!$U$21)","v":""},{"$f":"IF('S7'!$V$21=\"\",\"\",'S7'!$V$21)","v":""},{"$f":"IF('S7'!$W$21=\"\",\"\",'S7'!$W$21)","v":""},{"$f":"IF('S7'!$X$21=\"\",\"\",'S7'!$X$21)","v":""},{"$f":"IF('S7'!$Y$21=\"\",\"\",'S7'!$Y$21)","v":""},{"$f":"IF('S7'!$Z$21=\"\",\"\",'S7'!$Z$21)","v":""},null,{"$f":"IF(VLOOKUP(B144,'S7'!$B$23:$Z$57,2,FALSE)=\"\",\"\",CONCATENATE(VLOOKUP(B144,'S7'!$B$23:$Z$57,2,FALSE),\" \",VLOOKUP(B144,'S7'!$B$23:$Z$57,3,FALSE)))","v":"- "},null,null,null,null,{"$f":"IF('S7'!$Q$18=\"\",\"\",\"von\")","v":""},null,null,{"$f":"IF('S7'!$Q$21=\"\",\"\",'S7'!$Q$21)","v":""},{"$f":"IF('S7'!$R$21=\"\",\"\",'S7'!$R$21)","v":""},{"$f":"IF('S7'!$S$21=\"\",\"\",'S7'!$S$21)","v":""},{"$f":"IF('S7'!$T$21=\"\",\"\",'S7'!$T$21)","v":""},{"$f":"IF('S7'!$U$21=\"\",\"\",'S7'!$U$21)","v":""},{"$f":"IF('S7'!$V$21=\"\",\"\",'S7'!$V$21)","v":""},{"$f":"IF('S7'!$W$21=\"\",\"\",'S7'!$W$21)","v":""},{"$f":"IF('S7'!$X$21=\"\",\"\",'S7'!$X$21)","v":""},{"$f":"IF('S7'!$Y$21=\"\",\"\",'S7'!$Y$21)","v":""},{"$f":"IF('S7'!$Z$21=\"\",\"\",'S7'!$Z$21)","v":""},null,{"$f":"IF(VLOOKUP(U144,'S7'!$B$23:$Z$57,2,FALSE)=\"\",\"\",CONCATENATE(VLOOKUP(U144,'S7'!$B$23:$Z$57,2,FALSE),\" \",VLOOKUP(U144,'S7'!$B$23:$Z$57,3,FALSE)))","v":"- "}]
[]
[]
[]
[null,{"$f":"'S7'!$B$49","v":""},null,null,null,null,null,null,null,null,null,null,null,null,null,null,null,null,null,null,{"$f":"'S7'!$B$50","v":""}]
[null,null,null,null,null,null,null,null,null,null,null,null,null,null,null,"Summe",null,null,null,null,null,null,null,null,null,null,null,null,null,null,null,null,null,null,"Summe"]
[null,"Aufgabe",null,null,{"$f":"IF('S7'!$G$18=\"\",\"\",'S7'!$G$18)","v":1},{"$f":"IF('S7'!$H$18=\"\",\"\",'S7'!$H$18)","v":2},{"$f":"IF('S7'!$I$18=\"\",\"\",'S7'!$I$18)","v":3},{"$f":"IF('S7'!$J$18=\"\",\"\",'S7'!$J$18)","v":""},{"$f":"IF('S7'!$K$18=\"\",\"\",'S7'!$K$18)","v":""},{"$f":"IF('S7'!$L$18=\"\",\"\",'S7'!$L$18)","v":""},{"$f":"IF('S7'!$M$18=\"\",\"\",'S7'!$M$18)","v":""},{"$f":"IF('S7'!$N$18=\"\",\"\",'S7'!$N$18)","v":""},{"$f":"IF('S7'!$O$18=\"\",\"\",'S7'!$O$18)","v":""},{"$f":"IF('S7'!$P$18=\"\",\"\",'S7'!$P$18)","v":""},null,{"$f":"IF(VLOOKUP(B156,'S7'!$B$23:$Z$57,5,FALSE)=\"\",\"\",VLOOKUP(B156,'S7'!$B$23:$Z$57,5,FALSE))","v":0},null,null,null,null,"Aufgabe",null,null,{"$f":"IF('S7'!$G$18=\"\",\"\",'S7'!$G$18)","v":1},{"$f":"IF('S7'!$H$18=\"\",\"\",'S7'!$H$18)","v":2},{"$f":"IF('S7'!$I$18=\"\",\"\",'S7'!$I$18)","v":3},{"$f":"IF('S7'!$J$18=\"\",\"\",'S7'!$J$18)","v":""},{"$f":"IF('S7'!$K$18=\"\",\"\",'S7'!$K$18)","v":""},{"$f":"IF('S7'!$L$18=\"\",\"\",'S7'!$L$18)","v":""},{"$f":"IF('S7'!$M$18=\"\",\"\",'S7'!$M$18)","v":""},{"$f":"IF('S7'!$N$18=\"\",\"\",'S7'!$N$18)","v":""},{"$f":"IF('S7'!$O$18=\"\",\"\",'S7'!$O$18)","v":""},{"$f":"IF('S7'!$P$18=\"\",\"\",'S7'!$P$18)","v":""},null,{"$f":"IF(VLOOKUP(U156,'S7'!$B$23:$Z$57,5,FALSE)=\"\",\"\",VLOOKUP(U156,'S7'!$B$23:$Z$57,5,FALSE))","v":0}]
[null,"erreicht",null,null,{"$f":"IF(VLOOKUP(B156,'S7'!$B$23:$Z$57,6,FALSE)=\"\",\"\",VLOOKUP(B156,'S7'!$B$23:$Z$57,6,FALSE))","v":"."},{"$f":"IF(VLOOKUP(B156,'S7'!$B$23:$Z$57,7,FALSE)=\"\",\"\",VLOOKUP(B156,'S7'!$B$23:$Z$57,7,FALSE))","v":""},{"$f":"IF(VLOOKUP(B156,'S7'!$B$23:$Z$57,8,FALSE)=\"\",\"\",VLOOKUP(B156,'S7'!$B$23:$Z$57,8,FALSE))","v":""},{"$f":"IF(VLOOKUP(B156,'S7'!$B$23:$Z$57,9,FALSE)=\"\",\"\",VLOOKUP(B156,'S7'!$B$23:$Z$57,9,FALSE))","v":""},{"$f":"IF(VLOOKUP(B156,'S7'!$B$23:$Z$57,10,FALSE)=\"\",\"\",VLOOKUP(B156,'S7'!$B$23:$Z$57,10,FALSE))","v":""},{"$f":"IF(VLOOKUP(B156,'S7'!$B$23:$Z$57,11,FALSE)=\"\",\"\",VLOOKUP(B156,'S7'!$B$23:$Z$57,11,FALSE))","v":""},{"$f":"IF(VLOOKUP(B156,'S7'!$B$23:$Z$57,12,FALSE)=\"\",\"\",VLOOKUP(B156,'S7'!$B$23:$Z$57,12,FALSE))","v":""},{"$f":"IF(VLOOKUP(B156,'S7'!$B$23:$Z$57,13,FALSE)=\"\",\"\",VLOOKUP(B156,'S7'!$B$23:$Z$57,13,FALSE))","v":""},{"$f":"IF(VLOOKUP(B156,'S7'!$B$23:$Z$57,14,FALSE)=\"\",\"\",VLOOKUP(B156,'S7'!$B$23:$Z$57,14,FALSE))","v":""},{"$f":"IF(VLOOKUP(B156,'S7'!$B$23:$Z$57,15,FALSE)=\"\",\"\",VLOOKUP(B156,'S7'!$B$23:$Z$57,15,FALSE))","v":""},null,null,null,null,null,null,"erreicht",null,null,{"$f":"IF(VLOOKUP(U156,'S7'!$B$23:$Z$57,6,FALSE)=\"\",\"\",VLOOKUP(U156,'S7'!$B$23:$Z$57,6,FALSE))","v":"."},{"$f":"IF(VLOOKUP(U156,'S7'!$B$23:$Z$57,7,FALSE)=\"\",\"\",VLOOKUP(U156,'S7'!$B$23:$Z$57,7,FALSE))","v":""},{"$f":"IF(VLOOKUP(U156,'S7'!$B$23:$Z$57,8,FALSE)=\"\",\"\",VLOOKUP(U156,'S7'!$B$23:$Z$57,8,FALSE))","v":""},{"$f":"IF(VLOOKUP(U156,'S7'!$B$23:$Z$57,9,FALSE)=\"\",\"\",VLOOKUP(U156,'S7'!$B$23:$Z$57,9,FALSE))","v":""},{"$f":"IF(VLOOKUP(U156,'S7'!$B$23:$Z$57,10,FALSE)=\"\",\"\",VLOOKUP(U156,'S7'!$B$23:$Z$57,10,FALSE))","v":""},{"$f":"IF(VLOOKUP(U156,'S7'!$B$23:$Z$57,11,FALSE)=\"\",\"\",VLOOKUP(U156,'S7'!$B$23:$Z$57,11,FALSE))","v":""},{"$f":"IF(VLOOKUP(U156,'S7'!$B$23:$Z$57,12,FALSE)=\"\",\"\",VLOOKUP(U156,'S7'!$B$23:$Z$57,12,FALSE))","v":""},{"$f":"IF(VLOOKUP(U156,'S7'!$B$23:$Z$57,13,FALSE)=\"\",\"\",VLOOKUP(U156,'S7'!$B$23:$Z$57,13,FALSE))","v":""},{"$f":"IF(VLOOKUP(U156,'S7'!$B$23:$Z$57,14,FALSE)=\"\",\"\",VLOOKUP(U156,'S7'!$B$23:$Z$57,14,FALSE))","v":""},{"$f":"IF(VLOOKUP(U156,'S7'!$B$23:$Z$57,15,FALSE)=\"\",\"\",VLOOKUP(U156,'S7'!$B$23:$Z$57,15,FALSE))","v":""}]
[null,"von",null,null,{"$f":"IF('S7'!$G$21=\"\",\"\",'S7'!$G$21)","v":""},{"$f":"IF('S7'!$H$21=\"\",\"\",'S7'!$H$21)","v":""},{"$f":"IF('S7'!$I$21=\"\",\"\",'S7'!$I$21)","v":""},{"$f":"IF('S7'!$J$21=\"\",\"\",'S7'!$J$21)","v":""},{"$f":"IF('S7'!$K$21=\"\",\"\",'S7'!$K$21)","v":""},{"$f":"IF('S7'!$L$21=\"\",\"\",'S7'!$L$21)","v":""},{"$f":"IF('S7'!$M$21=\"\",\"\",'S7'!$M$21)","v":""},{"$f":"IF('S7'!$N$21=\"\",\"\",'S7'!$N$21)","v":""},{"$f":"IF('S7'!$O$21=\"\",\"\",'S7'!$O$21)","v":""},{"$f":"IF('S7'!$P$21=\"\",\"\",'S7'!$P$21)","v":""},null,"von",null,null,null,null,"von",null,null,{"$f":"IF('S7'!$G$21=\"\",\"\",'S7'!$G$21)","v":""},{"$f":"IF('S7'!$H$21=\"\",\"\",'S7'!$H$21)","v":""},{"$f":"IF('S7'!$I$21=\"\",\"\",'S7'!$I$21)","v":""},{"$f":"IF('S7'!$J$21=\"\",\"\",'S7'!$J$21)","v":""},{"$f":"IF('S7'!$K$21=\"\",\"\",'S7'!$K$21)","v":""},{"$f":"IF('S7'!$L$21=\"\",\"\",'S7'!$L$21)","v":""},{"$f":"IF('S7'!$M$21=\"\",\"\",'S7'!$M$21)","v":""},{"$f":"IF('S7'!$N$21=\"\",\"\",'S7'!$N$21)","v":""},{"$f":"IF('S7'!$O$21=\"\",\"\",'S7'!$O$21)","v":""},{"$f":"IF('S7'!$P$21=\"\",\"\",'S7'!$P$21)","v":""},null,"von"]
[null,null,null,null,null,null,null,null,null,null,null,null,null,null,null,{"$f":"'S7'!$H$12","v":0},null,null,null,null,null,null,null,null,null,null,null,null,null,null,null,null,null,null,{"$f":"'S7'!$H$12","v":0}]
[null,{"$f":"IF('S7'!$Q$18=\"\",\"\",\"Aufgabe\")","v":""},null,null,{"$f":"IF('S7'!$Q$18=\"\",\"\",'S7'!$Q$18)","v":""},{"$f":"IF('S7'!$R$18=\"\",\"\",'S7'!$R$18)","v":""},{"$f":"IF('S7'!$S$18=\"\",\"\",'S7'!$S$18)","v":""},{"$f":"IF('S7'!$T$18=\"\",\"\",'S7'!$T$18)","v":""},{"$f":"IF('S7'!$U$18=\"\",\"\",'S7'!$U$18)","v":""},{"$f":"IF('S7'!$V$18=\"\",\"\",'S7'!$V$18)","v":""},{"$f":"IF('S7'!$W$18=\"\",\"\",'S7'!$W$18)","v":""},{"$f":"IF('S7'!$X$18=\"\",\"\",'S7'!$X$18)","v":""},{"$f":"IF('S7'!$Y$18=\"\",\"\",'S7'!$Y$18)","v":""},{"$f":"IF('S7'!$Z$18=\"\",\"\",'S7'!$Z$18)","v":""},null,null,null,null,null,null,{"$f":"IF('S7'!$Q$18=\"\",\"\",\"Aufgabe\")","v":""},null,null,{"$f":"IF('S7'!$Q$18=\"\",\"\",'S7'!$Q$18)","v":""},{"$f":"IF('S7'!$R$18=\"\",\"\",'S7'!$R$18)","v":""},{"$f":"IF('S7'!$S$18=\"\",\"\",'S7'!$S$18)","v":""},{"$f":"IF('S7'!$T$18=\"\",\"\",'S7'!$T$18)","v":""},{"$f":"IF('S7'!$U$18=\"\",\"\",'S7'!$U$18)","v":""},{"$f":"IF('S7'!$V$18=\"\",\"\",'S7'!$V$18)","v":""},{"$f":"IF('S7'!$W$18=\"\",\"\",'S7'!$W$18)","v":""},{"$f":"IF('S7'!$X$18=\"\",\"\",'S7'!$X$18)","v":""},{"$f":"IF('S7'!$Y$18=\"\",\"\",'S7'!$Y$18)","v":""},{"$f":"IF('S7'!$Z$18=\"\",\"\",'S7'!$Z$18)","v":""}]
[null,{"$f":"IF('S7'!$Q$18=\"\",\"\",\"erreicht\")","v":""},null,null,{"$f":"IF(VLOOKUP(B156,'S7'!$B$23:$Z$57,16,FALSE)=\"\",\"\",VLOOKUP(B156,'S7'!$B$23:$Z$57,16,FALSE))","v":""},{"$f":"IF(VLOOKUP(B156,'S7'!$B$23:$Z$57,17,FALSE)=\"\",\"\",VLOOKUP(B156,'S7'!$B$23:$Z$57,17,FALSE))","v":""},{"$f":"IF(VLOOKUP(B156,'S7'!$B$23:$Z$57,18,FALSE)=\"\",\"\",VLOOKUP(B156,'S7'!$B$23:$Z$57,18,FALSE))","v":""},{"$f":"IF(VLOOKUP(B156,'S7'!$B$23:$Z$57,19,FALSE)=\"\",\"\",VLOOKUP(B156,'S7'!$B$23:$Z$57,19,FALSE))","v":""},{"$f":"IF(VLOOKUP(B156,'S7'!$B$23:$Z$57,20,FALSE)=\"\",\"\",VLOOKUP(B156,'S7'!$B$23:$Z$57,20,FALSE))","v":""},{"$f":"IF(VLOOKUP(B156,'S7'!$B$23:$Z$57,21,FALSE)=\"\",\"\",VLOOKUP(B156,'S7'!$B$23:$Z$57,21,FALSE))","v":""},{"$f":"IF(VLOOKUP(B156,'S7'!$B$23:$Z$57,22,FALSE)=\"\",\"\",VLOOKUP(B156,'S7'!$B$23:$Z$57,22,FALSE))","v":""},{"$f":"IF(VLOOKUP(B156,'S7'!$B$23:$Z$57,23,FALSE)=\"\",\"\",VLOOKUP(B156,'S7'!$B$23:$Z$57,23,FALSE))","v":""},{"$f":"IF(VLOOKUP(B156,'S7'!$B$23:$Z$57,24,FALSE)=\"\",\"\",VLOOKUP(B156,'S7'!$B$23:$Z$57,24,FALSE))","v":""},{"$f":"IF(VLOOKUP(B156,'S7'!$B$23:$Z$57,25,FALSE)=\"\",\"\",VLOOKUP(B156,'S7'!$B$23:$Z$57,25,FALSE))","v":""},null,"Note",null,null,null,null,{"$f":"IF('S7'!$Q$18=\"\",\"\",\"erreicht\")","v":""},null,null,{"$f":"IF(VLOOKUP(U156,'S7'!$B$23:$Z$57,16,FALSE)=\"\",\"\",VLOOKUP(U156,'S7'!$B$23:$Z$57,16,FALSE))","v":""},{"$f":"IF(VLOOKUP(U156,'S7'!$B$23:$Z$57,17,FALSE)=\"\",\"\",VLOOKUP(U156,'S7'!$B$23:$Z$57,17,FALSE))","v":""},{"$f":"IF(VLOOKUP(U156,'S7'!$B$23:$Z$57,18,FALSE)=\"\",\"\",VLOOKUP(U156,'S7'!$B$23:$Z$57,18,FALSE))","v":""},{"$f":"IF(VLOOKUP(U156,'S7'!$B$23:$Z$57,19,FALSE)=\"\",\"\",VLOOKUP(U156,'S7'!$B$23:$Z$57,19,FALSE))","v":""},{"$f":"IF(VLOOKUP(U156,'S7'!$B$23:$Z$57,20,FALSE)=\"\",\"\",VLOOKUP(U156,'S7'!$B$23:$Z$57,20,FALSE))","v":""},{"$f":"IF(VLOOKUP(U156,'S7'!$B$23:$Z$57,21,FALSE)=\"\",\"\",VLOOKUP(U156,'S7'!$B$23:$Z$57,21,FALSE))","v":""},{"$f":"IF(VLOOKUP(U156,'S7'!$B$23:$Z$57,22,FALSE)=\"\",\"\",VLOOKUP(U156,'S7'!$B$23:$Z$57,22,FALSE))","v":""},{"$f":"IF(VLOOKUP(U156,'S7'!$B$23:$Z$57,23,FALSE)=\"\",\"\",VLOOKUP(U156,'S7'!$B$23:$Z$57,23,FALSE))","v":""},{"$f":"IF(VLOOKUP(U156,'S7'!$B$23:$Z$57,24,FALSE)=\"\",\"\",VLOOKUP(U156,'S7'!$B$23:$Z$57,24,FALSE))","v":""},{"$f":"IF(VLOOKUP(U156,'S7'!$B$23:$Z$57,25,FALSE)=\"\",\"\",VLOOKUP(U156,'S7'!$B$23:$Z$57,25,FALSE))","v":""},null,"Note"]
[null,{"$f":"IF('S7'!$Q$18=\"\",\"\",\"von\")","v":""},null,null,{"$f":"IF('S7'!$Q$21=\"\",\"\",'S7'!$Q$21)","v":""},{"$f":"IF('S7'!$R$21=\"\",\"\",'S7'!$R$21)","v":""},{"$f":"IF('S7'!$S$21=\"\",\"\",'S7'!$S$21)","v":""},{"$f":"IF('S7'!$T$21=\"\",\"\",'S7'!$T$21)","v":""},{"$f":"IF('S7'!$U$21=\"\",\"\",'S7'!$U$21)","v":""},{"$f":"IF('S7'!$V$21=\"\",\"\",'S7'!$V$21)","v":""},{"$f":"IF('S7'!$W$21=\"\",\"\",'S7'!$W$21)","v":""},{"$f":"IF('S7'!$X$21=\"\",\"\",'S7'!$X$21)","v":""},{"$f":"IF('S7'!$Y$21=\"\",\"\",'S7'!$Y$21)","v":""},{"$f":"IF('S7'!$Z$21=\"\",\"\",'S7'!$Z$21)","v":""},null,{"$f":"IF(VLOOKUP(B156,'S7'!$B$23:$Z$57,2,FALSE)=\"\",\"\",CONCATENATE(VLOOKUP(B156,'S7'!$B$23:$Z$57,2,FALSE),\" \",VLOOKUP(B156,'S7'!$B$23:$Z$57,3,FALSE)))","v":"- "},null,null,null,null,{"$f":"IF('S7'!$Q$18=\"\",\"\",\"von\")","v":""},null,null,{"$f":"IF('S7'!$Q$21=\"\",\"\",'S7'!$Q$21)","v":""},{"$f":"IF('S7'!$R$21=\"\",\"\",'S7'!$R$21)","v":""},{"$f":"IF('S7'!$S$21=\"\",\"\",'S7'!$S$21)","v":""},{"$f":"IF('S7'!$T$21=\"\",\"\",'S7'!$T$21)","v":""},{"$f":"IF('S7'!$U$21=\"\",\"\",'S7'!$U$21)","v":""},{"$f":"IF('S7'!$V$21=\"\",\"\",'S7'!$V$21)","v":""},{"$f":"IF('S7'!$W$21=\"\",\"\",'S7'!$W$21)","v":""},{"$f":"IF('S7'!$X$21=\"\",\"\",'S7'!$X$21)","v":""},{"$f":"IF('S7'!$Y$21=\"\",\"\",'S7'!$Y$21)","v":""},{"$f":"IF('S7'!$Z$21=\"\",\"\",'S7'!$Z$21)","v":""},null,{"$f":"IF(VLOOKUP(U156,'S7'!$B$23:$Z$57,2,FALSE)=\"\",\"\",CONCATENATE(VLOOKUP(U156,'S7'!$B$23:$Z$57,2,FALSE),\" \",VLOOKUP(U156,'S7'!$B$23:$Z$57,3,FALSE)))","v":"- "}]
[]
[]
[]
[null,{"$f":"'S7'!$B$51","v":""},null,null,null,null,null,null,null,null,null,null,null,null,null,null,null,null,null,null,{"$f":"'S7'!$B$52","v":""}]
[null,null,null,null,null,null,null,null,null,null,null,null,null,null,null,"Summe",null,null,null,null,null,null,null,null,null,null,null,null,null,null,null,null,null,null,"Summe"]
[null,"Aufgabe",null,null,{"$f":"IF('S7'!$G$18=\"\",\"\",'S7'!$G$18)","v":1},{"$f":"IF('S7'!$H$18=\"\",\"\",'S7'!$H$18)","v":2},{"$f":"IF('S7'!$I$18=\"\",\"\",'S7'!$I$18)","v":3},{"$f":"IF('S7'!$J$18=\"\",\"\",'S7'!$J$18)","v":""},{"$f":"IF('S7'!$K$18=\"\",\"\",'S7'!$K$18)","v":""},{"$f":"IF('S7'!$L$18=\"\",\"\",'S7'!$L$18)","v":""},{"$f":"IF('S7'!$M$18=\"\",\"\",'S7'!$M$18)","v":""},{"$f":"IF('S7'!$N$18=\"\",\"\",'S7'!$N$18)","v":""},{"$f":"IF('S7'!$O$18=\"\",\"\",'S7'!$O$18)","v":""},{"$f":"IF('S7'!$P$18=\"\",\"\",'S7'!$P$18)","v":""},null,{"$f":"IF(VLOOKUP(B168,'S7'!$B$23:$Z$57,5,FALSE)=\"\",\"\",VLOOKUP(B168,'S7'!$B$23:$Z$57,5,FALSE))","v":0},null,null,null,null,"Aufgabe",null,null,{"$f":"IF('S7'!$G$18=\"\",\"\",'S7'!$G$18)","v":1},{"$f":"IF('S7'!$H$18=\"\",\"\",'S7'!$H$18)","v":2},{"$f":"IF('S7'!$I$18=\"\",\"\",'S7'!$I$18)","v":3},{"$f":"IF('S7'!$J$18=\"\",\"\",'S7'!$J$18)","v":""},{"$f":"IF('S7'!$K$18=\"\",\"\",'S7'!$K$18)","v":""},{"$f":"IF('S7'!$L$18=\"\",\"\",'S7'!$L$18)","v":""},{"$f":"IF('S7'!$M$18=\"\",\"\",'S7'!$M$18)","v":""},{"$f":"IF('S7'!$N$18=\"\",\"\",'S7'!$N$18)","v":""},{"$f":"IF('S7'!$O$18=\"\",\"\",'S7'!$O$18)","v":""},{"$f":"IF('S7'!$P$18=\"\",\"\",'S7'!$P$18)","v":""},null,{"$f":"IF(VLOOKUP(U168,'S7'!$B$23:$Z$57,5,FALSE)=\"\",\"\",VLOOKUP(U168,'S7'!$B$23:$Z$57,5,FALSE))","v":0}]
[null,"erreicht",null,null,{"$f":"IF(VLOOKUP(B168,'S7'!$B$23:$Z$57,6,FALSE)=\"\",\"\",VLOOKUP(B168,'S7'!$B$23:$Z$57,6,FALSE))","v":"."},{"$f":"IF(VLOOKUP(B168,'S7'!$B$23:$Z$57,7,FALSE)=\"\",\"\",VLOOKUP(B168,'S7'!$B$23:$Z$57,7,FALSE))","v":""},{"$f":"IF(VLOOKUP(B168,'S7'!$B$23:$Z$57,8,FALSE)=\"\",\"\",VLOOKUP(B168,'S7'!$B$23:$Z$57,8,FALSE))","v":""},{"$f":"IF(VLOOKUP(B168,'S7'!$B$23:$Z$57,9,FALSE)=\"\",\"\",VLOOKUP(B168,'S7'!$B$23:$Z$57,9,FALSE))","v":""},{"$f":"IF(VLOOKUP(B168,'S7'!$B$23:$Z$57,10,FALSE)=\"\",\"\",VLOOKUP(B168,'S7'!$B$23:$Z$57,10,FALSE))","v":""},{"$f":"IF(VLOOKUP(B168,'S7'!$B$23:$Z$57,11,FALSE)=\"\",\"\",VLOOKUP(B168,'S7'!$B$23:$Z$57,11,FALSE))","v":""},{"$f":"IF(VLOOKUP(B168,'S7'!$B$23:$Z$57,12,FALSE)=\"\",\"\",VLOOKUP(B168,'S7'!$B$23:$Z$57,12,FALSE))","v":""},{"$f":"IF(VLOOKUP(B168,'S7'!$B$23:$Z$57,13,FALSE)=\"\",\"\",VLOOKUP(B168,'S7'!$B$23:$Z$57,13,FALSE))","v":""},{"$f":"IF(VLOOKUP(B168,'S7'!$B$23:$Z$57,14,FALSE)=\"\",\"\",VLOOKUP(B168,'S7'!$B$23:$Z$57,14,FALSE))","v":""},{"$f":"IF(VLOOKUP(B168,'S7'!$B$23:$Z$57,15,FALSE)=\"\",\"\",VLOOKUP(B168,'S7'!$B$23:$Z$57,15,FALSE))","v":""},null,null,null,null,null,null,"erreicht",null,null,{"$f":"IF(VLOOKUP(U168,'S7'!$B$23:$Z$57,6,FALSE)=\"\",\"\",VLOOKUP(U168,'S7'!$B$23:$Z$57,6,FALSE))","v":"."},{"$f":"IF(VLOOKUP(U168,'S7'!$B$23:$Z$57,7,FALSE)=\"\",\"\",VLOOKUP(U168,'S7'!$B$23:$Z$57,7,FALSE))","v":""},{"$f":"IF(VLOOKUP(U168,'S7'!$B$23:$Z$57,8,FALSE)=\"\",\"\",VLOOKUP(U168,'S7'!$B$23:$Z$57,8,FALSE))","v":""},{"$f":"IF(VLOOKUP(U168,'S7'!$B$23:$Z$57,9,FALSE)=\"\",\"\",VLOOKUP(U168,'S7'!$B$23:$Z$57,9,FALSE))","v":""},{"$f":"IF(VLOOKUP(U168,'S7'!$B$23:$Z$57,10,FALSE)=\"\",\"\",VLOOKUP(U168,'S7'!$B$23:$Z$57,10,FALSE))","v":""},{"$f":"IF(VLOOKUP(U168,'S7'!$B$23:$Z$57,11,FALSE)=\"\",\"\",VLOOKUP(U168,'S7'!$B$23:$Z$57,11,FALSE))","v":""},{"$f":"IF(VLOOKUP(U168,'S7'!$B$23:$Z$57,12,FALSE)=\"\",\"\",VLOOKUP(U168,'S7'!$B$23:$Z$57,12,FALSE))","v":""},{"$f":"IF(VLOOKUP(U168,'S7'!$B$23:$Z$57,13,FALSE)=\"\",\"\",VLOOKUP(U168,'S7'!$B$23:$Z$57,13,FALSE))","v":""},{"$f":"IF(VLOOKUP(U168,'S7'!$B$23:$Z$57,14,FALSE)=\"\",\"\",VLOOKUP(U168,'S7'!$B$23:$Z$57,14,FALSE))","v":""},{"$f":"IF(VLOOKUP(U168,'S7'!$B$23:$Z$57,15,FALSE)=\"\",\"\",VLOOKUP(U168,'S7'!$B$23:$Z$57,15,FALSE))","v":""}]
[null,"von",null,null,{"$f":"IF('S7'!$G$21=\"\",\"\",'S7'!$G$21)","v":""},{"$f":"IF('S7'!$H$21=\"\",\"\",'S7'!$H$21)","v":""},{"$f":"IF('S7'!$I$21=\"\",\"\",'S7'!$I$21)","v":""},{"$f":"IF('S7'!$J$21=\"\",\"\",'S7'!$J$21)","v":""},{"$f":"IF('S7'!$K$21=\"\",\"\",'S7'!$K$21)","v":""},{"$f":"IF('S7'!$L$21=\"\",\"\",'S7'!$L$21)","v":""},{"$f":"IF('S7'!$M$21=\"\",\"\",'S7'!$M$21)","v":""},{"$f":"IF('S7'!$N$21=\"\",\"\",'S7'!$N$21)","v":""},{"$f":"IF('S7'!$O$21=\"\",\"\",'S7'!$O$21)","v":""},{"$f":"IF('S7'!$P$21=\"\",\"\",'S7'!$P$21)","v":""},null,"von",null,null,null,null,"von",null,null,{"$f":"IF('S7'!$G$21=\"\",\"\",'S7'!$G$21)","v":""},{"$f":"IF('S7'!$H$21=\"\",\"\",'S7'!$H$21)","v":""},{"$f":"IF('S7'!$I$21=\"\",\"\",'S7'!$I$21)","v":""},{"$f":"IF('S7'!$J$21=\"\",\"\",'S7'!$J$21)","v":""},{"$f":"IF('S7'!$K$21=\"\",\"\",'S7'!$K$21)","v":""},{"$f":"IF('S7'!$L$21=\"\",\"\",'S7'!$L$21)","v":""},{"$f":"IF('S7'!$M$21=\"\",\"\",'S7'!$M$21)","v":""},{"$f":"IF('S7'!$N$21=\"\",\"\",'S7'!$N$21)","v":""},{"$f":"IF('S7'!$O$21=\"\",\"\",'S7'!$O$21)","v":""},{"$f":"IF('S7'!$P$21=\"\",\"\",'S7'!$P$21)","v":""},null,"von"]
[null,null,null,null,null,null,null,null,null,null,null,null,null,null,null,{"$f":"'S7'!$H$12","v":0},null,null,null,null,null,null,null,null,null,null,null,null,null,null,null,null,null,null,{"$f":"'S7'!$H$12","v":0}]
[null,{"$f":"IF('S7'!$Q$18=\"\",\"\",\"Aufgabe\")","v":""},null,null,{"$f":"IF('S7'!$Q$18=\"\",\"\",'S7'!$Q$18)","v":""},{"$f":"IF('S7'!$R$18=\"\",\"\",'S7'!$R$18)","v":""},{"$f":"IF('S7'!$S$18=\"\",\"\",'S7'!$S$18)","v":""},{"$f":"IF('S7'!$T$18=\"\",\"\",'S7'!$T$18)","v":""},{"$f":"IF('S7'!$U$18=\"\",\"\",'S7'!$U$18)","v":""},{"$f":"IF('S7'!$V$18=\"\",\"\",'S7'!$V$18)","v":""},{"$f":"IF('S7'!$W$18=\"\",\"\",'S7'!$W$18)","v":""},{"$f":"IF('S7'!$X$18=\"\",\"\",'S7'!$X$18)","v":""},{"$f":"IF('S7'!$Y$18=\"\",\"\",'S7'!$Y$18)","v":""},{"$f":"IF('S7'!$Z$18=\"\",\"\",'S7'!$Z$18)","v":""},null,null,null,null,null,null,{"$f":"IF('S7'!$Q$18=\"\",\"\",\"Aufgabe\")","v":""},null,null,{"$f":"IF('S7'!$Q$18=\"\",\"\",'S7'!$Q$18)","v":""},{"$f":"IF('S7'!$R$18=\"\",\"\",'S7'!$R$18)","v":""},{"$f":"IF('S7'!$S$18=\"\",\"\",'S7'!$S$18)","v":""},{"$f":"IF('S7'!$T$18=\"\",\"\",'S7'!$T$18)","v":""},{"$f":"IF('S7'!$U$18=\"\",\"\",'S7'!$U$18)","v":""},{"$f":"IF('S7'!$V$18=\"\",\"\",'S7'!$V$18)","v":""},{"$f":"IF('S7'!$W$18=\"\",\"\",'S7'!$W$18)","v":""},{"$f":"IF('S7'!$X$18=\"\",\"\",'S7'!$X$18)","v":""},{"$f":"IF('S7'!$Y$18=\"\",\"\",'S7'!$Y$18)","v":""},{"$f":"IF('S7'!$Z$18=\"\",\"\",'S7'!$Z$18)","v":""}]
[null,{"$f":"IF('S7'!$Q$18=\"\",\"\",\"erreicht\")","v":""},null,null,{"$f":"IF(VLOOKUP(B168,'S7'!$B$23:$Z$57,16,FALSE)=\"\",\"\",VLOOKUP(B168,'S7'!$B$23:$Z$57,16,FALSE))","v":""},{"$f":"IF(VLOOKUP(B168,'S7'!$B$23:$Z$57,17,FALSE)=\"\",\"\",VLOOKUP(B168,'S7'!$B$23:$Z$57,17,FALSE))","v":""},{"$f":"IF(VLOOKUP(B168,'S7'!$B$23:$Z$57,18,FALSE)=\"\",\"\",VLOOKUP(B168,'S7'!$B$23:$Z$57,18,FALSE))","v":""},{"$f":"IF(VLOOKUP(B168,'S7'!$B$23:$Z$57,19,FALSE)=\"\",\"\",VLOOKUP(B168,'S7'!$B$23:$Z$57,19,FALSE))","v":""},{"$f":"IF(VLOOKUP(B168,'S7'!$B$23:$Z$57,20,FALSE)=\"\",\"\",VLOOKUP(B168,'S7'!$B$23:$Z$57,20,FALSE))","v":""},{"$f":"IF(VLOOKUP(B168,'S7'!$B$23:$Z$57,21,FALSE)=\"\",\"\",VLOOKUP(B168,'S7'!$B$23:$Z$57,21,FALSE))","v":""},{"$f":"IF(VLOOKUP(B168,'S7'!$B$23:$Z$57,22,FALSE)=\"\",\"\",VLOOKUP(B168,'S7'!$B$23:$Z$57,22,FALSE))","v":""},{"$f":"IF(VLOOKUP(B168,'S7'!$B$23:$Z$57,23,FALSE)=\"\",\"\",VLOOKUP(B168,'S7'!$B$23:$Z$57,23,FALSE))","v":""},{"$f":"IF(VLOOKUP(B168,'S7'!$B$23:$Z$57,24,FALSE)=\"\",\"\",VLOOKUP(B168,'S7'!$B$23:$Z$57,24,FALSE))","v":""},{"$f":"IF(VLOOKUP(B168,'S7'!$B$23:$Z$57,25,FALSE)=\"\",\"\",VLOOKUP(B168,'S7'!$B$23:$Z$57,25,FALSE))","v":""},null,"Note",null,null,null,null,{"$f":"IF('S7'!$Q$18=\"\",\"\",\"erreicht\")","v":""},null,null,{"$f":"IF(VLOOKUP(U168,'S7'!$B$23:$Z$57,16,FALSE)=\"\",\"\",VLOOKUP(U168,'S7'!$B$23:$Z$57,16,FALSE))","v":""},{"$f":"IF(VLOOKUP(U168,'S7'!$B$23:$Z$57,17,FALSE)=\"\",\"\",VLOOKUP(U168,'S7'!$B$23:$Z$57,17,FALSE))","v":""},{"$f":"IF(VLOOKUP(U168,'S7'!$B$23:$Z$57,18,FALSE)=\"\",\"\",VLOOKUP(U168,'S7'!$B$23:$Z$57,18,FALSE))","v":""},{"$f":"IF(VLOOKUP(U168,'S7'!$B$23:$Z$57,19,FALSE)=\"\",\"\",VLOOKUP(U168,'S7'!$B$23:$Z$57,19,FALSE))","v":""},{"$f":"IF(VLOOKUP(U168,'S7'!$B$23:$Z$57,20,FALSE)=\"\",\"\",VLOOKUP(U168,'S7'!$B$23:$Z$57,20,FALSE))","v":""},{"$f":"IF(VLOOKUP(U168,'S7'!$B$23:$Z$57,21,FALSE)=\"\",\"\",VLOOKUP(U168,'S7'!$B$23:$Z$57,21,FALSE))","v":""},{"$f":"IF(VLOOKUP(U168,'S7'!$B$23:$Z$57,22,FALSE)=\"\",\"\",VLOOKUP(U168,'S7'!$B$23:$Z$57,22,FALSE))","v":""},{"$f":"IF(VLOOKUP(U168,'S7'!$B$23:$Z$57,23,FALSE)=\"\",\"\",VLOOKUP(U168,'S7'!$B$23:$Z$57,23,FALSE))","v":""},{"$f":"IF(VLOOKUP(U168,'S7'!$B$23:$Z$57,24,FALSE)=\"\",\"\",VLOOKUP(U168,'S7'!$B$23:$Z$57,24,FALSE))","v":""},{"$f":"IF(VLOOKUP(U168,'S7'!$B$23:$Z$57,25,FALSE)=\"\",\"\",VLOOKUP(U168,'S7'!$B$23:$Z$57,25,FALSE))","v":""},null,"Note"]
[null,{"$f":"IF('S7'!$Q$18=\"\",\"\",\"von\")","v":""},null,null,{"$f":"IF('S7'!$Q$21=\"\",\"\",'S7'!$Q$21)","v":""},{"$f":"IF('S7'!$R$21=\"\",\"\",'S7'!$R$21)","v":""},{"$f":"IF('S7'!$S$21=\"\",\"\",'S7'!$S$21)","v":""},{"$f":"IF('S7'!$T$21=\"\",\"\",'S7'!$T$21)","v":""},{"$f":"IF('S7'!$U$21=\"\",\"\",'S7'!$U$21)","v":""},{"$f":"IF('S7'!$V$21=\"\",\"\",'S7'!$V$21)","v":""},{"$f":"IF('S7'!$W$21=\"\",\"\",'S7'!$W$21)","v":""},{"$f":"IF('S7'!$X$21=\"\",\"\",'S7'!$X$21)","v":""},{"$f":"IF('S7'!$Y$21=\"\",\"\",'S7'!$Y$21)","v":""},{"$f":"IF('S7'!$Z$21=\"\",\"\",'S7'!$Z$21)","v":""},null,{"$f":"IF(VLOOKUP(B168,'S7'!$B$23:$Z$57,2,FALSE)=\"\",\"\",CONCATENATE(VLOOKUP(B168,'S7'!$B$23:$Z$57,2,FALSE),\" \",VLOOKUP(B168,'S7'!$B$23:$Z$57,3,FALSE)))","v":"- "},null,null,null,null,{"$f":"IF('S7'!$Q$18=\"\",\"\",\"von\")","v":""},null,null,{"$f":"IF('S7'!$Q$21=\"\",\"\",'S7'!$Q$21)","v":""},{"$f":"IF('S7'!$R$21=\"\",\"\",'S7'!$R$21)","v":""},{"$f":"IF('S7'!$S$21=\"\",\"\",'S7'!$S$21)","v":""},{"$f":"IF('S7'!$T$21=\"\",\"\",'S7'!$T$21)","v":""},{"$f":"IF('S7'!$U$21=\"\",\"\",'S7'!$U$21)","v":""},{"$f":"IF('S7'!$V$21=\"\",\"\",'S7'!$V$21)","v":""},{"$f":"IF('S7'!$W$21=\"\",\"\",'S7'!$W$21)","v":""},{"$f":"IF('S7'!$X$21=\"\",\"\",'S7'!$X$21)","v":""},{"$f":"IF('S7'!$Y$21=\"\",\"\",'S7'!$Y$21)","v":""},{"$f":"IF('S7'!$Z$21=\"\",\"\",'S7'!$Z$21)","v":""},null,{"$f":"IF(VLOOKUP(U168,'S7'!$B$23:$Z$57,2,FALSE)=\"\",\"\",CONCATENATE(VLOOKUP(U168,'S7'!$B$23:$Z$57,2,FALSE),\" \",VLOOKUP(U168,'S7'!$B$23:$Z$57,3,FALSE)))","v":"- "}]
[]
[]
[]
[null,{"$f":"'S7'!$B$53","v":""},null,null,null,null,null,null,null,null,null,null,null,null,null,null,null,null,null,null,{"$f":"'S7'!$B$54","v":""}]
[null,null,null,null,null,null,null,null,null,null,null,null,null,null,null,"Summe",null,null,null,null,null,null,null,null,null,null,null,null,null,null,null,null,null,null,"Summe"]
[null,"Aufgabe",null,null,{"$f":"IF('S7'!$G$18=\"\",\"\",'S7'!$G$18)","v":1},{"$f":"IF('S7'!$H$18=\"\",\"\",'S7'!$H$18)","v":2},{"$f":"IF('S7'!$I$18=\"\",\"\",'S7'!$I$18)","v":3},{"$f":"IF('S7'!$J$18=\"\",\"\",'S7'!$J$18)","v":""},{"$f":"IF('S7'!$K$18=\"\",\"\",'S7'!$K$18)","v":""},{"$f":"IF('S7'!$L$18=\"\",\"\",'S7'!$L$18)","v":""},{"$f":"IF('S7'!$M$18=\"\",\"\",'S7'!$M$18)","v":""},{"$f":"IF('S7'!$N$18=\"\",\"\",'S7'!$N$18)","v":""},{"$f":"IF('S7'!$O$18=\"\",\"\",'S7'!$O$18)","v":""},{"$f":"IF('S7'!$P$18=\"\",\"\",'S7'!$P$18)","v":""},null,{"$f":"IF(VLOOKUP(B180,'S7'!$B$23:$Z$57,5,FALSE)=\"\",\"\",VLOOKUP(B180,'S7'!$B$23:$Z$57,5,FALSE))","v":0},null,null,null,null,"Aufgabe",null,null,{"$f":"IF('S7'!$G$18=\"\",\"\",'S7'!$G$18)","v":1},{"$f":"IF('S7'!$H$18=\"\",\"\",'S7'!$H$18)","v":2},{"$f":"IF('S7'!$I$18=\"\",\"\",'S7'!$I$18)","v":3},{"$f":"IF('S7'!$J$18=\"\",\"\",'S7'!$J$18)","v":""},{"$f":"IF('S7'!$K$18=\"\",\"\",'S7'!$K$18)","v":""},{"$f":"IF('S7'!$L$18=\"\",\"\",'S7'!$L$18)","v":""},{"$f":"IF('S7'!$M$18=\"\",\"\",'S7'!$M$18)","v":""},{"$f":"IF('S7'!$N$18=\"\",\"\",'S7'!$N$18)","v":""},{"$f":"IF('S7'!$O$18=\"\",\"\",'S7'!$O$18)","v":""},{"$f":"IF('S7'!$P$18=\"\",\"\",'S7'!$P$18)","v":""},null,{"$f":"IF(VLOOKUP(U180,'S7'!$B$23:$Z$57,5,FALSE)=\"\",\"\",VLOOKUP(U180,'S7'!$B$23:$Z$57,5,FALSE))","v":0}]
[null,"erreicht",null,null,{"$f":"IF(VLOOKUP(B180,'S7'!$B$23:$Z$57,6,FALSE)=\"\",\"\",VLOOKUP(B180,'S7'!$B$23:$Z$57,6,FALSE))","v":"."},{"$f":"IF(VLOOKUP(B180,'S7'!$B$23:$Z$57,7,FALSE)=\"\",\"\",VLOOKUP(B180,'S7'!$B$23:$Z$57,7,FALSE))","v":""},{"$f":"IF(VLOOKUP(B180,'S7'!$B$23:$Z$57,8,FALSE)=\"\",\"\",VLOOKUP(B180,'S7'!$B$23:$Z$57,8,FALSE))","v":""},{"$f":"IF(VLOOKUP(B180,'S7'!$B$23:$Z$57,9,FALSE)=\"\",\"\",VLOOKUP(B180,'S7'!$B$23:$Z$57,9,FALSE))","v":""},{"$f":"IF(VLOOKUP(B180,'S7'!$B$23:$Z$57,10,FALSE)=\"\",\"\",VLOOKUP(B180,'S7'!$B$23:$Z$57,10,FALSE))","v":""},{"$f":"IF(VLOOKUP(B180,'S7'!$B$23:$Z$57,11,FALSE)=\"\",\"\",VLOOKUP(B180,'S7'!$B$23:$Z$57,11,FALSE))","v":""},{"$f":"IF(VLOOKUP(B180,'S7'!$B$23:$Z$57,12,FALSE)=\"\",\"\",VLOOKUP(B180,'S7'!$B$23:$Z$57,12,FALSE))","v":""},{"$f":"IF(VLOOKUP(B180,'S7'!$B$23:$Z$57,13,FALSE)=\"\",\"\",VLOOKUP(B180,'S7'!$B$23:$Z$57,13,FALSE))","v":""},{"$f":"IF(VLOOKUP(B180,'S7'!$B$23:$Z$57,14,FALSE)=\"\",\"\",VLOOKUP(B180,'S7'!$B$23:$Z$57,14,FALSE))","v":""},{"$f":"IF(VLOOKUP(B180,'S7'!$B$23:$Z$57,15,FALSE)=\"\",\"\",VLOOKUP(B180,'S7'!$B$23:$Z$57,15,FALSE))","v":""},null,null,null,null,null,null,"erreicht",null,null,{"$f":"IF(VLOOKUP(U180,'S7'!$B$23:$Z$57,6,FALSE)=\"\",\"\",VLOOKUP(U180,'S7'!$B$23:$Z$57,6,FALSE))","v":"."},{"$f":"IF(VLOOKUP(U180,'S7'!$B$23:$Z$57,7,FALSE)=\"\",\"\",VLOOKUP(U180,'S7'!$B$23:$Z$57,7,FALSE))","v":""},{"$f":"IF(VLOOKUP(U180,'S7'!$B$23:$Z$57,8,FALSE)=\"\",\"\",VLOOKUP(U180,'S7'!$B$23:$Z$57,8,FALSE))","v":""},{"$f":"IF(VLOOKUP(U180,'S7'!$B$23:$Z$57,9,FALSE)=\"\",\"\",VLOOKUP(U180,'S7'!$B$23:$Z$57,9,FALSE))","v":""},{"$f":"IF(VLOOKUP(U180,'S7'!$B$23:$Z$57,10,FALSE)=\"\",\"\",VLOOKUP(U180,'S7'!$B$23:$Z$57,10,FALSE))","v":""},{"$f":"IF(VLOOKUP(U180,'S7'!$B$23:$Z$57,11,FALSE)=\"\",\"\",VLOOKUP(U180,'S7'!$B$23:$Z$57,11,FALSE))","v":""},{"$f":"IF(VLOOKUP(U180,'S7'!$B$23:$Z$57,12,FALSE)=\"\",\"\",VLOOKUP(U180,'S7'!$B$23:$Z$57,12,FALSE))","v":""},{"$f":"IF(VLOOKUP(U180,'S7'!$B$23:$Z$57,13,FALSE)=\"\",\"\",VLOOKUP(U180,'S7'!$B$23:$Z$57,13,FALSE))","v":""},{"$f":"IF(VLOOKUP(U180,'S7'!$B$23:$Z$57,14,FALSE)=\"\",\"\",VLOOKUP(U180,'S7'!$B$23:$Z$57,14,FALSE))","v":""},{"$f":"IF(VLOOKUP(U180,'S7'!$B$23:$Z$57,15,FALSE)=\"\",\"\",VLOOKUP(U180,'S7'!$B$23:$Z$57,15,FALSE))","v":""}]
[null,"von",null,null,{"$f":"IF('S7'!$G$21=\"\",\"\",'S7'!$G$21)","v":""},{"$f":"IF('S7'!$H$21=\"\",\"\",'S7'!$H$21)","v":""},{"$f":"IF('S7'!$I$21=\"\",\"\",'S7'!$I$21)","v":""},{"$f":"IF('S7'!$J$21=\"\",\"\",'S7'!$J$21)","v":""},{"$f":"IF('S7'!$K$21=\"\",\"\",'S7'!$K$21)","v":""},{"$f":"IF('S7'!$L$21=\"\",\"\",'S7'!$L$21)","v":""},{"$f":"IF('S7'!$M$21=\"\",\"\",'S7'!$M$21)","v":""},{"$f":"IF('S7'!$N$21=\"\",\"\",'S7'!$N$21)","v":""},{"$f":"IF('S7'!$O$21=\"\",\"\",'S7'!$O$21)","v":""},{"$f":"IF('S7'!$P$21=\"\",\"\",'S7'!$P$21)","v":""},null,"von",null,null,null,null,"von",null,null,{"$f":"IF('S7'!$G$21=\"\",\"\",'S7'!$G$21)","v":""},{"$f":"IF('S7'!$H$21=\"\",\"\",'S7'!$H$21)","v":""},{"$f":"IF('S7'!$I$21=\"\",\"\",'S7'!$I$21)","v":""},{"$f":"IF('S7'!$J$21=\"\",\"\",'S7'!$J$21)","v":""},{"$f":"IF('S7'!$K$21=\"\",\"\",'S7'!$K$21)","v":""},{"$f":"IF('S7'!$L$21=\"\",\"\",'S7'!$L$21)","v":""},{"$f":"IF('S7'!$M$21=\"\",\"\",'S7'!$M$21)","v":""},{"$f":"IF('S7'!$N$21=\"\",\"\",'S7'!$N$21)","v":""},{"$f":"IF('S7'!$O$21=\"\",\"\",'S7'!$O$21)","v":""},{"$f":"IF('S7'!$P$21=\"\",\"\",'S7'!$P$21)","v":""},null,"von"]
[null,null,null,null,null,null,null,null,null,null,null,null,null,null,null,{"$f":"'S7'!$H$12","v":0},null,null,null,null,null,null,null,null,null,null,null,null,null,null,null,null,null,null,{"$f":"'S7'!$H$12","v":0}]
[null,{"$f":"IF('S7'!$Q$18=\"\",\"\",\"Aufgabe\")","v":""},null,null,{"$f":"IF('S7'!$Q$18=\"\",\"\",'S7'!$Q$18)","v":""},{"$f":"IF('S7'!$R$18=\"\",\"\",'S7'!$R$18)","v":""},{"$f":"IF('S7'!$S$18=\"\",\"\",'S7'!$S$18)","v":""},{"$f":"IF('S7'!$T$18=\"\",\"\",'S7'!$T$18)","v":""},{"$f":"IF('S7'!$U$18=\"\",\"\",'S7'!$U$18)","v":""},{"$f":"IF('S7'!$V$18=\"\",\"\",'S7'!$V$18)","v":""},{"$f":"IF('S7'!$W$18=\"\",\"\",'S7'!$W$18)","v":""},{"$f":"IF('S7'!$X$18=\"\",\"\",'S7'!$X$18)","v":""},{"$f":"IF('S7'!$Y$18=\"\",\"\",'S7'!$Y$18)","v":""},{"$f":"IF('S7'!$Z$18=\"\",\"\",'S7'!$Z$18)","v":""},null,null,null,null,null,null,{"$f":"IF('S7'!$Q$18=\"\",\"\",\"Aufgabe\")","v":""},null,null,{"$f":"IF('S7'!$Q$18=\"\",\"\",'S7'!$Q$18)","v":""},{"$f":"IF('S7'!$R$18=\"\",\"\",'S7'!$R$18)","v":""},{"$f":"IF('S7'!$S$18=\"\",\"\",'S7'!$S$18)","v":""},{"$f":"IF('S7'!$T$18=\"\",\"\",'S7'!$T$18)","v":""},{"$f":"IF('S7'!$U$18=\"\",\"\",'S7'!$U$18)","v":""},{"$f":"IF('S7'!$V$18=\"\",\"\",'S7'!$V$18)","v":""},{"$f":"IF('S7'!$W$18=\"\",\"\",'S7'!$W$18)","v":""},{"$f":"IF('S7'!$X$18=\"\",\"\",'S7'!$X$18)","v":""},{"$f":"IF('S7'!$Y$18=\"\",\"\",'S7'!$Y$18)","v":""},{"$f":"IF('S7'!$Z$18=\"\",\"\",'S7'!$Z$18)","v":""}]
[null,{"$f":"IF('S7'!$Q$18=\"\",\"\",\"erreicht\")","v":""},null,null,{"$f":"IF(VLOOKUP(B180,'S7'!$B$23:$Z$57,16,FALSE)=\"\",\"\",VLOOKUP(B180,'S7'!$B$23:$Z$57,16,FALSE))","v":""},{"$f":"IF(VLOOKUP(B180,'S7'!$B$23:$Z$57,17,FALSE)=\"\",\"\",VLOOKUP(B180,'S7'!$B$23:$Z$57,17,FALSE))","v":""},{"$f":"IF(VLOOKUP(B180,'S7'!$B$23:$Z$57,18,FALSE)=\"\",\"\",VLOOKUP(B180,'S7'!$B$23:$Z$57,18,FALSE))","v":""},{"$f":"IF(VLOOKUP(B180,'S7'!$B$23:$Z$57,19,FALSE)=\"\",\"\",VLOOKUP(B180,'S7'!$B$23:$Z$57,19,FALSE))","v":""},{"$f":"IF(VLOOKUP(B180,'S7'!$B$23:$Z$57,20,FALSE)=\"\",\"\",VLOOKUP(B180,'S7'!$B$23:$Z$57,20,FALSE))","v":""},{"$f":"IF(VLOOKUP(B180,'S7'!$B$23:$Z$57,21,FALSE)=\"\",\"\",VLOOKUP(B180,'S7'!$B$23:$Z$57,21,FALSE))","v":""},{"$f":"IF(VLOOKUP(B180,'S7'!$B$23:$Z$57,22,FALSE)=\"\",\"\",VLOOKUP(B180,'S7'!$B$23:$Z$57,22,FALSE))","v":""},{"$f":"IF(VLOOKUP(B180,'S7'!$B$23:$Z$57,23,FALSE)=\"\",\"\",VLOOKUP(B180,'S7'!$B$23:$Z$57,23,FALSE))","v":""},{"$f":"IF(VLOOKUP(B180,'S7'!$B$23:$Z$57,24,FALSE)=\"\",\"\",VLOOKUP(B180,'S7'!$B$23:$Z$57,24,FALSE))","v":""},{"$f":"IF(VLOOKUP(B180,'S7'!$B$23:$Z$57,25,FALSE)=\"\",\"\",VLOOKUP(B180,'S7'!$B$23:$Z$57,25,FALSE))","v":""},null,"Note",null,null,null,null,{"$f":"IF('S7'!$Q$18=\"\",\"\",\"erreicht\")","v":""},null,null,{"$f":"IF(VLOOKUP(U180,'S7'!$B$23:$Z$57,16,FALSE)=\"\",\"\",VLOOKUP(U180,'S7'!$B$23:$Z$57,16,FALSE))","v":""},{"$f":"IF(VLOOKUP(U180,'S7'!$B$23:$Z$57,17,FALSE)=\"\",\"\",VLOOKUP(U180,'S7'!$B$23:$Z$57,17,FALSE))","v":""},{"$f":"IF(VLOOKUP(U180,'S7'!$B$23:$Z$57,18,FALSE)=\"\",\"\",VLOOKUP(U180,'S7'!$B$23:$Z$57,18,FALSE))","v":""},{"$f":"IF(VLOOKUP(U180,'S7'!$B$23:$Z$57,19,FALSE)=\"\",\"\",VLOOKUP(U180,'S7'!$B$23:$Z$57,19,FALSE))","v":""},{"$f":"IF(VLOOKUP(U180,'S7'!$B$23:$Z$57,20,FALSE)=\"\",\"\",VLOOKUP(U180,'S7'!$B$23:$Z$57,20,FALSE))","v":""},{"$f":"IF(VLOOKUP(U180,'S7'!$B$23:$Z$57,21,FALSE)=\"\",\"\",VLOOKUP(U180,'S7'!$B$23:$Z$57,21,FALSE))","v":""},{"$f":"IF(VLOOKUP(U180,'S7'!$B$23:$Z$57,22,FALSE)=\"\",\"\",VLOOKUP(U180,'S7'!$B$23:$Z$57,22,FALSE))","v":""},{"$f":"IF(VLOOKUP(U180,'S7'!$B$23:$Z$57,23,FALSE)=\"\",\"\",VLOOKUP(U180,'S7'!$B$23:$Z$57,23,FALSE))","v":""},{"$f":"IF(VLOOKUP(U180,'S7'!$B$23:$Z$57,24,FALSE)=\"\",\"\",VLOOKUP(U180,'S7'!$B$23:$Z$57,24,FALSE))","v":""},{"$f":"IF(VLOOKUP(U180,'S7'!$B$23:$Z$57,25,FALSE)=\"\",\"\",VLOOKUP(U180,'S7'!$B$23:$Z$57,25,FALSE))","v":""},null,"Note"]
[null,{"$f":"IF('S7'!$Q$18=\"\",\"\",\"von\")","v":""},null,null,{"$f":"IF('S7'!$Q$21=\"\",\"\",'S7'!$Q$21)","v":""},{"$f":"IF('S7'!$R$21=\"\",\"\",'S7'!$R$21)","v":""},{"$f":"IF('S7'!$S$21=\"\",\"\",'S7'!$S$21)","v":""},{"$f":"IF('S7'!$T$21=\"\",\"\",'S7'!$T$21)","v":""},{"$f":"IF('S7'!$U$21=\"\",\"\",'S7'!$U$21)","v":""},{"$f":"IF('S7'!$V$21=\"\",\"\",'S7'!$V$21)","v":""},{"$f":"IF('S7'!$W$21=\"\",\"\",'S7'!$W$21)","v":""},{"$f":"IF('S7'!$X$21=\"\",\"\",'S7'!$X$21)","v":""},{"$f":"IF('S7'!$Y$21=\"\",\"\",'S7'!$Y$21)","v":""},{"$f":"IF('S7'!$Z$21=\"\",\"\",'S7'!$Z$21)","v":""},null,{"$f":"IF(VLOOKUP(B180,'S7'!$B$23:$Z$57,2,FALSE)=\"\",\"\",CONCATENATE(VLOOKUP(B180,'S7'!$B$23:$Z$57,2,FALSE),\" \",VLOOKUP(B180,'S7'!$B$23:$Z$57,3,FALSE)))","v":"- "},null,null,null,null,{"$f":"IF('S7'!$Q$18=\"\",\"\",\"von\")","v":""},null,null,{"$f":"IF('S7'!$Q$21=\"\",\"\",'S7'!$Q$21)","v":""},{"$f":"IF('S7'!$R$21=\"\",\"\",'S7'!$R$21)","v":""},{"$f":"IF('S7'!$S$21=\"\",\"\",'S7'!$S$21)","v":""},{"$f":"IF('S7'!$T$21=\"\",\"\",'S7'!$T$21)","v":""},{"$f":"IF('S7'!$U$21=\"\",\"\",'S7'!$U$21)","v":""},{"$f":"IF('S7'!$V$21=\"\",\"\",'S7'!$V$21)","v":""},{"$f":"IF('S7'!$W$21=\"\",\"\",'S7'!$W$21)","v":""},{"$f":"IF('S7'!$X$21=\"\",\"\",'S7'!$X$21)","v":""},{"$f":"IF('S7'!$Y$21=\"\",\"\",'S7'!$Y$21)","v":""},{"$f":"IF('S7'!$Z$21=\"\",\"\",'S7'!$Z$21)","v":""},null,{"$f":"IF(VLOOKUP(U180,'S7'!$B$23:$Z$57,2,FALSE)=\"\",\"\",CONCATENATE(VLOOKUP(U180,'S7'!$B$23:$Z$57,2,FALSE),\" \",VLOOKUP(U180,'S7'!$B$23:$Z$57,3,FALSE)))","v":"- "}]
[]
[]
[]
[null,{"$f":"'S7'!$B$55","v":""},null,null,null,null,null,null,null,null,null,null,null,null,null,null,null,null,null,null,{"$f":"'S7'!$B$56","v":""}]
[null,null,null,null,null,null,null,null,null,null,null,null,null,null,null,"Summe",null,null,null,null,null,null,null,null,null,null,null,null,null,null,null,null,null,null,"Summe"]
[null,"Aufgabe",null,null,{"$f":"IF('S7'!$G$18=\"\",\"\",'S7'!$G$18)","v":1},{"$f":"IF('S7'!$H$18=\"\",\"\",'S7'!$H$18)","v":2},{"$f":"IF('S7'!$I$18=\"\",\"\",'S7'!$I$18)","v":3},{"$f":"IF('S7'!$J$18=\"\",\"\",'S7'!$J$18)","v":""},{"$f":"IF('S7'!$K$18=\"\",\"\",'S7'!$K$18)","v":""},{"$f":"IF('S7'!$L$18=\"\",\"\",'S7'!$L$18)","v":""},{"$f":"IF('S7'!$M$18=\"\",\"\",'S7'!$M$18)","v":""},{"$f":"IF('S7'!$N$18=\"\",\"\",'S7'!$N$18)","v":""},{"$f":"IF('S7'!$O$18=\"\",\"\",'S7'!$O$18)","v":""},{"$f":"IF('S7'!$P$18=\"\",\"\",'S7'!$P$18)","v":""},null,{"$f":"IF(VLOOKUP(B192,'S7'!$B$23:$Z$57,5,FALSE)=\"\",\"\",VLOOKUP(B192,'S7'!$B$23:$Z$57,5,FALSE))","v":0},null,null,null,null,"Aufgabe",null,null,{"$f":"IF('S7'!$G$18=\"\",\"\",'S7'!$G$18)","v":1},{"$f":"IF('S7'!$H$18=\"\",\"\",'S7'!$H$18)","v":2},{"$f":"IF('S7'!$I$18=\"\",\"\",'S7'!$I$18)","v":3},{"$f":"IF('S7'!$J$18=\"\",\"\",'S7'!$J$18)","v":""},{"$f":"IF('S7'!$K$18=\"\",\"\",'S7'!$K$18)","v":""},{"$f":"IF('S7'!$L$18=\"\",\"\",'S7'!$L$18)","v":""},{"$f":"IF('S7'!$M$18=\"\",\"\",'S7'!$M$18)","v":""},{"$f":"IF('S7'!$N$18=\"\",\"\",'S7'!$N$18)","v":""},{"$f":"IF('S7'!$O$18=\"\",\"\",'S7'!$O$18)","v":""},{"$f":"IF('S7'!$P$18=\"\",\"\",'S7'!$P$18)","v":""},null,{"$f":"IF(VLOOKUP(U192,'S7'!$B$23:$Z$57,5,FALSE)=\"\",\"\",VLOOKUP(U192,'S7'!$B$23:$Z$57,5,FALSE))","v":0}]
[null,"erreicht",null,null,{"$f":"IF(VLOOKUP(B192,'S7'!$B$23:$Z$57,6,FALSE)=\"\",\"\",VLOOKUP(B192,'S7'!$B$23:$Z$57,6,FALSE))","v":"."},{"$f":"IF(VLOOKUP(B192,'S7'!$B$23:$Z$57,7,FALSE)=\"\",\"\",VLOOKUP(B192,'S7'!$B$23:$Z$57,7,FALSE))","v":""},{"$f":"IF(VLOOKUP(B192,'S7'!$B$23:$Z$57,8,FALSE)=\"\",\"\",VLOOKUP(B192,'S7'!$B$23:$Z$57,8,FALSE))","v":""},{"$f":"IF(VLOOKUP(B192,'S7'!$B$23:$Z$57,9,FALSE)=\"\",\"\",VLOOKUP(B192,'S7'!$B$23:$Z$57,9,FALSE))","v":""},{"$f":"IF(VLOOKUP(B192,'S7'!$B$23:$Z$57,10,FALSE)=\"\",\"\",VLOOKUP(B192,'S7'!$B$23:$Z$57,10,FALSE))","v":""},{"$f":"IF(VLOOKUP(B192,'S7'!$B$23:$Z$57,11,FALSE)=\"\",\"\",VLOOKUP(B192,'S7'!$B$23:$Z$57,11,FALSE))","v":""},{"$f":"IF(VLOOKUP(B192,'S7'!$B$23:$Z$57,12,FALSE)=\"\",\"\",VLOOKUP(B192,'S7'!$B$23:$Z$57,12,FALSE))","v":""},{"$f":"IF(VLOOKUP(B192,'S7'!$B$23:$Z$57,13,FALSE)=\"\",\"\",VLOOKUP(B192,'S7'!$B$23:$Z$57,13,FALSE))","v":""},{"$f":"IF(VLOOKUP(B192,'S7'!$B$23:$Z$57,14,FALSE)=\"\",\"\",VLOOKUP(B192,'S7'!$B$23:$Z$57,14,FALSE))","v":""},{"$f":"IF(VLOOKUP(B192,'S7'!$B$23:$Z$57,15,FALSE)=\"\",\"\",VLOOKUP(B192,'S7'!$B$23:$Z$57,15,FALSE))","v":""},null,null,null,null,null,null,"erreicht",null,null,{"$f":"IF(VLOOKUP(U192,'S7'!$B$23:$Z$57,6,FALSE)=\"\",\"\",VLOOKUP(U192,'S7'!$B$23:$Z$57,6,FALSE))","v":"."},{"$f":"IF(VLOOKUP(U192,'S7'!$B$23:$Z$57,7,FALSE)=\"\",\"\",VLOOKUP(U192,'S7'!$B$23:$Z$57,7,FALSE))","v":""},{"$f":"IF(VLOOKUP(U192,'S7'!$B$23:$Z$57,8,FALSE)=\"\",\"\",VLOOKUP(U192,'S7'!$B$23:$Z$57,8,FALSE))","v":""},{"$f":"IF(VLOOKUP(U192,'S7'!$B$23:$Z$57,9,FALSE)=\"\",\"\",VLOOKUP(U192,'S7'!$B$23:$Z$57,9,FALSE))","v":""},{"$f":"IF(VLOOKUP(U192,'S7'!$B$23:$Z$57,10,FALSE)=\"\",\"\",VLOOKUP(U192,'S7'!$B$23:$Z$57,10,FALSE))","v":""},{"$f":"IF(VLOOKUP(U192,'S7'!$B$23:$Z$57,11,FALSE)=\"\",\"\",VLOOKUP(U192,'S7'!$B$23:$Z$57,11,FALSE))","v":""},{"$f":"IF(VLOOKUP(U192,'S7'!$B$23:$Z$57,12,FALSE)=\"\",\"\",VLOOKUP(U192,'S7'!$B$23:$Z$57,12,FALSE))","v":""},{"$f":"IF(VLOOKUP(U192,'S7'!$B$23:$Z$57,13,FALSE)=\"\",\"\",VLOOKUP(U192,'S7'!$B$23:$Z$57,13,FALSE))","v":""},{"$f":"IF(VLOOKUP(U192,'S7'!$B$23:$Z$57,14,FALSE)=\"\",\"\",VLOOKUP(U192,'S7'!$B$23:$Z$57,14,FALSE))","v":""},{"$f":"IF(VLOOKUP(U192,'S7'!$B$23:$Z$57,15,FALSE)=\"\",\"\",VLOOKUP(U192,'S7'!$B$23:$Z$57,15,FALSE))","v":""}]
[null,"von",null,null,{"$f":"IF('S7'!$G$21=\"\",\"\",'S7'!$G$21)","v":""},{"$f":"IF('S7'!$H$21=\"\",\"\",'S7'!$H$21)","v":""},{"$f":"IF('S7'!$I$21=\"\",\"\",'S7'!$I$21)","v":""},{"$f":"IF('S7'!$J$21=\"\",\"\",'S7'!$J$21)","v":""},{"$f":"IF('S7'!$K$21=\"\",\"\",'S7'!$K$21)","v":""},{"$f":"IF('S7'!$L$21=\"\",\"\",'S7'!$L$21)","v":""},{"$f":"IF('S7'!$M$21=\"\",\"\",'S7'!$M$21)","v":""},{"$f":"IF('S7'!$N$21=\"\",\"\",'S7'!$N$21)","v":""},{"$f":"IF('S7'!$O$21=\"\",\"\",'S7'!$O$21)","v":""},{"$f":"IF('S7'!$P$21=\"\",\"\",'S7'!$P$21)","v":""},null,"von",null,null,null,null,"von",null,null,{"$f":"IF('S7'!$G$21=\"\",\"\",'S7'!$G$21)","v":""},{"$f":"IF('S7'!$H$21=\"\",\"\",'S7'!$H$21)","v":""},{"$f":"IF('S7'!$I$21=\"\",\"\",'S7'!$I$21)","v":""},{"$f":"IF('S7'!$J$21=\"\",\"\",'S7'!$J$21)","v":""},{"$f":"IF('S7'!$K$21=\"\",\"\",'S7'!$K$21)","v":""},{"$f":"IF('S7'!$L$21=\"\",\"\",'S7'!$L$21)","v":""},{"$f":"IF('S7'!$M$21=\"\",\"\",'S7'!$M$21)","v":""},{"$f":"IF('S7'!$N$21=\"\",\"\",'S7'!$N$21)","v":""},{"$f":"IF('S7'!$O$21=\"\",\"\",'S7'!$O$21)","v":""},{"$f":"IF('S7'!$P$21=\"\",\"\",'S7'!$P$21)","v":""},null,"von"]
[null,null,null,null,null,null,null,null,null,null,null,null,null,null,null,{"$f":"'S7'!$H$12","v":0},null,null,null,null,null,null,null,null,null,null,null,null,null,null,null,null,null,null,{"$f":"'S7'!$H$12","v":0}]
[null,{"$f":"IF('S7'!$Q$18=\"\",\"\",\"Aufgabe\")","v":""},null,null,{"$f":"IF('S7'!$Q$18=\"\",\"\",'S7'!$Q$18)","v":""},{"$f":"IF('S7'!$R$18=\"\",\"\",'S7'!$R$18)","v":""},{"$f":"IF('S7'!$S$18=\"\",\"\",'S7'!$S$18)","v":""},{"$f":"IF('S7'!$T$18=\"\",\"\",'S7'!$T$18)","v":""},{"$f":"IF('S7'!$U$18=\"\",\"\",'S7'!$U$18)","v":""},{"$f":"IF('S7'!$V$18=\"\",\"\",'S7'!$V$18)","v":""},{"$f":"IF('S7'!$W$18=\"\",\"\",'S7'!$W$18)","v":""},{"$f":"IF('S7'!$X$18=\"\",\"\",'S7'!$X$18)","v":""},{"$f":"IF('S7'!$Y$18=\"\",\"\",'S7'!$Y$18)","v":""},{"$f":"IF('S7'!$Z$18=\"\",\"\",'S7'!$Z$18)","v":""},null,null,null,null,null,null,{"$f":"IF('S7'!$Q$18=\"\",\"\",\"Aufgabe\")","v":""},null,null,{"$f":"IF('S7'!$Q$18=\"\",\"\",'S7'!$Q$18)","v":""},{"$f":"IF('S7'!$R$18=\"\",\"\",'S7'!$R$18)","v":""},{"$f":"IF('S7'!$S$18=\"\",\"\",'S7'!$S$18)","v":""},{"$f":"IF('S7'!$T$18=\"\",\"\",'S7'!$T$18)","v":""},{"$f":"IF('S7'!$U$18=\"\",\"\",'S7'!$U$18)","v":""},{"$f":"IF('S7'!$V$18=\"\",\"\",'S7'!$V$18)","v":""},{"$f":"IF('S7'!$W$18=\"\",\"\",'S7'!$W$18)","v":""},{"$f":"IF('S7'!$X$18=\"\",\"\",'S7'!$X$18)","v":""},{"$f":"IF('S7'!$Y$18=\"\",\"\",'S7'!$Y$18)","v":""},{"$f":"IF('S7'!$Z$18=\"\",\"\",'S7'!$Z$18)","v":""}]
[null,{"$f":"IF('S7'!$Q$18=\"\",\"\",\"erreicht\")","v":""},null,null,{"$f":"IF(VLOOKUP(B192,'S7'!$B$23:$Z$57,16,FALSE)=\"\",\"\",VLOOKUP(B192,'S7'!$B$23:$Z$57,16,FALSE))","v":""},{"$f":"IF(VLOOKUP(B192,'S7'!$B$23:$Z$57,17,FALSE)=\"\",\"\",VLOOKUP(B192,'S7'!$B$23:$Z$57,17,FALSE))","v":""},{"$f":"IF(VLOOKUP(B192,'S7'!$B$23:$Z$57,18,FALSE)=\"\",\"\",VLOOKUP(B192,'S7'!$B$23:$Z$57,18,FALSE))","v":""},{"$f":"IF(VLOOKUP(B192,'S7'!$B$23:$Z$57,19,FALSE)=\"\",\"\",VLOOKUP(B192,'S7'!$B$23:$Z$57,19,FALSE))","v":""},{"$f":"IF(VLOOKUP(B192,'S7'!$B$23:$Z$57,20,FALSE)=\"\",\"\",VLOOKUP(B192,'S7'!$B$23:$Z$57,20,FALSE))","v":""},{"$f":"IF(VLOOKUP(B192,'S7'!$B$23:$Z$57,21,FALSE)=\"\",\"\",VLOOKUP(B192,'S7'!$B$23:$Z$57,21,FALSE))","v":""},{"$f":"IF(VLOOKUP(B192,'S7'!$B$23:$Z$57,22,FALSE)=\"\",\"\",VLOOKUP(B192,'S7'!$B$23:$Z$57,22,FALSE))","v":""},{"$f":"IF(VLOOKUP(B192,'S7'!$B$23:$Z$57,23,FALSE)=\"\",\"\",VLOOKUP(B192,'S7'!$B$23:$Z$57,23,FALSE))","v":""},{"$f":"IF(VLOOKUP(B192,'S7'!$B$23:$Z$57,24,FALSE)=\"\",\"\",VLOOKUP(B192,'S7'!$B$23:$Z$57,24,FALSE))","v":""},{"$f":"IF(VLOOKUP(B192,'S7'!$B$23:$Z$57,25,FALSE)=\"\",\"\",VLOOKUP(B192,'S7'!$B$23:$Z$57,25,FALSE))","v":""},null,"Note",null,null,null,null,{"$f":"IF('S7'!$Q$18=\"\",\"\",\"erreicht\")","v":""},null,null,{"$f":"IF(VLOOKUP(U192,'S7'!$B$23:$Z$57,16,FALSE)=\"\",\"\",VLOOKUP(U192,'S7'!$B$23:$Z$57,16,FALSE))","v":""},{"$f":"IF(VLOOKUP(U192,'S7'!$B$23:$Z$57,17,FALSE)=\"\",\"\",VLOOKUP(U192,'S7'!$B$23:$Z$57,17,FALSE))","v":""},{"$f":"IF(VLOOKUP(U192,'S7'!$B$23:$Z$57,18,FALSE)=\"\",\"\",VLOOKUP(U192,'S7'!$B$23:$Z$57,18,FALSE))","v":""},{"$f":"IF(VLOOKUP(U192,'S7'!$B$23:$Z$57,19,FALSE)=\"\",\"\",VLOOKUP(U192,'S7'!$B$23:$Z$57,19,FALSE))","v":""},{"$f":"IF(VLOOKUP(U192,'S7'!$B$23:$Z$57,20,FALSE)=\"\",\"\",VLOOKUP(U192,'S7'!$B$23:$Z$57,20,FALSE))","v":""},{"$f":"IF(VLOOKUP(U192,'S7'!$B$23:$Z$57,21,FALSE)=\"\",\"\",VLOOKUP(U192,'S7'!$B$23:$Z$57,21,FALSE))","v":""},{"$f":"IF(VLOOKUP(U192,'S7'!$B$23:$Z$57,22,FALSE)=\"\",\"\",VLOOKUP(U192,'S7'!$B$23:$Z$57,22,FALSE))","v":""},{"$f":"IF(VLOOKUP(U192,'S7'!$B$23:$Z$57,23,FALSE)=\"\",\"\",VLOOKUP(U192,'S7'!$B$23:$Z$57,23,FALSE))","v":""},{"$f":"IF(VLOOKUP(U192,'S7'!$B$23:$Z$57,24,FALSE)=\"\",\"\",VLOOKUP(U192,'S7'!$B$23:$Z$57,24,FALSE))","v":""},{"$f":"IF(VLOOKUP(U192,'S7'!$B$23:$Z$57,25,FALSE)=\"\",\"\",VLOOKUP(U192,'S7'!$B$23:$Z$57,25,FALSE))","v":""},null,"Note"]
[null,{"$f":"IF('S7'!$Q$18=\"\",\"\",\"von\")","v":""},null,null,{"$f":"IF('S7'!$Q$21=\"\",\"\",'S7'!$Q$21)","v":""},{"$f":"IF('S7'!$R$21=\"\",\"\",'S7'!$R$21)","v":""},{"$f":"IF('S7'!$S$21=\"\",\"\",'S7'!$S$21)","v":""},{"$f":"IF('S7'!$T$21=\"\",\"\",'S7'!$T$21)","v":""},{"$f":"IF('S7'!$U$21=\"\",\"\",'S7'!$U$21)","v":""},{"$f":"IF('S7'!$V$21=\"\",\"\",'S7'!$V$21)","v":""},{"$f":"IF('S7'!$W$21=\"\",\"\",'S7'!$W$21)","v":""},{"$f":"IF('S7'!$X$21=\"\",\"\",'S7'!$X$21)","v":""},{"$f":"IF('S7'!$Y$21=\"\",\"\",'S7'!$Y$21)","v":""},{"$f":"IF('S7'!$Z$21=\"\",\"\",'S7'!$Z$21)","v":""},null,{"$f":"IF(VLOOKUP(B192,'S7'!$B$23:$Z$57,2,FALSE)=\"\",\"\",CONCATENATE(VLOOKUP(B192,'S7'!$B$23:$Z$57,2,FALSE),\" \",VLOOKUP(B192,'S7'!$B$23:$Z$57,3,FALSE)))","v":"- "},null,null,null,null,{"$f":"IF('S7'!$Q$18=\"\",\"\",\"von\")","v":""},null,null,{"$f":"IF('S7'!$Q$21=\"\",\"\",'S7'!$Q$21)","v":""},{"$f":"IF('S7'!$R$21=\"\",\"\",'S7'!$R$21)","v":""},{"$f":"IF('S7'!$S$21=\"\",\"\",'S7'!$S$21)","v":""},{"$f":"IF('S7'!$T$21=\"\",\"\",'S7'!$T$21)","v":""},{"$f":"IF('S7'!$U$21=\"\",\"\",'S7'!$U$21)","v":""},{"$f":"IF('S7'!$V$21=\"\",\"\",'S7'!$V$21)","v":""},{"$f":"IF('S7'!$W$21=\"\",\"\",'S7'!$W$21)","v":""},{"$f":"IF('S7'!$X$21=\"\",\"\",'S7'!$X$21)","v":""},{"$f":"IF('S7'!$Y$21=\"\",\"\",'S7'!$Y$21)","v":""},{"$f":"IF('S7'!$Z$21=\"\",\"\",'S7'!$Z$21)","v":""},null,{"$f":"IF(VLOOKUP(U192,'S7'!$B$23:$Z$57,2,FALSE)=\"\",\"\",CONCATENATE(VLOOKUP(U192,'S7'!$B$23:$Z$57,2,FALSE),\" \",VLOOKUP(U192,'S7'!$B$23:$Z$57,3,FALSE)))","v":"- "}]
[]
[]
[]
[null,{"$f":"'S7'!$B$57","v":""}]
[null,null,null,null,null,null,null,null,null,null,null,null,null,null,null,"Summe"]
[null,"Aufgabe",null,null,{"$f":"IF('S7'!$G$18=\"\",\"\",'S7'!$G$18)","v":1},{"$f":"IF('S7'!$H$18=\"\",\"\",'S7'!$H$18)","v":2},{"$f":"IF('S7'!$I$18=\"\",\"\",'S7'!$I$18)","v":3},{"$f":"IF('S7'!$J$18=\"\",\"\",'S7'!$J$18)","v":""},{"$f":"IF('S7'!$K$18=\"\",\"\",'S7'!$K$18)","v":""},{"$f":"IF('S7'!$L$18=\"\",\"\",'S7'!$L$18)","v":""},{"$f":"IF('S7'!$M$18=\"\",\"\",'S7'!$M$18)","v":""},{"$f":"IF('S7'!$N$18=\"\",\"\",'S7'!$N$18)","v":""},{"$f":"IF('S7'!$O$18=\"\",\"\",'S7'!$O$18)","v":""},{"$f":"IF('S7'!$P$18=\"\",\"\",'S7'!$P$18)","v":""},null,{"$f":"IF(VLOOKUP(B204,'S7'!$B$23:$Z$57,5,FALSE)=\"\",\"\",VLOOKUP(B204,'S7'!$B$23:$Z$57,5,FALSE))","v":0}]
[null,"erreicht",null,null,{"$f":"IF(VLOOKUP(B204,'S7'!$B$23:$Z$57,6,FALSE)=\"\",\"\",VLOOKUP(B204,'S7'!$B$23:$Z$57,6,FALSE))","v":"."},{"$f":"IF(VLOOKUP(B204,'S7'!$B$23:$Z$57,7,FALSE)=\"\",\"\",VLOOKUP(B204,'S7'!$B$23:$Z$57,7,FALSE))","v":""},{"$f":"IF(VLOOKUP(B204,'S7'!$B$23:$Z$57,8,FALSE)=\"\",\"\",VLOOKUP(B204,'S7'!$B$23:$Z$57,8,FALSE))","v":""},{"$f":"IF(VLOOKUP(B204,'S7'!$B$23:$Z$57,9,FALSE)=\"\",\"\",VLOOKUP(B204,'S7'!$B$23:$Z$57,9,FALSE))","v":""},{"$f":"IF(VLOOKUP(B204,'S7'!$B$23:$Z$57,10,FALSE)=\"\",\"\",VLOOKUP(B204,'S7'!$B$23:$Z$57,10,FALSE))","v":""},{"$f":"IF(VLOOKUP(B204,'S7'!$B$23:$Z$57,11,FALSE)=\"\",\"\",VLOOKUP(B204,'S7'!$B$23:$Z$57,11,FALSE))","v":""},{"$f":"IF(VLOOKUP(B204,'S7'!$B$23:$Z$57,12,FALSE)=\"\",\"\",VLOOKUP(B204,'S7'!$B$23:$Z$57,12,FALSE))","v":""},{"$f":"IF(VLOOKUP(B204,'S7'!$B$23:$Z$57,13,FALSE)=\"\",\"\",VLOOKUP(B204,'S7'!$B$23:$Z$57,13,FALSE))","v":""},{"$f":"IF(VLOOKUP(B204,'S7'!$B$23:$Z$57,14,FALSE)=\"\",\"\",VLOOKUP(B204,'S7'!$B$23:$Z$57,14,FALSE))","v":""},{"$f":"IF(VLOOKUP(B204,'S7'!$B$23:$Z$57,15,FALSE)=\"\",\"\",VLOOKUP(B204,'S7'!$B$23:$Z$57,15,FALSE))","v":""}]
[null,"von",null,null,{"$f":"IF('S7'!$G$21=\"\",\"\",'S7'!$G$21)","v":""},{"$f":"IF('S7'!$H$21=\"\",\"\",'S7'!$H$21)","v":""},{"$f":"IF('S7'!$I$21=\"\",\"\",'S7'!$I$21)","v":""},{"$f":"IF('S7'!$J$21=\"\",\"\",'S7'!$J$21)","v":""},{"$f":"IF('S7'!$K$21=\"\",\"\",'S7'!$K$21)","v":""},{"$f":"IF('S7'!$L$21=\"\",\"\",'S7'!$L$21)","v":""},{"$f":"IF('S7'!$M$21=\"\",\"\",'S7'!$M$21)","v":""},{"$f":"IF('S7'!$N$21=\"\",\"\",'S7'!$N$21)","v":""},{"$f":"IF('S7'!$O$21=\"\",\"\",'S7'!$O$21)","v":""},{"$f":"IF('S7'!$P$21=\"\",\"\",'S7'!$P$21)","v":""},null,"von"]
[null,null,null,null,null,null,null,null,null,null,null,null,null,null,null,{"$f":"'S7'!$H$12","v":0}]
[null,{"$f":"IF('S7'!$Q$18=\"\",\"\",\"Aufgabe\")","v":""},null,null,{"$f":"IF('S7'!$Q$18=\"\",\"\",'S7'!$Q$18)","v":""},{"$f":"IF('S7'!$R$18=\"\",\"\",'S7'!$R$18)","v":""},{"$f":"IF('S7'!$S$18=\"\",\"\",'S7'!$S$18)","v":""},{"$f":"IF('S7'!$T$18=\"\",\"\",'S7'!$T$18)","v":""},{"$f":"IF('S7'!$U$18=\"\",\"\",'S7'!$U$18)","v":""},{"$f":"IF('S7'!$V$18=\"\",\"\",'S7'!$V$18)","v":""},{"$f":"IF('S7'!$W$18=\"\",\"\",'S7'!$W$18)","v":""},{"$f":"IF('S7'!$X$18=\"\",\"\",'S7'!$X$18)","v":""},{"$f":"IF('S7'!$Y$18=\"\",\"\",'S7'!$Y$18)","v":""},{"$f":"IF('S7'!$Z$18=\"\",\"\",'S7'!$Z$18)","v":""}]
[null,{"$f":"IF('S7'!$Q$18=\"\",\"\",\"erreicht\")","v":""},null,null,{"$f":"IF(VLOOKUP(B204,'S7'!$B$23:$Z$57,16,FALSE)=\"\",\"\",VLOOKUP(B204,'S7'!$B$23:$Z$57,16,FALSE))","v":""},{"$f":"IF(VLOOKUP(B204,'S7'!$B$23:$Z$57,17,FALSE)=\"\",\"\",VLOOKUP(B204,'S7'!$B$23:$Z$57,17,FALSE))","v":""},{"$f":"IF(VLOOKUP(B204,'S7'!$B$23:$Z$57,18,FALSE)=\"\",\"\",VLOOKUP(B204,'S7'!$B$23:$Z$57,18,FALSE))","v":""},{"$f":"IF(VLOOKUP(B204,'S7'!$B$23:$Z$57,19,FALSE)=\"\",\"\",VLOOKUP(B204,'S7'!$B$23:$Z$57,19,FALSE))","v":""},{"$f":"IF(VLOOKUP(B204,'S7'!$B$23:$Z$57,20,FALSE)=\"\",\"\",VLOOKUP(B204,'S7'!$B$23:$Z$57,20,FALSE))","v":""},{"$f":"IF(VLOOKUP(B204,'S7'!$B$23:$Z$57,21,FALSE)=\"\",\"\",VLOOKUP(B204,'S7'!$B$23:$Z$57,21,FALSE))","v":""},{"$f":"IF(VLOOKUP(B204,'S7'!$B$23:$Z$57,22,FALSE)=\"\",\"\",VLOOKUP(B204,'S7'!$B$23:$Z$57,22,FALSE))","v":""},{"$f":"IF(VLOOKUP(B204,'S7'!$B$23:$Z$57,23,FALSE)=\"\",\"\",VLOOKUP(B204,'S7'!$B$23:$Z$57,23,FALSE))","v":""},{"$f":"IF(VLOOKUP(B204,'S7'!$B$23:$Z$57,24,FALSE)=\"\",\"\",VLOOKUP(B204,'S7'!$B$23:$Z$57,24,FALSE))","v":""},{"$f":"IF(VLOOKUP(B204,'S7'!$B$23:$Z$57,25,FALSE)=\"\",\"\",VLOOKUP(B204,'S7'!$B$23:$Z$57,25,FALSE))","v":""},null,"Note"]
[null,{"$f":"IF('S7'!$Q$18=\"\",\"\",\"von\")","v":""},null,null,{"$f":"IF('S7'!$Q$21=\"\",\"\",'S7'!$Q$21)","v":""},{"$f":"IF('S7'!$R$21=\"\",\"\",'S7'!$R$21)","v":""},{"$f":"IF('S7'!$S$21=\"\",\"\",'S7'!$S$21)","v":""},{"$f":"IF('S7'!$T$21=\"\",\"\",'S7'!$T$21)","v":""},{"$f":"IF('S7'!$U$21=\"\",\"\",'S7'!$U$21)","v":""},{"$f":"IF('S7'!$V$21=\"\",\"\",'S7'!$V$21)","v":""},{"$f":"IF('S7'!$W$21=\"\",\"\",'S7'!$W$21)","v":""},{"$f":"IF('S7'!$X$21=\"\",\"\",'S7'!$X$21)","v":""},{"$f":"IF('S7'!$Y$21=\"\",\"\",'S7'!$Y$21)","v":""},{"$f":"IF('S7'!$Z$21=\"\",\"\",'S7'!$Z$21)","v":""},null,{"$f":"IF(VLOOKUP(B204,'S7'!$B$23:$Z$57,2,FALSE)=\"\",\"\",CONCATENATE(VLOOKUP(B204,'S7'!$B$23:$Z$57,2,FALSE),\" \",VLOOKUP(B204,'S7'!$B$23:$Z$57,3,FALSE)))","v":"- "}]

{"sheet":"L7","index":30,"n_rows":57,"n_cols":27,"rows_kept":57,"cut":false,"hidden":false,"merged":[[12,2,12,3],[13,2,13,3],[14,2,15,11],[0,1,4,3],[2,6,4,6],[8,2,8,11],[9,2,9,3],[10,2,10,3],[11,2,11,3]]}
[null,{"$f":"Dateneingabe!A1","v":"Mustergymnasium\nMusterstraße 1\n12345 Musterstadt"}]
[null,null,null,null,null,"Schuljahr:",{"$f":"Dateneingabe!F2","v":0}]
[null,null,null,null,null,null,{"$f":"Dateneingabe!F3","v":0},null,null,null,null,null,null,null,null,null,null,null,null,null,null,null,null,null,null,null,1]
[null,null,null,null,null,"Klasse:"]
[]
[]
[null,{"$f":"'S7'!B7","v":"Schriftliche Arbeit 7"}]
[]
[null,"Art der Arbeit:",{"$f":"'S7'!C9","v":0}]
[null,"Geschrieben am:",{"$f":"'S7'!C10","v":"00:00:00"}]
[null,"Arbeitszeit:",{"$f":"'S7'!C11","v":0}]
[null,"Zurückgegeben am:",{"$f":"'S7'!C12","v":"00:00:00"},null,null,"Gewichtung der Arbeit:",null,null,{"$f":"'S7'!T12","v":1}]
[null,"Dem Direktorat vorgelegt:",{"$f":"'S7'!C13","v":"00:00:00"}]
[null,"Notenlisteneintrag am:",{"$f":"'S7'!C14","v":"00:00:00"}]
[null,"Lehrstoff:",{"$f":"'S7'!C15","v":0}]
[]
[]
[]
[null,"Name","Note",null,null,null,null,"Auswertung Häufigkeit"]
[null,null,null,null,null,null,null,"Note","Anzahl"]
[]
[null,null,null,null,null,null,null,"0",{"$f":"'S7'!AF25","v":0}]
[1,{"$f":"'S7'!B23","v":""},{"$f":"'S7'!C23","v":"-"},null,null,null,null,1,{"$f":"'S7'!AF26","v":0}]
[2,{"$f":"'S7'!B24","v":""},{"$f":"'S7'!C24","v":"-"},null,null,null,null,2,{"$f":"'S7'!AF27","v":0}]
[3,{"$f":"'S7'!B25","v":""},{"$f":"'S7'!C25","v":"-"},null,null,null,null,3,{"$f":"'S7'!AF28","v":0}]
[4,{"$f":"'S7'!B26","v":""},{"$f":"'S7'!C26","v":"-"},null,null,null,null,4,{"$f":"'S7'!AF29","v":0}]
[5,{"$f":"'S7'!B27","v":""},{"$f":"'S7'!C27","v":"-"},null,null,null,null,5,{"$f":"'S7'!AF30","v":0}]
[6,{"$f":"'S7'!B28","v":""},{"$f":"'S7'!C28","v":"-"},null,null,null,null,6,{"$f":"'S7'!AF31","v":0}]
[7,{"$f":"'S7'!B29","v":""},{"$f":"'S7'!C29","v":"-"},null,null,null,null,7,{"$f":"'S7'!AF32","v":0}]
[8,{"$f":"'S7'!B30","v":""},{"$f":"'S7'!C30","v":"-"},null,null,null,null,8,{"$f":"'S7'!AF33","v":0}]
[9,{"$f":"'S7'!B31","v":""},{"$f":"'S7'!C31","v":"-"},null,null,null,null,9,{"$f":"'S7'!AF34","v":0}]
[10,{"$f":"'S7'!B32","v":""},{"$f":"'S7'!C32","v":"-"},null,null,null,null,10,{"$f":"'S7'!AF35","v":0}]
[11,{"$f":"'S7'!B33","v":""},{"$f":"'S7'!C33","v":"-"},null,null,null,null,11,{"$f":"'S7'!AF36","v":0}]
[12,{"$f":"'S7'!B34","v":""},{"$f":"'S7'!C34","v":"-"},null,null,null,null,12,{"$f":"'S7'!AF37","v":0}]
[13,{"$f":"'S7'!B35","v":""},{"$f":"'S7'!C35","v":"-"},null,null,null,null,13,{"$f":"'S7'!AF38","v":0}]
[14,{"$f":"'S7'!B36","v":""},{"$f":"'S7'!C36","v":"-"},null,null,null,null,14,{"$f":"'S7'!AF39","v":0}]
[15,{"$f":"'S7'!B37","v":""},{"$f":"'S7'!C37","v":"-"},null,null,null,null,15,{"$f":"'S7'!AF40","v":0}]
[16,{"$f":"'S7'!B38","v":""},{"$f":"'S7'!C38","v":"-"}]
[17,{"$f":"'S7'!B39","v":""},{"$f":"'S7'!C39","v":"-"}]
[18,{"$f":"'S7'!B40","v":""},{"$f":"'S7'!C40","v":"-"}]
[19,{"$f":"'S7'!B41","v":""},{"$f":"'S7'!C41","v":"-"}]
[20,{"$f":"'S7'!B42","v":""},{"$f":"'S7'!C42","v":"-"}]
[21,{"$f":"'S7'!B43","v":""},{"$f":"'S7'!C43","v":"-"}]
[22,{"$f":"'S7'!B44","v":""},{"$f":"'S7'!C44","v":"-"}]
[23,{"$f":"'S7'!B45","v":""},{"$f":"'S7'!C45","v":"-"}]
[24,{"$f":"'S7'!B46","v":""},{"$f":"'S7'!C46","v":"-"}]
[25,{"$f":"'S7'!B47","v":""},{"$f":"'S7'!C47","v":"-"}]
[26,{"$f":"'S7'!B48","v":""},{"$f":"'S7'!C48","v":"-"}]
[27,{"$f":"'S7'!B49","v":""},{"$f":"'S7'!C49","v":"-"}]
[28,{"$f":"'S7'!B50","v":""},{"$f":"'S7'!C50","v":"-"}]
[29,{"$f":"'S7'!B51","v":""},{"$f":"'S7'!C51","v":"-"}]
[30,{"$f":"'S7'!B52","v":""},{"$f":"'S7'!C52","v":"-"}]
[31,{"$f":"'S7'!B53","v":""},{"$f":"'S7'!C53","v":"-"}]
[32,{"$f":"'S7'!B54","v":""},{"$f":"'S7'!C54","v":"-"}]
[33,{"$f":"'S7'!B55","v":""},{"$f":"'S7'!C55","v":"-"},null,null,null,"Notendurchschnitt:",null,{"$f":"'S7'!AD60","v":"-"}]
[34,{"$f":"'S7'!B56","v":""},{"$f":"'S7'!C56","v":"-"}]
[35,{"$f":"'S7'!B57","v":""},{"$f":"'S7'!C57","v":"-"},null,null,null,"% 5er und 6er",null,{"$f":"'S7'!AD62","v":"0 %"}]

{"sheet":"M7","index":31,"n_rows":37,"n_cols":27,"rows_kept":37,"cut":false,"hidden":false,"merged":[[32,18,32,19],[4,17,4,23],[16,18,16,22],[18,15,19,23],[26,11,26,13],[26,14,26,16],[26,17,26,19],[26,20,26,22],[26,23,26,25],[6,12,6,23],[8,16,8,20],[10,15,10,20],[12,17,12,22],[14,20,14,23],[0,11,0,26]]}
[null,null,null,null,null,null,null,null,null,null,null,{"$f":"Dateneingabe!I28","v":0}]
[]
[null,null,null,null,null,null,null,null,null,null,null,"ABA",null,{"$f":"Dateneingabe!F6","v":0},null,null,null,null,null,null,null,"Schuljahr",null,null,{"$f":"Dateneingabe!F2","v":0}]
[]
[null,null,null,null,null,null,null,null,null,null,null,null,"Schülerarbeiten",null,null,null,null,"________________________"]
[]
[null,null,null,null,null,null,null,null,null,null,null,null,"_________________________________"]
[]
[null,null,null,null,null,null,null,null,null,null,null,"Geschrieben am:",null,null,null,null,{"$f":"'S7'!C10","v":"00:00:00"}]
[]
[null,null,null,null,null,null,null,null,null,null,null,"Arbeitszeit: ",null,null,null,{"$f":"'S7'!C11","v":0}]
[]
[null,null,null,null,null,null,null,null,null,null,null,"Zurückgegeben am:",null,null,null,null,null,{"$f":"'S7'!C12","v":"00:00:00"}]
[]
[null,null,null,null,null,null,null,null,null,null,null,"Dem Direktorat vorgelegt am:",null,null,null,null,null,null,null,null,{"$f":"'S7'!C13","v":"00:00:00"}]
[]
[null,null,null,null,null,null,null,null,null,null,null,"Notenlisteneintrag am: ",null,null,null,null,null,null,{"$f":"'S7'!C14","v":"00:00:00"}]
[]
[null,null,null,null,null,null,null,null,null,null,null,"Lehrstoff:",null,null,null,{"$f":"'S7'!C15","v":0}]
[]
[]
[null,null,null,null,null,null,null,null,null,null,null,"Nicht mitgeschrieben haben:",null,null,null,null,null,null,null,"_________________"]
[]
[]
[null,null,null,null,null,null,null,null,null,null,null,"Notenstatistik:"]
[]
[null,null,null,null,null,null,null,null,null,null,null,1,null,null,2,null,null,3,null,null,4,null,null,5,null,null,6]
[null,null,null,null,null,null,null,null,null,null,null,15,14,13,12,11,10,9,8,7,6,5,4,3,2,1,0]
[null,null,null,null,null,null,null,null,null,null,null,{"$f":"'S7'!$AF40","v":0},{"$f":"'S7'!$AF39","v":0},{"$f":"'S7'!$AF38","v":0},{"$f":"'S7'!$AF37","v":0},{"$f":"'S7'!$AF36","v":0},{"$f":"'S7'!$AF35","v":0},{"$f":"'S7'!$AF34","v":0},{"$f":"'S7'!$AF33","v":0},{"$f":"'S7'!$AF32","v":0},{"$f":"'S7'!$AF31","v":0},{"$f":"'S7'!$AF30","v":0},{"$f":"'S7'!$AF29","v":0},{"$f":"'S7'!$AF28","v":0},{"$f":"'S7'!$AF27","v":0},{"$f":"'S7'!$AF26","v":0},{"$f":"'S7'!$AF25","v":0}]
[]
[null,null,null,null,null,null,null,null,null,null,null,"Punktedurchschnitt:",null,null,null,null,null,null,{"$f":"'S7'!AD60","v":"-"}]
[]
[null,null,null,null,null,null,null,null,null,null,null,"Anteil Note 5 und 6:",null,null,null,null,null,null,{"$f":"'S7'!AD62","v":"0 %"}]
[]
[]
[]
[null,null,null,null,null,null,null,null,null,null,null,"Unterschrift: __________________________"]